{"text_format":"1","workbook":"xlsx","n_sheets":8,"sheets":["ORDER FRAMES","TECHNICAL DETAILS","ORDER SINGLE DOOR","ORDER DOUBLE DOOR","CALCULATION DOUBLE DOORS","Scharnieren","DEURDRANGER","Formules"],"not_rendered":{"charts":0,"images":31,"macros":1,"external_links":1,"defined_names":3,"comments":3,"pivot_tables":0},"unopened":[],"bounds":{"document_bytes":16777216,"sheet_cells":100000,"rows_first":2000,"rows_last":500,"rows_between":2000,"halvings":0,"cell_chars":16384,"cell_head_chars":4096},"cells_cut":0,"cells_raw":0,"read":"whole","date_system":"1900"}

{"sheet":"ORDER FRAMES","index":0,"n_rows":100,"n_cols":28,"rows_kept":100,"cut":false,"hidden":false,"merged":[[18,21,18,23],[17,16,17,20],[18,1,18,6],[18,8,18,9],[18,13,18,15],[18,18,18,19],[17,8,17,15],[18,10,18,12],[1,1,1,6],[1,13,1,19],[11,1,11,2],[11,3,11,4],[11,7,11,8],[11,9,11,10],[11,20,11,21],[12,10,12,11],[12,14,12,15],[1,8,1,11],[11,13,11,16]]}
[]
["Klant:",null,null,null,null,null,null,null,"Bestel referentie(datum, nummer, project,...):"]
[null,null,"PROFILE CUTTING","PULL","PUSH",null,null,"DOOR CLOSER","ACOUSTIC","FIRE RATED DOORS"]
[]
[]
[]
[]
[]
[]
[]
[]
[null,"DUWEN EU LINKS",null,"TREKKEN EU LINKS",null,null,null,"DUWEN EU RECHTS",null,"TREKKEN EU RECHTS",null,null,null,"DUBBEL EU  LINKS",null,null,null,null,null,null,"DUBBEL EU RECHTS"]
[]
[]
[]
[]
[]
[null,null,null,null,null,null,null,null,"MATEN ",null,null,null,null,null,null,null,"BESLAG"]
[null,"PROFIEL TYPE",null,null,null,null,null,null,"INBOUWMAAT",null,"DEURMAAT",null,null,"VENTILATIE",null,null,"DEURDRANGER","PUSH & GO","SCHARNIER",null,"SLOT","INFO",null,null,"OPMERKINGEN","CODE PRODUCTIE","CODE STAANDERS","CODE KOPSTUK"]
["Deur nr. ","Profiel type","Kleur:\nWit (W) Zwart(B)","Brandwerend (EI)",null,"Vlakwandig duwen (DU)  Vlakwandig trekken (TR)","EU links (L)          EU rechts (R) \nDubbel \n(DL-DR)","Aantal","Breedte     \nWw","Hoogte   \n Hw","Breedte    Wp","Hoogte       Hp","Deurdikte","Boven Vb","Onder Vo","Negatief Vneg","(1) Nee                                 (2) Active Stop                            (3) Boxer Geze (stock)                        (4) ITS Dorma  \n(5) X4030-SC    ","Enkel bij dubbele deuren","Type\n","Aantal","Type","Standaard krukhoogte Hko","Montage profiel","Totale profiel hoogte"]
[1,"X245","WHITE","EI-","V","TR","L",1,920,2320,{"$f":"IF(I21>0,I21-70,\"\")","v":850},{"$f":"IF(J21=\"\",\"\",IF(E21=\"C\",SUM(J21-N21-O21),IF(OR(E21=\"T\",E21=\"V\"),SUM(J21-N21-O21-29),IF(E21=\"W\",SUM(J21-N21-O21-32-32),\"\"))))","v":2285},{"$f":"IF(B21=\"\",\"\",IF(AND(B21=\"X1\",F21=\"TR\"),\"40/50\",IF(AND(OR(B21=\"X240\",B21=\"X245\",B21=\"X250\"),OR(G21=\"DL\",G21=\"DR\"),D21=\"EI-\"),\"60\",IF(AND(B21=\"X240\",F21=\"TR\",D21=\"EI-\"),\"50\",IF(AND(B21=\"X240\",F21=\"TR\"),\"40/50\",IF(AND(B21=\"X240\",F21=\"DU\"),\"50\",IF(AND(B21=\"X245\",F21=\"TR\",D21=\"EI-\"),\"55\",IF(AND(B21=\"X245\",F21=\"TR\"),\"44-45/55\",IF(AND(B21=\"X245\",F21=\"DU\"),\"55\",IF(AND(B21=\"X250\",F21=\"TR\",D21=\"EI-\"),\"60\",IF(AND(B21=\"X250\",F21=\"TR\"),\"50/60\",IF(AND(B21=\"X250\",F21=\"DU\"),\"60\",IF(B21=\"X40\",\"40\",IF(B21=\"X45\",\"44-45\",\"\"))))))))))))))","v":"55"},3,3,0,1,"Nee","A24.0",2,"2NZW",1053,{"$f":"IF(T21=\"\",\"\",IF(AND(OR(T21=3,T21=2),D21=\"EI0\"), \"FU\", \"FUL\"))","v":"FUL"},{"$f":"IF(E21=\"C\",SUM(L21+N21+O21+P21),IF(OR(E21=\"T\",E21=\"V\"),SUM(L21+N21+O21+P21+20.5),IF(E21=\"W\",SUM(L21+N21+O21+P21+20.5+20.5),\"\")))","v":2311.5},"MAGN, SLOT, XA-NZ,W",{"$f":"IF(L21=\"\",\"\",IF(AND(OR(L21=2015,L21=2115,L21=2040,L21=2315,L21=2240),D21=\"EI0\",OR(E21=\"T\",E21=\"V\",E21=\"W\"),Q21=1,P21=0,N21=3,O21=3,OR(G21=\"L\",G21=\"R\"),OR(S21=\"A24.0\",S21=\"A24.1\",S21=\"A24.2\"),OR(U21=\"R15W.55BB\",U21=\"R15I.55BB\",U21=\"R15B.55BB\",U21=\"R17W.55WC\",U21=\"R17I.55WC\",U21=\"R17B.55WC\",U21=\"R19W.55PZ\",U21=\"R19I.55PZ\",U21=\"R19B.55PZ\",U21=\"00BB\",U21=\"00WC\",U21=\"00PZ\")),\"\",CONCATENATE(B21,IF(C21=\"B\",\"B\",\"\"),\"-\",IF(D21=\"EI-\",\"EI-\",\"\"),\"M\",E21,IF(L21=\"\",\"\",IF(AND(D21=\"ei-\",OR(L21=2015,L21=2115,L21=2315,L21=2040,L21=2240)),L21,IF(OR(T21=2,T21=3),\"2100\",IF(T21=4,\"2600\",IF(OR(T21=5,T21=6),\"3000\",\"\"))))),\"-\",IF(K21=\"\",\"\",IF(D21=\"EI-\",\"1069\",\"1230\")),\"-\",IF(Q21=1,\"\",IF(Q21=2,\"AS-\",IF(Q21=3,\"I-\",IF(Q21=4,\"ITS-\",IF(Q21=5,\"SC-\",\"\"))))),IF(AND(Q21=1,OR(G21=\"DL\",G21=\"DR\")),\"D\",IF(AND(R21=\"Ja\",G21=\"DR\"),\"DL\",IF(AND(R21=\"Ja\",G21=\"DR\"),\"DL\",G21))),IF(AND(R21=\"Ja\",OR(G21=\"DR\",G21=\"DL\")),\"-PG\",\"\"),\"/\",IF(S21=\"X4030.W\",\"X30W\",IF(S21=\"X4030.B\",\"X30B\",IF(S21=\"X4030.G\",\"X30G\",S21))),\"/\",T21,\"/\",IF(AND(D21=\"EI-\",U21=\"00BB\"),\"0BB\",IF(AND(D21=\"EI-\",U21=\"00WC\"),\"0WC\",IF(AND(D21=\"EI-\",U21=\"00PZ\"),\"0PZ\",U21))),IF(B21=\"X1\",\"\",\"/\"),IF(B21=\"X1\",\"\",W21))))","v":"X245-EI-MV2100-1069-L/A24.0/2/2NZW/FUL"},{"$f":"IF(AND(OR(L21=2015,L21=2115,L21=2315,L21=2040),D21=\"EI0\",OR(E21=\"T\",E21=\"W\",E21=\"V\"),Q21=1,P21=0,P21=0,N21=3,O21=3,OR(G21=\"L\",G21=\"R\"),OR(S21=\"A24.0\",S21=\"A24.1\",S21=\"A24.2\"),OR(U21=\"R15W.55BB\",U21=\"R15I.55BB\",U21=\"R15B.55BB\",U21=\"R17W.55WC\",U21=\"R17I.55WC\",U21=\"R17B.55WC\",U21=\"R19W.55PZ\",U21=\"R19I.55PZ\",U21=\"R19B.55PZ\",U21=\"00BB\",U21=\"00WC\",U21=\"00PZ\")),CONCATENATE(B21,IF(C21=\"B\",\"B\",\"\"),\"-\",E21,L21,IF(OR(AND(B21=\"X40\",E21=\"T\",),AND(B21=\"X45\",E21=\"T\",)),\"\",\"-\"),IF(OR(AND(B21=\"X40\",E21=\"T\",),AND(B21=\"X45\",E21=\"T\",)),\"\",G21),\"/\",IF(S21=\"X4030.W\",\"X30W\",IF(S21=\"X4030.B\",\"X30B\",IF(S21=\"X4030.G\",\"X30G\",S21))),\"/\",T21,\"/\",U21,IF(B21=\"X1\",\"\",\"/\"),IF(B21=\"X1\",\"\",W21)),\"\")","v":""},{"$f":"IF(AA21=\"\",\"\",CONCATENATE(B21,IF(C21=\"B\",\"B\",\"\"),\"-\",E21,IF(OR(K21=630,K21=680,K21=710,K21=726,K21=730,K21=780,K21=810,K21=818,K21=826,K21=830,K21=880,K21=910,K21=930,K21=980),0,\"\"),IF(OR(K21=630,K21=680,K21=710,K21=726,K21=730,K21=780,K21=810,K21=818,K21=826,K21=830,K21=880,K21=910,K21=930,K21=980,K21=1030),K21,\"KOP\"),IF(B21=\"X1\",\"\",\"/\"),IF(OR(B21=\"X240\",B21=\"X245\",B21=\"X250\",B21=\"X40\",B21=\"X45\"),W21,\"\")))","v":""}]
[2,"X1","WHITE","EI0","V","TR","R",1,800,2320,730,{"$f":"IF(J22=\"\",\"\",IF(E22=\"C\",SUM(J22-N22-O22),IF(OR(E22=\"T\",E22=\"V\"),SUM(J22-N22-O22-29),IF(E22=\"W\",SUM(J22-N22-O22-32-32),\"\"))))","v":2285},{"$f":"IF(B22=\"\",\"\",IF(AND(B22=\"X1\",F22=\"TR\"),\"40/50\",IF(AND(B22=\"X240\",F22=\"TR\"),\"40/50\",IF(AND(B22=\"X240\",F22=\"DU\"),\"50\",IF(AND(B22=\"X245\",F22=\"TR\"),\"44-45/55\",IF(AND(B22=\"X245\", F22=\"DU\"),\"55\", IF(AND(B22=\"X250\",F22=\"TR\"),\"50/60\",IF(AND(B22=\"X250\",F22=\"DU\"),\"60\", IF(B22=\"X40\",\"40\", IF(B22=\"X45\", \"44-45\",\"\"))))))))))","v":"40/50"},3,3,0,1,"Nee","A24.0",2,null,1053,{"$f":"IF(T22=\"\",\"\",IF(AND(OR(T22=3,T22=2),D22=\"EI0\"), \"FU\", \"FUL\"))","v":"FU"},{"$f":"IF(E22=\"C\",SUM(L22+N22+O22+P22),IF(OR(E22=\"T\",E22=\"V\"),SUM(L22+N22+O22+P22+20.5),IF(E22=\"W\",SUM(L22+N22+O22+P22+20.5+20.5),\"\")))","v":2311.5},null,{"$f":"IF(L22=\"\",\"\",IF(AND(OR(L22=2015,L22=2115,L22=2040,L22=2315,L22=2240),D22=\"EI0\",OR(E22=\"T\",E22=\"V\",E22=\"W\"),Q22=1,P22=0,N22=3,O22=3,OR(G22=\"L\",G22=\"R\"),OR(S22=\"A24.0\",S22=\"A24.1\",S22=\"A24.2\"),OR(U22=\"R15W.55BB\",U22=\"R15I.55BB\",U22=\"R15B.55BB\",U22=\"R17W.55WC\",U22=\"R17I.55WC\",U22=\"R17B.55WC\",U22=\"R19W.55PZ\",U22=\"R19I.55PZ\",U22=\"R19B.55PZ\",U22=\"00BB\",U22=\"00WC\",U22=\"00PZ\")),\"\",CONCATENATE(B22,IF(C22=\"B\",\"B\",\"\"),\"-\",IF(D22=\"EI-\",\"EI-\",\"\"),\"M\",E22,IF(L22=\"\",\"\",IF(AND(D22=\"ei-\",OR(L22=2015,L22=2115,L22=2315,L22=2040,L22=2240)),L22,IF(OR(T22=2,T22=3),\"2100\",IF(T22=4,\"2600\",IF(OR(T22=5,T22=6),\"3000\",\"\"))))),\"-\",IF(K22=\"\",\"\",IF(D22=\"EI-\",\"1069\",\"1230\")),\"-\",IF(Q22=1,\"\",IF(Q22=2,\"AS-\",IF(Q22=3,\"I-\",IF(Q22=4,\"ITS-\",IF(Q22=5,\"SC-\",\"\"))))),IF(AND(Q22=1,OR(G22=\"DL\",G22=\"DR\")),\"D\",IF(AND(R22=\"Ja\",G22=\"DR\"),\"DL\",IF(AND(R22=\"Ja\",G22=\"DR\"),\"DL\",G22))),IF(AND(R22=\"Ja\",OR(G22=\"DR\",G22=\"DL\")),\"-PG\",\"\"),\"/\",IF(S22=\"X4030.W\",\"X30W\",IF(S22=\"X4030.B\",\"X30B\",IF(S22=\"X4030.G\",\"X30G\",S22))),\"/\",T22,\"/\",IF(AND(D22=\"EI-\",U22=\"00BB\"),\"0BB\",IF(AND(D22=\"EI-\",U22=\"00WC\"),\"0WC\",IF(AND(D22=\"EI-\",U22=\"00PZ\"),\"0PZ\",U22))),IF(B22=\"X1\",\"\",\"/\"),IF(B22=\"X1\",\"\",W22))))","v":"X1-MV2100-1230-R/A24.0/2/"},{"$f":"IF(AND(OR(L22=2015,L22=2115,L22=2315,L22=2040),D22=\"EI0\",OR(E22=\"T\",E22=\"W\",E22=\"V\"),Q22=1,P22=0,P22=0,N22=3,O22=3,OR(G22=\"L\",G22=\"R\"),OR(S22=\"A24.0\",S22=\"A24.1\",S22=\"A24.2\"),OR(U22=\"R15W.55BB\",U22=\"R15I.55BB\",U22=\"R15B.55BB\",U22=\"R17W.55WC\",U22=\"R17I.55WC\",U22=\"R17B.55WC\",U22=\"R19W.55PZ\",U22=\"R19I.55PZ\",U22=\"R19B.55PZ\",U22=\"00BB\",U22=\"00WC\",U22=\"00PZ\")),CONCATENATE(B22,IF(C22=\"B\",\"B\",\"\"),\"-\",E22,L22,IF(OR(AND(B22=\"X40\",E22=\"T\",),AND(B22=\"X45\",E22=\"T\",)),\"\",\"-\"),IF(OR(AND(B22=\"X40\",E22=\"T\",),AND(B22=\"X45\",E22=\"T\",)),\"\",G22),\"/\",IF(S22=\"X4030.W\",\"X30W\",IF(S22=\"X4030.B\",\"X30B\",IF(S22=\"X4030.G\",\"X30G\",S22))),\"/\",T22,\"/\",U22,IF(B22=\"X1\",\"\",\"/\"),IF(B22=\"X1\",\"\",W22)),\"\")","v":""},{"$f":"IF(AA22=\"\",\"\",CONCATENATE(B22,IF(C22=\"B\",\"B\",\"\"),\"-\",E22,IF(OR(K22=630,K22=680,K22=710,K22=726,K22=730,K22=780,K22=810,K22=818,K22=826,K22=830,K22=880,K22=910,K22=930,K22=980),0,\"\"),IF(OR(K22=630,K22=680,K22=710,K22=726,K22=730,K22=780,K22=810,K22=818,K22=826,K22=830,K22=880,K22=910,K22=930,K22=980,K22=1030),K22,\"KOP\"),IF(B22=\"X1\",\"\",\"/\"),IF(OR(B22=\"X240\",B22=\"X245\",B22=\"X250\",B22=\"X40\",B22=\"X45\"),W22,\"\")))","v":""}]
[null,null,null,null,null,null,null,null,null,null,{"$f":"IF(I23>0,I23-70,\"\")","v":""},"",{"$f":"IF(B23=\"\",\"\",IF(AND(B23=\"X1\",F23=\"TR\"),\"40/50\",IF(AND(B23=\"X240\",F23=\"TR\"),\"40/50\",IF(AND(B23=\"X240\",F23=\"DU\"),\"50\",IF(AND(B23=\"X245\",F23=\"TR\"),\"44-45/55\",IF(AND(B23=\"X245\", F23=\"DU\"),\"55\", IF(AND(B23=\"X250\",F23=\"TR\"),\"50/60\",IF(AND(B23=\"X250\",F23=\"DU\"),\"60\", IF(B23=\"X40\",\"40\", IF(B23=\"X45\", \"44-45\",\"\"))))))))))","v":""},3,3,0,null,null,null,null,null,1053,"","",null,"","",""]
[null,null,null,null,null,null,null,null,null,null,"","",{"$f":"IF(B24=\"\",\"\",IF(AND(B24=\"X1\",F24=\"TR\"),\"40/50\",IF(AND(B24=\"X240\",F24=\"TR\"),\"40/50\",IF(AND(B24=\"X240\",F24=\"DU\"),\"50\",IF(AND(B24=\"X245\",F24=\"TR\"),\"44-45/55\",IF(AND(B24=\"X245\", F24=\"DU\"),\"55\", IF(AND(B24=\"X250\",F24=\"TR\"),\"50/60\",IF(AND(B24=\"X250\",F24=\"DU\"),\"60\", IF(B24=\"X40\",\"40\", IF(B24=\"X45\", \"44-45\",\"\"))))))))))","v":""},3,3,0,null,null,null,null,null,1053,"","",null,"","",""]
[null,null,null,null,null,null,null,null,null,null,"","","",3,3,0,null,null,null,null,null,1053,"","",null,"","",""]
[null,null,null,null,null,null,null,null,null,null,"","","",3,3,0,null,null,null,null,null,1053,"","",null,"","",""]
[null,null,null,null,null,null,null,null,null,null,"","","",3,3,0,null,null,null,null,null,1053,"","",null,"","",""]
[null,null,null,null,null,null,null,null,null,null,"","","",3,3,0,null,null,null,null,null,1053,"","",null,"","",""]
[null,null,null,null,null,null,null,null,null,null,"","","",3,3,0,null,null,null,null,null,1053,"","",null,"","",""]
[null,null,null,null,null,null,null,null,null,null,"","","",3,3,0,null,null,null,null,null,1053,"","",null,"","",""]
[null,null,null,null,null,null,null,null,null,null,"","","",3,3,0,null,null,null,null,null,1053,"","",null,"","",""]
[null,null,null,null,null,null,null,null,null,null,"","","",3,3,0,null,null,null,null,null,1053,"","",null,"","",""]
[null,null,null,null,null,null,null,null,null,null,"","","",3,3,0,null,null,null,null,null,1053,"","",null,"","",""]
[null,null,null,null,null,null,null,null,null,null,"","","",3,3,0,null,null,null,null,null,1053,"","",null,"","",""]
[null,null,null,null,null,null,null,null,null,null,"","","",3,3,0,null,null,null,null,null,1053,"","",null,"","",""]
[null,null,null,null,null,null,null,null,null,null,"","","",3,3,0,null,null,null,null,null,1053,"","",null,"","",""]
[null,null,null,null,null,null,null,null,null,null,"","","",3,3,0,null,null,null,null,null,1053,"","",null,"","",""]
[null,null,null,null,null,null,null,null,null,null,"","","",3,3,0,null,null,null,null,null,1053,"","",null,"","",""]
[null,null,null,null,null,null,null,null,null,null,"","","",3,3,0,null,null,null,null,null,1053,"","",null,"","",""]
[null,null,null,null,null,null,null,null,null,null,"","","",3,3,0,null,null,null,null,null,1053,"","",null,"","",""]
[null,null,null,null,null,null,null,null,null,null,"","","",3,3,0,null,null,null,null,null,1053,"","",null,"","",""]
[null,null,null,null,null,null,null,null,null,null,"","","",3,3,0,null,null,null,null,null,1053,"","",null,"","",""]
[null,null,null,null,null,null,null,null,null,null,"","","",3,3,0,null,null,null,null,null,1053,"","",null,"","",""]
[null,null,null,null,null,null,null,null,null,null,"","","",3,3,0,null,null,null,null,null,1053,"","",null,"","",""]
[null,null,null,null,null,null,null,null,null,null,"","","",3,3,0,null,null,null,null,null,1053,"","",null,"","",""]
[null,null,null,null,null,null,null,null,null,null,"","","",3,3,0,null,null,null,null,null,1053,"","",null,"","",""]
[null,null,null,null,null,null,null,null,null,null,"","","",3,3,0,null,null,null,null,null,1053,"","",null,"","",""]
[null,null,null,null,null,null,null,null,null,null,"","","",3,3,0,null,null,null,null,null,1053,"","",null,"","",""]
[null,null,null,null,null,null,null,null,null,null,"","","",3,3,0,null,null,null,null,null,1053,"","",null,"","",""]
[null,null,null,null,null,null,null,null,null,null,"","","",3,3,0,null,null,null,null,null,1053,"","",null,"","",""]
[null,null,null,null,null,null,null,null,null,null,"","","",3,3,0,null,null,null,null,null,1053,"","",null,"","",""]
[null,null,null,null,null,null,null,null,null,null,"","","",3,3,0,null,null,null,null,null,1053,"","",null,"","",""]
[null,null,null,null,null,null,null,null,null,null,"","","",3,3,0,null,null,null,null,null,1053,"","",null,"","",""]
[null,null,null,null,null,null,null,null,null,null,"","","",3,3,0,null,null,null,null,null,1053,"","",null,"","",""]
[null,null,null,null,null,null,null,null,null,null,"","","",3,3,0,null,null,null,null,null,1053,"","",null,"","",""]
[null,null,null,null,null,null,null,null,null,null,"","","",3,3,0,null,null,null,null,null,1053,"","",null,"","",""]
[null,null,null,null,null,null,null,null,null,null,"","","",3,3,0,null,null,null,null,null,1053,"","",null,"","",""]
[null,null,null,null,null,null,null,null,null,null,"","","",3,3,0,null,null,null,null,null,1053,"","",null,"","",""]
[null,null,null,null,null,null,null,null,null,null,"","","",3,3,0,null,null,null,null,null,1053,"","",null,"","",""]
[null,null,null,null,null,null,null,null,null,null,"","","",3,3,0,null,null,null,null,null,1053,"","",null,"","",""]
[null,null,null,null,null,null,null,null,null,null,"","","",3,3,0,null,null,null,null,null,1053,"","",null,"","",""]
[null,null,null,null,null,null,null,null,null,null,"","","",3,3,0,null,null,null,null,null,1053,"","",null,"","",""]
[null,null,null,null,null,null,null,null,null,null,"","","",3,3,0,null,null,null,null,null,1053,"","",null,"","",""]
[null,null,null,null,null,null,null,null,null,null,"","","",3,3,0,null,null,null,null,null,1053,"","",null,"","",""]
[null,null,null,null,null,null,null,null,null,null,"","","",3,3,0,null,null,null,null,null,1053,"","",null,"","",""]
[null,null,null,null,null,null,null,null,null,null,"","","",3,3,0,null,null,null,null,null,1053,"","",null,"","",""]
[null,null,null,null,null,null,null,null,null,null,"","","",3,3,0,null,null,null,null,null,1053,"","",null,"","",""]
[null,null,null,null,null,null,null,null,null,null,"","","",3,3,0,null,null,null,null,null,1053,"","",null,"","",""]
[null,null,null,null,null,null,null,null,null,null,"","","",3,3,0,null,null,null,null,null,1053,"","",null,"","",""]
[null,null,null,null,null,null,null,null,null,null,"","","",3,3,0,null,null,null,null,null,1053,"","",null,"","",""]
[null,null,null,null,null,null,null,null,null,null,"","","",3,3,0,null,null,null,null,null,1053,"","",null,"","",""]
[null,null,null,null,null,null,null,null,null,null,"","","",3,3,0,null,null,null,null,null,1053,"","",null,"","",""]
[null,null,null,null,null,null,null,null,null,null,"","","",3,3,0,null,null,null,null,null,1053,"","",null,"","",""]
[null,null,null,null,null,null,null,null,null,null,"","","",3,3,0,null,null,null,null,null,1053,"","",null,"","",""]
[null,null,null,null,null,null,null,null,null,null,"","","",3,3,0,null,null,null,null,null,1053,"","",null,"","",""]
[null,null,null,null,null,null,null,null,null,null,"","","",3,3,0,null,null,null,null,null,1053,"","",null,"","",""]
[null,null,null,null,null,null,null,null,null,null,"","","",3,3,0,null,null,null,null,null,1053,"","",null,"","",""]
[null,null,null,null,null,null,null,null,null,null,"","","",3,3,0,null,null,null,null,null,1053,"","",null,"","",""]
[null,null,null,null,null,null,null,null,null,null,"","","",3,3,0,null,null,null,null,null,1053,"","",null,"","",""]
[null,null,null,null,null,null,null,null,null,null,"","","",3,3,0,null,null,null,null,null,1053,"","",null,"","",""]
[null,null,null,null,null,null,null,null,null,null,"","","",3,3,0,null,null,null,null,null,1053,"","",null,"","",""]
[null,null,null,null,null,null,null,null,null,null,"","","",3,3,0,null,null,null,null,null,1053,"","",null,"","",""]
[null,null,null,null,null,null,null,null,null,null,"","","",3,3,0,null,null,null,null,null,1053,"","",null,"","",""]
[null,null,null,null,null,null,null,null,null,null,"","","",3,3,0,null,null,null,null,null,1053,"","",null,"","",""]
[null,null,null,null,null,null,null,null,null,null,"","","",3,3,0,null,null,null,null,null,1053,"","",null,"","",""]
[null,null,null,null,null,null,null,null,null,null,{"$f":"IF(I86>0,I86-70,\"\")","v":""},{"$f":"IF(J86=\"\",\"\",IF(E86=\"C\",SUM(J86-N86-O86),IF(OR(E86=\"T\",E86=\"V\"),SUM(J86-N86-O86-29),IF(E86=\"W\",SUM(J86-N86-O86-32-32),\"\"))))","v":""},{"$f":"IF(B86=\"\",\"\",IF(AND(B86=\"X1\",F86=\"TR\"),\"40/50\",IF(AND(B86=\"X240\",F86=\"TR\"),\"40/50\",IF(AND(B86=\"X240\",F86=\"DU\"),\"50\",IF(AND(B86=\"X245\",F86=\"TR\"),\"44-45/55\",IF(AND(B86=\"X245\", F86=\"DU\"),\"55\", IF(AND(B86=\"X250\",F86=\"TR\"),\"50/60\",IF(AND(B86=\"X250\",F86=\"DU\"),\"60\", IF(B86=\"X40\",\"40\", IF(B86=\"X45\", \"44-45\",\"\"))))))))))","v":""},3,3,0,null,null,null,null,null,1053,{"$f":"IF(T86=\"\",\"\",IF(AND(OR(T86=3,T86=2),D86=\"EI0\"), \"FU\", \"FUL\"))","v":""},{"$f":"IF(E86=\"C\",SUM(L86+N86+O86+P86),IF(OR(E86=\"T\",E86=\"V\"),SUM(L86+N86+O86+P86+20.5),IF(E86=\"W\",SUM(L86+N86+O86+P86+20.5+20.5),\"\")))","v":""},null,{"$f":"IF(L86=\"\",\"\",IF(AND(OR(L86=2015,L86=2115,L86=2040,L86=2315,L86=2240),D86=\"EI0\",OR(E86=\"T\",E86=\"V\",E86=\"W\"),Q86=1,P86=0,N86=3,O86=3,OR(G86=\"L\",G86=\"R\"),OR(S86=\"A24.0\",S86=\"A24.1\",S86=\"A24.2\"),OR(U86=\"R15W.55BB\",U86=\"R15I.55BB\",U86=\"R15B.55BB\",U86=\"R17W.55WC\",U86=\"R17I.55WC\",U86=\"R17B.55WC\",U86=\"R19W.55PZ\",U86=\"R19I.55PZ\",U86=\"R19B.55PZ\",U86=\"00BB\",U86=\"00WC\",U86=\"00PZ\")),\"\",CONCATENATE(B86,IF(C86=\"B\",\"B\",\"\"),\"-\",IF(D86=\"EI-\",\"EI-\",\"\"),\"M\",E86,IF(L86=\"\",\"\",IF(AND(D86=\"ei-\",OR(L86=2015,L86=2115,L86=2315,L86=2040,L86=2240)),L86,IF(OR(T86=2,T86=3),\"2100\",IF(T86=4,\"2600\",IF(OR(T86=5,T86=6),\"3000\",\"\"))))),\"-\",IF(K86=\"\",\"\",IF(D86=\"EI-\",\"1069\",\"1230\")),\"-\",IF(Q86=1,\"\",IF(Q86=2,\"AS-\",IF(Q86=3,\"I-\",IF(Q86=4,\"ITS-\",IF(Q86=5,\"SC-\",\"\"))))),IF(AND(Q86=1,OR(G86=\"DL\",G86=\"DR\")),\"D\",IF(AND(R86=\"Ja\",G86=\"DR\"),\"DL\",IF(AND(R86=\"Ja\",G86=\"DR\"),\"DL\",G86))),IF(AND(R86=\"Ja\",OR(G86=\"DR\",G86=\"DL\")),\"-PG\",\"\"),\"/\",IF(S86=\"X4030.W\",\"X30W\",IF(S86=\"X4030.B\",\"X30B\",IF(S86=\"X4030.G\",\"X30G\",S86))),\"/\",T86,\"/\",IF(AND(D86=\"EI-\",U86=\"00BB\"),\"0BB\",IF(AND(D86=\"EI-\",U86=\"00WC\"),\"0WC\",IF(AND(D86=\"EI-\",U86=\"00PZ\"),\"0PZ\",U86))),IF(B86=\"X1\",\"\",\"/\"),IF(B86=\"X1\",\"\",W86))))","v":""},{"$f":"IF(AND(OR(L86=2015,L86=2115,L86=2315,L86=2040),D86=\"EI0\",OR(E86=\"T\",E86=\"W\",E86=\"V\"),Q86=1,P86=0,P86=0,N86=3,O86=3,OR(G86=\"L\",G86=\"R\"),OR(S86=\"A24.0\",S86=\"A24.1\",S86=\"A24.2\"),OR(U86=\"R15W.55BB\",U86=\"R15I.55BB\",U86=\"R15B.55BB\",U86=\"R17W.55WC\",U86=\"R17I.55WC\",U86=\"R17B.55WC\",U86=\"R19W.55PZ\",U86=\"R19I.55PZ\",U86=\"R19B.55PZ\",U86=\"00BB\",U86=\"00WC\",U86=\"00PZ\")),CONCATENATE(B86,IF(C86=\"B\",\"B\",\"\"),\"-\",E86,L86,IF(OR(AND(B86=\"X40\",E86=\"T\",),AND(B86=\"X45\",E86=\"T\",)),\"\",\"-\"),IF(OR(AND(B86=\"X40\",E86=\"T\",),AND(B86=\"X45\",E86=\"T\",)),\"\",G86),\"/\",IF(S86=\"X4030.W\",\"X30W\",IF(S86=\"X4030.B\",\"X30B\",IF(S86=\"X4030.G\",\"X30G\",S86))),\"/\",T86,\"/\",U86,IF(B86=\"X1\",\"\",\"/\"),IF(B86=\"X1\",\"\",W86)),\"\")","v":""},{"$f":"IF(AA86=\"\",\"\",CONCATENATE(B86,IF(C86=\"B\",\"B\",\"\"),\"-\",E86,IF(OR(K86=630,K86=680,K86=710,K86=726,K86=730,K86=780,K86=810,K86=818,K86=826,K86=830,K86=880,K86=910,K86=930,K86=980),0,\"\"),IF(OR(K86=630,K86=680,K86=710,K86=726,K86=730,K86=780,K86=810,K86=818,K86=826,K86=830,K86=880,K86=910,K86=930,K86=980,K86=1030),K86,\"KOP\"),IF(B86=\"X1\",\"\",\"/\"),IF(OR(B86=\"X240\",B86=\"X245\",B86=\"X250\",B86=\"X40\",B86=\"X45\"),W86,\"\")))","v":""}]
[null,null,null,null,null,null,null,null,null,null,"","","",3,3,0,null,null,null,null,null,1053,"","",null,"","",""]
[null,null,null,null,null,null,null,null,null,null,"","","",3,3,0,null,null,null,null,null,1053,"","",null,"","",""]
[null,null,null,null,null,null,null,null,null,null,"","","",3,3,0,null,null,null,null,null,1053,"","",null,"","",""]
[null,null,null,null,null,null,null,null,null,null,"","","",3,3,0,null,null,null,null,null,1053,"","",null,"","",""]
[null,null,null,null,null,null,null,null,null,null,"","","",3,3,0,null,null,null,null,null,1053,"","",null,"","",""]
[null,null,null,null,null,null,null,null,null,null,"","","",3,3,0,null,null,null,null,null,1053,"","",null,"","",""]
[null,null,null,null,null,null,null,null,null,null,"","","",3,3,0,null,null,null,null,null,1053,"","",null,"","",""]
[null,null,null,null,null,null,null,null,null,null,"","","",3,3,0,null,null,null,null,null,1053,"","",null,"","",""]
[null,null,null,null,null,null,null,null,null,null,"","","",3,3,0,null,null,null,null,null,1053,"","",null,"","",""]
[null,null,null,null,null,null,null,null,null,null,"","","",3,3,0,null,null,null,null,null,1053,"","",null,"","",""]
[null,null,null,null,null,null,null,null,null,null,"","","",3,3,0,null,null,null,null,null,1053,"","",null,"","",""]
[null,null,null,null,null,null,null,null,null,null,"","","",3,3,0,null,null,null,null,null,1053,"","",null,"","",""]
[null,null,null,null,null,null,null,null,null,null,"","","",3,3,0,null,null,null,null,null,1053,"","",null,"","",""]
[null,null,null,null,null,null,null,null,null,null,"","","",3,3,0,null,null,null,null,null,1053,"","",null,"","",""]

{"sheet":"TECHNICAL DETAILS","index":1,"n_rows":185,"n_cols":15,"rows_kept":185,"cut":false,"hidden":false,"merged":[[0,0,0,3],[52,27,54,27]]}
["FRAME TYPE"]
[]
["DEURDIKTE","SYSTEEM","TYPE","TREKKEN","DUWEN","EU L/R","PLAFONDHOOG","DEURDRANGER","AKOESTISCH","BRANDWEREND","MIN. MUURDIKTE","AFWERKING"]
[]
["40 mm","X1","V-C-VD-W-WD","OK","-","L/R","OK","OK","-","-","100 mm","ALLE"]
["40 mm","X240","V-C-VD-W-WD","OK","-","L/R","OK","OK","-","-","75 mm","ALLE"]
["40 mm","X40","V-T-VD-W-WD","OK","OK","L/R/UNIVERSEEL","-","-","-","-","70 mm","ZIE CATALOOG"]
[]
["44-45 mm","X245","V-C-VD-W-WD","OK","-","L/R","OK","OK","OK","OK","80 mm","ALLE"]
["44-45 mm","X45","V-T-VD-W-WD","OK","OK","L/R/UNIVERSEEL","-","-","-","-","80 mm","ZIE CATALOOG"]
[null,"X2-45S-V","45°","OK",null,"L or R",null,"OK",null,null,"80 mm","All finishes"]
[null,"X2-45S-C",null,"OK",null,"L or R","OK",null,null,null,"80 mm","All finishes"]
[null,"X2-45S-V-D","45°","OK",null,null,null,"OK",null,null,"80 mm","All finishes"]
[null,"X45S-V","45°","OK","OK","L or R",null,null,null,null,"75 mm","Bended"]
[null,"X45S-V-D","45°","OK","OK",null,null,null,null,null,"75 mm","Bended"]
[null,"X45S-T","90°","OK","OK","L or R",null,null,null,null,"75 mm","Bended"]
[]
["50 mm","X1","V-C-VD-W-WD","OK","-","L/R","OK","OK","-","-","100 mm","ALLE"]
["50 mm","X240","V-C-VD-W-WD","OK","OK","L/R","OK","OK","OK","-","75 mm","ALLE"]
[null,"X1S-V","V-C-VD-W-WD","OK",null,"L or R",null,"OK",null,null,"100 mm","All finishes"]
[null,"X1S-C","V-C-VD-W-WD","OK",null,"L or R","OK",null,null,null,"100 mm","All finishes"]
[null,"X1S-V-D","V-C-VD-W-WD","OK",null,null,null,"OK",null,null,"100 mm","All finishes"]
[null,"X2-40S-V","V-C-VD-W-WD","OK","OK","L or R",null,"OK","OK",null,"75 mm","All finishes"]
[null,"X2-40S-C","V-C-VD-W-WD","OK","OK","L or R","OK",null,null,null,"75 mm","All finishes"]
[null,"X2-40S-V-D","V-C-VD-W-WD","OK","OK",null,null,"OK",null,null,"75 mm","All finishes"]
["50 mm","X250","V-C-VD-W-WD","OK","OK","L/R","OK","OK","OK","-","125 mm","ALLE"]
["50 mm","X240EI","V-W","OK","OK","L/R","-","OK","-","OK","100 mm","550kg/m3"]
[]
["55 mm","X245","V-C-VD-W-WD","OK","OK","L/R","OK","OK","OK","-","80 mm","ALLE"]
[null,"X2-45S-V","45°","OK","OK","L or R",null,"OK",null,null,"80 mm","All finishes"]
[null,"X2-45S-C",null,"OK","OK","L or R","OK",null,null,null,"80 mm","All finishes"]
[null,"X2-45S-V-D","45°","OK","OK",null,null,"OK",null,null,"80 mm","All finishes"]
["55 mm","X245EI","V-W","OK","OK","L/R","-","OK","-","OK","105 mm","ZIE CERTIFICATIE"]
[]
["60 mm","X250","V-C-VD-W-WD","OK","OK","L/R","OK","OK","OK","-","125 mm","ALLE"]
["60 mm","x250EI","V-W","OK","OK","L/R","-","OK","OK","OK","125 mm","ZIE CERTIFICATIE"]
["60 mm","X250EI","VD-WD","OK","OK","L/R","-","OK","OK","OK","125 mm","ZIE CERTIFICATIE"]
[]
[]
[]
[]
[]
[]
[]
[]
[]
[]
[]
[]
[]
[]
[]
[]
[]
[]
[]
[]
[]
[]
[]
[null,"SCHARNIER"]
[]
[null,"A24(60kg) STANDAARD SCHARNIER",null,null,null,null,null,"TE340 3D (80 kg)"]
[]
[]
[]
[]
[]
[]
[]
[]
[]
[]
[]
[null,"XA-A24.0","XA-A24.1","XA-A24.2"]
[]
[]
[]
[null,null,null,null,null,null,null,"XA-TE340.0","XA-TE340.1","XA-TE340.2"]
[]
[]
[]
[null,"A30 (60 kg) special finish",null,null,null,null,null,"A30(60kg) speciale wandafwerking"]
[]
[]
[]
[]
[]
[]
[]
[]
[]
[]
[]
[]
[]
[]
[null,"X4030.G","X4030.W","X4030.B",null,null,null,"XA-A30.0"]
[]
[]
[]
[null,"SLOT",null,null,null,null,null,null,null,null,null,null,null,"3-PUNTSSLOT"]
[]
[null,"NIEUW DIN SLOT",null,"SYMMETRISCH SLOT",null,null,"KFV SLOT",null,null,"NOHA SLOT"]
[]
[]
[]
[]
[]
[]
[]
[]
[]
[]
[]
[]
[]
[]
[]
[]
[]
[]
[]
[]
[]
[]
[]
[]
[]
[]
[]
[]
[]
[]
[]
[]
[]
[]
[]
[]
["XA-R15*.55XINBB","R15 BB  loopslot/binnendeurslot",null,"XA-D70BB.CS","D70 BB ",null,"XA-KFV116F","0K1",null,"XA-937","0NHW",null,null,"XA-SEC-LOCK 1","SECL1"]
["XA-R17*.55XINNWC","R17 WC WC slot",null,"XA-D73WC.CS","D73 WC  ",null,"XA-KFV116WC","0K2",null,"XA-938","0NH",null,null,"XA-SEC-LOCK 2","SECL2"]
["XA-R19*.55XINPZ","R19 PZ cilinderslot ",null,"XA-D78PZ.CS","D78 PZ",null,"XA-KFV116PZ","0K3",null,"XA-998NH.CS","0NHZ",null,null,"XA-SEC-LOCK 3","SECL3"]
["Wit        *W",null,null,null,null,null,"XA-KFV116BB","0K4"]
["Zwart   *B"]
["Alu F1   *I"]
[]
[]
[]
[null,"NZ SLOT",null,null,"ELEKTRISCHE TEGENPLAAT"]
[]
[]
[]
[]
[]
[]
[null,null,null,null,null,null,null,null,"XA-EL118-10-24V-XIN","EX1"]
[null,null,null,null,null,null,null,null,"XA-EL118-22-44V-XIN","EX2"]
[null,null,null,null,null,null,null,null,"XA-EL138-12V-XIN","EX3"]
[null,null,null,null,null,null,null,null,"XA-EL138-24V-XIN","EX4"]
[null,null,null,null,null,null,null,null,"XA-EL118-10-24V-DIN","ED1"]
[null,null,null,null,null,null,null,null,"XA-EL118-22-44V-DIN","ED2"]
[null,null,null,null,null,null,null,null,"XA-EL138-12V-DIN","ED3"]
[null,null,null,null,null,null,null,null,"XA-EL138-24V-DIN","ED4"]
[]
[]
[]
[]
[]
[]
[]
[]
[null,"XA-NZ.G","0NZG"]
[null,"XA-NZ.B","0NZB",null,"XIN"]
[null,"XA-NZ.W","0NZW"]
[null,"XA-NZ.G","2NZG  (2 paar NZ magneten)"]
[null,"XA-NZ.B","2NZB (2 paar NZ magneten)"]
[null,"XA-NZ.W","2NZW (2 paar NZ magneten)"]
[]
[]
[]
[]
[]
[null,"NIXX","Zonder frezing"]
[null,"XXXX","speciaal",null,null,null,"DIN"]

{"sheet":"ORDER SINGLE DOOR","index":2,"n_rows":75,"n_cols":40,"rows_kept":75,"cut":false,"hidden":false,"merged":[[74,1,74,5],[3,15,3,20],[3,21,3,23],[3,33,3,35],[3,28,3,32],[2,9,2,23],[2,24,2,27],[3,2,3,7],[3,9,3,10],[3,11,3,14],[3,25,3,26]]}
[]
[]
[null,null,null,null,null,null,null,null,null,"MATEN",null,null,null,null,null,null,null,null,null,null,null,null,null,null,"BESLAG"]
[null,null,"PROFIEL TYPE",null,null,null,null,null,null,"INBOUWMAAT",null,"DEURMAAT",null,null,null,"VENTILATIE",null,null,null,null,null,"EFFECTIEVE DEURAFMETINGEN",null,null,"DEURDRANGER","SCHARNIER",null,"SLOT","INFO",null,null,null,null,"AFWERKING DEURBLAD",null,null,"OPMERKING","CODE","INFREZING ","AFWERKING"]
[null,"Deur nr.","Profiel type","Kleur: \nWit (W) Zwart(B)","Brandwerend  (EI)","Zaagwijze     V  T  C  W","Duwen (DU)  Trekken(TR)","EU links (L)          EU rechts (R) Dubbel (DL-DR)","Aantal","Breedte     Ww","Hoogte    Hw","Breedte    Wp","hoogte       Hp","Voorstel deurdikte ","Effectieve deurdikte","Boven Vb","Onder Vo","onderaan afkorten scharnierkant","onderaan afkorten slotkant","bovenaan afkorten scharnierkant","bovenaan afkorten slotkant","Breedte \nWp","Hoogte \nHp","Slagen ","(1) Nee                                 (2) Active Stop                            (3) Boxer Geze (stock)                        (4) ITS Dorma  \n(5) X4030-SC","Type","Aantal","Type","Standaard krukhoogte","Krukgat type","Sleutelgat type","Andere frezingen","Valdorpel type\nstandaard \nEL5….. ","Grondlaag","Grondverf","Afwerkingslaag"]
[21,{"$f":"IF(OR('ORDER FRAMES'!G21=\"DL\",'ORDER FRAMES'!G21=\"DR\"),\"\",IF('ORDER FRAMES'!A21=\"\",\"\",'ORDER FRAMES'!A21))","v":1},{"$f":"IF('ORDER FRAMES'!B21=\"\",\"\",IF(OR('ORDER FRAMES'!G21=\"DL\",'ORDER FRAMES'!G21=\"DR\"),\"\",'ORDER FRAMES'!B21))","v":"X245"},{"$f":"IF('ORDER FRAMES'!C21=\"\",\"\",IF(OR('ORDER FRAMES'!G21=\"DL\",'ORDER FRAMES'!G21=\"DR\"),\"\",'ORDER FRAMES'!C21))","v":"WHITE"},null,{"$f":"IF('ORDER FRAMES'!E21=\"\",\"\",IF(OR('ORDER FRAMES'!G21=\"DL\",'ORDER FRAMES'!G21=\"DR\"),\"\",'ORDER FRAMES'!E21))","v":"V"},{"$f":"IF('ORDER FRAMES'!F21=\"\",\"\",IF(OR('ORDER FRAMES'!G21=\"DL\",'ORDER FRAMES'!G21=\"DR\"),\"\",'ORDER FRAMES'!F21))","v":"TR"},{"$f":"IF('ORDER FRAMES'!G21=\"\",\"\",IF(OR('ORDER FRAMES'!G21=\"DL\",'ORDER FRAMES'!G21=\"DR\"),\"\",'ORDER FRAMES'!G21))","v":"L"},{"$f":"IF('ORDER FRAMES'!H21=\"\",\"\",IF(OR('ORDER FRAMES'!G21=\"DL\",'ORDER FRAMES'!G21=\"DR\"),\"\",'ORDER FRAMES'!H21))","v":1},{"$f":"IF('ORDER FRAMES'!I21=\"\",\"\",IF(OR('ORDER FRAMES'!G21=\"DL\",'ORDER FRAMES'!G21=\"DR\"),\"\",'ORDER FRAMES'!I21))","v":920},{"$f":"IF('ORDER FRAMES'!J21=\"\",\"\",IF(OR('ORDER FRAMES'!G21=\"DL\",'ORDER FRAMES'!G21=\"DR\"),\"\",'ORDER FRAMES'!J21))","v":2320},{"$f":"IF('ORDER FRAMES'!K21=\"\",\"\",IF(OR('ORDER FRAMES'!G21=\"DL\",'ORDER FRAMES'!G21=\"DR\"),\"\",'ORDER FRAMES'!K21))","v":850},{"$f":"IF('ORDER FRAMES'!L21=\"\",\"\",IF(OR('ORDER FRAMES'!G21=\"DL\",'ORDER FRAMES'!G21=\"DR\"),\"\",'ORDER FRAMES'!L21))","v":2285},{"$f":"IF('ORDER FRAMES'!M21=\"\",\"\",IF(OR('ORDER FRAMES'!G21=\"DL\",'ORDER FRAMES'!G21=\"DR\"),\"\",'ORDER FRAMES'!M21))","v":"55"},null,{"$f":"IF('ORDER FRAMES'!N21=\"\",\"\",IF(OR('ORDER FRAMES'!G21=\"DL\",'ORDER FRAMES'!G21=\"DR\"),\"\",'ORDER FRAMES'!N21))","v":3},{"$f":"IF('ORDER FRAMES'!O21=\"\",\"\",IF(OR('ORDER FRAMES'!G21=\"DL\",'ORDER FRAMES'!G21=\"DR\"),\"\",'ORDER FRAMES'!O21))","v":3},null,{"$f":"IF(F6=\"V\",R6,IF(F6=\"W\",S6=0,\"\"))","v":0},null,null,{"$f":"L6","v":850},{"$f":"IF( M6=\"\",\"\",M6-R6-T6)","v":2285},{"$f":"IF(O6=\"\",\"\",IF(OR(AND(C6=\"X240\",F6=\"V\",O6=40),AND(C6=\"X1\",F6=\"V\",O6=40),AND(C6=\"X245\",F6=\"V\",O6=44-45)),\"A\",IF(OR(AND(C6=\"X1\",F6=\"V\",O6=50),AND(C6=\"X240\",F6=\"V\",O6=50),AND(C6=\"X245\",F6=\"V\",O6=55),AND(C6=\"X250\",F6=\"V\",O6=60),AND(C6=\"X40\",F6=\"V\",O6=40),AND(C6=\"X45\",F6=\"V\",O6=44-45)),\"B\",IF(OR(AND(C6=\"X1\",F6=\"C\",O6=50),AND(C6=\"X240\",F6=\"C\",O6=50),AND(C6=\"X245\",F6=\"C\",O6=55),AND(C6=\"X250\",F6=\"C\",O6=60),AND(C6=\"X40\",F6=\"T\",O6=40),AND(C6=\"X45\",F6=\"T\",O6=44-45)),\"C\",IF(OR(AND(C6=\"X1\",F6=\"W\",O6=50),AND(C6=\"X240\",F6=\"W\",O6=50),AND(C6=\"X245\",F6=\"W\",O6=55),AND(C6=\"X250\",F6=\"W\",O6=60),AND(C6=\"X40\",F6=\"W\",O6=40),AND(C6=\"X45\",F6=\"W\",O6=44-45)),\"D\",\"\")))))","v":""},{"$f":"IF('ORDER FRAMES'!Q21=\"\",\"\",IF(OR('ORDER FRAMES'!G21=\"DL\",'ORDER FRAMES'!G21=\"DR\"),\"\",'ORDER FRAMES'!Q21))","v":1},{"$f":"IF('ORDER FRAMES'!S21=\"\",\"\",IF(OR('ORDER FRAMES'!G21=\"DL\",'ORDER FRAMES'!G21=\"DR\"),\"\",'ORDER FRAMES'!S21))","v":"A24.0"},{"$f":"IF('ORDER FRAMES'!T21=\"\",\"\",IF(OR('ORDER FRAMES'!G21=\"DL\",'ORDER FRAMES'!G21=\"DR\"),\"\",'ORDER FRAMES'!T21))","v":2},{"$f":"IF('ORDER FRAMES'!U21=\"\",\"\",IF(OR('ORDER FRAMES'!G21=\"DL\",'ORDER FRAMES'!G21=\"DR\"),\"\",'ORDER FRAMES'!U21))","v":"2NZW"},{"$f":"IF(C6=\"\",\"\",'ORDER FRAMES'!V21)","v":1053},null,null,null,null,{"$f":"IF(C6=\"\",\"\",\"STANDAARD\")","v":"STANDAARD"},null,null,null,{"$f":"IF(C6=\"\",\"\",CONCATENATE(\"X7\",IF(E6=\"EI 0\",\"00\",IF(E6=\"EI 1 30\",\"30\",IF(E6=\"EI 1 45\",\"45\",IF(E6=\"EI 2 60\",\"60\",\"\")))),IF(O6=50,\"01\",IF(O6=40,\"02\",IF(O6=60,\"04\",\"X\"))),\".\",O6,\"-\",IF(M6<2116,\"H1\",IF(M6<2416,\"H2\",IF(M6<2616,\"H3\",IF(M6>2615,\"H4\",\"\")))),IF( L6<831,\"B1\",IF(L6<931,\"B2\",IF(L6>930,\"B3\",\"\"))),\"-\",AA6,IF(OR(Z6=\"A24.0\",Z6=\"A24.1\",Z6=\"A24.2\",Z6=\"X4030.W\",Z6=\"X4030.G\",Z6=\"X4030.B\"),\"A24\",IF(OR(Z6=\"TE340.0\",Z6=\"TE340.1\",Z6=\"TE340.2\"),\"TE340\",\"A30\")),\"-\",IF(OR(AB6=\"00BB\",AB6=\"00PZ\",AB6=\"00WC\",AB6=\"E0BB\",AB6=\"E0PZ\",AB6=\"E0WC\"),\"D7X\",IF(OR(AB6=\"R15W.55BB\",AB6=\"R15I.55BB\",AB6=\"R15B.55BB\",AB6=\"R17W.55WC\",AB6=\"R17I.55WC\",AB6=\"R17B.55WC\",AB6=\"R19W.55PZ\",AB6=\"R19I.55PZ\",AB6=\"R19B.55PZ\",AB6=\"R35W.55BB\",AB6=\"R35I.55BB\",AB6=\"R35B.55BB\",AB6=\"R37W.55WC\",AB6=\"R37I.55WC\",AB6=\"R37B.55WC\",AB6=\"R59W.55PZ\",AB6=\"R59I.55PZ\",AB6=\"R59B.55PZ\",AB6=\"0K1\",AB6=\"0K2\",AB6=\"0K3\",AB6=\"0K4\",AB6=\"EK1\",AB6=\"EK2\",AB6=\"EK3\",AB6=\"EK4\"),\"DIN\",IF(AB6=\"0NH\",\"0NH\",IF(AB6=\"0NHZ\",\"0NH\",IF(AB6=\"0NHW\",\"0NH\",IF(OR(AB6=\"0NZB\",AB6=\"0NZW\",AB6=\"0NZG\"),\"NZ\",IF(OR(AB6=\"2NZB\",AB6=\"2NZW\",AB6=\"2NZG\"),\"2NZ\",IF(AB6=\"NIXX\",\"NIXX\",IF(AB6=\"SECL 1\",\"SECL 1\",IF(AB6=\"SECL 2\",\"SECL 2\",IF(AB6=\"SECL 3\",\"SECL 3\",IF(AB6=\"SECL 4 \",\"SECL 4\",IF(AB6=\"XXXX\",\"XXXX\",\"\"))))))))))))),\"-\",X6,\"-\",H6,IF(Y6=1,\"\",IF(Y6=2,\"-AS\",IF(Y6=3,\"-I\",IF(Y6=4,\"-ITS\",IF(Y6=5,\"-SC\",\"\"))))),IF(AG6=\"ja\",\"-\",\"\"),IF(AG6=\"ja\",\"VD\",\"\")))","v":"X7X.-H2B2-2A24-2NZ--L"},{"$f":"IF(AND(OR(AE6=\"Geboord rond dia 20\",AE6=\"Geboord ovaal\"),AD6=\"Nee\"),\"X7-SG\",IF(AND(OR(AE6=\"Geboord rond dia 20 met patentgaten\",AE6=\"Geboord ovaal met patentagaten\"),AD6=\"Nee\"),\"X7-SG-PG\",IF(AND(AD6=\"Niet geboord\",OR(AE6=\"BB\",AE6=\"WC\",AE6=\"WC NH Locco\",AE6=\"WC NH Cartel\",AE6=\"PZ\")),\"X7-KG\",IF(AND(AD6=\"Niet geboord\",OR(AE6=\"BB met patentgaten\",AE6=\"WC met patentgaten\",AE6=\"PZ met patentgaten\",)),\"X7-KG-PG\",IF(AND(OR(AD6=\"Geboord rond dia 20 met patentgaten\",AD6=\"Geboord ovaal met patentagaten\"),OR(AE6=\"BB met patentgaten\",AE6=\"WC met patentgaten\",AE6=\"PZ met patentgaten\")),\"X7-KG-PG-SG-PG\",IF(AND(OR(AD6=\"Geboord rond dia 20\",AD6=\"Geboord ovaal\"),OR(AE6=\"BB met patentgaten\",AE6=\"WC met patentgaten\",AE6=\"PZ met patentgaten\")),\"X7-KG-SG-PG\",IF(AND(OR(AD6=\"Geboord rond dia 20 met patentgaten\",AD6=\"Geboord ovaal met patentgaten\"),OR(AE6=\"BB\",AE6=\"WC\",AE6=\"WC NH Locco\",AE6=\"WC NH Cartel\",AE6=\"PZ\")),\"X7-KG-PG-SG\",\"\")))))))","v":""},{"$f":"IF(AJ6=\"Lak\",\"X7-LAQUER\",IF(AJ6=\"HPL\",\"X7-HPL\",IF(AJ6=\"Fineer\",\"X7-FINEER\",IF(AI6=\"Ja\",\"X7-GRUNDIERT\",\"\"))))","v":""}]
[22,{"$f":"IF(OR('ORDER FRAMES'!G22=\"DL\",'ORDER FRAMES'!G22=\"DR\"),\"\",IF('ORDER FRAMES'!A22=\"\",\"\",'ORDER FRAMES'!A22))","v":2},{"$f":"IF('ORDER FRAMES'!B22=\"\",\"\",IF(OR('ORDER FRAMES'!G22=\"DL\",'ORDER FRAMES'!G22=\"DR\"),\"\",'ORDER FRAMES'!B22))","v":"X1"},{"$f":"IF('ORDER FRAMES'!C22=\"\",\"\",IF(OR('ORDER FRAMES'!G22=\"DL\",'ORDER FRAMES'!G22=\"DR\"),\"\",'ORDER FRAMES'!C22))","v":"WHITE"},null,{"$f":"IF('ORDER FRAMES'!E22=\"\",\"\",IF(OR('ORDER FRAMES'!G22=\"DL\",'ORDER FRAMES'!G22=\"DR\"),\"\",'ORDER FRAMES'!E22))","v":"V"},{"$f":"IF('ORDER FRAMES'!F22=\"\",\"\",IF(OR('ORDER FRAMES'!G22=\"DL\",'ORDER FRAMES'!G22=\"DR\"),\"\",'ORDER FRAMES'!F22))","v":"TR"},{"$f":"IF('ORDER FRAMES'!G22=\"\",\"\",IF(OR('ORDER FRAMES'!G22=\"DL\",'ORDER FRAMES'!G22=\"DR\"),\"\",'ORDER FRAMES'!G22))","v":"R"},{"$f":"IF('ORDER FRAMES'!H22=\"\",\"\",IF(OR('ORDER FRAMES'!G22=\"DL\",'ORDER FRAMES'!G22=\"DR\"),\"\",'ORDER FRAMES'!H22))","v":1},{"$f":"IF('ORDER FRAMES'!I22=\"\",\"\",IF(OR('ORDER FRAMES'!G22=\"DL\",'ORDER FRAMES'!G22=\"DR\"),\"\",'ORDER FRAMES'!I22))","v":800},{"$f":"IF('ORDER FRAMES'!J22=\"\",\"\",IF(OR('ORDER FRAMES'!G22=\"DL\",'ORDER FRAMES'!G22=\"DR\"),\"\",'ORDER FRAMES'!J22))","v":2320},{"$f":"IF('ORDER FRAMES'!K22=\"\",\"\",IF(OR('ORDER FRAMES'!G22=\"DL\",'ORDER FRAMES'!G22=\"DR\"),\"\",'ORDER FRAMES'!K22))","v":730},{"$f":"IF('ORDER FRAMES'!L22=\"\",\"\",IF(OR('ORDER FRAMES'!G22=\"DL\",'ORDER FRAMES'!G22=\"DR\"),\"\",'ORDER FRAMES'!L22))","v":2285},{"$f":"IF('ORDER FRAMES'!M22=\"\",\"\",IF(OR('ORDER FRAMES'!G22=\"DL\",'ORDER FRAMES'!G22=\"DR\"),\"\",'ORDER FRAMES'!M22))","v":"40/50"},null,{"$f":"IF('ORDER FRAMES'!N22=\"\",\"\",IF(OR('ORDER FRAMES'!G22=\"DL\",'ORDER FRAMES'!G22=\"DR\"),\"\",'ORDER FRAMES'!N22))","v":3},{"$f":"IF('ORDER FRAMES'!O22=\"\",\"\",IF(OR('ORDER FRAMES'!G22=\"DL\",'ORDER FRAMES'!G22=\"DR\"),\"\",'ORDER FRAMES'!O22))","v":3},null,0,null,null,730,2285,{"$f":"IF(O7=\"\",\"\",IF(OR(AND(C7=\"X240\",F7=\"V\",O7=40),AND(C7=\"X1\",F7=\"V\",O7=40),AND(C7=\"X245\",F7=\"V\",O7=44-45)),\"A\",IF(OR(AND(C7=\"X1\",F7=\"V\",O7=50),AND(C7=\"X240\",F7=\"V\",O7=50),AND(C7=\"X245\",F7=\"V\",O7=55),AND(C7=\"X250\",F7=\"V\",O7=60),AND(C7=\"X40\",F7=\"V\",O7=40),AND(C7=\"X45\",F7=\"V\",O7=44-45)),\"B\",IF(OR(AND(C7=\"X1\",F7=\"C\",O7=50),AND(C7=\"X240\",F7=\"C\",O7=50),AND(C7=\"X245\",F7=\"C\",O7=55),AND(C7=\"X250\",F7=\"C\",O7=60),AND(C7=\"X40\",F7=\"T\",O7=40),AND(C7=\"X45\",F7=\"T\",O7=44-45)),\"C\",IF(OR(AND(C7=\"X1\",F7=\"W\",O7=50),AND(C7=\"X240\",F7=\"W\",O7=50),AND(C7=\"X245\",F7=\"W\",O7=55),AND(C7=\"X250\",F7=\"W\",O7=60),AND(C7=\"X40\",F7=\"W\",O7=40),AND(C7=\"X45\",F7=\"W\",O7=44-45)),\"D\",\"\")))))","v":""},{"$f":"IF('ORDER FRAMES'!Q22=\"\",\"\",IF(OR('ORDER FRAMES'!G22=\"DL\",'ORDER FRAMES'!G22=\"DR\"),\"\",'ORDER FRAMES'!Q22))","v":1},{"$f":"IF('ORDER FRAMES'!S22=\"\",\"\",IF(OR('ORDER FRAMES'!G22=\"DL\",'ORDER FRAMES'!G22=\"DR\"),\"\",'ORDER FRAMES'!S22))","v":"A24.0"},{"$f":"IF('ORDER FRAMES'!T22=\"\",\"\",IF(OR('ORDER FRAMES'!G22=\"DL\",'ORDER FRAMES'!G22=\"DR\"),\"\",'ORDER FRAMES'!T22))","v":2},{"$f":"IF('ORDER FRAMES'!U22=\"\",\"\",IF(OR('ORDER FRAMES'!G22=\"DL\",'ORDER FRAMES'!G22=\"DR\"),\"\",'ORDER FRAMES'!U22))","v":""},{"$f":"IF(C7=\"\",\"\",'ORDER FRAMES'!V22)","v":1053},null,null,null,null,"STANDAARD",null,null,null,"X7X.-H2B1-2A24---R",{"$f":"IF(AND(OR(AE7=\"Geboord rond dia 20\",AE7=\"Geboord ovaal\"),AD7=\"Nee\"),\"X7-SG\",IF(AND(OR(AE7=\"Geboord rond dia 20 met patentgaten\",AE7=\"Geboord ovaal met patentagaten\"),AD7=\"Nee\"),\"X7-SG-PG\",IF(AND(AD7=\"Niet geboord\",OR(AE7=\"BB\",AE7=\"WC\",AE7=\"WC NH Locco\",AE7=\"WC NH Cartel\",AE7=\"PZ\")),\"X7-KG\",IF(AND(AD7=\"Niet geboord\",OR(AE7=\"BB met patentgaten\",AE7=\"WC met patentgaten\",AE7=\"PZ met patentgaten\",)),\"X7-KG-PG\",IF(AND(OR(AD7=\"Geboord rond dia 20 met patentgaten\",AD7=\"Geboord ovaal met patentagaten\"),OR(AE7=\"BB met patentgaten\",AE7=\"WC met patentgaten\",AE7=\"PZ met patentgaten\")),\"X7-KG-PG-SG-PG\",IF(AND(OR(AD7=\"Geboord rond dia 20\",AD7=\"Geboord ovaal\"),OR(AE7=\"BB met patentgaten\",AE7=\"WC met patentgaten\",AE7=\"PZ met patentgaten\")),\"X7-KG-SG-PG\",IF(AND(OR(AD7=\"Geboord rond dia 20 met patentgaten\",AD7=\"Geboord ovaal met patentgaten\"),OR(AE7=\"BB\",AE7=\"WC\",AE7=\"WC NH Locco\",AE7=\"WC NH Cartel\",AE7=\"PZ\")),\"X7-KG-PG-SG\",\"\")))))))","v":""},{"$f":"IF(AJ7=\"Lak\",\"X7-LAQUER\",IF(AJ7=\"HPL\",\"X7-HPL\",IF(AJ7=\"Fineer\",\"X7-FINEER\",IF(AI7=\"Ja\",\"X7-GRUNDIERT\",\"\"))))","v":""}]
[23,{"$f":"IF(OR('ORDER FRAMES'!G23=\"DL\",'ORDER FRAMES'!G23=\"DR\"),\"\",IF('ORDER FRAMES'!A23=\"\",\"\",'ORDER FRAMES'!A23))","v":""},{"$f":"IF('ORDER FRAMES'!B23=\"\",\"\",IF(OR('ORDER FRAMES'!G23=\"DL\",'ORDER FRAMES'!G23=\"DR\"),\"\",'ORDER FRAMES'!B23))","v":""},{"$f":"IF('ORDER FRAMES'!C23=\"\",\"\",IF(OR('ORDER FRAMES'!G23=\"DL\",'ORDER FRAMES'!G23=\"DR\"),\"\",'ORDER FRAMES'!C23))","v":""},null,{"$f":"IF('ORDER FRAMES'!E23=\"\",\"\",IF(OR('ORDER FRAMES'!G23=\"DL\",'ORDER FRAMES'!G23=\"DR\"),\"\",'ORDER FRAMES'!E23))","v":""},{"$f":"IF('ORDER FRAMES'!F23=\"\",\"\",IF(OR('ORDER FRAMES'!G23=\"DL\",'ORDER FRAMES'!G23=\"DR\"),\"\",'ORDER FRAMES'!F23))","v":""},{"$f":"IF('ORDER FRAMES'!G23=\"\",\"\",IF(OR('ORDER FRAMES'!G23=\"DL\",'ORDER FRAMES'!G23=\"DR\"),\"\",'ORDER FRAMES'!G23))","v":""},{"$f":"IF('ORDER FRAMES'!H23=\"\",\"\",IF(OR('ORDER FRAMES'!G23=\"DL\",'ORDER FRAMES'!G23=\"DR\"),\"\",'ORDER FRAMES'!H23))","v":""},{"$f":"IF('ORDER FRAMES'!I23=\"\",\"\",IF(OR('ORDER FRAMES'!G23=\"DL\",'ORDER FRAMES'!G23=\"DR\"),\"\",'ORDER FRAMES'!I23))","v":""},{"$f":"IF('ORDER FRAMES'!J23=\"\",\"\",IF(OR('ORDER FRAMES'!G23=\"DL\",'ORDER FRAMES'!G23=\"DR\"),\"\",'ORDER FRAMES'!J23))","v":""},{"$f":"IF('ORDER FRAMES'!K23=\"\",\"\",IF(OR('ORDER FRAMES'!G23=\"DL\",'ORDER FRAMES'!G23=\"DR\"),\"\",'ORDER FRAMES'!K23))","v":""},{"$f":"IF('ORDER FRAMES'!L23=\"\",\"\",IF(OR('ORDER FRAMES'!G23=\"DL\",'ORDER FRAMES'!G23=\"DR\"),\"\",'ORDER FRAMES'!L23))","v":""},{"$f":"IF('ORDER FRAMES'!M23=\"\",\"\",IF(OR('ORDER FRAMES'!G23=\"DL\",'ORDER FRAMES'!G23=\"DR\"),\"\",'ORDER FRAMES'!M23))","v":""},null,{"$f":"IF('ORDER FRAMES'!N23=\"\",\"\",IF(OR('ORDER FRAMES'!G23=\"DL\",'ORDER FRAMES'!G23=\"DR\"),\"\",'ORDER FRAMES'!N23))","v":3},{"$f":"IF('ORDER FRAMES'!O23=\"\",\"\",IF(OR('ORDER FRAMES'!G23=\"DL\",'ORDER FRAMES'!G23=\"DR\"),\"\",'ORDER FRAMES'!O23))","v":3},null,"",null,null,"","","",{"$f":"IF('ORDER FRAMES'!Q23=\"\",\"\",IF(OR('ORDER FRAMES'!G23=\"DL\",'ORDER FRAMES'!G23=\"DR\"),\"\",'ORDER FRAMES'!Q23))","v":""},{"$f":"IF('ORDER FRAMES'!S23=\"\",\"\",IF(OR('ORDER FRAMES'!G23=\"DL\",'ORDER FRAMES'!G23=\"DR\"),\"\",'ORDER FRAMES'!S23))","v":""},{"$f":"IF('ORDER FRAMES'!T23=\"\",\"\",IF(OR('ORDER FRAMES'!G23=\"DL\",'ORDER FRAMES'!G23=\"DR\"),\"\",'ORDER FRAMES'!T23))","v":""},{"$f":"IF('ORDER FRAMES'!U23=\"\",\"\",IF(OR('ORDER FRAMES'!G23=\"DL\",'ORDER FRAMES'!G23=\"DR\"),\"\",'ORDER FRAMES'!U23))","v":""},{"$f":"IF(C8=\"\",\"\",'ORDER FRAMES'!V23)","v":""},null,null,null,null,"",null,null,null,"","",""]
[24,{"$f":"IF(OR('ORDER FRAMES'!G24=\"DL\",'ORDER FRAMES'!G24=\"DR\"),\"\",IF('ORDER FRAMES'!A24=\"\",\"\",'ORDER FRAMES'!A24))","v":""},{"$f":"IF('ORDER FRAMES'!B24=\"\",\"\",IF(OR('ORDER FRAMES'!G24=\"DL\",'ORDER FRAMES'!G24=\"DR\"),\"\",'ORDER FRAMES'!B24))","v":""},{"$f":"IF('ORDER FRAMES'!C24=\"\",\"\",IF(OR('ORDER FRAMES'!G24=\"DL\",'ORDER FRAMES'!G24=\"DR\"),\"\",'ORDER FRAMES'!C24))","v":""},null,{"$f":"IF('ORDER FRAMES'!E24=\"\",\"\",IF(OR('ORDER FRAMES'!G24=\"DL\",'ORDER FRAMES'!G24=\"DR\"),\"\",'ORDER FRAMES'!E24))","v":""},{"$f":"IF('ORDER FRAMES'!F24=\"\",\"\",IF(OR('ORDER FRAMES'!G24=\"DL\",'ORDER FRAMES'!G24=\"DR\"),\"\",'ORDER FRAMES'!F24))","v":""},{"$f":"IF('ORDER FRAMES'!G24=\"\",\"\",IF(OR('ORDER FRAMES'!G24=\"DL\",'ORDER FRAMES'!G24=\"DR\"),\"\",'ORDER FRAMES'!G24))","v":""},{"$f":"IF('ORDER FRAMES'!H24=\"\",\"\",IF(OR('ORDER FRAMES'!G24=\"DL\",'ORDER FRAMES'!G24=\"DR\"),\"\",'ORDER FRAMES'!H24))","v":""},{"$f":"IF('ORDER FRAMES'!I24=\"\",\"\",IF(OR('ORDER FRAMES'!G24=\"DL\",'ORDER FRAMES'!G24=\"DR\"),\"\",'ORDER FRAMES'!I24))","v":""},{"$f":"IF('ORDER FRAMES'!J24=\"\",\"\",IF(OR('ORDER FRAMES'!G24=\"DL\",'ORDER FRAMES'!G24=\"DR\"),\"\",'ORDER FRAMES'!J24))","v":""},{"$f":"IF('ORDER FRAMES'!K24=\"\",\"\",IF(OR('ORDER FRAMES'!G24=\"DL\",'ORDER FRAMES'!G24=\"DR\"),\"\",'ORDER FRAMES'!K24))","v":""},{"$f":"IF('ORDER FRAMES'!L24=\"\",\"\",IF(OR('ORDER FRAMES'!G24=\"DL\",'ORDER FRAMES'!G24=\"DR\"),\"\",'ORDER FRAMES'!L24))","v":""},{"$f":"IF('ORDER FRAMES'!M24=\"\",\"\",IF(OR('ORDER FRAMES'!G24=\"DL\",'ORDER FRAMES'!G24=\"DR\"),\"\",'ORDER FRAMES'!M24))","v":""},null,{"$f":"IF('ORDER FRAMES'!N24=\"\",\"\",IF(OR('ORDER FRAMES'!G24=\"DL\",'ORDER FRAMES'!G24=\"DR\"),\"\",'ORDER FRAMES'!N24))","v":3},{"$f":"IF('ORDER FRAMES'!O24=\"\",\"\",IF(OR('ORDER FRAMES'!G24=\"DL\",'ORDER FRAMES'!G24=\"DR\"),\"\",'ORDER FRAMES'!O24))","v":3},null,"",null,null,"","","",{"$f":"IF('ORDER FRAMES'!Q24=\"\",\"\",IF(OR('ORDER FRAMES'!G24=\"DL\",'ORDER FRAMES'!G24=\"DR\"),\"\",'ORDER FRAMES'!Q24))","v":""},{"$f":"IF('ORDER FRAMES'!S24=\"\",\"\",IF(OR('ORDER FRAMES'!G24=\"DL\",'ORDER FRAMES'!G24=\"DR\"),\"\",'ORDER FRAMES'!S24))","v":""},{"$f":"IF('ORDER FRAMES'!T24=\"\",\"\",IF(OR('ORDER FRAMES'!G24=\"DL\",'ORDER FRAMES'!G24=\"DR\"),\"\",'ORDER FRAMES'!T24))","v":""},{"$f":"IF('ORDER FRAMES'!U24=\"\",\"\",IF(OR('ORDER FRAMES'!G24=\"DL\",'ORDER FRAMES'!G24=\"DR\"),\"\",'ORDER FRAMES'!U24))","v":""},{"$f":"IF(C9=\"\",\"\",'ORDER FRAMES'!V24)","v":""},null,null,null,null,"",null,null,null,"","",""]
[25,{"$f":"IF(OR('ORDER FRAMES'!G25=\"DL\",'ORDER FRAMES'!G25=\"DR\"),\"\",IF('ORDER FRAMES'!A25=\"\",\"\",'ORDER FRAMES'!A25))","v":""},{"$f":"IF('ORDER FRAMES'!B25=\"\",\"\",IF(OR('ORDER FRAMES'!G25=\"DL\",'ORDER FRAMES'!G25=\"DR\"),\"\",'ORDER FRAMES'!B25))","v":""},{"$f":"IF('ORDER FRAMES'!C25=\"\",\"\",IF(OR('ORDER FRAMES'!G25=\"DL\",'ORDER FRAMES'!G25=\"DR\"),\"\",'ORDER FRAMES'!C25))","v":""},null,{"$f":"IF('ORDER FRAMES'!E25=\"\",\"\",IF(OR('ORDER FRAMES'!G25=\"DL\",'ORDER FRAMES'!G25=\"DR\"),\"\",'ORDER FRAMES'!E25))","v":""},{"$f":"IF('ORDER FRAMES'!F25=\"\",\"\",IF(OR('ORDER FRAMES'!G25=\"DL\",'ORDER FRAMES'!G25=\"DR\"),\"\",'ORDER FRAMES'!F25))","v":""},{"$f":"IF('ORDER FRAMES'!G25=\"\",\"\",IF(OR('ORDER FRAMES'!G25=\"DL\",'ORDER FRAMES'!G25=\"DR\"),\"\",'ORDER FRAMES'!G25))","v":""},{"$f":"IF('ORDER FRAMES'!H25=\"\",\"\",IF(OR('ORDER FRAMES'!G25=\"DL\",'ORDER FRAMES'!G25=\"DR\"),\"\",'ORDER FRAMES'!H25))","v":""},{"$f":"IF('ORDER FRAMES'!I25=\"\",\"\",IF(OR('ORDER FRAMES'!G25=\"DL\",'ORDER FRAMES'!G25=\"DR\"),\"\",'ORDER FRAMES'!I25))","v":""},{"$f":"IF('ORDER FRAMES'!J25=\"\",\"\",IF(OR('ORDER FRAMES'!G25=\"DL\",'ORDER FRAMES'!G25=\"DR\"),\"\",'ORDER FRAMES'!J25))","v":""},{"$f":"IF('ORDER FRAMES'!K25=\"\",\"\",IF(OR('ORDER FRAMES'!G25=\"DL\",'ORDER FRAMES'!G25=\"DR\"),\"\",'ORDER FRAMES'!K25))","v":""},{"$f":"IF('ORDER FRAMES'!L25=\"\",\"\",IF(OR('ORDER FRAMES'!G25=\"DL\",'ORDER FRAMES'!G25=\"DR\"),\"\",'ORDER FRAMES'!L25))","v":""},{"$f":"IF('ORDER FRAMES'!M25=\"\",\"\",IF(OR('ORDER FRAMES'!G25=\"DL\",'ORDER FRAMES'!G25=\"DR\"),\"\",'ORDER FRAMES'!M25))","v":""},null,{"$f":"IF('ORDER FRAMES'!N25=\"\",\"\",IF(OR('ORDER FRAMES'!G25=\"DL\",'ORDER FRAMES'!G25=\"DR\"),\"\",'ORDER FRAMES'!N25))","v":3},{"$f":"IF('ORDER FRAMES'!O25=\"\",\"\",IF(OR('ORDER FRAMES'!G25=\"DL\",'ORDER FRAMES'!G25=\"DR\"),\"\",'ORDER FRAMES'!O25))","v":3},null,"",null,null,"","","",{"$f":"IF('ORDER FRAMES'!Q25=\"\",\"\",IF(OR('ORDER FRAMES'!G25=\"DL\",'ORDER FRAMES'!G25=\"DR\"),\"\",'ORDER FRAMES'!Q25))","v":""},{"$f":"IF('ORDER FRAMES'!S25=\"\",\"\",IF(OR('ORDER FRAMES'!G25=\"DL\",'ORDER FRAMES'!G25=\"DR\"),\"\",'ORDER FRAMES'!S25))","v":""},{"$f":"IF('ORDER FRAMES'!T25=\"\",\"\",IF(OR('ORDER FRAMES'!G25=\"DL\",'ORDER FRAMES'!G25=\"DR\"),\"\",'ORDER FRAMES'!T25))","v":""},{"$f":"IF('ORDER FRAMES'!U25=\"\",\"\",IF(OR('ORDER FRAMES'!G25=\"DL\",'ORDER FRAMES'!G25=\"DR\"),\"\",'ORDER FRAMES'!U25))","v":""},{"$f":"IF(C10=\"\",\"\",'ORDER FRAMES'!V25)","v":""},null,null,null,null,"",null,null,null,"","",""]
[26,{"$f":"IF(OR('ORDER FRAMES'!G26=\"DL\",'ORDER FRAMES'!G26=\"DR\"),\"\",IF('ORDER FRAMES'!A26=\"\",\"\",'ORDER FRAMES'!A26))","v":""},{"$f":"IF('ORDER FRAMES'!B26=\"\",\"\",IF(OR('ORDER FRAMES'!G26=\"DL\",'ORDER FRAMES'!G26=\"DR\"),\"\",'ORDER FRAMES'!B26))","v":""},{"$f":"IF('ORDER FRAMES'!C26=\"\",\"\",IF(OR('ORDER FRAMES'!G26=\"DL\",'ORDER FRAMES'!G26=\"DR\"),\"\",'ORDER FRAMES'!C26))","v":""},null,{"$f":"IF('ORDER FRAMES'!E26=\"\",\"\",IF(OR('ORDER FRAMES'!G26=\"DL\",'ORDER FRAMES'!G26=\"DR\"),\"\",'ORDER FRAMES'!E26))","v":""},{"$f":"IF('ORDER FRAMES'!F26=\"\",\"\",IF(OR('ORDER FRAMES'!G26=\"DL\",'ORDER FRAMES'!G26=\"DR\"),\"\",'ORDER FRAMES'!F26))","v":""},{"$f":"IF('ORDER FRAMES'!G26=\"\",\"\",IF(OR('ORDER FRAMES'!G26=\"DL\",'ORDER FRAMES'!G26=\"DR\"),\"\",'ORDER FRAMES'!G26))","v":""},{"$f":"IF('ORDER FRAMES'!H26=\"\",\"\",IF(OR('ORDER FRAMES'!G26=\"DL\",'ORDER FRAMES'!G26=\"DR\"),\"\",'ORDER FRAMES'!H26))","v":""},{"$f":"IF('ORDER FRAMES'!I26=\"\",\"\",IF(OR('ORDER FRAMES'!G26=\"DL\",'ORDER FRAMES'!G26=\"DR\"),\"\",'ORDER FRAMES'!I26))","v":""},{"$f":"IF('ORDER FRAMES'!J26=\"\",\"\",IF(OR('ORDER FRAMES'!G26=\"DL\",'ORDER FRAMES'!G26=\"DR\"),\"\",'ORDER FRAMES'!J26))","v":""},{"$f":"IF('ORDER FRAMES'!K26=\"\",\"\",IF(OR('ORDER FRAMES'!G26=\"DL\",'ORDER FRAMES'!G26=\"DR\"),\"\",'ORDER FRAMES'!K26))","v":""},{"$f":"IF('ORDER FRAMES'!L26=\"\",\"\",IF(OR('ORDER FRAMES'!G26=\"DL\",'ORDER FRAMES'!G26=\"DR\"),\"\",'ORDER FRAMES'!L26))","v":""},{"$f":"IF('ORDER FRAMES'!M26=\"\",\"\",IF(OR('ORDER FRAMES'!G26=\"DL\",'ORDER FRAMES'!G26=\"DR\"),\"\",'ORDER FRAMES'!M26))","v":""},null,{"$f":"IF('ORDER FRAMES'!N26=\"\",\"\",IF(OR('ORDER FRAMES'!G26=\"DL\",'ORDER FRAMES'!G26=\"DR\"),\"\",'ORDER FRAMES'!N26))","v":3},{"$f":"IF('ORDER FRAMES'!O26=\"\",\"\",IF(OR('ORDER FRAMES'!G26=\"DL\",'ORDER FRAMES'!G26=\"DR\"),\"\",'ORDER FRAMES'!O26))","v":3},null,"",null,null,"","","",{"$f":"IF('ORDER FRAMES'!Q26=\"\",\"\",IF(OR('ORDER FRAMES'!G26=\"DL\",'ORDER FRAMES'!G26=\"DR\"),\"\",'ORDER FRAMES'!Q26))","v":""},{"$f":"IF('ORDER FRAMES'!S26=\"\",\"\",IF(OR('ORDER FRAMES'!G26=\"DL\",'ORDER FRAMES'!G26=\"DR\"),\"\",'ORDER FRAMES'!S26))","v":""},{"$f":"IF('ORDER FRAMES'!T26=\"\",\"\",IF(OR('ORDER FRAMES'!G26=\"DL\",'ORDER FRAMES'!G26=\"DR\"),\"\",'ORDER FRAMES'!T26))","v":""},{"$f":"IF('ORDER FRAMES'!U26=\"\",\"\",IF(OR('ORDER FRAMES'!G26=\"DL\",'ORDER FRAMES'!G26=\"DR\"),\"\",'ORDER FRAMES'!U26))","v":""},{"$f":"IF(C11=\"\",\"\",'ORDER FRAMES'!V26)","v":""},null,null,null,null,"",null,null,null,"","",""]
[27,{"$f":"IF(OR('ORDER FRAMES'!G27=\"DL\",'ORDER FRAMES'!G27=\"DR\"),\"\",IF('ORDER FRAMES'!A27=\"\",\"\",'ORDER FRAMES'!A27))","v":""},{"$f":"IF('ORDER FRAMES'!B27=\"\",\"\",IF(OR('ORDER FRAMES'!G27=\"DL\",'ORDER FRAMES'!G27=\"DR\"),\"\",'ORDER FRAMES'!B27))","v":""},{"$f":"IF('ORDER FRAMES'!C27=\"\",\"\",IF(OR('ORDER FRAMES'!G27=\"DL\",'ORDER FRAMES'!G27=\"DR\"),\"\",'ORDER FRAMES'!C27))","v":""},null,{"$f":"IF('ORDER FRAMES'!E27=\"\",\"\",IF(OR('ORDER FRAMES'!G27=\"DL\",'ORDER FRAMES'!G27=\"DR\"),\"\",'ORDER FRAMES'!E27))","v":""},{"$f":"IF('ORDER FRAMES'!F27=\"\",\"\",IF(OR('ORDER FRAMES'!G27=\"DL\",'ORDER FRAMES'!G27=\"DR\"),\"\",'ORDER FRAMES'!F27))","v":""},{"$f":"IF('ORDER FRAMES'!G27=\"\",\"\",IF(OR('ORDER FRAMES'!G27=\"DL\",'ORDER FRAMES'!G27=\"DR\"),\"\",'ORDER FRAMES'!G27))","v":""},{"$f":"IF('ORDER FRAMES'!H27=\"\",\"\",IF(OR('ORDER FRAMES'!G27=\"DL\",'ORDER FRAMES'!G27=\"DR\"),\"\",'ORDER FRAMES'!H27))","v":""},{"$f":"IF('ORDER FRAMES'!I27=\"\",\"\",IF(OR('ORDER FRAMES'!G27=\"DL\",'ORDER FRAMES'!G27=\"DR\"),\"\",'ORDER FRAMES'!I27))","v":""},{"$f":"IF('ORDER FRAMES'!J27=\"\",\"\",IF(OR('ORDER FRAMES'!G27=\"DL\",'ORDER FRAMES'!G27=\"DR\"),\"\",'ORDER FRAMES'!J27))","v":""},{"$f":"IF('ORDER FRAMES'!K27=\"\",\"\",IF(OR('ORDER FRAMES'!G27=\"DL\",'ORDER FRAMES'!G27=\"DR\"),\"\",'ORDER FRAMES'!K27))","v":""},{"$f":"IF('ORDER FRAMES'!L27=\"\",\"\",IF(OR('ORDER FRAMES'!G27=\"DL\",'ORDER FRAMES'!G27=\"DR\"),\"\",'ORDER FRAMES'!L27))","v":""},{"$f":"IF('ORDER FRAMES'!M27=\"\",\"\",IF(OR('ORDER FRAMES'!G27=\"DL\",'ORDER FRAMES'!G27=\"DR\"),\"\",'ORDER FRAMES'!M27))","v":""},null,{"$f":"IF('ORDER FRAMES'!N27=\"\",\"\",IF(OR('ORDER FRAMES'!G27=\"DL\",'ORDER FRAMES'!G27=\"DR\"),\"\",'ORDER FRAMES'!N27))","v":3},{"$f":"IF('ORDER FRAMES'!O27=\"\",\"\",IF(OR('ORDER FRAMES'!G27=\"DL\",'ORDER FRAMES'!G27=\"DR\"),\"\",'ORDER FRAMES'!O27))","v":3},null,"",null,null,"","","",{"$f":"IF('ORDER FRAMES'!Q27=\"\",\"\",IF(OR('ORDER FRAMES'!G27=\"DL\",'ORDER FRAMES'!G27=\"DR\"),\"\",'ORDER FRAMES'!Q27))","v":""},{"$f":"IF('ORDER FRAMES'!S27=\"\",\"\",IF(OR('ORDER FRAMES'!G27=\"DL\",'ORDER FRAMES'!G27=\"DR\"),\"\",'ORDER FRAMES'!S27))","v":""},{"$f":"IF('ORDER FRAMES'!T27=\"\",\"\",IF(OR('ORDER FRAMES'!G27=\"DL\",'ORDER FRAMES'!G27=\"DR\"),\"\",'ORDER FRAMES'!T27))","v":""},{"$f":"IF('ORDER FRAMES'!U27=\"\",\"\",IF(OR('ORDER FRAMES'!G27=\"DL\",'ORDER FRAMES'!G27=\"DR\"),\"\",'ORDER FRAMES'!U27))","v":""},{"$f":"IF(C12=\"\",\"\",'ORDER FRAMES'!V27)","v":""},null,null,null,null,"",null,null,null,"","",""]
[28,{"$f":"IF(OR('ORDER FRAMES'!G28=\"DL\",'ORDER FRAMES'!G28=\"DR\"),\"\",IF('ORDER FRAMES'!A28=\"\",\"\",'ORDER FRAMES'!A28))","v":""},{"$f":"IF('ORDER FRAMES'!B28=\"\",\"\",IF(OR('ORDER FRAMES'!G28=\"DL\",'ORDER FRAMES'!G28=\"DR\"),\"\",'ORDER FRAMES'!B28))","v":""},{"$f":"IF('ORDER FRAMES'!C28=\"\",\"\",IF(OR('ORDER FRAMES'!G28=\"DL\",'ORDER FRAMES'!G28=\"DR\"),\"\",'ORDER FRAMES'!C28))","v":""},null,{"$f":"IF('ORDER FRAMES'!E28=\"\",\"\",IF(OR('ORDER FRAMES'!G28=\"DL\",'ORDER FRAMES'!G28=\"DR\"),\"\",'ORDER FRAMES'!E28))","v":""},{"$f":"IF('ORDER FRAMES'!F28=\"\",\"\",IF(OR('ORDER FRAMES'!G28=\"DL\",'ORDER FRAMES'!G28=\"DR\"),\"\",'ORDER FRAMES'!F28))","v":""},{"$f":"IF('ORDER FRAMES'!G28=\"\",\"\",IF(OR('ORDER FRAMES'!G28=\"DL\",'ORDER FRAMES'!G28=\"DR\"),\"\",'ORDER FRAMES'!G28))","v":""},{"$f":"IF('ORDER FRAMES'!H28=\"\",\"\",IF(OR('ORDER FRAMES'!G28=\"DL\",'ORDER FRAMES'!G28=\"DR\"),\"\",'ORDER FRAMES'!H28))","v":""},{"$f":"IF('ORDER FRAMES'!I28=\"\",\"\",IF(OR('ORDER FRAMES'!G28=\"DL\",'ORDER FRAMES'!G28=\"DR\"),\"\",'ORDER FRAMES'!I28))","v":""},{"$f":"IF('ORDER FRAMES'!J28=\"\",\"\",IF(OR('ORDER FRAMES'!G28=\"DL\",'ORDER FRAMES'!G28=\"DR\"),\"\",'ORDER FRAMES'!J28))","v":""},{"$f":"IF('ORDER FRAMES'!K28=\"\",\"\",IF(OR('ORDER FRAMES'!G28=\"DL\",'ORDER FRAMES'!G28=\"DR\"),\"\",'ORDER FRAMES'!K28))","v":""},{"$f":"IF('ORDER FRAMES'!L28=\"\",\"\",IF(OR('ORDER FRAMES'!G28=\"DL\",'ORDER FRAMES'!G28=\"DR\"),\"\",'ORDER FRAMES'!L28))","v":""},{"$f":"IF('ORDER FRAMES'!M28=\"\",\"\",IF(OR('ORDER FRAMES'!G28=\"DL\",'ORDER FRAMES'!G28=\"DR\"),\"\",'ORDER FRAMES'!M28))","v":""},null,{"$f":"IF('ORDER FRAMES'!N28=\"\",\"\",IF(OR('ORDER FRAMES'!G28=\"DL\",'ORDER FRAMES'!G28=\"DR\"),\"\",'ORDER FRAMES'!N28))","v":3},{"$f":"IF('ORDER FRAMES'!O28=\"\",\"\",IF(OR('ORDER FRAMES'!G28=\"DL\",'ORDER FRAMES'!G28=\"DR\"),\"\",'ORDER FRAMES'!O28))","v":3},null,"",null,null,"","","",{"$f":"IF('ORDER FRAMES'!Q28=\"\",\"\",IF(OR('ORDER FRAMES'!G28=\"DL\",'ORDER FRAMES'!G28=\"DR\"),\"\",'ORDER FRAMES'!Q28))","v":""},{"$f":"IF('ORDER FRAMES'!S28=\"\",\"\",IF(OR('ORDER FRAMES'!G28=\"DL\",'ORDER FRAMES'!G28=\"DR\"),\"\",'ORDER FRAMES'!S28))","v":""},{"$f":"IF('ORDER FRAMES'!T28=\"\",\"\",IF(OR('ORDER FRAMES'!G28=\"DL\",'ORDER FRAMES'!G28=\"DR\"),\"\",'ORDER FRAMES'!T28))","v":""},{"$f":"IF('ORDER FRAMES'!U28=\"\",\"\",IF(OR('ORDER FRAMES'!G28=\"DL\",'ORDER FRAMES'!G28=\"DR\"),\"\",'ORDER FRAMES'!U28))","v":""},{"$f":"IF(C13=\"\",\"\",'ORDER FRAMES'!V28)","v":""},null,null,null,null,"",null,null,null,"","",""]
[29,{"$f":"IF(OR('ORDER FRAMES'!G29=\"DL\",'ORDER FRAMES'!G29=\"DR\"),\"\",IF('ORDER FRAMES'!A29=\"\",\"\",'ORDER FRAMES'!A29))","v":""},{"$f":"IF('ORDER FRAMES'!B29=\"\",\"\",IF(OR('ORDER FRAMES'!G29=\"DL\",'ORDER FRAMES'!G29=\"DR\"),\"\",'ORDER FRAMES'!B29))","v":""},{"$f":"IF('ORDER FRAMES'!C29=\"\",\"\",IF(OR('ORDER FRAMES'!G29=\"DL\",'ORDER FRAMES'!G29=\"DR\"),\"\",'ORDER FRAMES'!C29))","v":""},null,{"$f":"IF('ORDER FRAMES'!E29=\"\",\"\",IF(OR('ORDER FRAMES'!G29=\"DL\",'ORDER FRAMES'!G29=\"DR\"),\"\",'ORDER FRAMES'!E29))","v":""},{"$f":"IF('ORDER FRAMES'!F29=\"\",\"\",IF(OR('ORDER FRAMES'!G29=\"DL\",'ORDER FRAMES'!G29=\"DR\"),\"\",'ORDER FRAMES'!F29))","v":""},{"$f":"IF('ORDER FRAMES'!G29=\"\",\"\",IF(OR('ORDER FRAMES'!G29=\"DL\",'ORDER FRAMES'!G29=\"DR\"),\"\",'ORDER FRAMES'!G29))","v":""},{"$f":"IF('ORDER FRAMES'!H29=\"\",\"\",IF(OR('ORDER FRAMES'!G29=\"DL\",'ORDER FRAMES'!G29=\"DR\"),\"\",'ORDER FRAMES'!H29))","v":""},{"$f":"IF('ORDER FRAMES'!I29=\"\",\"\",IF(OR('ORDER FRAMES'!G29=\"DL\",'ORDER FRAMES'!G29=\"DR\"),\"\",'ORDER FRAMES'!I29))","v":""},{"$f":"IF('ORDER FRAMES'!J29=\"\",\"\",IF(OR('ORDER FRAMES'!G29=\"DL\",'ORDER FRAMES'!G29=\"DR\"),\"\",'ORDER FRAMES'!J29))","v":""},{"$f":"IF('ORDER FRAMES'!K29=\"\",\"\",IF(OR('ORDER FRAMES'!G29=\"DL\",'ORDER FRAMES'!G29=\"DR\"),\"\",'ORDER FRAMES'!K29))","v":""},{"$f":"IF('ORDER FRAMES'!L29=\"\",\"\",IF(OR('ORDER FRAMES'!G29=\"DL\",'ORDER FRAMES'!G29=\"DR\"),\"\",'ORDER FRAMES'!L29))","v":""},{"$f":"IF('ORDER FRAMES'!M29=\"\",\"\",IF(OR('ORDER FRAMES'!G29=\"DL\",'ORDER FRAMES'!G29=\"DR\"),\"\",'ORDER FRAMES'!M29))","v":""},null,{"$f":"IF('ORDER FRAMES'!N29=\"\",\"\",IF(OR('ORDER FRAMES'!G29=\"DL\",'ORDER FRAMES'!G29=\"DR\"),\"\",'ORDER FRAMES'!N29))","v":3},{"$f":"IF('ORDER FRAMES'!O29=\"\",\"\",IF(OR('ORDER FRAMES'!G29=\"DL\",'ORDER FRAMES'!G29=\"DR\"),\"\",'ORDER FRAMES'!O29))","v":3},null,"",null,null,"","","",{"$f":"IF('ORDER FRAMES'!Q29=\"\",\"\",IF(OR('ORDER FRAMES'!G29=\"DL\",'ORDER FRAMES'!G29=\"DR\"),\"\",'ORDER FRAMES'!Q29))","v":""},{"$f":"IF('ORDER FRAMES'!S29=\"\",\"\",IF(OR('ORDER FRAMES'!G29=\"DL\",'ORDER FRAMES'!G29=\"DR\"),\"\",'ORDER FRAMES'!S29))","v":""},{"$f":"IF('ORDER FRAMES'!T29=\"\",\"\",IF(OR('ORDER FRAMES'!G29=\"DL\",'ORDER FRAMES'!G29=\"DR\"),\"\",'ORDER FRAMES'!T29))","v":""},{"$f":"IF('ORDER FRAMES'!U29=\"\",\"\",IF(OR('ORDER FRAMES'!G29=\"DL\",'ORDER FRAMES'!G29=\"DR\"),\"\",'ORDER FRAMES'!U29))","v":""},{"$f":"IF(C14=\"\",\"\",'ORDER FRAMES'!V29)","v":""},null,null,null,null,"",null,null,null,"","",""]
[30,{"$f":"IF(OR('ORDER FRAMES'!G30=\"DL\",'ORDER FRAMES'!G30=\"DR\"),\"\",IF('ORDER FRAMES'!A30=\"\",\"\",'ORDER FRAMES'!A30))","v":""},{"$f":"IF('ORDER FRAMES'!B30=\"\",\"\",IF(OR('ORDER FRAMES'!G30=\"DL\",'ORDER FRAMES'!G30=\"DR\"),\"\",'ORDER FRAMES'!B30))","v":""},{"$f":"IF('ORDER FRAMES'!C30=\"\",\"\",IF(OR('ORDER FRAMES'!G30=\"DL\",'ORDER FRAMES'!G30=\"DR\"),\"\",'ORDER FRAMES'!C30))","v":""},null,{"$f":"IF('ORDER FRAMES'!E30=\"\",\"\",IF(OR('ORDER FRAMES'!G30=\"DL\",'ORDER FRAMES'!G30=\"DR\"),\"\",'ORDER FRAMES'!E30))","v":""},{"$f":"IF('ORDER FRAMES'!F30=\"\",\"\",IF(OR('ORDER FRAMES'!G30=\"DL\",'ORDER FRAMES'!G30=\"DR\"),\"\",'ORDER FRAMES'!F30))","v":""},{"$f":"IF('ORDER FRAMES'!G30=\"\",\"\",IF(OR('ORDER FRAMES'!G30=\"DL\",'ORDER FRAMES'!G30=\"DR\"),\"\",'ORDER FRAMES'!G30))","v":""},{"$f":"IF('ORDER FRAMES'!H30=\"\",\"\",IF(OR('ORDER FRAMES'!G30=\"DL\",'ORDER FRAMES'!G30=\"DR\"),\"\",'ORDER FRAMES'!H30))","v":""},{"$f":"IF('ORDER FRAMES'!I30=\"\",\"\",IF(OR('ORDER FRAMES'!G30=\"DL\",'ORDER FRAMES'!G30=\"DR\"),\"\",'ORDER FRAMES'!I30))","v":""},{"$f":"IF('ORDER FRAMES'!J30=\"\",\"\",IF(OR('ORDER FRAMES'!G30=\"DL\",'ORDER FRAMES'!G30=\"DR\"),\"\",'ORDER FRAMES'!J30))","v":""},{"$f":"IF('ORDER FRAMES'!K30=\"\",\"\",IF(OR('ORDER FRAMES'!G30=\"DL\",'ORDER FRAMES'!G30=\"DR\"),\"\",'ORDER FRAMES'!K30))","v":""},{"$f":"IF('ORDER FRAMES'!L30=\"\",\"\",IF(OR('ORDER FRAMES'!G30=\"DL\",'ORDER FRAMES'!G30=\"DR\"),\"\",'ORDER FRAMES'!L30))","v":""},{"$f":"IF('ORDER FRAMES'!M30=\"\",\"\",IF(OR('ORDER FRAMES'!G30=\"DL\",'ORDER FRAMES'!G30=\"DR\"),\"\",'ORDER FRAMES'!M30))","v":""},null,{"$f":"IF('ORDER FRAMES'!N30=\"\",\"\",IF(OR('ORDER FRAMES'!G30=\"DL\",'ORDER FRAMES'!G30=\"DR\"),\"\",'ORDER FRAMES'!N30))","v":3},{"$f":"IF('ORDER FRAMES'!O30=\"\",\"\",IF(OR('ORDER FRAMES'!G30=\"DL\",'ORDER FRAMES'!G30=\"DR\"),\"\",'ORDER FRAMES'!O30))","v":3},null,"",null,null,"","","",{"$f":"IF('ORDER FRAMES'!Q30=\"\",\"\",IF(OR('ORDER FRAMES'!G30=\"DL\",'ORDER FRAMES'!G30=\"DR\"),\"\",'ORDER FRAMES'!Q30))","v":""},{"$f":"IF('ORDER FRAMES'!S30=\"\",\"\",IF(OR('ORDER FRAMES'!G30=\"DL\",'ORDER FRAMES'!G30=\"DR\"),\"\",'ORDER FRAMES'!S30))","v":""},{"$f":"IF('ORDER FRAMES'!T30=\"\",\"\",IF(OR('ORDER FRAMES'!G30=\"DL\",'ORDER FRAMES'!G30=\"DR\"),\"\",'ORDER FRAMES'!T30))","v":""},{"$f":"IF('ORDER FRAMES'!U30=\"\",\"\",IF(OR('ORDER FRAMES'!G30=\"DL\",'ORDER FRAMES'!G30=\"DR\"),\"\",'ORDER FRAMES'!U30))","v":""},{"$f":"IF(C15=\"\",\"\",'ORDER FRAMES'!V30)","v":""},null,null,null,null,"",null,null,null,"","",""]
[31,{"$f":"IF(OR('ORDER FRAMES'!G31=\"DL\",'ORDER FRAMES'!G31=\"DR\"),\"\",IF('ORDER FRAMES'!A31=\"\",\"\",'ORDER FRAMES'!A31))","v":""},{"$f":"IF('ORDER FRAMES'!B31=\"\",\"\",IF(OR('ORDER FRAMES'!G31=\"DL\",'ORDER FRAMES'!G31=\"DR\"),\"\",'ORDER FRAMES'!B31))","v":""},{"$f":"IF('ORDER FRAMES'!C31=\"\",\"\",IF(OR('ORDER FRAMES'!G31=\"DL\",'ORDER FRAMES'!G31=\"DR\"),\"\",'ORDER FRAMES'!C31))","v":""},null,{"$f":"IF('ORDER FRAMES'!E31=\"\",\"\",IF(OR('ORDER FRAMES'!G31=\"DL\",'ORDER FRAMES'!G31=\"DR\"),\"\",'ORDER FRAMES'!E31))","v":""},{"$f":"IF('ORDER FRAMES'!F31=\"\",\"\",IF(OR('ORDER FRAMES'!G31=\"DL\",'ORDER FRAMES'!G31=\"DR\"),\"\",'ORDER FRAMES'!F31))","v":""},{"$f":"IF('ORDER FRAMES'!G31=\"\",\"\",IF(OR('ORDER FRAMES'!G31=\"DL\",'ORDER FRAMES'!G31=\"DR\"),\"\",'ORDER FRAMES'!G31))","v":""},{"$f":"IF('ORDER FRAMES'!H31=\"\",\"\",IF(OR('ORDER FRAMES'!G31=\"DL\",'ORDER FRAMES'!G31=\"DR\"),\"\",'ORDER FRAMES'!H31))","v":""},{"$f":"IF('ORDER FRAMES'!I31=\"\",\"\",IF(OR('ORDER FRAMES'!G31=\"DL\",'ORDER FRAMES'!G31=\"DR\"),\"\",'ORDER FRAMES'!I31))","v":""},{"$f":"IF('ORDER FRAMES'!J31=\"\",\"\",IF(OR('ORDER FRAMES'!G31=\"DL\",'ORDER FRAMES'!G31=\"DR\"),\"\",'ORDER FRAMES'!J31))","v":""},{"$f":"IF('ORDER FRAMES'!K31=\"\",\"\",IF(OR('ORDER FRAMES'!G31=\"DL\",'ORDER FRAMES'!G31=\"DR\"),\"\",'ORDER FRAMES'!K31))","v":""},{"$f":"IF('ORDER FRAMES'!L31=\"\",\"\",IF(OR('ORDER FRAMES'!G31=\"DL\",'ORDER FRAMES'!G31=\"DR\"),\"\",'ORDER FRAMES'!L31))","v":""},{"$f":"IF('ORDER FRAMES'!M31=\"\",\"\",IF(OR('ORDER FRAMES'!G31=\"DL\",'ORDER FRAMES'!G31=\"DR\"),\"\",'ORDER FRAMES'!M31))","v":""},null,{"$f":"IF('ORDER FRAMES'!N31=\"\",\"\",IF(OR('ORDER FRAMES'!G31=\"DL\",'ORDER FRAMES'!G31=\"DR\"),\"\",'ORDER FRAMES'!N31))","v":3},{"$f":"IF('ORDER FRAMES'!O31=\"\",\"\",IF(OR('ORDER FRAMES'!G31=\"DL\",'ORDER FRAMES'!G31=\"DR\"),\"\",'ORDER FRAMES'!O31))","v":3},null,"",null,null,"","","",{"$f":"IF('ORDER FRAMES'!Q31=\"\",\"\",IF(OR('ORDER FRAMES'!G31=\"DL\",'ORDER FRAMES'!G31=\"DR\"),\"\",'ORDER FRAMES'!Q31))","v":""},{"$f":"IF('ORDER FRAMES'!S31=\"\",\"\",IF(OR('ORDER FRAMES'!G31=\"DL\",'ORDER FRAMES'!G31=\"DR\"),\"\",'ORDER FRAMES'!S31))","v":""},{"$f":"IF('ORDER FRAMES'!T31=\"\",\"\",IF(OR('ORDER FRAMES'!G31=\"DL\",'ORDER FRAMES'!G31=\"DR\"),\"\",'ORDER FRAMES'!T31))","v":""},{"$f":"IF('ORDER FRAMES'!U31=\"\",\"\",IF(OR('ORDER FRAMES'!G31=\"DL\",'ORDER FRAMES'!G31=\"DR\"),\"\",'ORDER FRAMES'!U31))","v":""},{"$f":"IF(C16=\"\",\"\",'ORDER FRAMES'!V31)","v":""},null,null,null,null,"",null,null,null,"","",""]
[32,{"$f":"IF(OR('ORDER FRAMES'!G32=\"DL\",'ORDER FRAMES'!G32=\"DR\"),\"\",IF('ORDER FRAMES'!A32=\"\",\"\",'ORDER FRAMES'!A32))","v":""},{"$f":"IF('ORDER FRAMES'!B32=\"\",\"\",IF(OR('ORDER FRAMES'!G32=\"DL\",'ORDER FRAMES'!G32=\"DR\"),\"\",'ORDER FRAMES'!B32))","v":""},{"$f":"IF('ORDER FRAMES'!C32=\"\",\"\",IF(OR('ORDER FRAMES'!G32=\"DL\",'ORDER FRAMES'!G32=\"DR\"),\"\",'ORDER FRAMES'!C32))","v":""},null,{"$f":"IF('ORDER FRAMES'!E32=\"\",\"\",IF(OR('ORDER FRAMES'!G32=\"DL\",'ORDER FRAMES'!G32=\"DR\"),\"\",'ORDER FRAMES'!E32))","v":""},{"$f":"IF('ORDER FRAMES'!F32=\"\",\"\",IF(OR('ORDER FRAMES'!G32=\"DL\",'ORDER FRAMES'!G32=\"DR\"),\"\",'ORDER FRAMES'!F32))","v":""},{"$f":"IF('ORDER FRAMES'!G32=\"\",\"\",IF(OR('ORDER FRAMES'!G32=\"DL\",'ORDER FRAMES'!G32=\"DR\"),\"\",'ORDER FRAMES'!G32))","v":""},{"$f":"IF('ORDER FRAMES'!H32=\"\",\"\",IF(OR('ORDER FRAMES'!G32=\"DL\",'ORDER FRAMES'!G32=\"DR\"),\"\",'ORDER FRAMES'!H32))","v":""},{"$f":"IF('ORDER FRAMES'!I32=\"\",\"\",IF(OR('ORDER FRAMES'!G32=\"DL\",'ORDER FRAMES'!G32=\"DR\"),\"\",'ORDER FRAMES'!I32))","v":""},{"$f":"IF('ORDER FRAMES'!J32=\"\",\"\",IF(OR('ORDER FRAMES'!G32=\"DL\",'ORDER FRAMES'!G32=\"DR\"),\"\",'ORDER FRAMES'!J32))","v":""},{"$f":"IF('ORDER FRAMES'!K32=\"\",\"\",IF(OR('ORDER FRAMES'!G32=\"DL\",'ORDER FRAMES'!G32=\"DR\"),\"\",'ORDER FRAMES'!K32))","v":""},{"$f":"IF('ORDER FRAMES'!L32=\"\",\"\",IF(OR('ORDER FRAMES'!G32=\"DL\",'ORDER FRAMES'!G32=\"DR\"),\"\",'ORDER FRAMES'!L32))","v":""},{"$f":"IF('ORDER FRAMES'!M32=\"\",\"\",IF(OR('ORDER FRAMES'!G32=\"DL\",'ORDER FRAMES'!G32=\"DR\"),\"\",'ORDER FRAMES'!M32))","v":""},null,{"$f":"IF('ORDER FRAMES'!N32=\"\",\"\",IF(OR('ORDER FRAMES'!G32=\"DL\",'ORDER FRAMES'!G32=\"DR\"),\"\",'ORDER FRAMES'!N32))","v":3},{"$f":"IF('ORDER FRAMES'!O32=\"\",\"\",IF(OR('ORDER FRAMES'!G32=\"DL\",'ORDER FRAMES'!G32=\"DR\"),\"\",'ORDER FRAMES'!O32))","v":3},null,"",null,null,"","","",{"$f":"IF('ORDER FRAMES'!Q32=\"\",\"\",IF(OR('ORDER FRAMES'!G32=\"DL\",'ORDER FRAMES'!G32=\"DR\"),\"\",'ORDER FRAMES'!Q32))","v":""},{"$f":"IF('ORDER FRAMES'!S32=\"\",\"\",IF(OR('ORDER FRAMES'!G32=\"DL\",'ORDER FRAMES'!G32=\"DR\"),\"\",'ORDER FRAMES'!S32))","v":""},{"$f":"IF('ORDER FRAMES'!T32=\"\",\"\",IF(OR('ORDER FRAMES'!G32=\"DL\",'ORDER FRAMES'!G32=\"DR\"),\"\",'ORDER FRAMES'!T32))","v":""},{"$f":"IF('ORDER FRAMES'!U32=\"\",\"\",IF(OR('ORDER FRAMES'!G32=\"DL\",'ORDER FRAMES'!G32=\"DR\"),\"\",'ORDER FRAMES'!U32))","v":""},{"$f":"IF(C17=\"\",\"\",'ORDER FRAMES'!V32)","v":""},null,null,null,null,"",null,null,null,"","",""]
[33,{"$f":"IF(OR('ORDER FRAMES'!G33=\"DL\",'ORDER FRAMES'!G33=\"DR\"),\"\",IF('ORDER FRAMES'!A33=\"\",\"\",'ORDER FRAMES'!A33))","v":""},{"$f":"IF('ORDER FRAMES'!B33=\"\",\"\",IF(OR('ORDER FRAMES'!G33=\"DL\",'ORDER FRAMES'!G33=\"DR\"),\"\",'ORDER FRAMES'!B33))","v":""},{"$f":"IF('ORDER FRAMES'!C33=\"\",\"\",IF(OR('ORDER FRAMES'!G33=\"DL\",'ORDER FRAMES'!G33=\"DR\"),\"\",'ORDER FRAMES'!C33))","v":""},null,{"$f":"IF('ORDER FRAMES'!E33=\"\",\"\",IF(OR('ORDER FRAMES'!G33=\"DL\",'ORDER FRAMES'!G33=\"DR\"),\"\",'ORDER FRAMES'!E33))","v":""},{"$f":"IF('ORDER FRAMES'!F33=\"\",\"\",IF(OR('ORDER FRAMES'!G33=\"DL\",'ORDER FRAMES'!G33=\"DR\"),\"\",'ORDER FRAMES'!F33))","v":""},{"$f":"IF('ORDER FRAMES'!G33=\"\",\"\",IF(OR('ORDER FRAMES'!G33=\"DL\",'ORDER FRAMES'!G33=\"DR\"),\"\",'ORDER FRAMES'!G33))","v":""},{"$f":"IF('ORDER FRAMES'!H33=\"\",\"\",IF(OR('ORDER FRAMES'!G33=\"DL\",'ORDER FRAMES'!G33=\"DR\"),\"\",'ORDER FRAMES'!H33))","v":""},{"$f":"IF('ORDER FRAMES'!I33=\"\",\"\",IF(OR('ORDER FRAMES'!G33=\"DL\",'ORDER FRAMES'!G33=\"DR\"),\"\",'ORDER FRAMES'!I33))","v":""},{"$f":"IF('ORDER FRAMES'!J33=\"\",\"\",IF(OR('ORDER FRAMES'!G33=\"DL\",'ORDER FRAMES'!G33=\"DR\"),\"\",'ORDER FRAMES'!J33))","v":""},{"$f":"IF('ORDER FRAMES'!K33=\"\",\"\",IF(OR('ORDER FRAMES'!G33=\"DL\",'ORDER FRAMES'!G33=\"DR\"),\"\",'ORDER FRAMES'!K33))","v":""},{"$f":"IF('ORDER FRAMES'!L33=\"\",\"\",IF(OR('ORDER FRAMES'!G33=\"DL\",'ORDER FRAMES'!G33=\"DR\"),\"\",'ORDER FRAMES'!L33))","v":""},{"$f":"IF('ORDER FRAMES'!M33=\"\",\"\",IF(OR('ORDER FRAMES'!G33=\"DL\",'ORDER FRAMES'!G33=\"DR\"),\"\",'ORDER FRAMES'!M33))","v":""},null,{"$f":"IF('ORDER FRAMES'!N33=\"\",\"\",IF(OR('ORDER FRAMES'!G33=\"DL\",'ORDER FRAMES'!G33=\"DR\"),\"\",'ORDER FRAMES'!N33))","v":3},{"$f":"IF('ORDER FRAMES'!O33=\"\",\"\",IF(OR('ORDER FRAMES'!G33=\"DL\",'ORDER FRAMES'!G33=\"DR\"),\"\",'ORDER FRAMES'!O33))","v":3},null,"",null,null,"","","",{"$f":"IF('ORDER FRAMES'!Q33=\"\",\"\",IF(OR('ORDER FRAMES'!G33=\"DL\",'ORDER FRAMES'!G33=\"DR\"),\"\",'ORDER FRAMES'!Q33))","v":""},{"$f":"IF('ORDER FRAMES'!S33=\"\",\"\",IF(OR('ORDER FRAMES'!G33=\"DL\",'ORDER FRAMES'!G33=\"DR\"),\"\",'ORDER FRAMES'!S33))","v":""},{"$f":"IF('ORDER FRAMES'!T33=\"\",\"\",IF(OR('ORDER FRAMES'!G33=\"DL\",'ORDER FRAMES'!G33=\"DR\"),\"\",'ORDER FRAMES'!T33))","v":""},{"$f":"IF('ORDER FRAMES'!U33=\"\",\"\",IF(OR('ORDER FRAMES'!G33=\"DL\",'ORDER FRAMES'!G33=\"DR\"),\"\",'ORDER FRAMES'!U33))","v":""},{"$f":"IF(C18=\"\",\"\",'ORDER FRAMES'!V33)","v":""},null,null,null,null,"",null,null,null,"","",""]
[34,{"$f":"IF(OR('ORDER FRAMES'!G34=\"DL\",'ORDER FRAMES'!G34=\"DR\"),\"\",IF('ORDER FRAMES'!A34=\"\",\"\",'ORDER FRAMES'!A34))","v":""},{"$f":"IF('ORDER FRAMES'!B34=\"\",\"\",IF(OR('ORDER FRAMES'!G34=\"DL\",'ORDER FRAMES'!G34=\"DR\"),\"\",'ORDER FRAMES'!B34))","v":""},{"$f":"IF('ORDER FRAMES'!C34=\"\",\"\",IF(OR('ORDER FRAMES'!G34=\"DL\",'ORDER FRAMES'!G34=\"DR\"),\"\",'ORDER FRAMES'!C34))","v":""},null,{"$f":"IF('ORDER FRAMES'!E34=\"\",\"\",IF(OR('ORDER FRAMES'!G34=\"DL\",'ORDER FRAMES'!G34=\"DR\"),\"\",'ORDER FRAMES'!E34))","v":""},{"$f":"IF('ORDER FRAMES'!F34=\"\",\"\",IF(OR('ORDER FRAMES'!G34=\"DL\",'ORDER FRAMES'!G34=\"DR\"),\"\",'ORDER FRAMES'!F34))","v":""},{"$f":"IF('ORDER FRAMES'!G34=\"\",\"\",IF(OR('ORDER FRAMES'!G34=\"DL\",'ORDER FRAMES'!G34=\"DR\"),\"\",'ORDER FRAMES'!G34))","v":""},{"$f":"IF('ORDER FRAMES'!H34=\"\",\"\",IF(OR('ORDER FRAMES'!G34=\"DL\",'ORDER FRAMES'!G34=\"DR\"),\"\",'ORDER FRAMES'!H34))","v":""},{"$f":"IF('ORDER FRAMES'!I34=\"\",\"\",IF(OR('ORDER FRAMES'!G34=\"DL\",'ORDER FRAMES'!G34=\"DR\"),\"\",'ORDER FRAMES'!I34))","v":""},{"$f":"IF('ORDER FRAMES'!J34=\"\",\"\",IF(OR('ORDER FRAMES'!G34=\"DL\",'ORDER FRAMES'!G34=\"DR\"),\"\",'ORDER FRAMES'!J34))","v":""},{"$f":"IF('ORDER FRAMES'!K34=\"\",\"\",IF(OR('ORDER FRAMES'!G34=\"DL\",'ORDER FRAMES'!G34=\"DR\"),\"\",'ORDER FRAMES'!K34))","v":""},{"$f":"IF('ORDER FRAMES'!L34=\"\",\"\",IF(OR('ORDER FRAMES'!G34=\"DL\",'ORDER FRAMES'!G34=\"DR\"),\"\",'ORDER FRAMES'!L34))","v":""},{"$f":"IF('ORDER FRAMES'!M34=\"\",\"\",IF(OR('ORDER FRAMES'!G34=\"DL\",'ORDER FRAMES'!G34=\"DR\"),\"\",'ORDER FRAMES'!M34))","v":""},null,{"$f":"IF('ORDER FRAMES'!N34=\"\",\"\",IF(OR('ORDER FRAMES'!G34=\"DL\",'ORDER FRAMES'!G34=\"DR\"),\"\",'ORDER FRAMES'!N34))","v":3},{"$f":"IF('ORDER FRAMES'!O34=\"\",\"\",IF(OR('ORDER FRAMES'!G34=\"DL\",'ORDER FRAMES'!G34=\"DR\"),\"\",'ORDER FRAMES'!O34))","v":3},null,"",null,null,"","","",{"$f":"IF('ORDER FRAMES'!Q34=\"\",\"\",IF(OR('ORDER FRAMES'!G34=\"DL\",'ORDER FRAMES'!G34=\"DR\"),\"\",'ORDER FRAMES'!Q34))","v":""},{"$f":"IF('ORDER FRAMES'!S34=\"\",\"\",IF(OR('ORDER FRAMES'!G34=\"DL\",'ORDER FRAMES'!G34=\"DR\"),\"\",'ORDER FRAMES'!S34))","v":""},{"$f":"IF('ORDER FRAMES'!T34=\"\",\"\",IF(OR('ORDER FRAMES'!G34=\"DL\",'ORDER FRAMES'!G34=\"DR\"),\"\",'ORDER FRAMES'!T34))","v":""},{"$f":"IF('ORDER FRAMES'!U34=\"\",\"\",IF(OR('ORDER FRAMES'!G34=\"DL\",'ORDER FRAMES'!G34=\"DR\"),\"\",'ORDER FRAMES'!U34))","v":""},{"$f":"IF(C19=\"\",\"\",'ORDER FRAMES'!V34)","v":""},null,null,null,null,"",null,null,null,"","",""]
[35,{"$f":"IF(OR('ORDER FRAMES'!G35=\"DL\",'ORDER FRAMES'!G35=\"DR\"),\"\",IF('ORDER FRAMES'!A35=\"\",\"\",'ORDER FRAMES'!A35))","v":""},{"$f":"IF('ORDER FRAMES'!B35=\"\",\"\",IF(OR('ORDER FRAMES'!G35=\"DL\",'ORDER FRAMES'!G35=\"DR\"),\"\",'ORDER FRAMES'!B35))","v":""},{"$f":"IF('ORDER FRAMES'!C35=\"\",\"\",IF(OR('ORDER FRAMES'!G35=\"DL\",'ORDER FRAMES'!G35=\"DR\"),\"\",'ORDER FRAMES'!C35))","v":""},null,{"$f":"IF('ORDER FRAMES'!E35=\"\",\"\",IF(OR('ORDER FRAMES'!G35=\"DL\",'ORDER FRAMES'!G35=\"DR\"),\"\",'ORDER FRAMES'!E35))","v":""},{"$f":"IF('ORDER FRAMES'!F35=\"\",\"\",IF(OR('ORDER FRAMES'!G35=\"DL\",'ORDER FRAMES'!G35=\"DR\"),\"\",'ORDER FRAMES'!F35))","v":""},{"$f":"IF('ORDER FRAMES'!G35=\"\",\"\",IF(OR('ORDER FRAMES'!G35=\"DL\",'ORDER FRAMES'!G35=\"DR\"),\"\",'ORDER FRAMES'!G35))","v":""},{"$f":"IF('ORDER FRAMES'!H35=\"\",\"\",IF(OR('ORDER FRAMES'!G35=\"DL\",'ORDER FRAMES'!G35=\"DR\"),\"\",'ORDER FRAMES'!H35))","v":""},{"$f":"IF('ORDER FRAMES'!I35=\"\",\"\",IF(OR('ORDER FRAMES'!G35=\"DL\",'ORDER FRAMES'!G35=\"DR\"),\"\",'ORDER FRAMES'!I35))","v":""},{"$f":"IF('ORDER FRAMES'!J35=\"\",\"\",IF(OR('ORDER FRAMES'!G35=\"DL\",'ORDER FRAMES'!G35=\"DR\"),\"\",'ORDER FRAMES'!J35))","v":""},{"$f":"IF('ORDER FRAMES'!K35=\"\",\"\",IF(OR('ORDER FRAMES'!G35=\"DL\",'ORDER FRAMES'!G35=\"DR\"),\"\",'ORDER FRAMES'!K35))","v":""},{"$f":"IF('ORDER FRAMES'!L35=\"\",\"\",IF(OR('ORDER FRAMES'!G35=\"DL\",'ORDER FRAMES'!G35=\"DR\"),\"\",'ORDER FRAMES'!L35))","v":""},{"$f":"IF('ORDER FRAMES'!M35=\"\",\"\",IF(OR('ORDER FRAMES'!G35=\"DL\",'ORDER FRAMES'!G35=\"DR\"),\"\",'ORDER FRAMES'!M35))","v":""},null,{"$f":"IF('ORDER FRAMES'!N35=\"\",\"\",IF(OR('ORDER FRAMES'!G35=\"DL\",'ORDER FRAMES'!G35=\"DR\"),\"\",'ORDER FRAMES'!N35))","v":3},{"$f":"IF('ORDER FRAMES'!O35=\"\",\"\",IF(OR('ORDER FRAMES'!G35=\"DL\",'ORDER FRAMES'!G35=\"DR\"),\"\",'ORDER FRAMES'!O35))","v":3},null,"",null,null,"","","",{"$f":"IF('ORDER FRAMES'!Q35=\"\",\"\",IF(OR('ORDER FRAMES'!G35=\"DL\",'ORDER FRAMES'!G35=\"DR\"),\"\",'ORDER FRAMES'!Q35))","v":""},{"$f":"IF('ORDER FRAMES'!S35=\"\",\"\",IF(OR('ORDER FRAMES'!G35=\"DL\",'ORDER FRAMES'!G35=\"DR\"),\"\",'ORDER FRAMES'!S35))","v":""},{"$f":"IF('ORDER FRAMES'!T35=\"\",\"\",IF(OR('ORDER FRAMES'!G35=\"DL\",'ORDER FRAMES'!G35=\"DR\"),\"\",'ORDER FRAMES'!T35))","v":""},{"$f":"IF('ORDER FRAMES'!U35=\"\",\"\",IF(OR('ORDER FRAMES'!G35=\"DL\",'ORDER FRAMES'!G35=\"DR\"),\"\",'ORDER FRAMES'!U35))","v":""},{"$f":"IF(C20=\"\",\"\",'ORDER FRAMES'!V35)","v":""},null,null,null,null,"",null,null,null,"","",""]
[36,{"$f":"IF(OR('ORDER FRAMES'!G36=\"DL\",'ORDER FRAMES'!G36=\"DR\"),\"\",IF('ORDER FRAMES'!A36=\"\",\"\",'ORDER FRAMES'!A36))","v":""},{"$f":"IF('ORDER FRAMES'!B36=\"\",\"\",IF(OR('ORDER FRAMES'!G36=\"DL\",'ORDER FRAMES'!G36=\"DR\"),\"\",'ORDER FRAMES'!B36))","v":""},{"$f":"IF('ORDER FRAMES'!C36=\"\",\"\",IF(OR('ORDER FRAMES'!G36=\"DL\",'ORDER FRAMES'!G36=\"DR\"),\"\",'ORDER FRAMES'!C36))","v":""},null,{"$f":"IF('ORDER FRAMES'!E36=\"\",\"\",IF(OR('ORDER FRAMES'!G36=\"DL\",'ORDER FRAMES'!G36=\"DR\"),\"\",'ORDER FRAMES'!E36))","v":""},{"$f":"IF('ORDER FRAMES'!F36=\"\",\"\",IF(OR('ORDER FRAMES'!G36=\"DL\",'ORDER FRAMES'!G36=\"DR\"),\"\",'ORDER FRAMES'!F36))","v":""},{"$f":"IF('ORDER FRAMES'!G36=\"\",\"\",IF(OR('ORDER FRAMES'!G36=\"DL\",'ORDER FRAMES'!G36=\"DR\"),\"\",'ORDER FRAMES'!G36))","v":""},{"$f":"IF('ORDER FRAMES'!H36=\"\",\"\",IF(OR('ORDER FRAMES'!G36=\"DL\",'ORDER FRAMES'!G36=\"DR\"),\"\",'ORDER FRAMES'!H36))","v":""},{"$f":"IF('ORDER FRAMES'!I36=\"\",\"\",IF(OR('ORDER FRAMES'!G36=\"DL\",'ORDER FRAMES'!G36=\"DR\"),\"\",'ORDER FRAMES'!I36))","v":""},{"$f":"IF('ORDER FRAMES'!J36=\"\",\"\",IF(OR('ORDER FRAMES'!G36=\"DL\",'ORDER FRAMES'!G36=\"DR\"),\"\",'ORDER FRAMES'!J36))","v":""},{"$f":"IF('ORDER FRAMES'!K36=\"\",\"\",IF(OR('ORDER FRAMES'!G36=\"DL\",'ORDER FRAMES'!G36=\"DR\"),\"\",'ORDER FRAMES'!K36))","v":""},{"$f":"IF('ORDER FRAMES'!L36=\"\",\"\",IF(OR('ORDER FRAMES'!G36=\"DL\",'ORDER FRAMES'!G36=\"DR\"),\"\",'ORDER FRAMES'!L36))","v":""},{"$f":"IF('ORDER FRAMES'!M36=\"\",\"\",IF(OR('ORDER FRAMES'!G36=\"DL\",'ORDER FRAMES'!G36=\"DR\"),\"\",'ORDER FRAMES'!M36))","v":""},null,{"$f":"IF('ORDER FRAMES'!N36=\"\",\"\",IF(OR('ORDER FRAMES'!G36=\"DL\",'ORDER FRAMES'!G36=\"DR\"),\"\",'ORDER FRAMES'!N36))","v":3},{"$f":"IF('ORDER FRAMES'!O36=\"\",\"\",IF(OR('ORDER FRAMES'!G36=\"DL\",'ORDER FRAMES'!G36=\"DR\"),\"\",'ORDER FRAMES'!O36))","v":3},null,"",null,null,"","","",{"$f":"IF('ORDER FRAMES'!Q36=\"\",\"\",IF(OR('ORDER FRAMES'!G36=\"DL\",'ORDER FRAMES'!G36=\"DR\"),\"\",'ORDER FRAMES'!Q36))","v":""},{"$f":"IF('ORDER FRAMES'!S36=\"\",\"\",IF(OR('ORDER FRAMES'!G36=\"DL\",'ORDER FRAMES'!G36=\"DR\"),\"\",'ORDER FRAMES'!S36))","v":""},{"$f":"IF('ORDER FRAMES'!T36=\"\",\"\",IF(OR('ORDER FRAMES'!G36=\"DL\",'ORDER FRAMES'!G36=\"DR\"),\"\",'ORDER FRAMES'!T36))","v":""},{"$f":"IF('ORDER FRAMES'!U36=\"\",\"\",IF(OR('ORDER FRAMES'!G36=\"DL\",'ORDER FRAMES'!G36=\"DR\"),\"\",'ORDER FRAMES'!U36))","v":""},{"$f":"IF(C21=\"\",\"\",'ORDER FRAMES'!V36)","v":""},null,null,null,null,"",null,null,null,"","",""]
[37,{"$f":"IF(OR('ORDER FRAMES'!G37=\"DL\",'ORDER FRAMES'!G37=\"DR\"),\"\",IF('ORDER FRAMES'!A37=\"\",\"\",'ORDER FRAMES'!A37))","v":""},{"$f":"IF('ORDER FRAMES'!B37=\"\",\"\",IF(OR('ORDER FRAMES'!G37=\"DL\",'ORDER FRAMES'!G37=\"DR\"),\"\",'ORDER FRAMES'!B37))","v":""},{"$f":"IF('ORDER FRAMES'!C37=\"\",\"\",IF(OR('ORDER FRAMES'!G37=\"DL\",'ORDER FRAMES'!G37=\"DR\"),\"\",'ORDER FRAMES'!C37))","v":""},null,{"$f":"IF('ORDER FRAMES'!E37=\"\",\"\",IF(OR('ORDER FRAMES'!G37=\"DL\",'ORDER FRAMES'!G37=\"DR\"),\"\",'ORDER FRAMES'!E37))","v":""},{"$f":"IF('ORDER FRAMES'!F37=\"\",\"\",IF(OR('ORDER FRAMES'!G37=\"DL\",'ORDER FRAMES'!G37=\"DR\"),\"\",'ORDER FRAMES'!F37))","v":""},{"$f":"IF('ORDER FRAMES'!G37=\"\",\"\",IF(OR('ORDER FRAMES'!G37=\"DL\",'ORDER FRAMES'!G37=\"DR\"),\"\",'ORDER FRAMES'!G37))","v":""},{"$f":"IF('ORDER FRAMES'!H37=\"\",\"\",IF(OR('ORDER FRAMES'!G37=\"DL\",'ORDER FRAMES'!G37=\"DR\"),\"\",'ORDER FRAMES'!H37))","v":""},{"$f":"IF('ORDER FRAMES'!I37=\"\",\"\",IF(OR('ORDER FRAMES'!G37=\"DL\",'ORDER FRAMES'!G37=\"DR\"),\"\",'ORDER FRAMES'!I37))","v":""},{"$f":"IF('ORDER FRAMES'!J37=\"\",\"\",IF(OR('ORDER FRAMES'!G37=\"DL\",'ORDER FRAMES'!G37=\"DR\"),\"\",'ORDER FRAMES'!J37))","v":""},{"$f":"IF('ORDER FRAMES'!K37=\"\",\"\",IF(OR('ORDER FRAMES'!G37=\"DL\",'ORDER FRAMES'!G37=\"DR\"),\"\",'ORDER FRAMES'!K37))","v":""},{"$f":"IF('ORDER FRAMES'!L37=\"\",\"\",IF(OR('ORDER FRAMES'!G37=\"DL\",'ORDER FRAMES'!G37=\"DR\"),\"\",'ORDER FRAMES'!L37))","v":""},{"$f":"IF('ORDER FRAMES'!M37=\"\",\"\",IF(OR('ORDER FRAMES'!G37=\"DL\",'ORDER FRAMES'!G37=\"DR\"),\"\",'ORDER FRAMES'!M37))","v":""},null,{"$f":"IF('ORDER FRAMES'!N37=\"\",\"\",IF(OR('ORDER FRAMES'!G37=\"DL\",'ORDER FRAMES'!G37=\"DR\"),\"\",'ORDER FRAMES'!N37))","v":3},{"$f":"IF('ORDER FRAMES'!O37=\"\",\"\",IF(OR('ORDER FRAMES'!G37=\"DL\",'ORDER FRAMES'!G37=\"DR\"),\"\",'ORDER FRAMES'!O37))","v":3},null,"",null,null,"","","",{"$f":"IF('ORDER FRAMES'!Q37=\"\",\"\",IF(OR('ORDER FRAMES'!G37=\"DL\",'ORDER FRAMES'!G37=\"DR\"),\"\",'ORDER FRAMES'!Q37))","v":""},{"$f":"IF('ORDER FRAMES'!S37=\"\",\"\",IF(OR('ORDER FRAMES'!G37=\"DL\",'ORDER FRAMES'!G37=\"DR\"),\"\",'ORDER FRAMES'!S37))","v":""},{"$f":"IF('ORDER FRAMES'!T37=\"\",\"\",IF(OR('ORDER FRAMES'!G37=\"DL\",'ORDER FRAMES'!G37=\"DR\"),\"\",'ORDER FRAMES'!T37))","v":""},{"$f":"IF('ORDER FRAMES'!U37=\"\",\"\",IF(OR('ORDER FRAMES'!G37=\"DL\",'ORDER FRAMES'!G37=\"DR\"),\"\",'ORDER FRAMES'!U37))","v":""},{"$f":"IF(C22=\"\",\"\",'ORDER FRAMES'!V37)","v":""},null,null,null,null,"",null,null,null,"","",""]
[38,{"$f":"IF(OR('ORDER FRAMES'!G37=\"DL\",'ORDER FRAMES'!G37=\"DR\"),\"\",IF('ORDER FRAMES'!A38=\"\",\"\",'ORDER FRAMES'!A38))","v":""},{"$f":"IF('ORDER FRAMES'!B38=\"\",\"\",IF(OR('ORDER FRAMES'!G38=\"DL\",'ORDER FRAMES'!G38=\"DR\"),\"\",'ORDER FRAMES'!B38))","v":""},{"$f":"IF('ORDER FRAMES'!C38=\"\",\"\",IF(OR('ORDER FRAMES'!G38=\"DL\",'ORDER FRAMES'!G38=\"DR\"),\"\",'ORDER FRAMES'!C38))","v":""},null,{"$f":"IF('ORDER FRAMES'!E38=\"\",\"\",IF(OR('ORDER FRAMES'!G38=\"DL\",'ORDER FRAMES'!G38=\"DR\"),\"\",'ORDER FRAMES'!E38))","v":""},{"$f":"IF('ORDER FRAMES'!F38=\"\",\"\",IF(OR('ORDER FRAMES'!G38=\"DL\",'ORDER FRAMES'!G38=\"DR\"),\"\",'ORDER FRAMES'!F38))","v":""},{"$f":"IF('ORDER FRAMES'!G38=\"\",\"\",IF(OR('ORDER FRAMES'!G38=\"DL\",'ORDER FRAMES'!G38=\"DR\"),\"\",'ORDER FRAMES'!G38))","v":""},{"$f":"IF('ORDER FRAMES'!H38=\"\",\"\",IF(OR('ORDER FRAMES'!G38=\"DL\",'ORDER FRAMES'!G38=\"DR\"),\"\",'ORDER FRAMES'!H38))","v":""},{"$f":"IF('ORDER FRAMES'!I38=\"\",\"\",IF(OR('ORDER FRAMES'!G38=\"DL\",'ORDER FRAMES'!G38=\"DR\"),\"\",'ORDER FRAMES'!I38))","v":""},{"$f":"IF('ORDER FRAMES'!J38=\"\",\"\",IF(OR('ORDER FRAMES'!G38=\"DL\",'ORDER FRAMES'!G38=\"DR\"),\"\",'ORDER FRAMES'!J38))","v":""},{"$f":"IF('ORDER FRAMES'!K38=\"\",\"\",IF(OR('ORDER FRAMES'!G38=\"DL\",'ORDER FRAMES'!G38=\"DR\"),\"\",'ORDER FRAMES'!K38))","v":""},{"$f":"IF('ORDER FRAMES'!L38=\"\",\"\",IF(OR('ORDER FRAMES'!G38=\"DL\",'ORDER FRAMES'!G38=\"DR\"),\"\",'ORDER FRAMES'!L38))","v":""},{"$f":"IF('ORDER FRAMES'!M38=\"\",\"\",IF(OR('ORDER FRAMES'!G38=\"DL\",'ORDER FRAMES'!G38=\"DR\"),\"\",'ORDER FRAMES'!M38))","v":""},null,{"$f":"IF('ORDER FRAMES'!N38=\"\",\"\",IF(OR('ORDER FRAMES'!G38=\"DL\",'ORDER FRAMES'!G38=\"DR\"),\"\",'ORDER FRAMES'!N38))","v":3},{"$f":"IF('ORDER FRAMES'!O38=\"\",\"\",IF(OR('ORDER FRAMES'!G38=\"DL\",'ORDER FRAMES'!G38=\"DR\"),\"\",'ORDER FRAMES'!O38))","v":3},null,"",null,null,"","","",{"$f":"IF('ORDER FRAMES'!Q38=\"\",\"\",IF(OR('ORDER FRAMES'!G38=\"DL\",'ORDER FRAMES'!G38=\"DR\"),\"\",'ORDER FRAMES'!Q38))","v":""},{"$f":"IF('ORDER FRAMES'!S38=\"\",\"\",IF(OR('ORDER FRAMES'!G38=\"DL\",'ORDER FRAMES'!G38=\"DR\"),\"\",'ORDER FRAMES'!S38))","v":""},{"$f":"IF('ORDER FRAMES'!T38=\"\",\"\",IF(OR('ORDER FRAMES'!G38=\"DL\",'ORDER FRAMES'!G38=\"DR\"),\"\",'ORDER FRAMES'!T38))","v":""},{"$f":"IF('ORDER FRAMES'!U38=\"\",\"\",IF(OR('ORDER FRAMES'!G38=\"DL\",'ORDER FRAMES'!G38=\"DR\"),\"\",'ORDER FRAMES'!U38))","v":""},{"$f":"IF(C23=\"\",\"\",'ORDER FRAMES'!V38)","v":""},null,null,null,null,"",null,null,null,"","",""]
[39,{"$f":"IF(OR('ORDER FRAMES'!G38=\"DL\",'ORDER FRAMES'!G38=\"DR\"),\"\",IF('ORDER FRAMES'!A39=\"\",\"\",'ORDER FRAMES'!A39))","v":""},{"$f":"IF('ORDER FRAMES'!B39=\"\",\"\",IF(OR('ORDER FRAMES'!G39=\"DL\",'ORDER FRAMES'!G39=\"DR\"),\"\",'ORDER FRAMES'!B39))","v":""},{"$f":"IF('ORDER FRAMES'!C39=\"\",\"\",IF(OR('ORDER FRAMES'!G39=\"DL\",'ORDER FRAMES'!G39=\"DR\"),\"\",'ORDER FRAMES'!C39))","v":""},null,{"$f":"IF('ORDER FRAMES'!E39=\"\",\"\",IF(OR('ORDER FRAMES'!G39=\"DL\",'ORDER FRAMES'!G39=\"DR\"),\"\",'ORDER FRAMES'!E39))","v":""},{"$f":"IF('ORDER FRAMES'!F39=\"\",\"\",IF(OR('ORDER FRAMES'!G39=\"DL\",'ORDER FRAMES'!G39=\"DR\"),\"\",'ORDER FRAMES'!F39))","v":""},{"$f":"IF('ORDER FRAMES'!G39=\"\",\"\",IF(OR('ORDER FRAMES'!G39=\"DL\",'ORDER FRAMES'!G39=\"DR\"),\"\",'ORDER FRAMES'!G39))","v":""},{"$f":"IF('ORDER FRAMES'!H39=\"\",\"\",IF(OR('ORDER FRAMES'!G39=\"DL\",'ORDER FRAMES'!G39=\"DR\"),\"\",'ORDER FRAMES'!H39))","v":""},{"$f":"IF('ORDER FRAMES'!I39=\"\",\"\",IF(OR('ORDER FRAMES'!G39=\"DL\",'ORDER FRAMES'!G39=\"DR\"),\"\",'ORDER FRAMES'!I39))","v":""},{"$f":"IF('ORDER FRAMES'!J39=\"\",\"\",IF(OR('ORDER FRAMES'!G39=\"DL\",'ORDER FRAMES'!G39=\"DR\"),\"\",'ORDER FRAMES'!J39))","v":""},{"$f":"IF('ORDER FRAMES'!K39=\"\",\"\",IF(OR('ORDER FRAMES'!G39=\"DL\",'ORDER FRAMES'!G39=\"DR\"),\"\",'ORDER FRAMES'!K39))","v":""},{"$f":"IF('ORDER FRAMES'!L39=\"\",\"\",IF(OR('ORDER FRAMES'!G39=\"DL\",'ORDER FRAMES'!G39=\"DR\"),\"\",'ORDER FRAMES'!L39))","v":""},{"$f":"IF('ORDER FRAMES'!M39=\"\",\"\",IF(OR('ORDER FRAMES'!G39=\"DL\",'ORDER FRAMES'!G39=\"DR\"),\"\",'ORDER FRAMES'!M39))","v":""},null,{"$f":"IF('ORDER FRAMES'!N39=\"\",\"\",IF(OR('ORDER FRAMES'!G39=\"DL\",'ORDER FRAMES'!G39=\"DR\"),\"\",'ORDER FRAMES'!N39))","v":3},{"$f":"IF('ORDER FRAMES'!O39=\"\",\"\",IF(OR('ORDER FRAMES'!G39=\"DL\",'ORDER FRAMES'!G39=\"DR\"),\"\",'ORDER FRAMES'!O39))","v":3},null,"",null,null,"","","",{"$f":"IF('ORDER FRAMES'!Q39=\"\",\"\",IF(OR('ORDER FRAMES'!G39=\"DL\",'ORDER FRAMES'!G39=\"DR\"),\"\",'ORDER FRAMES'!Q39))","v":""},{"$f":"IF('ORDER FRAMES'!S39=\"\",\"\",IF(OR('ORDER FRAMES'!G39=\"DL\",'ORDER FRAMES'!G39=\"DR\"),\"\",'ORDER FRAMES'!S39))","v":""},{"$f":"IF('ORDER FRAMES'!T39=\"\",\"\",IF(OR('ORDER FRAMES'!G39=\"DL\",'ORDER FRAMES'!G39=\"DR\"),\"\",'ORDER FRAMES'!T39))","v":""},{"$f":"IF('ORDER FRAMES'!U39=\"\",\"\",IF(OR('ORDER FRAMES'!G39=\"DL\",'ORDER FRAMES'!G39=\"DR\"),\"\",'ORDER FRAMES'!U39))","v":""},{"$f":"IF(C24=\"\",\"\",'ORDER FRAMES'!V39)","v":""},null,null,null,null,"",null,null,null,"","",""]
[40,{"$f":"IF(OR('ORDER FRAMES'!G39=\"DL\",'ORDER FRAMES'!G39=\"DR\"),\"\",IF('ORDER FRAMES'!A40=\"\",\"\",'ORDER FRAMES'!A40))","v":""},{"$f":"IF('ORDER FRAMES'!B40=\"\",\"\",IF(OR('ORDER FRAMES'!G40=\"DL\",'ORDER FRAMES'!G40=\"DR\"),\"\",'ORDER FRAMES'!B40))","v":""},{"$f":"IF('ORDER FRAMES'!C40=\"\",\"\",IF(OR('ORDER FRAMES'!G40=\"DL\",'ORDER FRAMES'!G40=\"DR\"),\"\",'ORDER FRAMES'!C40))","v":""},null,{"$f":"IF('ORDER FRAMES'!E40=\"\",\"\",IF(OR('ORDER FRAMES'!G40=\"DL\",'ORDER FRAMES'!G40=\"DR\"),\"\",'ORDER FRAMES'!E40))","v":""},{"$f":"IF('ORDER FRAMES'!F40=\"\",\"\",IF(OR('ORDER FRAMES'!G40=\"DL\",'ORDER FRAMES'!G40=\"DR\"),\"\",'ORDER FRAMES'!F40))","v":""},{"$f":"IF('ORDER FRAMES'!G40=\"\",\"\",IF(OR('ORDER FRAMES'!G40=\"DL\",'ORDER FRAMES'!G40=\"DR\"),\"\",'ORDER FRAMES'!G40))","v":""},{"$f":"IF('ORDER FRAMES'!H40=\"\",\"\",IF(OR('ORDER FRAMES'!G40=\"DL\",'ORDER FRAMES'!G40=\"DR\"),\"\",'ORDER FRAMES'!H40))","v":""},{"$f":"IF('ORDER FRAMES'!I40=\"\",\"\",IF(OR('ORDER FRAMES'!G40=\"DL\",'ORDER FRAMES'!G40=\"DR\"),\"\",'ORDER FRAMES'!I40))","v":""},{"$f":"IF('ORDER FRAMES'!J40=\"\",\"\",IF(OR('ORDER FRAMES'!G40=\"DL\",'ORDER FRAMES'!G40=\"DR\"),\"\",'ORDER FRAMES'!J40))","v":""},{"$f":"IF('ORDER FRAMES'!K40=\"\",\"\",IF(OR('ORDER FRAMES'!G40=\"DL\",'ORDER FRAMES'!G40=\"DR\"),\"\",'ORDER FRAMES'!K40))","v":""},{"$f":"IF('ORDER FRAMES'!L40=\"\",\"\",IF(OR('ORDER FRAMES'!G40=\"DL\",'ORDER FRAMES'!G40=\"DR\"),\"\",'ORDER FRAMES'!L40))","v":""},{"$f":"IF('ORDER FRAMES'!M40=\"\",\"\",IF(OR('ORDER FRAMES'!G40=\"DL\",'ORDER FRAMES'!G40=\"DR\"),\"\",'ORDER FRAMES'!M40))","v":""},null,{"$f":"IF('ORDER FRAMES'!N40=\"\",\"\",IF(OR('ORDER FRAMES'!G40=\"DL\",'ORDER FRAMES'!G40=\"DR\"),\"\",'ORDER FRAMES'!N40))","v":3},{"$f":"IF('ORDER FRAMES'!O40=\"\",\"\",IF(OR('ORDER FRAMES'!G40=\"DL\",'ORDER FRAMES'!G40=\"DR\"),\"\",'ORDER FRAMES'!O40))","v":3},null,"",null,null,"","","",{"$f":"IF('ORDER FRAMES'!Q40=\"\",\"\",IF(OR('ORDER FRAMES'!G40=\"DL\",'ORDER FRAMES'!G40=\"DR\"),\"\",'ORDER FRAMES'!Q40))","v":""},{"$f":"IF('ORDER FRAMES'!S40=\"\",\"\",IF(OR('ORDER FRAMES'!G40=\"DL\",'ORDER FRAMES'!G40=\"DR\"),\"\",'ORDER FRAMES'!S40))","v":""},{"$f":"IF('ORDER FRAMES'!T40=\"\",\"\",IF(OR('ORDER FRAMES'!G40=\"DL\",'ORDER FRAMES'!G40=\"DR\"),\"\",'ORDER FRAMES'!T40))","v":""},{"$f":"IF('ORDER FRAMES'!U40=\"\",\"\",IF(OR('ORDER FRAMES'!G40=\"DL\",'ORDER FRAMES'!G40=\"DR\"),\"\",'ORDER FRAMES'!U40))","v":""},{"$f":"IF(C25=\"\",\"\",'ORDER FRAMES'!V40)","v":""},null,null,null,null,"",null,null,null,"","",""]
[41,{"$f":"IF(OR('ORDER FRAMES'!G40=\"DL\",'ORDER FRAMES'!G40=\"DR\"),\"\",IF('ORDER FRAMES'!A41=\"\",\"\",'ORDER FRAMES'!A41))","v":""},{"$f":"IF('ORDER FRAMES'!B41=\"\",\"\",IF(OR('ORDER FRAMES'!G41=\"DL\",'ORDER FRAMES'!G41=\"DR\"),\"\",'ORDER FRAMES'!B41))","v":""},{"$f":"IF('ORDER FRAMES'!C41=\"\",\"\",IF(OR('ORDER FRAMES'!G41=\"DL\",'ORDER FRAMES'!G41=\"DR\"),\"\",'ORDER FRAMES'!C41))","v":""},null,{"$f":"IF('ORDER FRAMES'!E41=\"\",\"\",IF(OR('ORDER FRAMES'!G41=\"DL\",'ORDER FRAMES'!G41=\"DR\"),\"\",'ORDER FRAMES'!E41))","v":""},{"$f":"IF('ORDER FRAMES'!F41=\"\",\"\",IF(OR('ORDER FRAMES'!G41=\"DL\",'ORDER FRAMES'!G41=\"DR\"),\"\",'ORDER FRAMES'!F41))","v":""},{"$f":"IF('ORDER FRAMES'!G41=\"\",\"\",IF(OR('ORDER FRAMES'!G41=\"DL\",'ORDER FRAMES'!G41=\"DR\"),\"\",'ORDER FRAMES'!G41))","v":""},{"$f":"IF('ORDER FRAMES'!H41=\"\",\"\",IF(OR('ORDER FRAMES'!G41=\"DL\",'ORDER FRAMES'!G41=\"DR\"),\"\",'ORDER FRAMES'!H41))","v":""},{"$f":"IF('ORDER FRAMES'!I41=\"\",\"\",IF(OR('ORDER FRAMES'!G41=\"DL\",'ORDER FRAMES'!G41=\"DR\"),\"\",'ORDER FRAMES'!I41))","v":""},{"$f":"IF('ORDER FRAMES'!J41=\"\",\"\",IF(OR('ORDER FRAMES'!G41=\"DL\",'ORDER FRAMES'!G41=\"DR\"),\"\",'ORDER FRAMES'!J41))","v":""},{"$f":"IF('ORDER FRAMES'!K41=\"\",\"\",IF(OR('ORDER FRAMES'!G41=\"DL\",'ORDER FRAMES'!G41=\"DR\"),\"\",'ORDER FRAMES'!K41))","v":""},{"$f":"IF('ORDER FRAMES'!L41=\"\",\"\",IF(OR('ORDER FRAMES'!G41=\"DL\",'ORDER FRAMES'!G41=\"DR\"),\"\",'ORDER FRAMES'!L41))","v":""},{"$f":"IF('ORDER FRAMES'!M41=\"\",\"\",IF(OR('ORDER FRAMES'!G41=\"DL\",'ORDER FRAMES'!G41=\"DR\"),\"\",'ORDER FRAMES'!M41))","v":""},null,{"$f":"IF('ORDER FRAMES'!N41=\"\",\"\",IF(OR('ORDER FRAMES'!G41=\"DL\",'ORDER FRAMES'!G41=\"DR\"),\"\",'ORDER FRAMES'!N41))","v":3},{"$f":"IF('ORDER FRAMES'!O41=\"\",\"\",IF(OR('ORDER FRAMES'!G41=\"DL\",'ORDER FRAMES'!G41=\"DR\"),\"\",'ORDER FRAMES'!O41))","v":3},null,"",null,null,"","","",{"$f":"IF('ORDER FRAMES'!Q41=\"\",\"\",IF(OR('ORDER FRAMES'!G41=\"DL\",'ORDER FRAMES'!G41=\"DR\"),\"\",'ORDER FRAMES'!Q41))","v":""},{"$f":"IF('ORDER FRAMES'!S41=\"\",\"\",IF(OR('ORDER FRAMES'!G41=\"DL\",'ORDER FRAMES'!G41=\"DR\"),\"\",'ORDER FRAMES'!S41))","v":""},{"$f":"IF('ORDER FRAMES'!T41=\"\",\"\",IF(OR('ORDER FRAMES'!G41=\"DL\",'ORDER FRAMES'!G41=\"DR\"),\"\",'ORDER FRAMES'!T41))","v":""},{"$f":"IF('ORDER FRAMES'!U41=\"\",\"\",IF(OR('ORDER FRAMES'!G41=\"DL\",'ORDER FRAMES'!G41=\"DR\"),\"\",'ORDER FRAMES'!U41))","v":""},{"$f":"IF(C26=\"\",\"\",'ORDER FRAMES'!V41)","v":""},null,null,null,null,"",null,null,null,"","",""]
[42,{"$f":"IF(OR('ORDER FRAMES'!G41=\"DL\",'ORDER FRAMES'!G41=\"DR\"),\"\",IF('ORDER FRAMES'!A42=\"\",\"\",'ORDER FRAMES'!A42))","v":""},{"$f":"IF('ORDER FRAMES'!B42=\"\",\"\",IF(OR('ORDER FRAMES'!G42=\"DL\",'ORDER FRAMES'!G42=\"DR\"),\"\",'ORDER FRAMES'!B42))","v":""},{"$f":"IF('ORDER FRAMES'!C42=\"\",\"\",IF(OR('ORDER FRAMES'!G42=\"DL\",'ORDER FRAMES'!G42=\"DR\"),\"\",'ORDER FRAMES'!C42))","v":""},null,{"$f":"IF('ORDER FRAMES'!E42=\"\",\"\",IF(OR('ORDER FRAMES'!G42=\"DL\",'ORDER FRAMES'!G42=\"DR\"),\"\",'ORDER FRAMES'!E42))","v":""},{"$f":"IF('ORDER FRAMES'!F42=\"\",\"\",IF(OR('ORDER FRAMES'!G42=\"DL\",'ORDER FRAMES'!G42=\"DR\"),\"\",'ORDER FRAMES'!F42))","v":""},{"$f":"IF('ORDER FRAMES'!G42=\"\",\"\",IF(OR('ORDER FRAMES'!G42=\"DL\",'ORDER FRAMES'!G42=\"DR\"),\"\",'ORDER FRAMES'!G42))","v":""},{"$f":"IF('ORDER FRAMES'!H42=\"\",\"\",IF(OR('ORDER FRAMES'!G42=\"DL\",'ORDER FRAMES'!G42=\"DR\"),\"\",'ORDER FRAMES'!H42))","v":""},{"$f":"IF('ORDER FRAMES'!I42=\"\",\"\",IF(OR('ORDER FRAMES'!G42=\"DL\",'ORDER FRAMES'!G42=\"DR\"),\"\",'ORDER FRAMES'!I42))","v":""},{"$f":"IF('ORDER FRAMES'!J42=\"\",\"\",IF(OR('ORDER FRAMES'!G42=\"DL\",'ORDER FRAMES'!G42=\"DR\"),\"\",'ORDER FRAMES'!J42))","v":""},{"$f":"IF('ORDER FRAMES'!K42=\"\",\"\",IF(OR('ORDER FRAMES'!G42=\"DL\",'ORDER FRAMES'!G42=\"DR\"),\"\",'ORDER FRAMES'!K42))","v":""},{"$f":"IF('ORDER FRAMES'!L42=\"\",\"\",IF(OR('ORDER FRAMES'!G42=\"DL\",'ORDER FRAMES'!G42=\"DR\"),\"\",'ORDER FRAMES'!L42))","v":""},{"$f":"IF('ORDER FRAMES'!M42=\"\",\"\",IF(OR('ORDER FRAMES'!G42=\"DL\",'ORDER FRAMES'!G42=\"DR\"),\"\",'ORDER FRAMES'!M42))","v":""},null,{"$f":"IF('ORDER FRAMES'!N42=\"\",\"\",IF(OR('ORDER FRAMES'!G42=\"DL\",'ORDER FRAMES'!G42=\"DR\"),\"\",'ORDER FRAMES'!N42))","v":3},{"$f":"IF('ORDER FRAMES'!O42=\"\",\"\",IF(OR('ORDER FRAMES'!G42=\"DL\",'ORDER FRAMES'!G42=\"DR\"),\"\",'ORDER FRAMES'!O42))","v":3},null,"",null,null,"","","",{"$f":"IF('ORDER FRAMES'!Q42=\"\",\"\",IF(OR('ORDER FRAMES'!G42=\"DL\",'ORDER FRAMES'!G42=\"DR\"),\"\",'ORDER FRAMES'!Q42))","v":""},{"$f":"IF('ORDER FRAMES'!S42=\"\",\"\",IF(OR('ORDER FRAMES'!G42=\"DL\",'ORDER FRAMES'!G42=\"DR\"),\"\",'ORDER FRAMES'!S42))","v":""},{"$f":"IF('ORDER FRAMES'!T42=\"\",\"\",IF(OR('ORDER FRAMES'!G42=\"DL\",'ORDER FRAMES'!G42=\"DR\"),\"\",'ORDER FRAMES'!T42))","v":""},{"$f":"IF('ORDER FRAMES'!U42=\"\",\"\",IF(OR('ORDER FRAMES'!G42=\"DL\",'ORDER FRAMES'!G42=\"DR\"),\"\",'ORDER FRAMES'!U42))","v":""},{"$f":"IF(C27=\"\",\"\",'ORDER FRAMES'!V42)","v":""},null,null,null,null,"",null,null,null,"","",""]
[43,{"$f":"IF(OR('ORDER FRAMES'!G42=\"DL\",'ORDER FRAMES'!G42=\"DR\"),\"\",IF('ORDER FRAMES'!A43=\"\",\"\",'ORDER FRAMES'!A43))","v":""},{"$f":"IF('ORDER FRAMES'!B43=\"\",\"\",IF(OR('ORDER FRAMES'!G43=\"DL\",'ORDER FRAMES'!G43=\"DR\"),\"\",'ORDER FRAMES'!B43))","v":""},{"$f":"IF('ORDER FRAMES'!C43=\"\",\"\",IF(OR('ORDER FRAMES'!G43=\"DL\",'ORDER FRAMES'!G43=\"DR\"),\"\",'ORDER FRAMES'!C43))","v":""},null,{"$f":"IF('ORDER FRAMES'!E43=\"\",\"\",IF(OR('ORDER FRAMES'!G43=\"DL\",'ORDER FRAMES'!G43=\"DR\"),\"\",'ORDER FRAMES'!E43))","v":""},{"$f":"IF('ORDER FRAMES'!F43=\"\",\"\",IF(OR('ORDER FRAMES'!G43=\"DL\",'ORDER FRAMES'!G43=\"DR\"),\"\",'ORDER FRAMES'!F43))","v":""},{"$f":"IF('ORDER FRAMES'!G43=\"\",\"\",IF(OR('ORDER FRAMES'!G43=\"DL\",'ORDER FRAMES'!G43=\"DR\"),\"\",'ORDER FRAMES'!G43))","v":""},{"$f":"IF('ORDER FRAMES'!H43=\"\",\"\",IF(OR('ORDER FRAMES'!G43=\"DL\",'ORDER FRAMES'!G43=\"DR\"),\"\",'ORDER FRAMES'!H43))","v":""},{"$f":"IF('ORDER FRAMES'!I43=\"\",\"\",IF(OR('ORDER FRAMES'!G43=\"DL\",'ORDER FRAMES'!G43=\"DR\"),\"\",'ORDER FRAMES'!I43))","v":""},{"$f":"IF('ORDER FRAMES'!J43=\"\",\"\",IF(OR('ORDER FRAMES'!G43=\"DL\",'ORDER FRAMES'!G43=\"DR\"),\"\",'ORDER FRAMES'!J43))","v":""},{"$f":"IF('ORDER FRAMES'!K43=\"\",\"\",IF(OR('ORDER FRAMES'!G43=\"DL\",'ORDER FRAMES'!G43=\"DR\"),\"\",'ORDER FRAMES'!K43))","v":""},{"$f":"IF('ORDER FRAMES'!L43=\"\",\"\",IF(OR('ORDER FRAMES'!G43=\"DL\",'ORDER FRAMES'!G43=\"DR\"),\"\",'ORDER FRAMES'!L43))","v":""},{"$f":"IF('ORDER FRAMES'!M43=\"\",\"\",IF(OR('ORDER FRAMES'!G43=\"DL\",'ORDER FRAMES'!G43=\"DR\"),\"\",'ORDER FRAMES'!M43))","v":""},null,{"$f":"IF('ORDER FRAMES'!N43=\"\",\"\",IF(OR('ORDER FRAMES'!G43=\"DL\",'ORDER FRAMES'!G43=\"DR\"),\"\",'ORDER FRAMES'!N43))","v":3},{"$f":"IF('ORDER FRAMES'!O43=\"\",\"\",IF(OR('ORDER FRAMES'!G43=\"DL\",'ORDER FRAMES'!G43=\"DR\"),\"\",'ORDER FRAMES'!O43))","v":3},null,"",null,null,"","","",{"$f":"IF('ORDER FRAMES'!Q43=\"\",\"\",IF(OR('ORDER FRAMES'!G43=\"DL\",'ORDER FRAMES'!G43=\"DR\"),\"\",'ORDER FRAMES'!Q43))","v":""},{"$f":"IF('ORDER FRAMES'!S43=\"\",\"\",IF(OR('ORDER FRAMES'!G43=\"DL\",'ORDER FRAMES'!G43=\"DR\"),\"\",'ORDER FRAMES'!S43))","v":""},{"$f":"IF('ORDER FRAMES'!T43=\"\",\"\",IF(OR('ORDER FRAMES'!G43=\"DL\",'ORDER FRAMES'!G43=\"DR\"),\"\",'ORDER FRAMES'!T43))","v":""},{"$f":"IF('ORDER FRAMES'!U43=\"\",\"\",IF(OR('ORDER FRAMES'!G43=\"DL\",'ORDER FRAMES'!G43=\"DR\"),\"\",'ORDER FRAMES'!U43))","v":""},{"$f":"IF(C28=\"\",\"\",'ORDER FRAMES'!V43)","v":""},null,null,null,null,"",null,null,null,"","",""]
[44,{"$f":"IF(OR('ORDER FRAMES'!G43=\"DL\",'ORDER FRAMES'!G43=\"DR\"),\"\",IF('ORDER FRAMES'!A44=\"\",\"\",'ORDER FRAMES'!A44))","v":""},{"$f":"IF('ORDER FRAMES'!B44=\"\",\"\",IF(OR('ORDER FRAMES'!G44=\"DL\",'ORDER FRAMES'!G44=\"DR\"),\"\",'ORDER FRAMES'!B44))","v":""},{"$f":"IF('ORDER FRAMES'!C44=\"\",\"\",IF(OR('ORDER FRAMES'!G44=\"DL\",'ORDER FRAMES'!G44=\"DR\"),\"\",'ORDER FRAMES'!C44))","v":""},null,{"$f":"IF('ORDER FRAMES'!E44=\"\",\"\",IF(OR('ORDER FRAMES'!G44=\"DL\",'ORDER FRAMES'!G44=\"DR\"),\"\",'ORDER FRAMES'!E44))","v":""},{"$f":"IF('ORDER FRAMES'!F44=\"\",\"\",IF(OR('ORDER FRAMES'!G44=\"DL\",'ORDER FRAMES'!G44=\"DR\"),\"\",'ORDER FRAMES'!F44))","v":""},{"$f":"IF('ORDER FRAMES'!G44=\"\",\"\",IF(OR('ORDER FRAMES'!G44=\"DL\",'ORDER FRAMES'!G44=\"DR\"),\"\",'ORDER FRAMES'!G44))","v":""},{"$f":"IF('ORDER FRAMES'!H44=\"\",\"\",IF(OR('ORDER FRAMES'!G44=\"DL\",'ORDER FRAMES'!G44=\"DR\"),\"\",'ORDER FRAMES'!H44))","v":""},{"$f":"IF('ORDER FRAMES'!I44=\"\",\"\",IF(OR('ORDER FRAMES'!G44=\"DL\",'ORDER FRAMES'!G44=\"DR\"),\"\",'ORDER FRAMES'!I44))","v":""},{"$f":"IF('ORDER FRAMES'!J44=\"\",\"\",IF(OR('ORDER FRAMES'!G44=\"DL\",'ORDER FRAMES'!G44=\"DR\"),\"\",'ORDER FRAMES'!J44))","v":""},{"$f":"IF('ORDER FRAMES'!K44=\"\",\"\",IF(OR('ORDER FRAMES'!G44=\"DL\",'ORDER FRAMES'!G44=\"DR\"),\"\",'ORDER FRAMES'!K44))","v":""},{"$f":"IF('ORDER FRAMES'!L44=\"\",\"\",IF(OR('ORDER FRAMES'!G44=\"DL\",'ORDER FRAMES'!G44=\"DR\"),\"\",'ORDER FRAMES'!L44))","v":""},{"$f":"IF('ORDER FRAMES'!M44=\"\",\"\",IF(OR('ORDER FRAMES'!G44=\"DL\",'ORDER FRAMES'!G44=\"DR\"),\"\",'ORDER FRAMES'!M44))","v":""},null,{"$f":"IF('ORDER FRAMES'!N44=\"\",\"\",IF(OR('ORDER FRAMES'!G44=\"DL\",'ORDER FRAMES'!G44=\"DR\"),\"\",'ORDER FRAMES'!N44))","v":3},{"$f":"IF('ORDER FRAMES'!O44=\"\",\"\",IF(OR('ORDER FRAMES'!G44=\"DL\",'ORDER FRAMES'!G44=\"DR\"),\"\",'ORDER FRAMES'!O44))","v":3},null,"",null,null,"","","",{"$f":"IF('ORDER FRAMES'!Q44=\"\",\"\",IF(OR('ORDER FRAMES'!G44=\"DL\",'ORDER FRAMES'!G44=\"DR\"),\"\",'ORDER FRAMES'!Q44))","v":""},{"$f":"IF('ORDER FRAMES'!S44=\"\",\"\",IF(OR('ORDER FRAMES'!G44=\"DL\",'ORDER FRAMES'!G44=\"DR\"),\"\",'ORDER FRAMES'!S44))","v":""},{"$f":"IF('ORDER FRAMES'!T44=\"\",\"\",IF(OR('ORDER FRAMES'!G44=\"DL\",'ORDER FRAMES'!G44=\"DR\"),\"\",'ORDER FRAMES'!T44))","v":""},{"$f":"IF('ORDER FRAMES'!U44=\"\",\"\",IF(OR('ORDER FRAMES'!G44=\"DL\",'ORDER FRAMES'!G44=\"DR\"),\"\",'ORDER FRAMES'!U44))","v":""},{"$f":"IF(C29=\"\",\"\",'ORDER FRAMES'!V44)","v":""},null,null,null,null,"",null,null,null,"","",""]
[45,{"$f":"IF(OR('ORDER FRAMES'!G44=\"DL\",'ORDER FRAMES'!G44=\"DR\"),\"\",IF('ORDER FRAMES'!A45=\"\",\"\",'ORDER FRAMES'!A45))","v":""},{"$f":"IF('ORDER FRAMES'!B45=\"\",\"\",IF(OR('ORDER FRAMES'!G45=\"DL\",'ORDER FRAMES'!G45=\"DR\"),\"\",'ORDER FRAMES'!B45))","v":""},{"$f":"IF('ORDER FRAMES'!C45=\"\",\"\",IF(OR('ORDER FRAMES'!G45=\"DL\",'ORDER FRAMES'!G45=\"DR\"),\"\",'ORDER FRAMES'!C45))","v":""},null,{"$f":"IF('ORDER FRAMES'!E45=\"\",\"\",IF(OR('ORDER FRAMES'!G45=\"DL\",'ORDER FRAMES'!G45=\"DR\"),\"\",'ORDER FRAMES'!E45))","v":""},{"$f":"IF('ORDER FRAMES'!F45=\"\",\"\",IF(OR('ORDER FRAMES'!G45=\"DL\",'ORDER FRAMES'!G45=\"DR\"),\"\",'ORDER FRAMES'!F45))","v":""},{"$f":"IF('ORDER FRAMES'!G45=\"\",\"\",IF(OR('ORDER FRAMES'!G45=\"DL\",'ORDER FRAMES'!G45=\"DR\"),\"\",'ORDER FRAMES'!G45))","v":""},{"$f":"IF('ORDER FRAMES'!H45=\"\",\"\",IF(OR('ORDER FRAMES'!G45=\"DL\",'ORDER FRAMES'!G45=\"DR\"),\"\",'ORDER FRAMES'!H45))","v":""},{"$f":"IF('ORDER FRAMES'!I45=\"\",\"\",IF(OR('ORDER FRAMES'!G45=\"DL\",'ORDER FRAMES'!G45=\"DR\"),\"\",'ORDER FRAMES'!I45))","v":""},{"$f":"IF('ORDER FRAMES'!J45=\"\",\"\",IF(OR('ORDER FRAMES'!G45=\"DL\",'ORDER FRAMES'!G45=\"DR\"),\"\",'ORDER FRAMES'!J45))","v":""},{"$f":"IF('ORDER FRAMES'!K45=\"\",\"\",IF(OR('ORDER FRAMES'!G45=\"DL\",'ORDER FRAMES'!G45=\"DR\"),\"\",'ORDER FRAMES'!K45))","v":""},{"$f":"IF('ORDER FRAMES'!L45=\"\",\"\",IF(OR('ORDER FRAMES'!G45=\"DL\",'ORDER FRAMES'!G45=\"DR\"),\"\",'ORDER FRAMES'!L45))","v":""},{"$f":"IF('ORDER FRAMES'!M45=\"\",\"\",IF(OR('ORDER FRAMES'!G45=\"DL\",'ORDER FRAMES'!G45=\"DR\"),\"\",'ORDER FRAMES'!M45))","v":""},null,{"$f":"IF('ORDER FRAMES'!N45=\"\",\"\",IF(OR('ORDER FRAMES'!G45=\"DL\",'ORDER FRAMES'!G45=\"DR\"),\"\",'ORDER FRAMES'!N45))","v":3},{"$f":"IF('ORDER FRAMES'!O45=\"\",\"\",IF(OR('ORDER FRAMES'!G45=\"DL\",'ORDER FRAMES'!G45=\"DR\"),\"\",'ORDER FRAMES'!O45))","v":3},null,"",null,null,"","","",{"$f":"IF('ORDER FRAMES'!Q45=\"\",\"\",IF(OR('ORDER FRAMES'!G45=\"DL\",'ORDER FRAMES'!G45=\"DR\"),\"\",'ORDER FRAMES'!Q45))","v":""},{"$f":"IF('ORDER FRAMES'!S45=\"\",\"\",IF(OR('ORDER FRAMES'!G45=\"DL\",'ORDER FRAMES'!G45=\"DR\"),\"\",'ORDER FRAMES'!S45))","v":""},{"$f":"IF('ORDER FRAMES'!T45=\"\",\"\",IF(OR('ORDER FRAMES'!G45=\"DL\",'ORDER FRAMES'!G45=\"DR\"),\"\",'ORDER FRAMES'!T45))","v":""},{"$f":"IF('ORDER FRAMES'!U45=\"\",\"\",IF(OR('ORDER FRAMES'!G45=\"DL\",'ORDER FRAMES'!G45=\"DR\"),\"\",'ORDER FRAMES'!U45))","v":""},{"$f":"IF(C30=\"\",\"\",'ORDER FRAMES'!V45)","v":""},null,null,null,null,"",null,null,null,"","",""]
[46,{"$f":"IF(OR('ORDER FRAMES'!G45=\"DL\",'ORDER FRAMES'!G45=\"DR\"),\"\",IF('ORDER FRAMES'!A46=\"\",\"\",'ORDER FRAMES'!A46))","v":""},{"$f":"IF('ORDER FRAMES'!B46=\"\",\"\",IF(OR('ORDER FRAMES'!G46=\"DL\",'ORDER FRAMES'!G46=\"DR\"),\"\",'ORDER FRAMES'!B46))","v":""},{"$f":"IF('ORDER FRAMES'!C46=\"\",\"\",IF(OR('ORDER FRAMES'!G46=\"DL\",'ORDER FRAMES'!G46=\"DR\"),\"\",'ORDER FRAMES'!C46))","v":""},null,{"$f":"IF('ORDER FRAMES'!E46=\"\",\"\",IF(OR('ORDER FRAMES'!G46=\"DL\",'ORDER FRAMES'!G46=\"DR\"),\"\",'ORDER FRAMES'!E46))","v":""},{"$f":"IF('ORDER FRAMES'!F46=\"\",\"\",IF(OR('ORDER FRAMES'!G46=\"DL\",'ORDER FRAMES'!G46=\"DR\"),\"\",'ORDER FRAMES'!F46))","v":""},{"$f":"IF('ORDER FRAMES'!G46=\"\",\"\",IF(OR('ORDER FRAMES'!G46=\"DL\",'ORDER FRAMES'!G46=\"DR\"),\"\",'ORDER FRAMES'!G46))","v":""},{"$f":"IF('ORDER FRAMES'!H46=\"\",\"\",IF(OR('ORDER FRAMES'!G46=\"DL\",'ORDER FRAMES'!G46=\"DR\"),\"\",'ORDER FRAMES'!H46))","v":""},{"$f":"IF('ORDER FRAMES'!I46=\"\",\"\",IF(OR('ORDER FRAMES'!G46=\"DL\",'ORDER FRAMES'!G46=\"DR\"),\"\",'ORDER FRAMES'!I46))","v":""},{"$f":"IF('ORDER FRAMES'!J46=\"\",\"\",IF(OR('ORDER FRAMES'!G46=\"DL\",'ORDER FRAMES'!G46=\"DR\"),\"\",'ORDER FRAMES'!J46))","v":""},{"$f":"IF('ORDER FRAMES'!K46=\"\",\"\",IF(OR('ORDER FRAMES'!G46=\"DL\",'ORDER FRAMES'!G46=\"DR\"),\"\",'ORDER FRAMES'!K46))","v":""},{"$f":"IF('ORDER FRAMES'!L46=\"\",\"\",IF(OR('ORDER FRAMES'!G46=\"DL\",'ORDER FRAMES'!G46=\"DR\"),\"\",'ORDER FRAMES'!L46))","v":""},{"$f":"IF('ORDER FRAMES'!M46=\"\",\"\",IF(OR('ORDER FRAMES'!G46=\"DL\",'ORDER FRAMES'!G46=\"DR\"),\"\",'ORDER FRAMES'!M46))","v":""},null,{"$f":"IF('ORDER FRAMES'!N46=\"\",\"\",IF(OR('ORDER FRAMES'!G46=\"DL\",'ORDER FRAMES'!G46=\"DR\"),\"\",'ORDER FRAMES'!N46))","v":3},{"$f":"IF('ORDER FRAMES'!O46=\"\",\"\",IF(OR('ORDER FRAMES'!G46=\"DL\",'ORDER FRAMES'!G46=\"DR\"),\"\",'ORDER FRAMES'!O46))","v":3},null,"",null,null,"","","",{"$f":"IF('ORDER FRAMES'!Q46=\"\",\"\",IF(OR('ORDER FRAMES'!G46=\"DL\",'ORDER FRAMES'!G46=\"DR\"),\"\",'ORDER FRAMES'!Q46))","v":""},{"$f":"IF('ORDER FRAMES'!S46=\"\",\"\",IF(OR('ORDER FRAMES'!G46=\"DL\",'ORDER FRAMES'!G46=\"DR\"),\"\",'ORDER FRAMES'!S46))","v":""},{"$f":"IF('ORDER FRAMES'!T46=\"\",\"\",IF(OR('ORDER FRAMES'!G46=\"DL\",'ORDER FRAMES'!G46=\"DR\"),\"\",'ORDER FRAMES'!T46))","v":""},{"$f":"IF('ORDER FRAMES'!U46=\"\",\"\",IF(OR('ORDER FRAMES'!G46=\"DL\",'ORDER FRAMES'!G46=\"DR\"),\"\",'ORDER FRAMES'!U46))","v":""},{"$f":"IF(C31=\"\",\"\",'ORDER FRAMES'!V46)","v":""},null,null,null,null,"",null,null,null,"","",""]
[47,{"$f":"IF(OR('ORDER FRAMES'!G46=\"DL\",'ORDER FRAMES'!G46=\"DR\"),\"\",IF('ORDER FRAMES'!A47=\"\",\"\",'ORDER FRAMES'!A47))","v":""},{"$f":"IF('ORDER FRAMES'!B47=\"\",\"\",IF(OR('ORDER FRAMES'!G47=\"DL\",'ORDER FRAMES'!G47=\"DR\"),\"\",'ORDER FRAMES'!B47))","v":""},{"$f":"IF('ORDER FRAMES'!C47=\"\",\"\",IF(OR('ORDER FRAMES'!G47=\"DL\",'ORDER FRAMES'!G47=\"DR\"),\"\",'ORDER FRAMES'!C47))","v":""},null,{"$f":"IF('ORDER FRAMES'!E47=\"\",\"\",IF(OR('ORDER FRAMES'!G47=\"DL\",'ORDER FRAMES'!G47=\"DR\"),\"\",'ORDER FRAMES'!E47))","v":""},{"$f":"IF('ORDER FRAMES'!F47=\"\",\"\",IF(OR('ORDER FRAMES'!G47=\"DL\",'ORDER FRAMES'!G47=\"DR\"),\"\",'ORDER FRAMES'!F47))","v":""},{"$f":"IF('ORDER FRAMES'!G47=\"\",\"\",IF(OR('ORDER FRAMES'!G47=\"DL\",'ORDER FRAMES'!G47=\"DR\"),\"\",'ORDER FRAMES'!G47))","v":""},{"$f":"IF('ORDER FRAMES'!H47=\"\",\"\",IF(OR('ORDER FRAMES'!G47=\"DL\",'ORDER FRAMES'!G47=\"DR\"),\"\",'ORDER FRAMES'!H47))","v":""},{"$f":"IF('ORDER FRAMES'!I47=\"\",\"\",IF(OR('ORDER FRAMES'!G47=\"DL\",'ORDER FRAMES'!G47=\"DR\"),\"\",'ORDER FRAMES'!I47))","v":""},{"$f":"IF('ORDER FRAMES'!J47=\"\",\"\",IF(OR('ORDER FRAMES'!G47=\"DL\",'ORDER FRAMES'!G47=\"DR\"),\"\",'ORDER FRAMES'!J47))","v":""},{"$f":"IF('ORDER FRAMES'!K47=\"\",\"\",IF(OR('ORDER FRAMES'!G47=\"DL\",'ORDER FRAMES'!G47=\"DR\"),\"\",'ORDER FRAMES'!K47))","v":""},{"$f":"IF('ORDER FRAMES'!L47=\"\",\"\",IF(OR('ORDER FRAMES'!G47=\"DL\",'ORDER FRAMES'!G47=\"DR\"),\"\",'ORDER FRAMES'!L47))","v":""},{"$f":"IF('ORDER FRAMES'!M47=\"\",\"\",IF(OR('ORDER FRAMES'!G47=\"DL\",'ORDER FRAMES'!G47=\"DR\"),\"\",'ORDER FRAMES'!M47))","v":""},null,{"$f":"IF('ORDER FRAMES'!N47=\"\",\"\",IF(OR('ORDER FRAMES'!G47=\"DL\",'ORDER FRAMES'!G47=\"DR\"),\"\",'ORDER FRAMES'!N47))","v":3},{"$f":"IF('ORDER FRAMES'!O47=\"\",\"\",IF(OR('ORDER FRAMES'!G47=\"DL\",'ORDER FRAMES'!G47=\"DR\"),\"\",'ORDER FRAMES'!O47))","v":3},null,"",null,null,"","","",{"$f":"IF('ORDER FRAMES'!Q47=\"\",\"\",IF(OR('ORDER FRAMES'!G47=\"DL\",'ORDER FRAMES'!G47=\"DR\"),\"\",'ORDER FRAMES'!Q47))","v":""},{"$f":"IF('ORDER FRAMES'!S47=\"\",\"\",IF(OR('ORDER FRAMES'!G47=\"DL\",'ORDER FRAMES'!G47=\"DR\"),\"\",'ORDER FRAMES'!S47))","v":""},{"$f":"IF('ORDER FRAMES'!T47=\"\",\"\",IF(OR('ORDER FRAMES'!G47=\"DL\",'ORDER FRAMES'!G47=\"DR\"),\"\",'ORDER FRAMES'!T47))","v":""},{"$f":"IF('ORDER FRAMES'!U47=\"\",\"\",IF(OR('ORDER FRAMES'!G47=\"DL\",'ORDER FRAMES'!G47=\"DR\"),\"\",'ORDER FRAMES'!U47))","v":""},{"$f":"IF(C32=\"\",\"\",'ORDER FRAMES'!V47)","v":""},null,null,null,null,"",null,null,null,"","",""]
[48,{"$f":"IF(OR('ORDER FRAMES'!G47=\"DL\",'ORDER FRAMES'!G47=\"DR\"),\"\",IF('ORDER FRAMES'!A48=\"\",\"\",'ORDER FRAMES'!A48))","v":""},{"$f":"IF('ORDER FRAMES'!B48=\"\",\"\",IF(OR('ORDER FRAMES'!G48=\"DL\",'ORDER FRAMES'!G48=\"DR\"),\"\",'ORDER FRAMES'!B48))","v":""},{"$f":"IF('ORDER FRAMES'!C48=\"\",\"\",IF(OR('ORDER FRAMES'!G48=\"DL\",'ORDER FRAMES'!G48=\"DR\"),\"\",'ORDER FRAMES'!C48))","v":""},null,{"$f":"IF('ORDER FRAMES'!E48=\"\",\"\",IF(OR('ORDER FRAMES'!G48=\"DL\",'ORDER FRAMES'!G48=\"DR\"),\"\",'ORDER FRAMES'!E48))","v":""},{"$f":"IF('ORDER FRAMES'!F48=\"\",\"\",IF(OR('ORDER FRAMES'!G48=\"DL\",'ORDER FRAMES'!G48=\"DR\"),\"\",'ORDER FRAMES'!F48))","v":""},{"$f":"IF('ORDER FRAMES'!G48=\"\",\"\",IF(OR('ORDER FRAMES'!G48=\"DL\",'ORDER FRAMES'!G48=\"DR\"),\"\",'ORDER FRAMES'!G48))","v":""},{"$f":"IF('ORDER FRAMES'!H48=\"\",\"\",IF(OR('ORDER FRAMES'!G48=\"DL\",'ORDER FRAMES'!G48=\"DR\"),\"\",'ORDER FRAMES'!H48))","v":""},{"$f":"IF('ORDER FRAMES'!I48=\"\",\"\",IF(OR('ORDER FRAMES'!G48=\"DL\",'ORDER FRAMES'!G48=\"DR\"),\"\",'ORDER FRAMES'!I48))","v":""},{"$f":"IF('ORDER FRAMES'!J48=\"\",\"\",IF(OR('ORDER FRAMES'!G48=\"DL\",'ORDER FRAMES'!G48=\"DR\"),\"\",'ORDER FRAMES'!J48))","v":""},{"$f":"IF('ORDER FRAMES'!K48=\"\",\"\",IF(OR('ORDER FRAMES'!G48=\"DL\",'ORDER FRAMES'!G48=\"DR\"),\"\",'ORDER FRAMES'!K48))","v":""},{"$f":"IF('ORDER FRAMES'!L48=\"\",\"\",IF(OR('ORDER FRAMES'!G48=\"DL\",'ORDER FRAMES'!G48=\"DR\"),\"\",'ORDER FRAMES'!L48))","v":""},{"$f":"IF('ORDER FRAMES'!M48=\"\",\"\",IF(OR('ORDER FRAMES'!G48=\"DL\",'ORDER FRAMES'!G48=\"DR\"),\"\",'ORDER FRAMES'!M48))","v":""},null,{"$f":"IF('ORDER FRAMES'!N48=\"\",\"\",IF(OR('ORDER FRAMES'!G48=\"DL\",'ORDER FRAMES'!G48=\"DR\"),\"\",'ORDER FRAMES'!N48))","v":3},{"$f":"IF('ORDER FRAMES'!O48=\"\",\"\",IF(OR('ORDER FRAMES'!G48=\"DL\",'ORDER FRAMES'!G48=\"DR\"),\"\",'ORDER FRAMES'!O48))","v":3},null,"",null,null,"","","",{"$f":"IF('ORDER FRAMES'!Q48=\"\",\"\",IF(OR('ORDER FRAMES'!G48=\"DL\",'ORDER FRAMES'!G48=\"DR\"),\"\",'ORDER FRAMES'!Q48))","v":""},{"$f":"IF('ORDER FRAMES'!S48=\"\",\"\",IF(OR('ORDER FRAMES'!G48=\"DL\",'ORDER FRAMES'!G48=\"DR\"),\"\",'ORDER FRAMES'!S48))","v":""},{"$f":"IF('ORDER FRAMES'!T48=\"\",\"\",IF(OR('ORDER FRAMES'!G48=\"DL\",'ORDER FRAMES'!G48=\"DR\"),\"\",'ORDER FRAMES'!T48))","v":""},{"$f":"IF('ORDER FRAMES'!U48=\"\",\"\",IF(OR('ORDER FRAMES'!G48=\"DL\",'ORDER FRAMES'!G48=\"DR\"),\"\",'ORDER FRAMES'!U48))","v":""},{"$f":"IF(C33=\"\",\"\",'ORDER FRAMES'!V48)","v":""},null,null,null,null,"",null,null,null,"","",""]
[49,{"$f":"IF(OR('ORDER FRAMES'!G48=\"DL\",'ORDER FRAMES'!G48=\"DR\"),\"\",IF('ORDER FRAMES'!A49=\"\",\"\",'ORDER FRAMES'!A49))","v":""},{"$f":"IF('ORDER FRAMES'!B49=\"\",\"\",IF(OR('ORDER FRAMES'!G49=\"DL\",'ORDER FRAMES'!G49=\"DR\"),\"\",'ORDER FRAMES'!B49))","v":""},{"$f":"IF('ORDER FRAMES'!C49=\"\",\"\",IF(OR('ORDER FRAMES'!G49=\"DL\",'ORDER FRAMES'!G49=\"DR\"),\"\",'ORDER FRAMES'!C49))","v":""},null,{"$f":"IF('ORDER FRAMES'!E49=\"\",\"\",IF(OR('ORDER FRAMES'!G49=\"DL\",'ORDER FRAMES'!G49=\"DR\"),\"\",'ORDER FRAMES'!E49))","v":""},{"$f":"IF('ORDER FRAMES'!F49=\"\",\"\",IF(OR('ORDER FRAMES'!G49=\"DL\",'ORDER FRAMES'!G49=\"DR\"),\"\",'ORDER FRAMES'!F49))","v":""},{"$f":"IF('ORDER FRAMES'!G49=\"\",\"\",IF(OR('ORDER FRAMES'!G49=\"DL\",'ORDER FRAMES'!G49=\"DR\"),\"\",'ORDER FRAMES'!G49))","v":""},{"$f":"IF('ORDER FRAMES'!H49=\"\",\"\",IF(OR('ORDER FRAMES'!G49=\"DL\",'ORDER FRAMES'!G49=\"DR\"),\"\",'ORDER FRAMES'!H49))","v":""},{"$f":"IF('ORDER FRAMES'!I49=\"\",\"\",IF(OR('ORDER FRAMES'!G49=\"DL\",'ORDER FRAMES'!G49=\"DR\"),\"\",'ORDER FRAMES'!I49))","v":""},{"$f":"IF('ORDER FRAMES'!J49=\"\",\"\",IF(OR('ORDER FRAMES'!G49=\"DL\",'ORDER FRAMES'!G49=\"DR\"),\"\",'ORDER FRAMES'!J49))","v":""},{"$f":"IF('ORDER FRAMES'!K49=\"\",\"\",IF(OR('ORDER FRAMES'!G49=\"DL\",'ORDER FRAMES'!G49=\"DR\"),\"\",'ORDER FRAMES'!K49))","v":""},{"$f":"IF('ORDER FRAMES'!L49=\"\",\"\",IF(OR('ORDER FRAMES'!G49=\"DL\",'ORDER FRAMES'!G49=\"DR\"),\"\",'ORDER FRAMES'!L49))","v":""},{"$f":"IF('ORDER FRAMES'!M49=\"\",\"\",IF(OR('ORDER FRAMES'!G49=\"DL\",'ORDER FRAMES'!G49=\"DR\"),\"\",'ORDER FRAMES'!M49))","v":""},null,{"$f":"IF('ORDER FRAMES'!N49=\"\",\"\",IF(OR('ORDER FRAMES'!G49=\"DL\",'ORDER FRAMES'!G49=\"DR\"),\"\",'ORDER FRAMES'!N49))","v":3},{"$f":"IF('ORDER FRAMES'!O49=\"\",\"\",IF(OR('ORDER FRAMES'!G49=\"DL\",'ORDER FRAMES'!G49=\"DR\"),\"\",'ORDER FRAMES'!O49))","v":3},null,"",null,null,"","","",{"$f":"IF('ORDER FRAMES'!Q49=\"\",\"\",IF(OR('ORDER FRAMES'!G49=\"DL\",'ORDER FRAMES'!G49=\"DR\"),\"\",'ORDER FRAMES'!Q49))","v":""},{"$f":"IF('ORDER FRAMES'!S49=\"\",\"\",IF(OR('ORDER FRAMES'!G49=\"DL\",'ORDER FRAMES'!G49=\"DR\"),\"\",'ORDER FRAMES'!S49))","v":""},{"$f":"IF('ORDER FRAMES'!T49=\"\",\"\",IF(OR('ORDER FRAMES'!G49=\"DL\",'ORDER FRAMES'!G49=\"DR\"),\"\",'ORDER FRAMES'!T49))","v":""},{"$f":"IF('ORDER FRAMES'!U49=\"\",\"\",IF(OR('ORDER FRAMES'!G49=\"DL\",'ORDER FRAMES'!G49=\"DR\"),\"\",'ORDER FRAMES'!U49))","v":""},{"$f":"IF(C34=\"\",\"\",'ORDER FRAMES'!V49)","v":""},null,null,null,null,"",null,null,null,"","",""]
[50,{"$f":"IF(OR('ORDER FRAMES'!G49=\"DL\",'ORDER FRAMES'!G49=\"DR\"),\"\",IF('ORDER FRAMES'!A50=\"\",\"\",'ORDER FRAMES'!A50))","v":""},{"$f":"IF('ORDER FRAMES'!B50=\"\",\"\",IF(OR('ORDER FRAMES'!G50=\"DL\",'ORDER FRAMES'!G50=\"DR\"),\"\",'ORDER FRAMES'!B50))","v":""},{"$f":"IF('ORDER FRAMES'!C50=\"\",\"\",IF(OR('ORDER FRAMES'!G50=\"DL\",'ORDER FRAMES'!G50=\"DR\"),\"\",'ORDER FRAMES'!C50))","v":""},null,{"$f":"IF('ORDER FRAMES'!E50=\"\",\"\",IF(OR('ORDER FRAMES'!G50=\"DL\",'ORDER FRAMES'!G50=\"DR\"),\"\",'ORDER FRAMES'!E50))","v":""},{"$f":"IF('ORDER FRAMES'!F50=\"\",\"\",IF(OR('ORDER FRAMES'!G50=\"DL\",'ORDER FRAMES'!G50=\"DR\"),\"\",'ORDER FRAMES'!F50))","v":""},{"$f":"IF('ORDER FRAMES'!G50=\"\",\"\",IF(OR('ORDER FRAMES'!G50=\"DL\",'ORDER FRAMES'!G50=\"DR\"),\"\",'ORDER FRAMES'!G50))","v":""},{"$f":"IF('ORDER FRAMES'!H50=\"\",\"\",IF(OR('ORDER FRAMES'!G50=\"DL\",'ORDER FRAMES'!G50=\"DR\"),\"\",'ORDER FRAMES'!H50))","v":""},{"$f":"IF('ORDER FRAMES'!I50=\"\",\"\",IF(OR('ORDER FRAMES'!G50=\"DL\",'ORDER FRAMES'!G50=\"DR\"),\"\",'ORDER FRAMES'!I50))","v":""},{"$f":"IF('ORDER FRAMES'!J50=\"\",\"\",IF(OR('ORDER FRAMES'!G50=\"DL\",'ORDER FRAMES'!G50=\"DR\"),\"\",'ORDER FRAMES'!J50))","v":""},{"$f":"IF('ORDER FRAMES'!K50=\"\",\"\",IF(OR('ORDER FRAMES'!G50=\"DL\",'ORDER FRAMES'!G50=\"DR\"),\"\",'ORDER FRAMES'!K50))","v":""},{"$f":"IF('ORDER FRAMES'!L50=\"\",\"\",IF(OR('ORDER FRAMES'!G50=\"DL\",'ORDER FRAMES'!G50=\"DR\"),\"\",'ORDER FRAMES'!L50))","v":""},{"$f":"IF('ORDER FRAMES'!M50=\"\",\"\",IF(OR('ORDER FRAMES'!G50=\"DL\",'ORDER FRAMES'!G50=\"DR\"),\"\",'ORDER FRAMES'!M50))","v":""},null,{"$f":"IF('ORDER FRAMES'!N50=\"\",\"\",IF(OR('ORDER FRAMES'!G50=\"DL\",'ORDER FRAMES'!G50=\"DR\"),\"\",'ORDER FRAMES'!N50))","v":3},{"$f":"IF('ORDER FRAMES'!O50=\"\",\"\",IF(OR('ORDER FRAMES'!G50=\"DL\",'ORDER FRAMES'!G50=\"DR\"),\"\",'ORDER FRAMES'!O50))","v":3},null,"",null,null,"","","",{"$f":"IF('ORDER FRAMES'!Q50=\"\",\"\",IF(OR('ORDER FRAMES'!G50=\"DL\",'ORDER FRAMES'!G50=\"DR\"),\"\",'ORDER FRAMES'!Q50))","v":""},{"$f":"IF('ORDER FRAMES'!S50=\"\",\"\",IF(OR('ORDER FRAMES'!G50=\"DL\",'ORDER FRAMES'!G50=\"DR\"),\"\",'ORDER FRAMES'!S50))","v":""},{"$f":"IF('ORDER FRAMES'!T50=\"\",\"\",IF(OR('ORDER FRAMES'!G50=\"DL\",'ORDER FRAMES'!G50=\"DR\"),\"\",'ORDER FRAMES'!T50))","v":""},{"$f":"IF('ORDER FRAMES'!U50=\"\",\"\",IF(OR('ORDER FRAMES'!G50=\"DL\",'ORDER FRAMES'!G50=\"DR\"),\"\",'ORDER FRAMES'!U50))","v":""},{"$f":"IF(C35=\"\",\"\",'ORDER FRAMES'!V50)","v":""},null,null,null,null,"",null,null,null,"","",""]
[51,{"$f":"IF(OR('ORDER FRAMES'!G50=\"DL\",'ORDER FRAMES'!G50=\"DR\"),\"\",IF('ORDER FRAMES'!A51=\"\",\"\",'ORDER FRAMES'!A51))","v":""},{"$f":"IF('ORDER FRAMES'!B51=\"\",\"\",IF(OR('ORDER FRAMES'!G51=\"DL\",'ORDER FRAMES'!G51=\"DR\"),\"\",'ORDER FRAMES'!B51))","v":""},{"$f":"IF('ORDER FRAMES'!C51=\"\",\"\",IF(OR('ORDER FRAMES'!G51=\"DL\",'ORDER FRAMES'!G51=\"DR\"),\"\",'ORDER FRAMES'!C51))","v":""},null,{"$f":"IF('ORDER FRAMES'!E51=\"\",\"\",IF(OR('ORDER FRAMES'!G51=\"DL\",'ORDER FRAMES'!G51=\"DR\"),\"\",'ORDER FRAMES'!E51))","v":""},{"$f":"IF('ORDER FRAMES'!F51=\"\",\"\",IF(OR('ORDER FRAMES'!G51=\"DL\",'ORDER FRAMES'!G51=\"DR\"),\"\",'ORDER FRAMES'!F51))","v":""},{"$f":"IF('ORDER FRAMES'!G51=\"\",\"\",IF(OR('ORDER FRAMES'!G51=\"DL\",'ORDER FRAMES'!G51=\"DR\"),\"\",'ORDER FRAMES'!G51))","v":""},{"$f":"IF('ORDER FRAMES'!H51=\"\",\"\",IF(OR('ORDER FRAMES'!G51=\"DL\",'ORDER FRAMES'!G51=\"DR\"),\"\",'ORDER FRAMES'!H51))","v":""},{"$f":"IF('ORDER FRAMES'!I51=\"\",\"\",IF(OR('ORDER FRAMES'!G51=\"DL\",'ORDER FRAMES'!G51=\"DR\"),\"\",'ORDER FRAMES'!I51))","v":""},{"$f":"IF('ORDER FRAMES'!J51=\"\",\"\",IF(OR('ORDER FRAMES'!G51=\"DL\",'ORDER FRAMES'!G51=\"DR\"),\"\",'ORDER FRAMES'!J51))","v":""},{"$f":"IF('ORDER FRAMES'!K51=\"\",\"\",IF(OR('ORDER FRAMES'!G51=\"DL\",'ORDER FRAMES'!G51=\"DR\"),\"\",'ORDER FRAMES'!K51))","v":""},{"$f":"IF('ORDER FRAMES'!L51=\"\",\"\",IF(OR('ORDER FRAMES'!G51=\"DL\",'ORDER FRAMES'!G51=\"DR\"),\"\",'ORDER FRAMES'!L51))","v":""},{"$f":"IF('ORDER FRAMES'!M51=\"\",\"\",IF(OR('ORDER FRAMES'!G51=\"DL\",'ORDER FRAMES'!G51=\"DR\"),\"\",'ORDER FRAMES'!M51))","v":""},null,{"$f":"IF('ORDER FRAMES'!N51=\"\",\"\",IF(OR('ORDER FRAMES'!G51=\"DL\",'ORDER FRAMES'!G51=\"DR\"),\"\",'ORDER FRAMES'!N51))","v":3},{"$f":"IF('ORDER FRAMES'!O51=\"\",\"\",IF(OR('ORDER FRAMES'!G51=\"DL\",'ORDER FRAMES'!G51=\"DR\"),\"\",'ORDER FRAMES'!O51))","v":3},null,"",null,null,"","","",{"$f":"IF('ORDER FRAMES'!Q51=\"\",\"\",IF(OR('ORDER FRAMES'!G51=\"DL\",'ORDER FRAMES'!G51=\"DR\"),\"\",'ORDER FRAMES'!Q51))","v":""},{"$f":"IF('ORDER FRAMES'!S51=\"\",\"\",IF(OR('ORDER FRAMES'!G51=\"DL\",'ORDER FRAMES'!G51=\"DR\"),\"\",'ORDER FRAMES'!S51))","v":""},{"$f":"IF('ORDER FRAMES'!T51=\"\",\"\",IF(OR('ORDER FRAMES'!G51=\"DL\",'ORDER FRAMES'!G51=\"DR\"),\"\",'ORDER FRAMES'!T51))","v":""},{"$f":"IF('ORDER FRAMES'!U51=\"\",\"\",IF(OR('ORDER FRAMES'!G51=\"DL\",'ORDER FRAMES'!G51=\"DR\"),\"\",'ORDER FRAMES'!U51))","v":""},{"$f":"IF(C36=\"\",\"\",'ORDER FRAMES'!V51)","v":""},null,null,null,null,"",null,null,null,"","",""]
[52,{"$f":"IF(OR('ORDER FRAMES'!G51=\"DL\",'ORDER FRAMES'!G51=\"DR\"),\"\",IF('ORDER FRAMES'!A52=\"\",\"\",'ORDER FRAMES'!A52))","v":""},{"$f":"IF('ORDER FRAMES'!B52=\"\",\"\",IF(OR('ORDER FRAMES'!G52=\"DL\",'ORDER FRAMES'!G52=\"DR\"),\"\",'ORDER FRAMES'!B52))","v":""},{"$f":"IF('ORDER FRAMES'!C52=\"\",\"\",IF(OR('ORDER FRAMES'!G52=\"DL\",'ORDER FRAMES'!G52=\"DR\"),\"\",'ORDER FRAMES'!C52))","v":""},null,{"$f":"IF('ORDER FRAMES'!E52=\"\",\"\",IF(OR('ORDER FRAMES'!G52=\"DL\",'ORDER FRAMES'!G52=\"DR\"),\"\",'ORDER FRAMES'!E52))","v":""},{"$f":"IF('ORDER FRAMES'!F52=\"\",\"\",IF(OR('ORDER FRAMES'!G52=\"DL\",'ORDER FRAMES'!G52=\"DR\"),\"\",'ORDER FRAMES'!F52))","v":""},{"$f":"IF('ORDER FRAMES'!G52=\"\",\"\",IF(OR('ORDER FRAMES'!G52=\"DL\",'ORDER FRAMES'!G52=\"DR\"),\"\",'ORDER FRAMES'!G52))","v":""},{"$f":"IF('ORDER FRAMES'!H52=\"\",\"\",IF(OR('ORDER FRAMES'!G52=\"DL\",'ORDER FRAMES'!G52=\"DR\"),\"\",'ORDER FRAMES'!H52))","v":""},{"$f":"IF('ORDER FRAMES'!I52=\"\",\"\",IF(OR('ORDER FRAMES'!G52=\"DL\",'ORDER FRAMES'!G52=\"DR\"),\"\",'ORDER FRAMES'!I52))","v":""},{"$f":"IF('ORDER FRAMES'!J52=\"\",\"\",IF(OR('ORDER FRAMES'!G52=\"DL\",'ORDER FRAMES'!G52=\"DR\"),\"\",'ORDER FRAMES'!J52))","v":""},{"$f":"IF('ORDER FRAMES'!K52=\"\",\"\",IF(OR('ORDER FRAMES'!G52=\"DL\",'ORDER FRAMES'!G52=\"DR\"),\"\",'ORDER FRAMES'!K52))","v":""},{"$f":"IF('ORDER FRAMES'!L52=\"\",\"\",IF(OR('ORDER FRAMES'!G52=\"DL\",'ORDER FRAMES'!G52=\"DR\"),\"\",'ORDER FRAMES'!L52))","v":""},{"$f":"IF('ORDER FRAMES'!M52=\"\",\"\",IF(OR('ORDER FRAMES'!G52=\"DL\",'ORDER FRAMES'!G52=\"DR\"),\"\",'ORDER FRAMES'!M52))","v":""},null,{"$f":"IF('ORDER FRAMES'!N52=\"\",\"\",IF(OR('ORDER FRAMES'!G52=\"DL\",'ORDER FRAMES'!G52=\"DR\"),\"\",'ORDER FRAMES'!N52))","v":3},{"$f":"IF('ORDER FRAMES'!O52=\"\",\"\",IF(OR('ORDER FRAMES'!G52=\"DL\",'ORDER FRAMES'!G52=\"DR\"),\"\",'ORDER FRAMES'!O52))","v":3},null,"",null,null,"","","",{"$f":"IF('ORDER FRAMES'!Q52=\"\",\"\",IF(OR('ORDER FRAMES'!G52=\"DL\",'ORDER FRAMES'!G52=\"DR\"),\"\",'ORDER FRAMES'!Q52))","v":""},{"$f":"IF('ORDER FRAMES'!S52=\"\",\"\",IF(OR('ORDER FRAMES'!G52=\"DL\",'ORDER FRAMES'!G52=\"DR\"),\"\",'ORDER FRAMES'!S52))","v":""},{"$f":"IF('ORDER FRAMES'!T52=\"\",\"\",IF(OR('ORDER FRAMES'!G52=\"DL\",'ORDER FRAMES'!G52=\"DR\"),\"\",'ORDER FRAMES'!T52))","v":""},{"$f":"IF('ORDER FRAMES'!U52=\"\",\"\",IF(OR('ORDER FRAMES'!G52=\"DL\",'ORDER FRAMES'!G52=\"DR\"),\"\",'ORDER FRAMES'!U52))","v":""},{"$f":"IF(C37=\"\",\"\",'ORDER FRAMES'!V52)","v":""},null,null,null,null,"",null,null,null,"","",""]
[53,{"$f":"IF(OR('ORDER FRAMES'!G52=\"DL\",'ORDER FRAMES'!G52=\"DR\"),\"\",IF('ORDER FRAMES'!A53=\"\",\"\",'ORDER FRAMES'!A53))","v":""},{"$f":"IF('ORDER FRAMES'!B53=\"\",\"\",IF(OR('ORDER FRAMES'!G53=\"DL\",'ORDER FRAMES'!G53=\"DR\"),\"\",'ORDER FRAMES'!B53))","v":""},{"$f":"IF('ORDER FRAMES'!C53=\"\",\"\",IF(OR('ORDER FRAMES'!G53=\"DL\",'ORDER FRAMES'!G53=\"DR\"),\"\",'ORDER FRAMES'!C53))","v":""},null,{"$f":"IF('ORDER FRAMES'!E53=\"\",\"\",IF(OR('ORDER FRAMES'!G53=\"DL\",'ORDER FRAMES'!G53=\"DR\"),\"\",'ORDER FRAMES'!E53))","v":""},{"$f":"IF('ORDER FRAMES'!F53=\"\",\"\",IF(OR('ORDER FRAMES'!G53=\"DL\",'ORDER FRAMES'!G53=\"DR\"),\"\",'ORDER FRAMES'!F53))","v":""},{"$f":"IF('ORDER FRAMES'!G53=\"\",\"\",IF(OR('ORDER FRAMES'!G53=\"DL\",'ORDER FRAMES'!G53=\"DR\"),\"\",'ORDER FRAMES'!G53))","v":""},{"$f":"IF('ORDER FRAMES'!H53=\"\",\"\",IF(OR('ORDER FRAMES'!G53=\"DL\",'ORDER FRAMES'!G53=\"DR\"),\"\",'ORDER FRAMES'!H53))","v":""},{"$f":"IF('ORDER FRAMES'!I53=\"\",\"\",IF(OR('ORDER FRAMES'!G53=\"DL\",'ORDER FRAMES'!G53=\"DR\"),\"\",'ORDER FRAMES'!I53))","v":""},{"$f":"IF('ORDER FRAMES'!J53=\"\",\"\",IF(OR('ORDER FRAMES'!G53=\"DL\",'ORDER FRAMES'!G53=\"DR\"),\"\",'ORDER FRAMES'!J53))","v":""},{"$f":"IF('ORDER FRAMES'!K53=\"\",\"\",IF(OR('ORDER FRAMES'!G53=\"DL\",'ORDER FRAMES'!G53=\"DR\"),\"\",'ORDER FRAMES'!K53))","v":""},{"$f":"IF('ORDER FRAMES'!L53=\"\",\"\",IF(OR('ORDER FRAMES'!G53=\"DL\",'ORDER FRAMES'!G53=\"DR\"),\"\",'ORDER FRAMES'!L53))","v":""},{"$f":"IF('ORDER FRAMES'!M53=\"\",\"\",IF(OR('ORDER FRAMES'!G53=\"DL\",'ORDER FRAMES'!G53=\"DR\"),\"\",'ORDER FRAMES'!M53))","v":""},null,{"$f":"IF('ORDER FRAMES'!N53=\"\",\"\",IF(OR('ORDER FRAMES'!G53=\"DL\",'ORDER FRAMES'!G53=\"DR\"),\"\",'ORDER FRAMES'!N53))","v":3},{"$f":"IF('ORDER FRAMES'!O53=\"\",\"\",IF(OR('ORDER FRAMES'!G53=\"DL\",'ORDER FRAMES'!G53=\"DR\"),\"\",'ORDER FRAMES'!O53))","v":3},null,{"$f":"IF(F38=\"V\",R38,IF(F38=\"W\",S38=0,\"\"))","v":""},null,null,{"$f":"L38","v":""},{"$f":"IF( M38=\"\",\"\",M38-R38-T38)","v":""},"",{"$f":"IF('ORDER FRAMES'!Q53=\"\",\"\",IF(OR('ORDER FRAMES'!G53=\"DL\",'ORDER FRAMES'!G53=\"DR\"),\"\",'ORDER FRAMES'!Q53))","v":""},{"$f":"IF('ORDER FRAMES'!S53=\"\",\"\",IF(OR('ORDER FRAMES'!G53=\"DL\",'ORDER FRAMES'!G53=\"DR\"),\"\",'ORDER FRAMES'!S53))","v":""},{"$f":"IF('ORDER FRAMES'!T53=\"\",\"\",IF(OR('ORDER FRAMES'!G53=\"DL\",'ORDER FRAMES'!G53=\"DR\"),\"\",'ORDER FRAMES'!T53))","v":""},{"$f":"IF('ORDER FRAMES'!U53=\"\",\"\",IF(OR('ORDER FRAMES'!G53=\"DL\",'ORDER FRAMES'!G53=\"DR\"),\"\",'ORDER FRAMES'!U53))","v":""},{"$f":"IF(C38=\"\",\"\",'ORDER FRAMES'!V53)","v":""},null,null,null,null,"",null,null,null,"","",""]
[54,{"$f":"IF(OR('ORDER FRAMES'!G53=\"DL\",'ORDER FRAMES'!G53=\"DR\"),\"\",IF('ORDER FRAMES'!A54=\"\",\"\",'ORDER FRAMES'!A54))","v":""},{"$f":"IF('ORDER FRAMES'!B54=\"\",\"\",IF(OR('ORDER FRAMES'!G54=\"DL\",'ORDER FRAMES'!G54=\"DR\"),\"\",'ORDER FRAMES'!B54))","v":""},{"$f":"IF('ORDER FRAMES'!C54=\"\",\"\",IF(OR('ORDER FRAMES'!G54=\"DL\",'ORDER FRAMES'!G54=\"DR\"),\"\",'ORDER FRAMES'!C54))","v":""},null,{"$f":"IF('ORDER FRAMES'!E54=\"\",\"\",IF(OR('ORDER FRAMES'!G54=\"DL\",'ORDER FRAMES'!G54=\"DR\"),\"\",'ORDER FRAMES'!E54))","v":""},{"$f":"IF('ORDER FRAMES'!F54=\"\",\"\",IF(OR('ORDER FRAMES'!G54=\"DL\",'ORDER FRAMES'!G54=\"DR\"),\"\",'ORDER FRAMES'!F54))","v":""},{"$f":"IF('ORDER FRAMES'!G54=\"\",\"\",IF(OR('ORDER FRAMES'!G54=\"DL\",'ORDER FRAMES'!G54=\"DR\"),\"\",'ORDER FRAMES'!G54))","v":""},{"$f":"IF('ORDER FRAMES'!H54=\"\",\"\",IF(OR('ORDER FRAMES'!G54=\"DL\",'ORDER FRAMES'!G54=\"DR\"),\"\",'ORDER FRAMES'!H54))","v":""},{"$f":"IF('ORDER FRAMES'!I54=\"\",\"\",IF(OR('ORDER FRAMES'!G54=\"DL\",'ORDER FRAMES'!G54=\"DR\"),\"\",'ORDER FRAMES'!I54))","v":""},{"$f":"IF('ORDER FRAMES'!J54=\"\",\"\",IF(OR('ORDER FRAMES'!G54=\"DL\",'ORDER FRAMES'!G54=\"DR\"),\"\",'ORDER FRAMES'!J54))","v":""},{"$f":"IF('ORDER FRAMES'!K54=\"\",\"\",IF(OR('ORDER FRAMES'!G54=\"DL\",'ORDER FRAMES'!G54=\"DR\"),\"\",'ORDER FRAMES'!K54))","v":""},{"$f":"IF('ORDER FRAMES'!L54=\"\",\"\",IF(OR('ORDER FRAMES'!G54=\"DL\",'ORDER FRAMES'!G54=\"DR\"),\"\",'ORDER FRAMES'!L54))","v":""},{"$f":"IF('ORDER FRAMES'!M54=\"\",\"\",IF(OR('ORDER FRAMES'!G54=\"DL\",'ORDER FRAMES'!G54=\"DR\"),\"\",'ORDER FRAMES'!M54))","v":""},null,{"$f":"IF('ORDER FRAMES'!N54=\"\",\"\",IF(OR('ORDER FRAMES'!G54=\"DL\",'ORDER FRAMES'!G54=\"DR\"),\"\",'ORDER FRAMES'!N54))","v":3},{"$f":"IF('ORDER FRAMES'!O54=\"\",\"\",IF(OR('ORDER FRAMES'!G54=\"DL\",'ORDER FRAMES'!G54=\"DR\"),\"\",'ORDER FRAMES'!O54))","v":3},null,"",null,null,"","","",{"$f":"IF('ORDER FRAMES'!Q54=\"\",\"\",IF(OR('ORDER FRAMES'!G54=\"DL\",'ORDER FRAMES'!G54=\"DR\"),\"\",'ORDER FRAMES'!Q54))","v":""},{"$f":"IF('ORDER FRAMES'!S54=\"\",\"\",IF(OR('ORDER FRAMES'!G54=\"DL\",'ORDER FRAMES'!G54=\"DR\"),\"\",'ORDER FRAMES'!S54))","v":""},{"$f":"IF('ORDER FRAMES'!T54=\"\",\"\",IF(OR('ORDER FRAMES'!G54=\"DL\",'ORDER FRAMES'!G54=\"DR\"),\"\",'ORDER FRAMES'!T54))","v":""},{"$f":"IF('ORDER FRAMES'!U54=\"\",\"\",IF(OR('ORDER FRAMES'!G54=\"DL\",'ORDER FRAMES'!G54=\"DR\"),\"\",'ORDER FRAMES'!U54))","v":""},{"$f":"IF(C39=\"\",\"\",'ORDER FRAMES'!V54)","v":""},null,null,null,null,"",null,null,null,"","",""]
[55,{"$f":"IF(OR('ORDER FRAMES'!G54=\"DL\",'ORDER FRAMES'!G54=\"DR\"),\"\",IF('ORDER FRAMES'!A55=\"\",\"\",'ORDER FRAMES'!A55))","v":""},{"$f":"IF('ORDER FRAMES'!B55=\"\",\"\",IF(OR('ORDER FRAMES'!G55=\"DL\",'ORDER FRAMES'!G55=\"DR\"),\"\",'ORDER FRAMES'!B55))","v":""},{"$f":"IF('ORDER FRAMES'!C55=\"\",\"\",IF(OR('ORDER FRAMES'!G55=\"DL\",'ORDER FRAMES'!G55=\"DR\"),\"\",'ORDER FRAMES'!C55))","v":""},null,{"$f":"IF('ORDER FRAMES'!E55=\"\",\"\",IF(OR('ORDER FRAMES'!G55=\"DL\",'ORDER FRAMES'!G55=\"DR\"),\"\",'ORDER FRAMES'!E55))","v":""},{"$f":"IF('ORDER FRAMES'!F55=\"\",\"\",IF(OR('ORDER FRAMES'!G55=\"DL\",'ORDER FRAMES'!G55=\"DR\"),\"\",'ORDER FRAMES'!F55))","v":""},{"$f":"IF('ORDER FRAMES'!G55=\"\",\"\",IF(OR('ORDER FRAMES'!G55=\"DL\",'ORDER FRAMES'!G55=\"DR\"),\"\",'ORDER FRAMES'!G55))","v":""},{"$f":"IF('ORDER FRAMES'!H55=\"\",\"\",IF(OR('ORDER FRAMES'!G55=\"DL\",'ORDER FRAMES'!G55=\"DR\"),\"\",'ORDER FRAMES'!H55))","v":""},{"$f":"IF('ORDER FRAMES'!I55=\"\",\"\",IF(OR('ORDER FRAMES'!G55=\"DL\",'ORDER FRAMES'!G55=\"DR\"),\"\",'ORDER FRAMES'!I55))","v":""},{"$f":"IF('ORDER FRAMES'!J55=\"\",\"\",IF(OR('ORDER FRAMES'!G55=\"DL\",'ORDER FRAMES'!G55=\"DR\"),\"\",'ORDER FRAMES'!J55))","v":""},{"$f":"IF('ORDER FRAMES'!K55=\"\",\"\",IF(OR('ORDER FRAMES'!G55=\"DL\",'ORDER FRAMES'!G55=\"DR\"),\"\",'ORDER FRAMES'!K55))","v":""},{"$f":"IF('ORDER FRAMES'!L55=\"\",\"\",IF(OR('ORDER FRAMES'!G55=\"DL\",'ORDER FRAMES'!G55=\"DR\"),\"\",'ORDER FRAMES'!L55))","v":""},{"$f":"IF('ORDER FRAMES'!M55=\"\",\"\",IF(OR('ORDER FRAMES'!G55=\"DL\",'ORDER FRAMES'!G55=\"DR\"),\"\",'ORDER FRAMES'!M55))","v":""},null,{"$f":"IF('ORDER FRAMES'!N55=\"\",\"\",IF(OR('ORDER FRAMES'!G55=\"DL\",'ORDER FRAMES'!G55=\"DR\"),\"\",'ORDER FRAMES'!N55))","v":3},{"$f":"IF('ORDER FRAMES'!O55=\"\",\"\",IF(OR('ORDER FRAMES'!G55=\"DL\",'ORDER FRAMES'!G55=\"DR\"),\"\",'ORDER FRAMES'!O55))","v":3},null,"",null,null,"","","",{"$f":"IF('ORDER FRAMES'!Q55=\"\",\"\",IF(OR('ORDER FRAMES'!G55=\"DL\",'ORDER FRAMES'!G55=\"DR\"),\"\",'ORDER FRAMES'!Q55))","v":""},{"$f":"IF('ORDER FRAMES'!S55=\"\",\"\",IF(OR('ORDER FRAMES'!G55=\"DL\",'ORDER FRAMES'!G55=\"DR\"),\"\",'ORDER FRAMES'!S55))","v":""},{"$f":"IF('ORDER FRAMES'!T55=\"\",\"\",IF(OR('ORDER FRAMES'!G55=\"DL\",'ORDER FRAMES'!G55=\"DR\"),\"\",'ORDER FRAMES'!T55))","v":""},{"$f":"IF('ORDER FRAMES'!U55=\"\",\"\",IF(OR('ORDER FRAMES'!G55=\"DL\",'ORDER FRAMES'!G55=\"DR\"),\"\",'ORDER FRAMES'!U55))","v":""},{"$f":"IF(C40=\"\",\"\",'ORDER FRAMES'!V55)","v":""},null,null,null,null,"",null,null,null,"","",""]
[56,{"$f":"IF(OR('ORDER FRAMES'!G55=\"DL\",'ORDER FRAMES'!G55=\"DR\"),\"\",IF('ORDER FRAMES'!A56=\"\",\"\",'ORDER FRAMES'!A56))","v":""},{"$f":"IF('ORDER FRAMES'!B56=\"\",\"\",IF(OR('ORDER FRAMES'!G56=\"DL\",'ORDER FRAMES'!G56=\"DR\"),\"\",'ORDER FRAMES'!B56))","v":""},{"$f":"IF('ORDER FRAMES'!C56=\"\",\"\",IF(OR('ORDER FRAMES'!G56=\"DL\",'ORDER FRAMES'!G56=\"DR\"),\"\",'ORDER FRAMES'!C56))","v":""},null,{"$f":"IF('ORDER FRAMES'!E56=\"\",\"\",IF(OR('ORDER FRAMES'!G56=\"DL\",'ORDER FRAMES'!G56=\"DR\"),\"\",'ORDER FRAMES'!E56))","v":""},{"$f":"IF('ORDER FRAMES'!F56=\"\",\"\",IF(OR('ORDER FRAMES'!G56=\"DL\",'ORDER FRAMES'!G56=\"DR\"),\"\",'ORDER FRAMES'!F56))","v":""},{"$f":"IF('ORDER FRAMES'!G56=\"\",\"\",IF(OR('ORDER FRAMES'!G56=\"DL\",'ORDER FRAMES'!G56=\"DR\"),\"\",'ORDER FRAMES'!G56))","v":""},{"$f":"IF('ORDER FRAMES'!H56=\"\",\"\",IF(OR('ORDER FRAMES'!G56=\"DL\",'ORDER FRAMES'!G56=\"DR\"),\"\",'ORDER FRAMES'!H56))","v":""},{"$f":"IF('ORDER FRAMES'!I56=\"\",\"\",IF(OR('ORDER FRAMES'!G56=\"DL\",'ORDER FRAMES'!G56=\"DR\"),\"\",'ORDER FRAMES'!I56))","v":""},{"$f":"IF('ORDER FRAMES'!J56=\"\",\"\",IF(OR('ORDER FRAMES'!G56=\"DL\",'ORDER FRAMES'!G56=\"DR\"),\"\",'ORDER FRAMES'!J56))","v":""},{"$f":"IF('ORDER FRAMES'!K56=\"\",\"\",IF(OR('ORDER FRAMES'!G56=\"DL\",'ORDER FRAMES'!G56=\"DR\"),\"\",'ORDER FRAMES'!K56))","v":""},{"$f":"IF('ORDER FRAMES'!L56=\"\",\"\",IF(OR('ORDER FRAMES'!G56=\"DL\",'ORDER FRAMES'!G56=\"DR\"),\"\",'ORDER FRAMES'!L56))","v":""},{"$f":"IF('ORDER FRAMES'!M56=\"\",\"\",IF(OR('ORDER FRAMES'!G56=\"DL\",'ORDER FRAMES'!G56=\"DR\"),\"\",'ORDER FRAMES'!M56))","v":""},null,{"$f":"IF('ORDER FRAMES'!N56=\"\",\"\",IF(OR('ORDER FRAMES'!G56=\"DL\",'ORDER FRAMES'!G56=\"DR\"),\"\",'ORDER FRAMES'!N56))","v":3},{"$f":"IF('ORDER FRAMES'!O56=\"\",\"\",IF(OR('ORDER FRAMES'!G56=\"DL\",'ORDER FRAMES'!G56=\"DR\"),\"\",'ORDER FRAMES'!O56))","v":3},null,"",null,null,"","","",{"$f":"IF('ORDER FRAMES'!Q56=\"\",\"\",IF(OR('ORDER FRAMES'!G56=\"DL\",'ORDER FRAMES'!G56=\"DR\"),\"\",'ORDER FRAMES'!Q56))","v":""},{"$f":"IF('ORDER FRAMES'!S56=\"\",\"\",IF(OR('ORDER FRAMES'!G56=\"DL\",'ORDER FRAMES'!G56=\"DR\"),\"\",'ORDER FRAMES'!S56))","v":""},{"$f":"IF('ORDER FRAMES'!T56=\"\",\"\",IF(OR('ORDER FRAMES'!G56=\"DL\",'ORDER FRAMES'!G56=\"DR\"),\"\",'ORDER FRAMES'!T56))","v":""},{"$f":"IF('ORDER FRAMES'!U56=\"\",\"\",IF(OR('ORDER FRAMES'!G56=\"DL\",'ORDER FRAMES'!G56=\"DR\"),\"\",'ORDER FRAMES'!U56))","v":""},{"$f":"IF(C41=\"\",\"\",'ORDER FRAMES'!V56)","v":""},null,null,null,null,"",null,null,null,"","",""]
[57,{"$f":"IF(OR('ORDER FRAMES'!G56=\"DL\",'ORDER FRAMES'!G56=\"DR\"),\"\",IF('ORDER FRAMES'!A57=\"\",\"\",'ORDER FRAMES'!A57))","v":""},{"$f":"IF('ORDER FRAMES'!B57=\"\",\"\",IF(OR('ORDER FRAMES'!G57=\"DL\",'ORDER FRAMES'!G57=\"DR\"),\"\",'ORDER FRAMES'!B57))","v":""},{"$f":"IF('ORDER FRAMES'!C57=\"\",\"\",IF(OR('ORDER FRAMES'!G57=\"DL\",'ORDER FRAMES'!G57=\"DR\"),\"\",'ORDER FRAMES'!C57))","v":""},null,{"$f":"IF('ORDER FRAMES'!E57=\"\",\"\",IF(OR('ORDER FRAMES'!G57=\"DL\",'ORDER FRAMES'!G57=\"DR\"),\"\",'ORDER FRAMES'!E57))","v":""},{"$f":"IF('ORDER FRAMES'!F57=\"\",\"\",IF(OR('ORDER FRAMES'!G57=\"DL\",'ORDER FRAMES'!G57=\"DR\"),\"\",'ORDER FRAMES'!F57))","v":""},{"$f":"IF('ORDER FRAMES'!G57=\"\",\"\",IF(OR('ORDER FRAMES'!G57=\"DL\",'ORDER FRAMES'!G57=\"DR\"),\"\",'ORDER FRAMES'!G57))","v":""},{"$f":"IF('ORDER FRAMES'!H57=\"\",\"\",IF(OR('ORDER FRAMES'!G57=\"DL\",'ORDER FRAMES'!G57=\"DR\"),\"\",'ORDER FRAMES'!H57))","v":""},{"$f":"IF('ORDER FRAMES'!I57=\"\",\"\",IF(OR('ORDER FRAMES'!G57=\"DL\",'ORDER FRAMES'!G57=\"DR\"),\"\",'ORDER FRAMES'!I57))","v":""},{"$f":"IF('ORDER FRAMES'!J57=\"\",\"\",IF(OR('ORDER FRAMES'!G57=\"DL\",'ORDER FRAMES'!G57=\"DR\"),\"\",'ORDER FRAMES'!J57))","v":""},{"$f":"IF('ORDER FRAMES'!K57=\"\",\"\",IF(OR('ORDER FRAMES'!G57=\"DL\",'ORDER FRAMES'!G57=\"DR\"),\"\",'ORDER FRAMES'!K57))","v":""},{"$f":"IF('ORDER FRAMES'!L57=\"\",\"\",IF(OR('ORDER FRAMES'!G57=\"DL\",'ORDER FRAMES'!G57=\"DR\"),\"\",'ORDER FRAMES'!L57))","v":""},{"$f":"IF('ORDER FRAMES'!M57=\"\",\"\",IF(OR('ORDER FRAMES'!G57=\"DL\",'ORDER FRAMES'!G57=\"DR\"),\"\",'ORDER FRAMES'!M57))","v":""},null,{"$f":"IF('ORDER FRAMES'!N57=\"\",\"\",IF(OR('ORDER FRAMES'!G57=\"DL\",'ORDER FRAMES'!G57=\"DR\"),\"\",'ORDER FRAMES'!N57))","v":3},{"$f":"IF('ORDER FRAMES'!O57=\"\",\"\",IF(OR('ORDER FRAMES'!G57=\"DL\",'ORDER FRAMES'!G57=\"DR\"),\"\",'ORDER FRAMES'!O57))","v":3},null,"",null,null,"","","",{"$f":"IF('ORDER FRAMES'!Q57=\"\",\"\",IF(OR('ORDER FRAMES'!G57=\"DL\",'ORDER FRAMES'!G57=\"DR\"),\"\",'ORDER FRAMES'!Q57))","v":""},{"$f":"IF('ORDER FRAMES'!S57=\"\",\"\",IF(OR('ORDER FRAMES'!G57=\"DL\",'ORDER FRAMES'!G57=\"DR\"),\"\",'ORDER FRAMES'!S57))","v":""},{"$f":"IF('ORDER FRAMES'!T57=\"\",\"\",IF(OR('ORDER FRAMES'!G57=\"DL\",'ORDER FRAMES'!G57=\"DR\"),\"\",'ORDER FRAMES'!T57))","v":""},{"$f":"IF('ORDER FRAMES'!U57=\"\",\"\",IF(OR('ORDER FRAMES'!G57=\"DL\",'ORDER FRAMES'!G57=\"DR\"),\"\",'ORDER FRAMES'!U57))","v":""},{"$f":"IF(C42=\"\",\"\",'ORDER FRAMES'!V57)","v":""},null,null,null,null,"",null,null,null,"","",""]
[58,{"$f":"IF(OR('ORDER FRAMES'!G57=\"DL\",'ORDER FRAMES'!G57=\"DR\"),\"\",IF('ORDER FRAMES'!A58=\"\",\"\",'ORDER FRAMES'!A58))","v":""},{"$f":"IF('ORDER FRAMES'!B58=\"\",\"\",IF(OR('ORDER FRAMES'!G58=\"DL\",'ORDER FRAMES'!G58=\"DR\"),\"\",'ORDER FRAMES'!B58))","v":""},{"$f":"IF('ORDER FRAMES'!C58=\"\",\"\",IF(OR('ORDER FRAMES'!G58=\"DL\",'ORDER FRAMES'!G58=\"DR\"),\"\",'ORDER FRAMES'!C58))","v":""},null,{"$f":"IF('ORDER FRAMES'!E58=\"\",\"\",IF(OR('ORDER FRAMES'!G58=\"DL\",'ORDER FRAMES'!G58=\"DR\"),\"\",'ORDER FRAMES'!E58))","v":""},{"$f":"IF('ORDER FRAMES'!F58=\"\",\"\",IF(OR('ORDER FRAMES'!G58=\"DL\",'ORDER FRAMES'!G58=\"DR\"),\"\",'ORDER FRAMES'!F58))","v":""},{"$f":"IF('ORDER FRAMES'!G58=\"\",\"\",IF(OR('ORDER FRAMES'!G58=\"DL\",'ORDER FRAMES'!G58=\"DR\"),\"\",'ORDER FRAMES'!G58))","v":""},{"$f":"IF('ORDER FRAMES'!H58=\"\",\"\",IF(OR('ORDER FRAMES'!G58=\"DL\",'ORDER FRAMES'!G58=\"DR\"),\"\",'ORDER FRAMES'!H58))","v":""},{"$f":"IF('ORDER FRAMES'!I58=\"\",\"\",IF(OR('ORDER FRAMES'!G58=\"DL\",'ORDER FRAMES'!G58=\"DR\"),\"\",'ORDER FRAMES'!I58))","v":""},{"$f":"IF('ORDER FRAMES'!J58=\"\",\"\",IF(OR('ORDER FRAMES'!G58=\"DL\",'ORDER FRAMES'!G58=\"DR\"),\"\",'ORDER FRAMES'!J58))","v":""},{"$f":"IF('ORDER FRAMES'!K58=\"\",\"\",IF(OR('ORDER FRAMES'!G58=\"DL\",'ORDER FRAMES'!G58=\"DR\"),\"\",'ORDER FRAMES'!K58))","v":""},{"$f":"IF('ORDER FRAMES'!L58=\"\",\"\",IF(OR('ORDER FRAMES'!G58=\"DL\",'ORDER FRAMES'!G58=\"DR\"),\"\",'ORDER FRAMES'!L58))","v":""},{"$f":"IF('ORDER FRAMES'!M58=\"\",\"\",IF(OR('ORDER FRAMES'!G58=\"DL\",'ORDER FRAMES'!G58=\"DR\"),\"\",'ORDER FRAMES'!M58))","v":""},null,{"$f":"IF('ORDER FRAMES'!N58=\"\",\"\",IF(OR('ORDER FRAMES'!G58=\"DL\",'ORDER FRAMES'!G58=\"DR\"),\"\",'ORDER FRAMES'!N58))","v":3},{"$f":"IF('ORDER FRAMES'!O58=\"\",\"\",IF(OR('ORDER FRAMES'!G58=\"DL\",'ORDER FRAMES'!G58=\"DR\"),\"\",'ORDER FRAMES'!O58))","v":3},null,"",null,null,"","","",{"$f":"IF('ORDER FRAMES'!Q58=\"\",\"\",IF(OR('ORDER FRAMES'!G58=\"DL\",'ORDER FRAMES'!G58=\"DR\"),\"\",'ORDER FRAMES'!Q58))","v":""},{"$f":"IF('ORDER FRAMES'!S58=\"\",\"\",IF(OR('ORDER FRAMES'!G58=\"DL\",'ORDER FRAMES'!G58=\"DR\"),\"\",'ORDER FRAMES'!S58))","v":""},{"$f":"IF('ORDER FRAMES'!T58=\"\",\"\",IF(OR('ORDER FRAMES'!G58=\"DL\",'ORDER FRAMES'!G58=\"DR\"),\"\",'ORDER FRAMES'!T58))","v":""},{"$f":"IF('ORDER FRAMES'!U58=\"\",\"\",IF(OR('ORDER FRAMES'!G58=\"DL\",'ORDER FRAMES'!G58=\"DR\"),\"\",'ORDER FRAMES'!U58))","v":""},{"$f":"IF(C43=\"\",\"\",'ORDER FRAMES'!V58)","v":""},null,null,null,null,"",null,null,null,"","",""]
[59,{"$f":"IF(OR('ORDER FRAMES'!G58=\"DL\",'ORDER FRAMES'!G58=\"DR\"),\"\",IF('ORDER FRAMES'!A59=\"\",\"\",'ORDER FRAMES'!A59))","v":""},{"$f":"IF('ORDER FRAMES'!B59=\"\",\"\",IF(OR('ORDER FRAMES'!G59=\"DL\",'ORDER FRAMES'!G59=\"DR\"),\"\",'ORDER FRAMES'!B59))","v":""},{"$f":"IF('ORDER FRAMES'!C59=\"\",\"\",IF(OR('ORDER FRAMES'!G59=\"DL\",'ORDER FRAMES'!G59=\"DR\"),\"\",'ORDER FRAMES'!C59))","v":""},null,{"$f":"IF('ORDER FRAMES'!E59=\"\",\"\",IF(OR('ORDER FRAMES'!G59=\"DL\",'ORDER FRAMES'!G59=\"DR\"),\"\",'ORDER FRAMES'!E59))","v":""},{"$f":"IF('ORDER FRAMES'!F59=\"\",\"\",IF(OR('ORDER FRAMES'!G59=\"DL\",'ORDER FRAMES'!G59=\"DR\"),\"\",'ORDER FRAMES'!F59))","v":""},{"$f":"IF('ORDER FRAMES'!G59=\"\",\"\",IF(OR('ORDER FRAMES'!G59=\"DL\",'ORDER FRAMES'!G59=\"DR\"),\"\",'ORDER FRAMES'!G59))","v":""},{"$f":"IF('ORDER FRAMES'!H59=\"\",\"\",IF(OR('ORDER FRAMES'!G59=\"DL\",'ORDER FRAMES'!G59=\"DR\"),\"\",'ORDER FRAMES'!H59))","v":""},{"$f":"IF('ORDER FRAMES'!I59=\"\",\"\",IF(OR('ORDER FRAMES'!G59=\"DL\",'ORDER FRAMES'!G59=\"DR\"),\"\",'ORDER FRAMES'!I59))","v":""},{"$f":"IF('ORDER FRAMES'!J59=\"\",\"\",IF(OR('ORDER FRAMES'!G59=\"DL\",'ORDER FRAMES'!G59=\"DR\"),\"\",'ORDER FRAMES'!J59))","v":""},{"$f":"IF('ORDER FRAMES'!K59=\"\",\"\",IF(OR('ORDER FRAMES'!G59=\"DL\",'ORDER FRAMES'!G59=\"DR\"),\"\",'ORDER FRAMES'!K59))","v":""},{"$f":"IF('ORDER FRAMES'!L59=\"\",\"\",IF(OR('ORDER FRAMES'!G59=\"DL\",'ORDER FRAMES'!G59=\"DR\"),\"\",'ORDER FRAMES'!L59))","v":""},{"$f":"IF('ORDER FRAMES'!M59=\"\",\"\",IF(OR('ORDER FRAMES'!G59=\"DL\",'ORDER FRAMES'!G59=\"DR\"),\"\",'ORDER FRAMES'!M59))","v":""},null,{"$f":"IF('ORDER FRAMES'!N59=\"\",\"\",IF(OR('ORDER FRAMES'!G59=\"DL\",'ORDER FRAMES'!G59=\"DR\"),\"\",'ORDER FRAMES'!N59))","v":3},{"$f":"IF('ORDER FRAMES'!O59=\"\",\"\",IF(OR('ORDER FRAMES'!G59=\"DL\",'ORDER FRAMES'!G59=\"DR\"),\"\",'ORDER FRAMES'!O59))","v":3},null,"",null,null,"","","",{"$f":"IF('ORDER FRAMES'!Q59=\"\",\"\",IF(OR('ORDER FRAMES'!G59=\"DL\",'ORDER FRAMES'!G59=\"DR\"),\"\",'ORDER FRAMES'!Q59))","v":""},{"$f":"IF('ORDER FRAMES'!S59=\"\",\"\",IF(OR('ORDER FRAMES'!G59=\"DL\",'ORDER FRAMES'!G59=\"DR\"),\"\",'ORDER FRAMES'!S59))","v":""},{"$f":"IF('ORDER FRAMES'!T59=\"\",\"\",IF(OR('ORDER FRAMES'!G59=\"DL\",'ORDER FRAMES'!G59=\"DR\"),\"\",'ORDER FRAMES'!T59))","v":""},{"$f":"IF('ORDER FRAMES'!U59=\"\",\"\",IF(OR('ORDER FRAMES'!G59=\"DL\",'ORDER FRAMES'!G59=\"DR\"),\"\",'ORDER FRAMES'!U59))","v":""},{"$f":"IF(C44=\"\",\"\",'ORDER FRAMES'!V59)","v":""},null,null,null,null,"",null,null,null,"","",""]
[60,{"$f":"IF(OR('ORDER FRAMES'!G59=\"DL\",'ORDER FRAMES'!G59=\"DR\"),\"\",IF('ORDER FRAMES'!A60=\"\",\"\",'ORDER FRAMES'!A60))","v":""},{"$f":"IF('ORDER FRAMES'!B60=\"\",\"\",IF(OR('ORDER FRAMES'!G60=\"DL\",'ORDER FRAMES'!G60=\"DR\"),\"\",'ORDER FRAMES'!B60))","v":""},{"$f":"IF('ORDER FRAMES'!C60=\"\",\"\",IF(OR('ORDER FRAMES'!G60=\"DL\",'ORDER FRAMES'!G60=\"DR\"),\"\",'ORDER FRAMES'!C60))","v":""},null,{"$f":"IF('ORDER FRAMES'!E60=\"\",\"\",IF(OR('ORDER FRAMES'!G60=\"DL\",'ORDER FRAMES'!G60=\"DR\"),\"\",'ORDER FRAMES'!E60))","v":""},{"$f":"IF('ORDER FRAMES'!F60=\"\",\"\",IF(OR('ORDER FRAMES'!G60=\"DL\",'ORDER FRAMES'!G60=\"DR\"),\"\",'ORDER FRAMES'!F60))","v":""},{"$f":"IF('ORDER FRAMES'!G60=\"\",\"\",IF(OR('ORDER FRAMES'!G60=\"DL\",'ORDER FRAMES'!G60=\"DR\"),\"\",'ORDER FRAMES'!G60))","v":""},{"$f":"IF('ORDER FRAMES'!H60=\"\",\"\",IF(OR('ORDER FRAMES'!G60=\"DL\",'ORDER FRAMES'!G60=\"DR\"),\"\",'ORDER FRAMES'!H60))","v":""},{"$f":"IF('ORDER FRAMES'!I60=\"\",\"\",IF(OR('ORDER FRAMES'!G60=\"DL\",'ORDER FRAMES'!G60=\"DR\"),\"\",'ORDER FRAMES'!I60))","v":""},{"$f":"IF('ORDER FRAMES'!J60=\"\",\"\",IF(OR('ORDER FRAMES'!G60=\"DL\",'ORDER FRAMES'!G60=\"DR\"),\"\",'ORDER FRAMES'!J60))","v":""},{"$f":"IF('ORDER FRAMES'!K60=\"\",\"\",IF(OR('ORDER FRAMES'!G60=\"DL\",'ORDER FRAMES'!G60=\"DR\"),\"\",'ORDER FRAMES'!K60))","v":""},{"$f":"IF('ORDER FRAMES'!L60=\"\",\"\",IF(OR('ORDER FRAMES'!G60=\"DL\",'ORDER FRAMES'!G60=\"DR\"),\"\",'ORDER FRAMES'!L60))","v":""},{"$f":"IF('ORDER FRAMES'!M60=\"\",\"\",IF(OR('ORDER FRAMES'!G60=\"DL\",'ORDER FRAMES'!G60=\"DR\"),\"\",'ORDER FRAMES'!M60))","v":""},null,{"$f":"IF('ORDER FRAMES'!N60=\"\",\"\",IF(OR('ORDER FRAMES'!G60=\"DL\",'ORDER FRAMES'!G60=\"DR\"),\"\",'ORDER FRAMES'!N60))","v":3},{"$f":"IF('ORDER FRAMES'!O60=\"\",\"\",IF(OR('ORDER FRAMES'!G60=\"DL\",'ORDER FRAMES'!G60=\"DR\"),\"\",'ORDER FRAMES'!O60))","v":3},null,"",null,null,"","","",{"$f":"IF('ORDER FRAMES'!Q60=\"\",\"\",IF(OR('ORDER FRAMES'!G60=\"DL\",'ORDER FRAMES'!G60=\"DR\"),\"\",'ORDER FRAMES'!Q60))","v":""},{"$f":"IF('ORDER FRAMES'!S60=\"\",\"\",IF(OR('ORDER FRAMES'!G60=\"DL\",'ORDER FRAMES'!G60=\"DR\"),\"\",'ORDER FRAMES'!S60))","v":""},{"$f":"IF('ORDER FRAMES'!T60=\"\",\"\",IF(OR('ORDER FRAMES'!G60=\"DL\",'ORDER FRAMES'!G60=\"DR\"),\"\",'ORDER FRAMES'!T60))","v":""},{"$f":"IF('ORDER FRAMES'!U60=\"\",\"\",IF(OR('ORDER FRAMES'!G60=\"DL\",'ORDER FRAMES'!G60=\"DR\"),\"\",'ORDER FRAMES'!U60))","v":""},{"$f":"IF(C45=\"\",\"\",'ORDER FRAMES'!V60)","v":""},null,null,null,null,"",null,null,null,"","",""]
[61,{"$f":"IF(OR('ORDER FRAMES'!G60=\"DL\",'ORDER FRAMES'!G60=\"DR\"),\"\",IF('ORDER FRAMES'!A61=\"\",\"\",'ORDER FRAMES'!A61))","v":""},{"$f":"IF('ORDER FRAMES'!B61=\"\",\"\",IF(OR('ORDER FRAMES'!G61=\"DL\",'ORDER FRAMES'!G61=\"DR\"),\"\",'ORDER FRAMES'!B61))","v":""},{"$f":"IF('ORDER FRAMES'!C61=\"\",\"\",IF(OR('ORDER FRAMES'!G61=\"DL\",'ORDER FRAMES'!G61=\"DR\"),\"\",'ORDER FRAMES'!C61))","v":""},null,{"$f":"IF('ORDER FRAMES'!E61=\"\",\"\",IF(OR('ORDER FRAMES'!G61=\"DL\",'ORDER FRAMES'!G61=\"DR\"),\"\",'ORDER FRAMES'!E61))","v":""},{"$f":"IF('ORDER FRAMES'!F61=\"\",\"\",IF(OR('ORDER FRAMES'!G61=\"DL\",'ORDER FRAMES'!G61=\"DR\"),\"\",'ORDER FRAMES'!F61))","v":""},{"$f":"IF('ORDER FRAMES'!G61=\"\",\"\",IF(OR('ORDER FRAMES'!G61=\"DL\",'ORDER FRAMES'!G61=\"DR\"),\"\",'ORDER FRAMES'!G61))","v":""},{"$f":"IF('ORDER FRAMES'!H61=\"\",\"\",IF(OR('ORDER FRAMES'!G61=\"DL\",'ORDER FRAMES'!G61=\"DR\"),\"\",'ORDER FRAMES'!H61))","v":""},{"$f":"IF('ORDER FRAMES'!I61=\"\",\"\",IF(OR('ORDER FRAMES'!G61=\"DL\",'ORDER FRAMES'!G61=\"DR\"),\"\",'ORDER FRAMES'!I61))","v":""},{"$f":"IF('ORDER FRAMES'!J61=\"\",\"\",IF(OR('ORDER FRAMES'!G61=\"DL\",'ORDER FRAMES'!G61=\"DR\"),\"\",'ORDER FRAMES'!J61))","v":""},{"$f":"IF('ORDER FRAMES'!K61=\"\",\"\",IF(OR('ORDER FRAMES'!G61=\"DL\",'ORDER FRAMES'!G61=\"DR\"),\"\",'ORDER FRAMES'!K61))","v":""},{"$f":"IF('ORDER FRAMES'!L61=\"\",\"\",IF(OR('ORDER FRAMES'!G61=\"DL\",'ORDER FRAMES'!G61=\"DR\"),\"\",'ORDER FRAMES'!L61))","v":""},{"$f":"IF('ORDER FRAMES'!M61=\"\",\"\",IF(OR('ORDER FRAMES'!G61=\"DL\",'ORDER FRAMES'!G61=\"DR\"),\"\",'ORDER FRAMES'!M61))","v":""},null,{"$f":"IF('ORDER FRAMES'!N61=\"\",\"\",IF(OR('ORDER FRAMES'!G61=\"DL\",'ORDER FRAMES'!G61=\"DR\"),\"\",'ORDER FRAMES'!N61))","v":3},{"$f":"IF('ORDER FRAMES'!O61=\"\",\"\",IF(OR('ORDER FRAMES'!G61=\"DL\",'ORDER FRAMES'!G61=\"DR\"),\"\",'ORDER FRAMES'!O61))","v":3},null,"",null,null,"","","",{"$f":"IF('ORDER FRAMES'!Q61=\"\",\"\",IF(OR('ORDER FRAMES'!G61=\"DL\",'ORDER FRAMES'!G61=\"DR\"),\"\",'ORDER FRAMES'!Q61))","v":""},{"$f":"IF('ORDER FRAMES'!S61=\"\",\"\",IF(OR('ORDER FRAMES'!G61=\"DL\",'ORDER FRAMES'!G61=\"DR\"),\"\",'ORDER FRAMES'!S61))","v":""},{"$f":"IF('ORDER FRAMES'!T61=\"\",\"\",IF(OR('ORDER FRAMES'!G61=\"DL\",'ORDER FRAMES'!G61=\"DR\"),\"\",'ORDER FRAMES'!T61))","v":""},{"$f":"IF('ORDER FRAMES'!U61=\"\",\"\",IF(OR('ORDER FRAMES'!G61=\"DL\",'ORDER FRAMES'!G61=\"DR\"),\"\",'ORDER FRAMES'!U61))","v":""},{"$f":"IF(C46=\"\",\"\",'ORDER FRAMES'!V61)","v":""},null,null,null,null,"",null,null,null,"","",""]
[62,{"$f":"IF(OR('ORDER FRAMES'!G61=\"DL\",'ORDER FRAMES'!G61=\"DR\"),\"\",IF('ORDER FRAMES'!A62=\"\",\"\",'ORDER FRAMES'!A62))","v":""},{"$f":"IF('ORDER FRAMES'!B62=\"\",\"\",IF(OR('ORDER FRAMES'!G62=\"DL\",'ORDER FRAMES'!G62=\"DR\"),\"\",'ORDER FRAMES'!B62))","v":""},{"$f":"IF('ORDER FRAMES'!C62=\"\",\"\",IF(OR('ORDER FRAMES'!G62=\"DL\",'ORDER FRAMES'!G62=\"DR\"),\"\",'ORDER FRAMES'!C62))","v":""},null,{"$f":"IF('ORDER FRAMES'!E62=\"\",\"\",IF(OR('ORDER FRAMES'!G62=\"DL\",'ORDER FRAMES'!G62=\"DR\"),\"\",'ORDER FRAMES'!E62))","v":""},{"$f":"IF('ORDER FRAMES'!F62=\"\",\"\",IF(OR('ORDER FRAMES'!G62=\"DL\",'ORDER FRAMES'!G62=\"DR\"),\"\",'ORDER FRAMES'!F62))","v":""},{"$f":"IF('ORDER FRAMES'!G62=\"\",\"\",IF(OR('ORDER FRAMES'!G62=\"DL\",'ORDER FRAMES'!G62=\"DR\"),\"\",'ORDER FRAMES'!G62))","v":""},{"$f":"IF('ORDER FRAMES'!H62=\"\",\"\",IF(OR('ORDER FRAMES'!G62=\"DL\",'ORDER FRAMES'!G62=\"DR\"),\"\",'ORDER FRAMES'!H62))","v":""},{"$f":"IF('ORDER FRAMES'!I62=\"\",\"\",IF(OR('ORDER FRAMES'!G62=\"DL\",'ORDER FRAMES'!G62=\"DR\"),\"\",'ORDER FRAMES'!I62))","v":""},{"$f":"IF('ORDER FRAMES'!J62=\"\",\"\",IF(OR('ORDER FRAMES'!G62=\"DL\",'ORDER FRAMES'!G62=\"DR\"),\"\",'ORDER FRAMES'!J62))","v":""},{"$f":"IF('ORDER FRAMES'!K62=\"\",\"\",IF(OR('ORDER FRAMES'!G62=\"DL\",'ORDER FRAMES'!G62=\"DR\"),\"\",'ORDER FRAMES'!K62))","v":""},{"$f":"IF('ORDER FRAMES'!L62=\"\",\"\",IF(OR('ORDER FRAMES'!G62=\"DL\",'ORDER FRAMES'!G62=\"DR\"),\"\",'ORDER FRAMES'!L62))","v":""},{"$f":"IF('ORDER FRAMES'!M62=\"\",\"\",IF(OR('ORDER FRAMES'!G62=\"DL\",'ORDER FRAMES'!G62=\"DR\"),\"\",'ORDER FRAMES'!M62))","v":""},null,{"$f":"IF('ORDER FRAMES'!N62=\"\",\"\",IF(OR('ORDER FRAMES'!G62=\"DL\",'ORDER FRAMES'!G62=\"DR\"),\"\",'ORDER FRAMES'!N62))","v":3},{"$f":"IF('ORDER FRAMES'!O62=\"\",\"\",IF(OR('ORDER FRAMES'!G62=\"DL\",'ORDER FRAMES'!G62=\"DR\"),\"\",'ORDER FRAMES'!O62))","v":3},null,"",null,null,"","","",{"$f":"IF('ORDER FRAMES'!Q62=\"\",\"\",IF(OR('ORDER FRAMES'!G62=\"DL\",'ORDER FRAMES'!G62=\"DR\"),\"\",'ORDER FRAMES'!Q62))","v":""},{"$f":"IF('ORDER FRAMES'!S62=\"\",\"\",IF(OR('ORDER FRAMES'!G62=\"DL\",'ORDER FRAMES'!G62=\"DR\"),\"\",'ORDER FRAMES'!S62))","v":""},{"$f":"IF('ORDER FRAMES'!T62=\"\",\"\",IF(OR('ORDER FRAMES'!G62=\"DL\",'ORDER FRAMES'!G62=\"DR\"),\"\",'ORDER FRAMES'!T62))","v":""},{"$f":"IF('ORDER FRAMES'!U62=\"\",\"\",IF(OR('ORDER FRAMES'!G62=\"DL\",'ORDER FRAMES'!G62=\"DR\"),\"\",'ORDER FRAMES'!U62))","v":""},{"$f":"IF(C47=\"\",\"\",'ORDER FRAMES'!V62)","v":""},null,null,null,null,"",null,null,null,"","",""]
[63,{"$f":"IF(OR('ORDER FRAMES'!G62=\"DL\",'ORDER FRAMES'!G62=\"DR\"),\"\",IF('ORDER FRAMES'!A63=\"\",\"\",'ORDER FRAMES'!A63))","v":""},{"$f":"IF('ORDER FRAMES'!B63=\"\",\"\",IF(OR('ORDER FRAMES'!G63=\"DL\",'ORDER FRAMES'!G63=\"DR\"),\"\",'ORDER FRAMES'!B63))","v":""},{"$f":"IF('ORDER FRAMES'!C63=\"\",\"\",IF(OR('ORDER FRAMES'!G63=\"DL\",'ORDER FRAMES'!G63=\"DR\"),\"\",'ORDER FRAMES'!C63))","v":""},null,{"$f":"IF('ORDER FRAMES'!E63=\"\",\"\",IF(OR('ORDER FRAMES'!G63=\"DL\",'ORDER FRAMES'!G63=\"DR\"),\"\",'ORDER FRAMES'!E63))","v":""},{"$f":"IF('ORDER FRAMES'!F63=\"\",\"\",IF(OR('ORDER FRAMES'!G63=\"DL\",'ORDER FRAMES'!G63=\"DR\"),\"\",'ORDER FRAMES'!F63))","v":""},{"$f":"IF('ORDER FRAMES'!G63=\"\",\"\",IF(OR('ORDER FRAMES'!G63=\"DL\",'ORDER FRAMES'!G63=\"DR\"),\"\",'ORDER FRAMES'!G63))","v":""},{"$f":"IF('ORDER FRAMES'!H63=\"\",\"\",IF(OR('ORDER FRAMES'!G63=\"DL\",'ORDER FRAMES'!G63=\"DR\"),\"\",'ORDER FRAMES'!H63))","v":""},{"$f":"IF('ORDER FRAMES'!I63=\"\",\"\",IF(OR('ORDER FRAMES'!G63=\"DL\",'ORDER FRAMES'!G63=\"DR\"),\"\",'ORDER FRAMES'!I63))","v":""},{"$f":"IF('ORDER FRAMES'!J63=\"\",\"\",IF(OR('ORDER FRAMES'!G63=\"DL\",'ORDER FRAMES'!G63=\"DR\"),\"\",'ORDER FRAMES'!J63))","v":""},{"$f":"IF('ORDER FRAMES'!K63=\"\",\"\",IF(OR('ORDER FRAMES'!G63=\"DL\",'ORDER FRAMES'!G63=\"DR\"),\"\",'ORDER FRAMES'!K63))","v":""},{"$f":"IF('ORDER FRAMES'!L63=\"\",\"\",IF(OR('ORDER FRAMES'!G63=\"DL\",'ORDER FRAMES'!G63=\"DR\"),\"\",'ORDER FRAMES'!L63))","v":""},{"$f":"IF('ORDER FRAMES'!M63=\"\",\"\",IF(OR('ORDER FRAMES'!G63=\"DL\",'ORDER FRAMES'!G63=\"DR\"),\"\",'ORDER FRAMES'!M63))","v":""},null,{"$f":"IF('ORDER FRAMES'!N63=\"\",\"\",IF(OR('ORDER FRAMES'!G63=\"DL\",'ORDER FRAMES'!G63=\"DR\"),\"\",'ORDER FRAMES'!N63))","v":3},{"$f":"IF('ORDER FRAMES'!O63=\"\",\"\",IF(OR('ORDER FRAMES'!G63=\"DL\",'ORDER FRAMES'!G63=\"DR\"),\"\",'ORDER FRAMES'!O63))","v":3},null,"",null,null,"","","",{"$f":"IF('ORDER FRAMES'!Q63=\"\",\"\",IF(OR('ORDER FRAMES'!G63=\"DL\",'ORDER FRAMES'!G63=\"DR\"),\"\",'ORDER FRAMES'!Q63))","v":""},{"$f":"IF('ORDER FRAMES'!S63=\"\",\"\",IF(OR('ORDER FRAMES'!G63=\"DL\",'ORDER FRAMES'!G63=\"DR\"),\"\",'ORDER FRAMES'!S63))","v":""},{"$f":"IF('ORDER FRAMES'!T63=\"\",\"\",IF(OR('ORDER FRAMES'!G63=\"DL\",'ORDER FRAMES'!G63=\"DR\"),\"\",'ORDER FRAMES'!T63))","v":""},{"$f":"IF('ORDER FRAMES'!U63=\"\",\"\",IF(OR('ORDER FRAMES'!G63=\"DL\",'ORDER FRAMES'!G63=\"DR\"),\"\",'ORDER FRAMES'!U63))","v":""},{"$f":"IF(C48=\"\",\"\",'ORDER FRAMES'!V63)","v":""},null,null,null,null,"",null,null,null,"","",""]
[64,{"$f":"IF(OR('ORDER FRAMES'!G63=\"DL\",'ORDER FRAMES'!G63=\"DR\"),\"\",IF('ORDER FRAMES'!A64=\"\",\"\",'ORDER FRAMES'!A64))","v":""},{"$f":"IF('ORDER FRAMES'!B64=\"\",\"\",IF(OR('ORDER FRAMES'!G64=\"DL\",'ORDER FRAMES'!G64=\"DR\"),\"\",'ORDER FRAMES'!B64))","v":""},{"$f":"IF('ORDER FRAMES'!C64=\"\",\"\",IF(OR('ORDER FRAMES'!G64=\"DL\",'ORDER FRAMES'!G64=\"DR\"),\"\",'ORDER FRAMES'!C64))","v":""},null,{"$f":"IF('ORDER FRAMES'!E64=\"\",\"\",IF(OR('ORDER FRAMES'!G64=\"DL\",'ORDER FRAMES'!G64=\"DR\"),\"\",'ORDER FRAMES'!E64))","v":""},{"$f":"IF('ORDER FRAMES'!F64=\"\",\"\",IF(OR('ORDER FRAMES'!G64=\"DL\",'ORDER FRAMES'!G64=\"DR\"),\"\",'ORDER FRAMES'!F64))","v":""},{"$f":"IF('ORDER FRAMES'!G64=\"\",\"\",IF(OR('ORDER FRAMES'!G64=\"DL\",'ORDER FRAMES'!G64=\"DR\"),\"\",'ORDER FRAMES'!G64))","v":""},{"$f":"IF('ORDER FRAMES'!H64=\"\",\"\",IF(OR('ORDER FRAMES'!G64=\"DL\",'ORDER FRAMES'!G64=\"DR\"),\"\",'ORDER FRAMES'!H64))","v":""},{"$f":"IF('ORDER FRAMES'!I64=\"\",\"\",IF(OR('ORDER FRAMES'!G64=\"DL\",'ORDER FRAMES'!G64=\"DR\"),\"\",'ORDER FRAMES'!I64))","v":""},{"$f":"IF('ORDER FRAMES'!J64=\"\",\"\",IF(OR('ORDER FRAMES'!G64=\"DL\",'ORDER FRAMES'!G64=\"DR\"),\"\",'ORDER FRAMES'!J64))","v":""},{"$f":"IF('ORDER FRAMES'!K64=\"\",\"\",IF(OR('ORDER FRAMES'!G64=\"DL\",'ORDER FRAMES'!G64=\"DR\"),\"\",'ORDER FRAMES'!K64))","v":""},{"$f":"IF('ORDER FRAMES'!L64=\"\",\"\",IF(OR('ORDER FRAMES'!G64=\"DL\",'ORDER FRAMES'!G64=\"DR\"),\"\",'ORDER FRAMES'!L64))","v":""},{"$f":"IF('ORDER FRAMES'!M64=\"\",\"\",IF(OR('ORDER FRAMES'!G64=\"DL\",'ORDER FRAMES'!G64=\"DR\"),\"\",'ORDER FRAMES'!M64))","v":""},null,{"$f":"IF('ORDER FRAMES'!N64=\"\",\"\",IF(OR('ORDER FRAMES'!G64=\"DL\",'ORDER FRAMES'!G64=\"DR\"),\"\",'ORDER FRAMES'!N64))","v":3},{"$f":"IF('ORDER FRAMES'!O64=\"\",\"\",IF(OR('ORDER FRAMES'!G64=\"DL\",'ORDER FRAMES'!G64=\"DR\"),\"\",'ORDER FRAMES'!O64))","v":3},null,"",null,null,"","","",{"$f":"IF('ORDER FRAMES'!Q64=\"\",\"\",IF(OR('ORDER FRAMES'!G64=\"DL\",'ORDER FRAMES'!G64=\"DR\"),\"\",'ORDER FRAMES'!Q64))","v":""},{"$f":"IF('ORDER FRAMES'!S64=\"\",\"\",IF(OR('ORDER FRAMES'!G64=\"DL\",'ORDER FRAMES'!G64=\"DR\"),\"\",'ORDER FRAMES'!S64))","v":""},{"$f":"IF('ORDER FRAMES'!T64=\"\",\"\",IF(OR('ORDER FRAMES'!G64=\"DL\",'ORDER FRAMES'!G64=\"DR\"),\"\",'ORDER FRAMES'!T64))","v":""},{"$f":"IF('ORDER FRAMES'!U64=\"\",\"\",IF(OR('ORDER FRAMES'!G64=\"DL\",'ORDER FRAMES'!G64=\"DR\"),\"\",'ORDER FRAMES'!U64))","v":""},{"$f":"IF(C49=\"\",\"\",'ORDER FRAMES'!V64)","v":""},null,null,null,null,"",null,null,null,"","",""]
[65,{"$f":"IF(OR('ORDER FRAMES'!G64=\"DL\",'ORDER FRAMES'!G64=\"DR\"),\"\",IF('ORDER FRAMES'!A65=\"\",\"\",'ORDER FRAMES'!A65))","v":""},{"$f":"IF('ORDER FRAMES'!B65=\"\",\"\",IF(OR('ORDER FRAMES'!G65=\"DL\",'ORDER FRAMES'!G65=\"DR\"),\"\",'ORDER FRAMES'!B65))","v":""},{"$f":"IF('ORDER FRAMES'!C65=\"\",\"\",IF(OR('ORDER FRAMES'!G65=\"DL\",'ORDER FRAMES'!G65=\"DR\"),\"\",'ORDER FRAMES'!C65))","v":""},null,{"$f":"IF('ORDER FRAMES'!E65=\"\",\"\",IF(OR('ORDER FRAMES'!G65=\"DL\",'ORDER FRAMES'!G65=\"DR\"),\"\",'ORDER FRAMES'!E65))","v":""},{"$f":"IF('ORDER FRAMES'!F65=\"\",\"\",IF(OR('ORDER FRAMES'!G65=\"DL\",'ORDER FRAMES'!G65=\"DR\"),\"\",'ORDER FRAMES'!F65))","v":""},{"$f":"IF('ORDER FRAMES'!G65=\"\",\"\",IF(OR('ORDER FRAMES'!G65=\"DL\",'ORDER FRAMES'!G65=\"DR\"),\"\",'ORDER FRAMES'!G65))","v":""},{"$f":"IF('ORDER FRAMES'!H65=\"\",\"\",IF(OR('ORDER FRAMES'!G65=\"DL\",'ORDER FRAMES'!G65=\"DR\"),\"\",'ORDER FRAMES'!H65))","v":""},{"$f":"IF('ORDER FRAMES'!I65=\"\",\"\",IF(OR('ORDER FRAMES'!G65=\"DL\",'ORDER FRAMES'!G65=\"DR\"),\"\",'ORDER FRAMES'!I65))","v":""},{"$f":"IF('ORDER FRAMES'!J65=\"\",\"\",IF(OR('ORDER FRAMES'!G65=\"DL\",'ORDER FRAMES'!G65=\"DR\"),\"\",'ORDER FRAMES'!J65))","v":""},{"$f":"IF('ORDER FRAMES'!K65=\"\",\"\",IF(OR('ORDER FRAMES'!G65=\"DL\",'ORDER FRAMES'!G65=\"DR\"),\"\",'ORDER FRAMES'!K65))","v":""},{"$f":"IF('ORDER FRAMES'!L65=\"\",\"\",IF(OR('ORDER FRAMES'!G65=\"DL\",'ORDER FRAMES'!G65=\"DR\"),\"\",'ORDER FRAMES'!L65))","v":""},{"$f":"IF('ORDER FRAMES'!M65=\"\",\"\",IF(OR('ORDER FRAMES'!G65=\"DL\",'ORDER FRAMES'!G65=\"DR\"),\"\",'ORDER FRAMES'!M65))","v":""},null,{"$f":"IF('ORDER FRAMES'!N65=\"\",\"\",IF(OR('ORDER FRAMES'!G65=\"DL\",'ORDER FRAMES'!G65=\"DR\"),\"\",'ORDER FRAMES'!N65))","v":3},{"$f":"IF('ORDER FRAMES'!O65=\"\",\"\",IF(OR('ORDER FRAMES'!G65=\"DL\",'ORDER FRAMES'!G65=\"DR\"),\"\",'ORDER FRAMES'!O65))","v":3},null,"",null,null,"","","",{"$f":"IF('ORDER FRAMES'!Q65=\"\",\"\",IF(OR('ORDER FRAMES'!G65=\"DL\",'ORDER FRAMES'!G65=\"DR\"),\"\",'ORDER FRAMES'!Q65))","v":""},{"$f":"IF('ORDER FRAMES'!S65=\"\",\"\",IF(OR('ORDER FRAMES'!G65=\"DL\",'ORDER FRAMES'!G65=\"DR\"),\"\",'ORDER FRAMES'!S65))","v":""},{"$f":"IF('ORDER FRAMES'!T65=\"\",\"\",IF(OR('ORDER FRAMES'!G65=\"DL\",'ORDER FRAMES'!G65=\"DR\"),\"\",'ORDER FRAMES'!T65))","v":""},{"$f":"IF('ORDER FRAMES'!U65=\"\",\"\",IF(OR('ORDER FRAMES'!G65=\"DL\",'ORDER FRAMES'!G65=\"DR\"),\"\",'ORDER FRAMES'!U65))","v":""},{"$f":"IF(C50=\"\",\"\",'ORDER FRAMES'!V65)","v":""},null,null,null,null,"",null,null,null,"","",""]
[66,{"$f":"IF('ORDER FRAMES'!A66=\"\",\"\",'ORDER FRAMES'!A66)","v":""},{"$f":"IF('ORDER FRAMES'!B66=\"\",\"\",IF(OR('ORDER FRAMES'!G66=\"DL\",'ORDER FRAMES'!G66=\"DR\"),\"\",'ORDER FRAMES'!B66))","v":""},{"$f":"IF('ORDER FRAMES'!C66=\"\",\"\",IF(OR('ORDER FRAMES'!G66=\"DL\",'ORDER FRAMES'!G66=\"DR\"),\"\",'ORDER FRAMES'!C66))","v":""},null,{"$f":"IF('ORDER FRAMES'!E66=\"\",\"\",IF(OR('ORDER FRAMES'!G66=\"DL\",'ORDER FRAMES'!G66=\"DR\"),\"\",'ORDER FRAMES'!E66))","v":""},{"$f":"IF('ORDER FRAMES'!F66=\"\",\"\",IF(OR('ORDER FRAMES'!G66=\"DL\",'ORDER FRAMES'!G66=\"DR\"),\"\",'ORDER FRAMES'!F66))","v":""},{"$f":"IF('ORDER FRAMES'!G66=\"\",\"\",IF(OR('ORDER FRAMES'!G66=\"DL\",'ORDER FRAMES'!G66=\"DR\"),\"\",'ORDER FRAMES'!G66))","v":""},{"$f":"IF('ORDER FRAMES'!H66=\"\",\"\",IF(OR('ORDER FRAMES'!G66=\"DL\",'ORDER FRAMES'!G66=\"DR\"),\"\",'ORDER FRAMES'!H66))","v":""},{"$f":"IF('ORDER FRAMES'!I66=\"\",\"\",IF(OR('ORDER FRAMES'!G66=\"DL\",'ORDER FRAMES'!G66=\"DR\"),\"\",'ORDER FRAMES'!I66))","v":""},{"$f":"IF('ORDER FRAMES'!J66=\"\",\"\",IF(OR('ORDER FRAMES'!G66=\"DL\",'ORDER FRAMES'!G66=\"DR\"),\"\",'ORDER FRAMES'!J66))","v":""},{"$f":"IF('ORDER FRAMES'!K66=\"\",\"\",IF(OR('ORDER FRAMES'!G66=\"DL\",'ORDER FRAMES'!G66=\"DR\"),\"\",'ORDER FRAMES'!K66))","v":""},{"$f":"IF('ORDER FRAMES'!L66=\"\",\"\",IF(OR('ORDER FRAMES'!G66=\"DL\",'ORDER FRAMES'!G66=\"DR\"),\"\",'ORDER FRAMES'!L66))","v":""},{"$f":"IF('ORDER FRAMES'!M66=\"\",\"\",IF(OR('ORDER FRAMES'!G66=\"DL\",'ORDER FRAMES'!G66=\"DR\"),\"\",'ORDER FRAMES'!M66))","v":""},null,{"$f":"IF('ORDER FRAMES'!N66=\"\",\"\",IF(OR('ORDER FRAMES'!G66=\"DL\",'ORDER FRAMES'!G66=\"DR\"),\"\",'ORDER FRAMES'!N66))","v":3},{"$f":"IF('ORDER FRAMES'!O66=\"\",\"\",IF(OR('ORDER FRAMES'!G66=\"DL\",'ORDER FRAMES'!G66=\"DR\"),\"\",'ORDER FRAMES'!O66))","v":3},null,"",null,null,"","","",{"$f":"IF('ORDER FRAMES'!Q66=\"\",\"\",IF(OR('ORDER FRAMES'!G66=\"DL\",'ORDER FRAMES'!G66=\"DR\"),\"\",'ORDER FRAMES'!Q66))","v":""},{"$f":"IF('ORDER FRAMES'!S66=\"\",\"\",IF(OR('ORDER FRAMES'!G66=\"DL\",'ORDER FRAMES'!G66=\"DR\"),\"\",'ORDER FRAMES'!S66))","v":""},{"$f":"IF('ORDER FRAMES'!T66=\"\",\"\",IF(OR('ORDER FRAMES'!G66=\"DL\",'ORDER FRAMES'!G66=\"DR\"),\"\",'ORDER FRAMES'!T66))","v":""},{"$f":"IF('ORDER FRAMES'!U66=\"\",\"\",IF(OR('ORDER FRAMES'!G66=\"DL\",'ORDER FRAMES'!G66=\"DR\"),\"\",'ORDER FRAMES'!U66))","v":""},{"$f":"IF(C51=\"\",\"\",'ORDER FRAMES'!V66)","v":""},null,null,null,null,"",null,null,null,"","",""]
[67,{"$f":"IF('ORDER FRAMES'!A67=\"\",\"\",'ORDER FRAMES'!A67)","v":""},{"$f":"IF('ORDER FRAMES'!B67=\"\",\"\",IF(OR('ORDER FRAMES'!G67=\"DL\",'ORDER FRAMES'!G67=\"DR\"),\"\",'ORDER FRAMES'!B67))","v":""},{"$f":"IF('ORDER FRAMES'!C67=\"\",\"\",IF(OR('ORDER FRAMES'!G67=\"DL\",'ORDER FRAMES'!G67=\"DR\"),\"\",'ORDER FRAMES'!C67))","v":""},null,{"$f":"IF('ORDER FRAMES'!E67=\"\",\"\",IF(OR('ORDER FRAMES'!G67=\"DL\",'ORDER FRAMES'!G67=\"DR\"),\"\",'ORDER FRAMES'!E67))","v":""},{"$f":"IF('ORDER FRAMES'!F67=\"\",\"\",IF(OR('ORDER FRAMES'!G67=\"DL\",'ORDER FRAMES'!G67=\"DR\"),\"\",'ORDER FRAMES'!F67))","v":""},{"$f":"IF('ORDER FRAMES'!G67=\"\",\"\",IF(OR('ORDER FRAMES'!G67=\"DL\",'ORDER FRAMES'!G67=\"DR\"),\"\",'ORDER FRAMES'!G67))","v":""},{"$f":"IF('ORDER FRAMES'!H67=\"\",\"\",IF(OR('ORDER FRAMES'!G67=\"DL\",'ORDER FRAMES'!G67=\"DR\"),\"\",'ORDER FRAMES'!H67))","v":""},{"$f":"IF('ORDER FRAMES'!I67=\"\",\"\",IF(OR('ORDER FRAMES'!G67=\"DL\",'ORDER FRAMES'!G67=\"DR\"),\"\",'ORDER FRAMES'!I67))","v":""},{"$f":"IF('ORDER FRAMES'!J67=\"\",\"\",IF(OR('ORDER FRAMES'!G67=\"DL\",'ORDER FRAMES'!G67=\"DR\"),\"\",'ORDER FRAMES'!J67))","v":""},{"$f":"IF('ORDER FRAMES'!K67=\"\",\"\",IF(OR('ORDER FRAMES'!G67=\"DL\",'ORDER FRAMES'!G67=\"DR\"),\"\",'ORDER FRAMES'!K67))","v":""},{"$f":"IF('ORDER FRAMES'!L67=\"\",\"\",IF(OR('ORDER FRAMES'!G67=\"DL\",'ORDER FRAMES'!G67=\"DR\"),\"\",'ORDER FRAMES'!L67))","v":""},{"$f":"IF('ORDER FRAMES'!M67=\"\",\"\",IF(OR('ORDER FRAMES'!G67=\"DL\",'ORDER FRAMES'!G67=\"DR\"),\"\",'ORDER FRAMES'!M67))","v":""},null,{"$f":"IF('ORDER FRAMES'!N67=\"\",\"\",IF(OR('ORDER FRAMES'!G67=\"DL\",'ORDER FRAMES'!G67=\"DR\"),\"\",'ORDER FRAMES'!N67))","v":3},{"$f":"IF('ORDER FRAMES'!O67=\"\",\"\",IF(OR('ORDER FRAMES'!G67=\"DL\",'ORDER FRAMES'!G67=\"DR\"),\"\",'ORDER FRAMES'!O67))","v":3},null,"",null,null,"","","",{"$f":"IF('ORDER FRAMES'!Q67=\"\",\"\",IF(OR('ORDER FRAMES'!G67=\"DL\",'ORDER FRAMES'!G67=\"DR\"),\"\",'ORDER FRAMES'!Q67))","v":""},{"$f":"IF('ORDER FRAMES'!S67=\"\",\"\",IF(OR('ORDER FRAMES'!G67=\"DL\",'ORDER FRAMES'!G67=\"DR\"),\"\",'ORDER FRAMES'!S67))","v":""},{"$f":"IF('ORDER FRAMES'!T67=\"\",\"\",IF(OR('ORDER FRAMES'!G67=\"DL\",'ORDER FRAMES'!G67=\"DR\"),\"\",'ORDER FRAMES'!T67))","v":""},{"$f":"IF('ORDER FRAMES'!U67=\"\",\"\",IF(OR('ORDER FRAMES'!G67=\"DL\",'ORDER FRAMES'!G67=\"DR\"),\"\",'ORDER FRAMES'!U67))","v":""},{"$f":"IF(C52=\"\",\"\",'ORDER FRAMES'!V67)","v":""},null,null,null,null,"",null,null,null,"","",""]
[68,{"$f":"IF('ORDER FRAMES'!A68=\"\",\"\",'ORDER FRAMES'!A68)","v":""},{"$f":"IF('ORDER FRAMES'!B68=\"\",\"\",IF(OR('ORDER FRAMES'!G68=\"DL\",'ORDER FRAMES'!G68=\"DR\"),\"\",'ORDER FRAMES'!B68))","v":""},{"$f":"IF('ORDER FRAMES'!C68=\"\",\"\",IF(OR('ORDER FRAMES'!G68=\"DL\",'ORDER FRAMES'!G68=\"DR\"),\"\",'ORDER FRAMES'!C68))","v":""},null,{"$f":"IF('ORDER FRAMES'!E68=\"\",\"\",IF(OR('ORDER FRAMES'!G68=\"DL\",'ORDER FRAMES'!G68=\"DR\"),\"\",'ORDER FRAMES'!E68))","v":""},{"$f":"IF('ORDER FRAMES'!F68=\"\",\"\",IF(OR('ORDER FRAMES'!G68=\"DL\",'ORDER FRAMES'!G68=\"DR\"),\"\",'ORDER FRAMES'!F68))","v":""},{"$f":"IF('ORDER FRAMES'!G68=\"\",\"\",IF(OR('ORDER FRAMES'!G68=\"DL\",'ORDER FRAMES'!G68=\"DR\"),\"\",'ORDER FRAMES'!G68))","v":""},{"$f":"IF('ORDER FRAMES'!H68=\"\",\"\",IF(OR('ORDER FRAMES'!G68=\"DL\",'ORDER FRAMES'!G68=\"DR\"),\"\",'ORDER FRAMES'!H68))","v":""},{"$f":"IF('ORDER FRAMES'!I68=\"\",\"\",IF(OR('ORDER FRAMES'!G68=\"DL\",'ORDER FRAMES'!G68=\"DR\"),\"\",'ORDER FRAMES'!I68))","v":""},{"$f":"IF('ORDER FRAMES'!J68=\"\",\"\",IF(OR('ORDER FRAMES'!G68=\"DL\",'ORDER FRAMES'!G68=\"DR\"),\"\",'ORDER FRAMES'!J68))","v":""},{"$f":"IF('ORDER FRAMES'!K68=\"\",\"\",IF(OR('ORDER FRAMES'!G68=\"DL\",'ORDER FRAMES'!G68=\"DR\"),\"\",'ORDER FRAMES'!K68))","v":""},{"$f":"IF('ORDER FRAMES'!L68=\"\",\"\",IF(OR('ORDER FRAMES'!G68=\"DL\",'ORDER FRAMES'!G68=\"DR\"),\"\",'ORDER FRAMES'!L68))","v":""},{"$f":"IF('ORDER FRAMES'!M68=\"\",\"\",IF(OR('ORDER FRAMES'!G68=\"DL\",'ORDER FRAMES'!G68=\"DR\"),\"\",'ORDER FRAMES'!M68))","v":""},null,{"$f":"IF('ORDER FRAMES'!N68=\"\",\"\",IF(OR('ORDER FRAMES'!G68=\"DL\",'ORDER FRAMES'!G68=\"DR\"),\"\",'ORDER FRAMES'!N68))","v":3},{"$f":"IF('ORDER FRAMES'!O68=\"\",\"\",IF(OR('ORDER FRAMES'!G68=\"DL\",'ORDER FRAMES'!G68=\"DR\"),\"\",'ORDER FRAMES'!O68))","v":3},null,"",null,null,"","","",{"$f":"IF('ORDER FRAMES'!Q68=\"\",\"\",IF(OR('ORDER FRAMES'!G68=\"DL\",'ORDER FRAMES'!G68=\"DR\"),\"\",'ORDER FRAMES'!Q68))","v":""},{"$f":"IF('ORDER FRAMES'!S68=\"\",\"\",IF(OR('ORDER FRAMES'!G68=\"DL\",'ORDER FRAMES'!G68=\"DR\"),\"\",'ORDER FRAMES'!S68))","v":""},{"$f":"IF('ORDER FRAMES'!T68=\"\",\"\",IF(OR('ORDER FRAMES'!G68=\"DL\",'ORDER FRAMES'!G68=\"DR\"),\"\",'ORDER FRAMES'!T68))","v":""},{"$f":"IF('ORDER FRAMES'!U68=\"\",\"\",IF(OR('ORDER FRAMES'!G68=\"DL\",'ORDER FRAMES'!G68=\"DR\"),\"\",'ORDER FRAMES'!U68))","v":""},{"$f":"IF(C53=\"\",\"\",'ORDER FRAMES'!V68)","v":""},null,null,null,null,"",null,null,null,"","",""]
[69,{"$f":"IF('ORDER FRAMES'!A69=\"\",\"\",'ORDER FRAMES'!A69)","v":""},{"$f":"IF('ORDER FRAMES'!B69=\"\",\"\",IF(OR('ORDER FRAMES'!G69=\"DL\",'ORDER FRAMES'!G69=\"DR\"),\"\",'ORDER FRAMES'!B69))","v":""},{"$f":"IF('ORDER FRAMES'!C69=\"\",\"\",IF(OR('ORDER FRAMES'!G69=\"DL\",'ORDER FRAMES'!G69=\"DR\"),\"\",'ORDER FRAMES'!C69))","v":""},null,{"$f":"IF('ORDER FRAMES'!E69=\"\",\"\",IF(OR('ORDER FRAMES'!G69=\"DL\",'ORDER FRAMES'!G69=\"DR\"),\"\",'ORDER FRAMES'!E69))","v":""},{"$f":"IF('ORDER FRAMES'!F69=\"\",\"\",IF(OR('ORDER FRAMES'!G69=\"DL\",'ORDER FRAMES'!G69=\"DR\"),\"\",'ORDER FRAMES'!F69))","v":""},{"$f":"IF('ORDER FRAMES'!G69=\"\",\"\",IF(OR('ORDER FRAMES'!G69=\"DL\",'ORDER FRAMES'!G69=\"DR\"),\"\",'ORDER FRAMES'!G69))","v":""},{"$f":"IF('ORDER FRAMES'!H69=\"\",\"\",IF(OR('ORDER FRAMES'!G69=\"DL\",'ORDER FRAMES'!G69=\"DR\"),\"\",'ORDER FRAMES'!H69))","v":""},{"$f":"IF('ORDER FRAMES'!I69=\"\",\"\",IF(OR('ORDER FRAMES'!G69=\"DL\",'ORDER FRAMES'!G69=\"DR\"),\"\",'ORDER FRAMES'!I69))","v":""},{"$f":"IF('ORDER FRAMES'!J69=\"\",\"\",IF(OR('ORDER FRAMES'!G69=\"DL\",'ORDER FRAMES'!G69=\"DR\"),\"\",'ORDER FRAMES'!J69))","v":""},{"$f":"IF('ORDER FRAMES'!K69=\"\",\"\",IF(OR('ORDER FRAMES'!G69=\"DL\",'ORDER FRAMES'!G69=\"DR\"),\"\",'ORDER FRAMES'!K69))","v":""},{"$f":"IF('ORDER FRAMES'!L69=\"\",\"\",IF(OR('ORDER FRAMES'!G69=\"DL\",'ORDER FRAMES'!G69=\"DR\"),\"\",'ORDER FRAMES'!L69))","v":""},{"$f":"IF('ORDER FRAMES'!M69=\"\",\"\",IF(OR('ORDER FRAMES'!G69=\"DL\",'ORDER FRAMES'!G69=\"DR\"),\"\",'ORDER FRAMES'!M69))","v":""},null,{"$f":"IF('ORDER FRAMES'!N69=\"\",\"\",IF(OR('ORDER FRAMES'!G69=\"DL\",'ORDER FRAMES'!G69=\"DR\"),\"\",'ORDER FRAMES'!N69))","v":3},{"$f":"IF('ORDER FRAMES'!O69=\"\",\"\",IF(OR('ORDER FRAMES'!G69=\"DL\",'ORDER FRAMES'!G69=\"DR\"),\"\",'ORDER FRAMES'!O69))","v":3},null,"",null,null,"","","",{"$f":"IF('ORDER FRAMES'!Q69=\"\",\"\",IF(OR('ORDER FRAMES'!G69=\"DL\",'ORDER FRAMES'!G69=\"DR\"),\"\",'ORDER FRAMES'!Q69))","v":""},{"$f":"IF('ORDER FRAMES'!S69=\"\",\"\",IF(OR('ORDER FRAMES'!G69=\"DL\",'ORDER FRAMES'!G69=\"DR\"),\"\",'ORDER FRAMES'!S69))","v":""},{"$f":"IF('ORDER FRAMES'!T69=\"\",\"\",IF(OR('ORDER FRAMES'!G69=\"DL\",'ORDER FRAMES'!G69=\"DR\"),\"\",'ORDER FRAMES'!T69))","v":""},{"$f":"IF('ORDER FRAMES'!U69=\"\",\"\",IF(OR('ORDER FRAMES'!G69=\"DL\",'ORDER FRAMES'!G69=\"DR\"),\"\",'ORDER FRAMES'!U69))","v":""},{"$f":"IF(C54=\"\",\"\",'ORDER FRAMES'!V69)","v":""},null,null,null,null,"",null,null,null,"","",""]
[70,{"$f":"IF('ORDER FRAMES'!A70=\"\",\"\",'ORDER FRAMES'!A70)","v":""},{"$f":"IF('ORDER FRAMES'!B70=\"\",\"\",IF(OR('ORDER FRAMES'!G70=\"DL\",'ORDER FRAMES'!G70=\"DR\"),\"\",'ORDER FRAMES'!B70))","v":""},{"$f":"IF('ORDER FRAMES'!C70=\"\",\"\",IF(OR('ORDER FRAMES'!G70=\"DL\",'ORDER FRAMES'!G70=\"DR\"),\"\",'ORDER FRAMES'!C70))","v":""},null,{"$f":"IF('ORDER FRAMES'!E70=\"\",\"\",IF(OR('ORDER FRAMES'!G70=\"DL\",'ORDER FRAMES'!G70=\"DR\"),\"\",'ORDER FRAMES'!E70))","v":""},{"$f":"IF('ORDER FRAMES'!F70=\"\",\"\",IF(OR('ORDER FRAMES'!G70=\"DL\",'ORDER FRAMES'!G70=\"DR\"),\"\",'ORDER FRAMES'!F70))","v":""},{"$f":"IF('ORDER FRAMES'!G70=\"\",\"\",IF(OR('ORDER FRAMES'!G70=\"DL\",'ORDER FRAMES'!G70=\"DR\"),\"\",'ORDER FRAMES'!G70))","v":""},{"$f":"IF('ORDER FRAMES'!H70=\"\",\"\",IF(OR('ORDER FRAMES'!G70=\"DL\",'ORDER FRAMES'!G70=\"DR\"),\"\",'ORDER FRAMES'!H70))","v":""},{"$f":"IF('ORDER FRAMES'!I70=\"\",\"\",IF(OR('ORDER FRAMES'!G70=\"DL\",'ORDER FRAMES'!G70=\"DR\"),\"\",'ORDER FRAMES'!I70))","v":""},{"$f":"IF('ORDER FRAMES'!J70=\"\",\"\",IF(OR('ORDER FRAMES'!G70=\"DL\",'ORDER FRAMES'!G70=\"DR\"),\"\",'ORDER FRAMES'!J70))","v":""},{"$f":"IF('ORDER FRAMES'!K70=\"\",\"\",IF(OR('ORDER FRAMES'!G70=\"DL\",'ORDER FRAMES'!G70=\"DR\"),\"\",'ORDER FRAMES'!K70))","v":""},{"$f":"IF('ORDER FRAMES'!L70=\"\",\"\",IF(OR('ORDER FRAMES'!G70=\"DL\",'ORDER FRAMES'!G70=\"DR\"),\"\",'ORDER FRAMES'!L70))","v":""},{"$f":"IF('ORDER FRAMES'!M70=\"\",\"\",IF(OR('ORDER FRAMES'!G70=\"DL\",'ORDER FRAMES'!G70=\"DR\"),\"\",'ORDER FRAMES'!M70))","v":""},null,{"$f":"IF('ORDER FRAMES'!N70=\"\",\"\",IF(OR('ORDER FRAMES'!G70=\"DL\",'ORDER FRAMES'!G70=\"DR\"),\"\",'ORDER FRAMES'!N70))","v":3},{"$f":"IF('ORDER FRAMES'!O70=\"\",\"\",IF(OR('ORDER FRAMES'!G70=\"DL\",'ORDER FRAMES'!G70=\"DR\"),\"\",'ORDER FRAMES'!O70))","v":3},null,"",null,null,"","","",{"$f":"IF('ORDER FRAMES'!Q70=\"\",\"\",IF(OR('ORDER FRAMES'!G70=\"DL\",'ORDER FRAMES'!G70=\"DR\"),\"\",'ORDER FRAMES'!Q70))","v":""},{"$f":"IF('ORDER FRAMES'!S70=\"\",\"\",IF(OR('ORDER FRAMES'!G70=\"DL\",'ORDER FRAMES'!G70=\"DR\"),\"\",'ORDER FRAMES'!S70))","v":""},{"$f":"IF('ORDER FRAMES'!T70=\"\",\"\",IF(OR('ORDER FRAMES'!G70=\"DL\",'ORDER FRAMES'!G70=\"DR\"),\"\",'ORDER FRAMES'!T70))","v":""},{"$f":"IF('ORDER FRAMES'!U70=\"\",\"\",IF(OR('ORDER FRAMES'!G70=\"DL\",'ORDER FRAMES'!G70=\"DR\"),\"\",'ORDER FRAMES'!U70))","v":""},{"$f":"IF(C55=\"\",\"\",'ORDER FRAMES'!V70)","v":""},null,null,null,null,"",null,null,null,"","",""]
[71,{"$f":"IF('ORDER FRAMES'!A71=\"\",\"\",'ORDER FRAMES'!A71)","v":""},{"$f":"IF('ORDER FRAMES'!B71=\"\",\"\",IF(OR('ORDER FRAMES'!G71=\"DL\",'ORDER FRAMES'!G71=\"DR\"),\"\",'ORDER FRAMES'!B71))","v":""},{"$f":"IF('ORDER FRAMES'!C71=\"\",\"\",IF(OR('ORDER FRAMES'!G71=\"DL\",'ORDER FRAMES'!G71=\"DR\"),\"\",'ORDER FRAMES'!C71))","v":""},null,{"$f":"IF('ORDER FRAMES'!E71=\"\",\"\",IF(OR('ORDER FRAMES'!G71=\"DL\",'ORDER FRAMES'!G71=\"DR\"),\"\",'ORDER FRAMES'!E71))","v":""},{"$f":"IF('ORDER FRAMES'!F71=\"\",\"\",IF(OR('ORDER FRAMES'!G71=\"DL\",'ORDER FRAMES'!G71=\"DR\"),\"\",'ORDER FRAMES'!F71))","v":""},{"$f":"IF('ORDER FRAMES'!G71=\"\",\"\",IF(OR('ORDER FRAMES'!G71=\"DL\",'ORDER FRAMES'!G71=\"DR\"),\"\",'ORDER FRAMES'!G71))","v":""},{"$f":"IF('ORDER FRAMES'!H71=\"\",\"\",IF(OR('ORDER FRAMES'!G71=\"DL\",'ORDER FRAMES'!G71=\"DR\"),\"\",'ORDER FRAMES'!H71))","v":""},{"$f":"IF('ORDER FRAMES'!I71=\"\",\"\",IF(OR('ORDER FRAMES'!G71=\"DL\",'ORDER FRAMES'!G71=\"DR\"),\"\",'ORDER FRAMES'!I71))","v":""},{"$f":"IF('ORDER FRAMES'!J71=\"\",\"\",IF(OR('ORDER FRAMES'!G71=\"DL\",'ORDER FRAMES'!G71=\"DR\"),\"\",'ORDER FRAMES'!J71))","v":""},{"$f":"IF('ORDER FRAMES'!K71=\"\",\"\",IF(OR('ORDER FRAMES'!G71=\"DL\",'ORDER FRAMES'!G71=\"DR\"),\"\",'ORDER FRAMES'!K71))","v":""},{"$f":"IF('ORDER FRAMES'!L71=\"\",\"\",IF(OR('ORDER FRAMES'!G71=\"DL\",'ORDER FRAMES'!G71=\"DR\"),\"\",'ORDER FRAMES'!L71))","v":""},{"$f":"IF('ORDER FRAMES'!M71=\"\",\"\",IF(OR('ORDER FRAMES'!G71=\"DL\",'ORDER FRAMES'!G71=\"DR\"),\"\",'ORDER FRAMES'!M71))","v":""},null,{"$f":"IF('ORDER FRAMES'!N71=\"\",\"\",IF(OR('ORDER FRAMES'!G71=\"DL\",'ORDER FRAMES'!G71=\"DR\"),\"\",'ORDER FRAMES'!N71))","v":3},{"$f":"IF('ORDER FRAMES'!O71=\"\",\"\",IF(OR('ORDER FRAMES'!G71=\"DL\",'ORDER FRAMES'!G71=\"DR\"),\"\",'ORDER FRAMES'!O71))","v":3},null,"",null,null,"","","",{"$f":"IF('ORDER FRAMES'!Q71=\"\",\"\",IF(OR('ORDER FRAMES'!G71=\"DL\",'ORDER FRAMES'!G71=\"DR\"),\"\",'ORDER FRAMES'!Q71))","v":""},{"$f":"IF('ORDER FRAMES'!S71=\"\",\"\",IF(OR('ORDER FRAMES'!G71=\"DL\",'ORDER FRAMES'!G71=\"DR\"),\"\",'ORDER FRAMES'!S71))","v":""},{"$f":"IF('ORDER FRAMES'!T71=\"\",\"\",IF(OR('ORDER FRAMES'!G71=\"DL\",'ORDER FRAMES'!G71=\"DR\"),\"\",'ORDER FRAMES'!T71))","v":""},{"$f":"IF('ORDER FRAMES'!U71=\"\",\"\",IF(OR('ORDER FRAMES'!G71=\"DL\",'ORDER FRAMES'!G71=\"DR\"),\"\",'ORDER FRAMES'!U71))","v":""},{"$f":"IF(C56=\"\",\"\",'ORDER FRAMES'!V71)","v":""},null,null,null,null,"",null,null,null,"","",""]
[72,{"$f":"IF('ORDER FRAMES'!A72=\"\",\"\",'ORDER FRAMES'!A72)","v":""},{"$f":"IF('ORDER FRAMES'!B72=\"\",\"\",IF(OR('ORDER FRAMES'!G72=\"DL\",'ORDER FRAMES'!G72=\"DR\"),\"\",'ORDER FRAMES'!B72))","v":""},{"$f":"IF('ORDER FRAMES'!C72=\"\",\"\",IF(OR('ORDER FRAMES'!G72=\"DL\",'ORDER FRAMES'!G72=\"DR\"),\"\",'ORDER FRAMES'!C72))","v":""},null,{"$f":"IF('ORDER FRAMES'!E72=\"\",\"\",IF(OR('ORDER FRAMES'!G72=\"DL\",'ORDER FRAMES'!G72=\"DR\"),\"\",'ORDER FRAMES'!E72))","v":""},{"$f":"IF('ORDER FRAMES'!F72=\"\",\"\",IF(OR('ORDER FRAMES'!G72=\"DL\",'ORDER FRAMES'!G72=\"DR\"),\"\",'ORDER FRAMES'!F72))","v":""},{"$f":"IF('ORDER FRAMES'!G72=\"\",\"\",IF(OR('ORDER FRAMES'!G72=\"DL\",'ORDER FRAMES'!G72=\"DR\"),\"\",'ORDER FRAMES'!G72))","v":""},{"$f":"IF('ORDER FRAMES'!H72=\"\",\"\",IF(OR('ORDER FRAMES'!G72=\"DL\",'ORDER FRAMES'!G72=\"DR\"),\"\",'ORDER FRAMES'!H72))","v":""},{"$f":"IF('ORDER FRAMES'!I72=\"\",\"\",IF(OR('ORDER FRAMES'!G72=\"DL\",'ORDER FRAMES'!G72=\"DR\"),\"\",'ORDER FRAMES'!I72))","v":""},{"$f":"IF('ORDER FRAMES'!J72=\"\",\"\",IF(OR('ORDER FRAMES'!G72=\"DL\",'ORDER FRAMES'!G72=\"DR\"),\"\",'ORDER FRAMES'!J72))","v":""},{"$f":"IF('ORDER FRAMES'!K72=\"\",\"\",IF(OR('ORDER FRAMES'!G72=\"DL\",'ORDER FRAMES'!G72=\"DR\"),\"\",'ORDER FRAMES'!K72))","v":""},{"$f":"IF('ORDER FRAMES'!L72=\"\",\"\",IF(OR('ORDER FRAMES'!G72=\"DL\",'ORDER FRAMES'!G72=\"DR\"),\"\",'ORDER FRAMES'!L72))","v":""},{"$f":"IF('ORDER FRAMES'!M72=\"\",\"\",IF(OR('ORDER FRAMES'!G72=\"DL\",'ORDER FRAMES'!G72=\"DR\"),\"\",'ORDER FRAMES'!M72))","v":""},null,{"$f":"IF('ORDER FRAMES'!N72=\"\",\"\",IF(OR('ORDER FRAMES'!G72=\"DL\",'ORDER FRAMES'!G72=\"DR\"),\"\",'ORDER FRAMES'!N72))","v":3},{"$f":"IF('ORDER FRAMES'!O72=\"\",\"\",IF(OR('ORDER FRAMES'!G72=\"DL\",'ORDER FRAMES'!G72=\"DR\"),\"\",'ORDER FRAMES'!O72))","v":3},null,"",null,null,"","","",{"$f":"IF('ORDER FRAMES'!Q72=\"\",\"\",IF(OR('ORDER FRAMES'!G72=\"DL\",'ORDER FRAMES'!G72=\"DR\"),\"\",'ORDER FRAMES'!Q72))","v":""},{"$f":"IF('ORDER FRAMES'!S72=\"\",\"\",IF(OR('ORDER FRAMES'!G72=\"DL\",'ORDER FRAMES'!G72=\"DR\"),\"\",'ORDER FRAMES'!S72))","v":""},{"$f":"IF('ORDER FRAMES'!T72=\"\",\"\",IF(OR('ORDER FRAMES'!G72=\"DL\",'ORDER FRAMES'!G72=\"DR\"),\"\",'ORDER FRAMES'!T72))","v":""},{"$f":"IF('ORDER FRAMES'!U72=\"\",\"\",IF(OR('ORDER FRAMES'!G72=\"DL\",'ORDER FRAMES'!G72=\"DR\"),\"\",'ORDER FRAMES'!U72))","v":""},{"$f":"IF(C57=\"\",\"\",'ORDER FRAMES'!V72)","v":""},null,null,null,null,"",null,null,null,"","",""]
[73,{"$f":"IF('ORDER FRAMES'!A73=\"\",\"\",'ORDER FRAMES'!A73)","v":""},{"$f":"IF('ORDER FRAMES'!B73=\"\",\"\",IF(OR('ORDER FRAMES'!G73=\"DL\",'ORDER FRAMES'!G73=\"DR\"),\"\",'ORDER FRAMES'!B73))","v":""},{"$f":"IF('ORDER FRAMES'!C73=\"\",\"\",IF(OR('ORDER FRAMES'!G73=\"DL\",'ORDER FRAMES'!G73=\"DR\"),\"\",'ORDER FRAMES'!C73))","v":""},null,{"$f":"IF('ORDER FRAMES'!E73=\"\",\"\",IF(OR('ORDER FRAMES'!G73=\"DL\",'ORDER FRAMES'!G73=\"DR\"),\"\",'ORDER FRAMES'!E73))","v":""},{"$f":"IF('ORDER FRAMES'!F73=\"\",\"\",IF(OR('ORDER FRAMES'!G73=\"DL\",'ORDER FRAMES'!G73=\"DR\"),\"\",'ORDER FRAMES'!F73))","v":""},{"$f":"IF('ORDER FRAMES'!G73=\"\",\"\",IF(OR('ORDER FRAMES'!G73=\"DL\",'ORDER FRAMES'!G73=\"DR\"),\"\",'ORDER FRAMES'!G73))","v":""},{"$f":"IF('ORDER FRAMES'!H73=\"\",\"\",IF(OR('ORDER FRAMES'!G73=\"DL\",'ORDER FRAMES'!G73=\"DR\"),\"\",'ORDER FRAMES'!H73))","v":""},{"$f":"IF('ORDER FRAMES'!I73=\"\",\"\",IF(OR('ORDER FRAMES'!G73=\"DL\",'ORDER FRAMES'!G73=\"DR\"),\"\",'ORDER FRAMES'!I73))","v":""},{"$f":"IF('ORDER FRAMES'!J73=\"\",\"\",IF(OR('ORDER FRAMES'!G73=\"DL\",'ORDER FRAMES'!G73=\"DR\"),\"\",'ORDER FRAMES'!J73))","v":""},{"$f":"IF('ORDER FRAMES'!K73=\"\",\"\",IF(OR('ORDER FRAMES'!G73=\"DL\",'ORDER FRAMES'!G73=\"DR\"),\"\",'ORDER FRAMES'!K73))","v":""},{"$f":"IF('ORDER FRAMES'!L73=\"\",\"\",IF(OR('ORDER FRAMES'!G73=\"DL\",'ORDER FRAMES'!G73=\"DR\"),\"\",'ORDER FRAMES'!L73))","v":""},{"$f":"IF('ORDER FRAMES'!M73=\"\",\"\",IF(OR('ORDER FRAMES'!G73=\"DL\",'ORDER FRAMES'!G73=\"DR\"),\"\",'ORDER FRAMES'!M73))","v":""},null,{"$f":"IF('ORDER FRAMES'!N73=\"\",\"\",IF(OR('ORDER FRAMES'!G73=\"DL\",'ORDER FRAMES'!G73=\"DR\"),\"\",'ORDER FRAMES'!N73))","v":3},{"$f":"IF('ORDER FRAMES'!O73=\"\",\"\",IF(OR('ORDER FRAMES'!G73=\"DL\",'ORDER FRAMES'!G73=\"DR\"),\"\",'ORDER FRAMES'!O73))","v":3},null,"",null,null,"","","",{"$f":"IF('ORDER FRAMES'!Q73=\"\",\"\",IF(OR('ORDER FRAMES'!G73=\"DL\",'ORDER FRAMES'!G73=\"DR\"),\"\",'ORDER FRAMES'!Q73))","v":""},{"$f":"IF('ORDER FRAMES'!S73=\"\",\"\",IF(OR('ORDER FRAMES'!G73=\"DL\",'ORDER FRAMES'!G73=\"DR\"),\"\",'ORDER FRAMES'!S73))","v":""},{"$f":"IF('ORDER FRAMES'!T73=\"\",\"\",IF(OR('ORDER FRAMES'!G73=\"DL\",'ORDER FRAMES'!G73=\"DR\"),\"\",'ORDER FRAMES'!T73))","v":""},{"$f":"IF('ORDER FRAMES'!U73=\"\",\"\",IF(OR('ORDER FRAMES'!G73=\"DL\",'ORDER FRAMES'!G73=\"DR\"),\"\",'ORDER FRAMES'!U73))","v":""},{"$f":"IF(C58=\"\",\"\",'ORDER FRAMES'!V73)","v":""},null,null,null,null,"",null,null,null,"","",""]
[74,{"$f":"IF('ORDER FRAMES'!A74=\"\",\"\",'ORDER FRAMES'!A74)","v":""},{"$f":"IF('ORDER FRAMES'!B74=\"\",\"\",IF(OR('ORDER FRAMES'!G74=\"DL\",'ORDER FRAMES'!G74=\"DR\"),\"\",'ORDER FRAMES'!B74))","v":""},{"$f":"IF('ORDER FRAMES'!C74=\"\",\"\",IF(OR('ORDER FRAMES'!G74=\"DL\",'ORDER FRAMES'!G74=\"DR\"),\"\",'ORDER FRAMES'!C74))","v":""},null,{"$f":"IF('ORDER FRAMES'!E74=\"\",\"\",IF(OR('ORDER FRAMES'!G74=\"DL\",'ORDER FRAMES'!G74=\"DR\"),\"\",'ORDER FRAMES'!E74))","v":""},{"$f":"IF('ORDER FRAMES'!F74=\"\",\"\",IF(OR('ORDER FRAMES'!G74=\"DL\",'ORDER FRAMES'!G74=\"DR\"),\"\",'ORDER FRAMES'!F74))","v":""},{"$f":"IF('ORDER FRAMES'!G74=\"\",\"\",IF(OR('ORDER FRAMES'!G74=\"DL\",'ORDER FRAMES'!G74=\"DR\"),\"\",'ORDER FRAMES'!G74))","v":""},{"$f":"IF('ORDER FRAMES'!H74=\"\",\"\",IF(OR('ORDER FRAMES'!G74=\"DL\",'ORDER FRAMES'!G74=\"DR\"),\"\",'ORDER FRAMES'!H74))","v":""},{"$f":"IF('ORDER FRAMES'!I74=\"\",\"\",IF(OR('ORDER FRAMES'!G74=\"DL\",'ORDER FRAMES'!G74=\"DR\"),\"\",'ORDER FRAMES'!I74))","v":""},{"$f":"IF('ORDER FRAMES'!J74=\"\",\"\",IF(OR('ORDER FRAMES'!G74=\"DL\",'ORDER FRAMES'!G74=\"DR\"),\"\",'ORDER FRAMES'!J74))","v":""},{"$f":"IF('ORDER FRAMES'!K74=\"\",\"\",IF(OR('ORDER FRAMES'!G74=\"DL\",'ORDER FRAMES'!G74=\"DR\"),\"\",'ORDER FRAMES'!K74))","v":""},{"$f":"IF('ORDER FRAMES'!L74=\"\",\"\",IF(OR('ORDER FRAMES'!G74=\"DL\",'ORDER FRAMES'!G74=\"DR\"),\"\",'ORDER FRAMES'!L74))","v":""},{"$f":"IF('ORDER FRAMES'!M74=\"\",\"\",IF(OR('ORDER FRAMES'!G74=\"DL\",'ORDER FRAMES'!G74=\"DR\"),\"\",'ORDER FRAMES'!M74))","v":""},null,{"$f":"IF('ORDER FRAMES'!N74=\"\",\"\",IF(OR('ORDER FRAMES'!G74=\"DL\",'ORDER FRAMES'!G74=\"DR\"),\"\",'ORDER FRAMES'!N74))","v":3},{"$f":"IF('ORDER FRAMES'!O74=\"\",\"\",IF(OR('ORDER FRAMES'!G74=\"DL\",'ORDER FRAMES'!G74=\"DR\"),\"\",'ORDER FRAMES'!O74))","v":3},null,"",null,null,"","","",{"$f":"IF('ORDER FRAMES'!Q74=\"\",\"\",IF(OR('ORDER FRAMES'!G74=\"DL\",'ORDER FRAMES'!G74=\"DR\"),\"\",'ORDER FRAMES'!Q74))","v":""},{"$f":"IF('ORDER FRAMES'!S74=\"\",\"\",IF(OR('ORDER FRAMES'!G74=\"DL\",'ORDER FRAMES'!G74=\"DR\"),\"\",'ORDER FRAMES'!S74))","v":""},{"$f":"IF('ORDER FRAMES'!T74=\"\",\"\",IF(OR('ORDER FRAMES'!G74=\"DL\",'ORDER FRAMES'!G74=\"DR\"),\"\",'ORDER FRAMES'!T74))","v":""},{"$f":"IF('ORDER FRAMES'!U74=\"\",\"\",IF(OR('ORDER FRAMES'!G74=\"DL\",'ORDER FRAMES'!G74=\"DR\"),\"\",'ORDER FRAMES'!U74))","v":""},{"$f":"IF(C59=\"\",\"\",'ORDER FRAMES'!V74)","v":""},null,null,null,null,"",null,null,null,"","",""]
[75,{"$f":"IF('ORDER FRAMES'!A75=\"\",\"\",'ORDER FRAMES'!A75)","v":""},{"$f":"IF('ORDER FRAMES'!B75=\"\",\"\",IF(OR('ORDER FRAMES'!G75=\"DL\",'ORDER FRAMES'!G75=\"DR\"),\"\",'ORDER FRAMES'!B75))","v":""},{"$f":"IF('ORDER FRAMES'!C75=\"\",\"\",IF(OR('ORDER FRAMES'!G75=\"DL\",'ORDER FRAMES'!G75=\"DR\"),\"\",'ORDER FRAMES'!C75))","v":""},null,{"$f":"IF('ORDER FRAMES'!E75=\"\",\"\",IF(OR('ORDER FRAMES'!G75=\"DL\",'ORDER FRAMES'!G75=\"DR\"),\"\",'ORDER FRAMES'!E75))","v":""},{"$f":"IF('ORDER FRAMES'!F75=\"\",\"\",IF(OR('ORDER FRAMES'!G75=\"DL\",'ORDER FRAMES'!G75=\"DR\"),\"\",'ORDER FRAMES'!F75))","v":""},{"$f":"IF('ORDER FRAMES'!G75=\"\",\"\",IF(OR('ORDER FRAMES'!G75=\"DL\",'ORDER FRAMES'!G75=\"DR\"),\"\",'ORDER FRAMES'!G75))","v":""},{"$f":"IF('ORDER FRAMES'!H75=\"\",\"\",IF(OR('ORDER FRAMES'!G75=\"DL\",'ORDER FRAMES'!G75=\"DR\"),\"\",'ORDER FRAMES'!H75))","v":""},{"$f":"IF('ORDER FRAMES'!I75=\"\",\"\",IF(OR('ORDER FRAMES'!G75=\"DL\",'ORDER FRAMES'!G75=\"DR\"),\"\",'ORDER FRAMES'!I75))","v":""},{"$f":"IF('ORDER FRAMES'!J75=\"\",\"\",IF(OR('ORDER FRAMES'!G75=\"DL\",'ORDER FRAMES'!G75=\"DR\"),\"\",'ORDER FRAMES'!J75))","v":""},{"$f":"IF('ORDER FRAMES'!K75=\"\",\"\",IF(OR('ORDER FRAMES'!G75=\"DL\",'ORDER FRAMES'!G75=\"DR\"),\"\",'ORDER FRAMES'!K75))","v":""},{"$f":"IF('ORDER FRAMES'!L75=\"\",\"\",IF(OR('ORDER FRAMES'!G75=\"DL\",'ORDER FRAMES'!G75=\"DR\"),\"\",'ORDER FRAMES'!L75))","v":""},{"$f":"IF('ORDER FRAMES'!M75=\"\",\"\",IF(OR('ORDER FRAMES'!G75=\"DL\",'ORDER FRAMES'!G75=\"DR\"),\"\",'ORDER FRAMES'!M75))","v":""},null,{"$f":"IF('ORDER FRAMES'!N75=\"\",\"\",IF(OR('ORDER FRAMES'!G75=\"DL\",'ORDER FRAMES'!G75=\"DR\"),\"\",'ORDER FRAMES'!N75))","v":3},{"$f":"IF('ORDER FRAMES'!O75=\"\",\"\",IF(OR('ORDER FRAMES'!G75=\"DL\",'ORDER FRAMES'!G75=\"DR\"),\"\",'ORDER FRAMES'!O75))","v":3},null,"",null,null,"","","",{"$f":"IF('ORDER FRAMES'!Q75=\"\",\"\",IF(OR('ORDER FRAMES'!G75=\"DL\",'ORDER FRAMES'!G75=\"DR\"),\"\",'ORDER FRAMES'!Q75))","v":""},{"$f":"IF('ORDER FRAMES'!S75=\"\",\"\",IF(OR('ORDER FRAMES'!G75=\"DL\",'ORDER FRAMES'!G75=\"DR\"),\"\",'ORDER FRAMES'!S75))","v":""},{"$f":"IF('ORDER FRAMES'!T75=\"\",\"\",IF(OR('ORDER FRAMES'!G75=\"DL\",'ORDER FRAMES'!G75=\"DR\"),\"\",'ORDER FRAMES'!T75))","v":""},{"$f":"IF('ORDER FRAMES'!U75=\"\",\"\",IF(OR('ORDER FRAMES'!G75=\"DL\",'ORDER FRAMES'!G75=\"DR\"),\"\",'ORDER FRAMES'!U75))","v":""},{"$f":"IF(C60=\"\",\"\",'ORDER FRAMES'!V75)","v":""},null,null,null,null,"",null,null,null,"","",""]
[76,{"$f":"IF('ORDER FRAMES'!A76=\"\",\"\",'ORDER FRAMES'!A76)","v":""},{"$f":"IF('ORDER FRAMES'!B76=\"\",\"\",IF(OR('ORDER FRAMES'!G76=\"DL\",'ORDER FRAMES'!G76=\"DR\"),\"\",'ORDER FRAMES'!B76))","v":""},{"$f":"IF('ORDER FRAMES'!C76=\"\",\"\",IF(OR('ORDER FRAMES'!G76=\"DL\",'ORDER FRAMES'!G76=\"DR\"),\"\",'ORDER FRAMES'!C76))","v":""},null,{"$f":"IF('ORDER FRAMES'!E76=\"\",\"\",IF(OR('ORDER FRAMES'!G76=\"DL\",'ORDER FRAMES'!G76=\"DR\"),\"\",'ORDER FRAMES'!E76))","v":""},{"$f":"IF('ORDER FRAMES'!F76=\"\",\"\",IF(OR('ORDER FRAMES'!G76=\"DL\",'ORDER FRAMES'!G76=\"DR\"),\"\",'ORDER FRAMES'!F76))","v":""},{"$f":"IF('ORDER FRAMES'!G76=\"\",\"\",IF(OR('ORDER FRAMES'!G76=\"DL\",'ORDER FRAMES'!G76=\"DR\"),\"\",'ORDER FRAMES'!G76))","v":""},{"$f":"IF('ORDER FRAMES'!H76=\"\",\"\",IF(OR('ORDER FRAMES'!G76=\"DL\",'ORDER FRAMES'!G76=\"DR\"),\"\",'ORDER FRAMES'!H76))","v":""},{"$f":"IF('ORDER FRAMES'!I76=\"\",\"\",IF(OR('ORDER FRAMES'!G76=\"DL\",'ORDER FRAMES'!G76=\"DR\"),\"\",'ORDER FRAMES'!I76))","v":""},{"$f":"IF('ORDER FRAMES'!J76=\"\",\"\",IF(OR('ORDER FRAMES'!G76=\"DL\",'ORDER FRAMES'!G76=\"DR\"),\"\",'ORDER FRAMES'!J76))","v":""},{"$f":"IF('ORDER FRAMES'!K76=\"\",\"\",IF(OR('ORDER FRAMES'!G76=\"DL\",'ORDER FRAMES'!G76=\"DR\"),\"\",'ORDER FRAMES'!K76))","v":""},{"$f":"IF('ORDER FRAMES'!L76=\"\",\"\",IF(OR('ORDER FRAMES'!G76=\"DL\",'ORDER FRAMES'!G76=\"DR\"),\"\",'ORDER FRAMES'!L76))","v":""},{"$f":"IF('ORDER FRAMES'!M76=\"\",\"\",IF(OR('ORDER FRAMES'!G76=\"DL\",'ORDER FRAMES'!G76=\"DR\"),\"\",'ORDER FRAMES'!M76))","v":""},null,{"$f":"IF('ORDER FRAMES'!N76=\"\",\"\",IF(OR('ORDER FRAMES'!G76=\"DL\",'ORDER FRAMES'!G76=\"DR\"),\"\",'ORDER FRAMES'!N76))","v":3},{"$f":"IF('ORDER FRAMES'!O76=\"\",\"\",IF(OR('ORDER FRAMES'!G76=\"DL\",'ORDER FRAMES'!G76=\"DR\"),\"\",'ORDER FRAMES'!O76))","v":3},null,"",null,null,"","","",{"$f":"IF('ORDER FRAMES'!Q76=\"\",\"\",IF(OR('ORDER FRAMES'!G76=\"DL\",'ORDER FRAMES'!G76=\"DR\"),\"\",'ORDER FRAMES'!Q76))","v":""},{"$f":"IF('ORDER FRAMES'!S76=\"\",\"\",IF(OR('ORDER FRAMES'!G76=\"DL\",'ORDER FRAMES'!G76=\"DR\"),\"\",'ORDER FRAMES'!S76))","v":""},{"$f":"IF('ORDER FRAMES'!T76=\"\",\"\",IF(OR('ORDER FRAMES'!G76=\"DL\",'ORDER FRAMES'!G76=\"DR\"),\"\",'ORDER FRAMES'!T76))","v":""},{"$f":"IF('ORDER FRAMES'!U76=\"\",\"\",IF(OR('ORDER FRAMES'!G76=\"DL\",'ORDER FRAMES'!G76=\"DR\"),\"\",'ORDER FRAMES'!U76))","v":""},{"$f":"IF(C61=\"\",\"\",'ORDER FRAMES'!V76)","v":""},null,null,null,null,"",null,null,null,"","",""]
[77,{"$f":"IF('ORDER FRAMES'!A77=\"\",\"\",'ORDER FRAMES'!A77)","v":""},{"$f":"IF('ORDER FRAMES'!B77=\"\",\"\",IF(OR('ORDER FRAMES'!G77=\"DL\",'ORDER FRAMES'!G77=\"DR\"),\"\",'ORDER FRAMES'!B77))","v":""},{"$f":"IF('ORDER FRAMES'!C77=\"\",\"\",IF(OR('ORDER FRAMES'!G77=\"DL\",'ORDER FRAMES'!G77=\"DR\"),\"\",'ORDER FRAMES'!C77))","v":""},null,{"$f":"IF('ORDER FRAMES'!E77=\"\",\"\",IF(OR('ORDER FRAMES'!G77=\"DL\",'ORDER FRAMES'!G77=\"DR\"),\"\",'ORDER FRAMES'!E77))","v":""},{"$f":"IF('ORDER FRAMES'!F77=\"\",\"\",IF(OR('ORDER FRAMES'!G77=\"DL\",'ORDER FRAMES'!G77=\"DR\"),\"\",'ORDER FRAMES'!F77))","v":""},{"$f":"IF('ORDER FRAMES'!G77=\"\",\"\",IF(OR('ORDER FRAMES'!G77=\"DL\",'ORDER FRAMES'!G77=\"DR\"),\"\",'ORDER FRAMES'!G77))","v":""},{"$f":"IF('ORDER FRAMES'!H77=\"\",\"\",IF(OR('ORDER FRAMES'!G77=\"DL\",'ORDER FRAMES'!G77=\"DR\"),\"\",'ORDER FRAMES'!H77))","v":""},{"$f":"IF('ORDER FRAMES'!I77=\"\",\"\",IF(OR('ORDER FRAMES'!G77=\"DL\",'ORDER FRAMES'!G77=\"DR\"),\"\",'ORDER FRAMES'!I77))","v":""},{"$f":"IF('ORDER FRAMES'!J77=\"\",\"\",IF(OR('ORDER FRAMES'!G77=\"DL\",'ORDER FRAMES'!G77=\"DR\"),\"\",'ORDER FRAMES'!J77))","v":""},{"$f":"IF('ORDER FRAMES'!K77=\"\",\"\",IF(OR('ORDER FRAMES'!G77=\"DL\",'ORDER FRAMES'!G77=\"DR\"),\"\",'ORDER FRAMES'!K77))","v":""},{"$f":"IF('ORDER FRAMES'!L77=\"\",\"\",IF(OR('ORDER FRAMES'!G77=\"DL\",'ORDER FRAMES'!G77=\"DR\"),\"\",'ORDER FRAMES'!L77))","v":""},{"$f":"IF('ORDER FRAMES'!M77=\"\",\"\",IF(OR('ORDER FRAMES'!G77=\"DL\",'ORDER FRAMES'!G77=\"DR\"),\"\",'ORDER FRAMES'!M77))","v":""},null,{"$f":"IF('ORDER FRAMES'!N77=\"\",\"\",IF(OR('ORDER FRAMES'!G77=\"DL\",'ORDER FRAMES'!G77=\"DR\"),\"\",'ORDER FRAMES'!N77))","v":3},{"$f":"IF('ORDER FRAMES'!O77=\"\",\"\",IF(OR('ORDER FRAMES'!G77=\"DL\",'ORDER FRAMES'!G77=\"DR\"),\"\",'ORDER FRAMES'!O77))","v":3},null,"",null,null,"","","",{"$f":"IF('ORDER FRAMES'!Q77=\"\",\"\",IF(OR('ORDER FRAMES'!G77=\"DL\",'ORDER FRAMES'!G77=\"DR\"),\"\",'ORDER FRAMES'!Q77))","v":""},{"$f":"IF('ORDER FRAMES'!S77=\"\",\"\",IF(OR('ORDER FRAMES'!G77=\"DL\",'ORDER FRAMES'!G77=\"DR\"),\"\",'ORDER FRAMES'!S77))","v":""},{"$f":"IF('ORDER FRAMES'!T77=\"\",\"\",IF(OR('ORDER FRAMES'!G77=\"DL\",'ORDER FRAMES'!G77=\"DR\"),\"\",'ORDER FRAMES'!T77))","v":""},{"$f":"IF('ORDER FRAMES'!U77=\"\",\"\",IF(OR('ORDER FRAMES'!G77=\"DL\",'ORDER FRAMES'!G77=\"DR\"),\"\",'ORDER FRAMES'!U77))","v":""},{"$f":"IF(C62=\"\",\"\",'ORDER FRAMES'!V77)","v":""},null,null,null,null,"",null,null,null,"","",""]
[78,{"$f":"IF('ORDER FRAMES'!A78=\"\",\"\",'ORDER FRAMES'!A78)","v":""},{"$f":"IF('ORDER FRAMES'!B78=\"\",\"\",IF(OR('ORDER FRAMES'!G78=\"DL\",'ORDER FRAMES'!G78=\"DR\"),\"\",'ORDER FRAMES'!B78))","v":""},{"$f":"IF('ORDER FRAMES'!C78=\"\",\"\",IF(OR('ORDER FRAMES'!G78=\"DL\",'ORDER FRAMES'!G78=\"DR\"),\"\",'ORDER FRAMES'!C78))","v":""},null,{"$f":"IF('ORDER FRAMES'!E78=\"\",\"\",IF(OR('ORDER FRAMES'!G78=\"DL\",'ORDER FRAMES'!G78=\"DR\"),\"\",'ORDER FRAMES'!E78))","v":""},{"$f":"IF('ORDER FRAMES'!F78=\"\",\"\",IF(OR('ORDER FRAMES'!G78=\"DL\",'ORDER FRAMES'!G78=\"DR\"),\"\",'ORDER FRAMES'!F78))","v":""},{"$f":"IF('ORDER FRAMES'!G78=\"\",\"\",IF(OR('ORDER FRAMES'!G78=\"DL\",'ORDER FRAMES'!G78=\"DR\"),\"\",'ORDER FRAMES'!G78))","v":""},{"$f":"IF('ORDER FRAMES'!H78=\"\",\"\",IF(OR('ORDER FRAMES'!G78=\"DL\",'ORDER FRAMES'!G78=\"DR\"),\"\",'ORDER FRAMES'!H78))","v":""},{"$f":"IF('ORDER FRAMES'!I78=\"\",\"\",IF(OR('ORDER FRAMES'!G78=\"DL\",'ORDER FRAMES'!G78=\"DR\"),\"\",'ORDER FRAMES'!I78))","v":""},{"$f":"IF('ORDER FRAMES'!J78=\"\",\"\",IF(OR('ORDER FRAMES'!G78=\"DL\",'ORDER FRAMES'!G78=\"DR\"),\"\",'ORDER FRAMES'!J78))","v":""},{"$f":"IF('ORDER FRAMES'!K78=\"\",\"\",IF(OR('ORDER FRAMES'!G78=\"DL\",'ORDER FRAMES'!G78=\"DR\"),\"\",'ORDER FRAMES'!K78))","v":""},{"$f":"IF('ORDER FRAMES'!L78=\"\",\"\",IF(OR('ORDER FRAMES'!G78=\"DL\",'ORDER FRAMES'!G78=\"DR\"),\"\",'ORDER FRAMES'!L78))","v":""},{"$f":"IF('ORDER FRAMES'!M78=\"\",\"\",IF(OR('ORDER FRAMES'!G78=\"DL\",'ORDER FRAMES'!G78=\"DR\"),\"\",'ORDER FRAMES'!M78))","v":""},null,{"$f":"IF('ORDER FRAMES'!N78=\"\",\"\",IF(OR('ORDER FRAMES'!G78=\"DL\",'ORDER FRAMES'!G78=\"DR\"),\"\",'ORDER FRAMES'!N78))","v":3},{"$f":"IF('ORDER FRAMES'!O78=\"\",\"\",IF(OR('ORDER FRAMES'!G78=\"DL\",'ORDER FRAMES'!G78=\"DR\"),\"\",'ORDER FRAMES'!O78))","v":3},null,"",null,null,"","","",{"$f":"IF('ORDER FRAMES'!Q78=\"\",\"\",IF(OR('ORDER FRAMES'!G78=\"DL\",'ORDER FRAMES'!G78=\"DR\"),\"\",'ORDER FRAMES'!Q78))","v":""},{"$f":"IF('ORDER FRAMES'!S78=\"\",\"\",IF(OR('ORDER FRAMES'!G78=\"DL\",'ORDER FRAMES'!G78=\"DR\"),\"\",'ORDER FRAMES'!S78))","v":""},{"$f":"IF('ORDER FRAMES'!T78=\"\",\"\",IF(OR('ORDER FRAMES'!G78=\"DL\",'ORDER FRAMES'!G78=\"DR\"),\"\",'ORDER FRAMES'!T78))","v":""},{"$f":"IF('ORDER FRAMES'!U78=\"\",\"\",IF(OR('ORDER FRAMES'!G78=\"DL\",'ORDER FRAMES'!G78=\"DR\"),\"\",'ORDER FRAMES'!U78))","v":""},{"$f":"IF(C63=\"\",\"\",'ORDER FRAMES'!V78)","v":""},null,null,null,null,"",null,null,null,"","",""]
[79,{"$f":"IF('ORDER FRAMES'!A79=\"\",\"\",'ORDER FRAMES'!A79)","v":""},{"$f":"IF('ORDER FRAMES'!B79=\"\",\"\",IF(OR('ORDER FRAMES'!G79=\"DL\",'ORDER FRAMES'!G79=\"DR\"),\"\",'ORDER FRAMES'!B79))","v":""},{"$f":"IF('ORDER FRAMES'!C79=\"\",\"\",IF(OR('ORDER FRAMES'!G79=\"DL\",'ORDER FRAMES'!G79=\"DR\"),\"\",'ORDER FRAMES'!C79))","v":""},null,{"$f":"IF('ORDER FRAMES'!E79=\"\",\"\",IF(OR('ORDER FRAMES'!G79=\"DL\",'ORDER FRAMES'!G79=\"DR\"),\"\",'ORDER FRAMES'!E79))","v":""},{"$f":"IF('ORDER FRAMES'!F79=\"\",\"\",IF(OR('ORDER FRAMES'!G79=\"DL\",'ORDER FRAMES'!G79=\"DR\"),\"\",'ORDER FRAMES'!F79))","v":""},{"$f":"IF('ORDER FRAMES'!G79=\"\",\"\",IF(OR('ORDER FRAMES'!G79=\"DL\",'ORDER FRAMES'!G79=\"DR\"),\"\",'ORDER FRAMES'!G79))","v":""},{"$f":"IF('ORDER FRAMES'!H79=\"\",\"\",IF(OR('ORDER FRAMES'!G79=\"DL\",'ORDER FRAMES'!G79=\"DR\"),\"\",'ORDER FRAMES'!H79))","v":""},{"$f":"IF('ORDER FRAMES'!I79=\"\",\"\",IF(OR('ORDER FRAMES'!G79=\"DL\",'ORDER FRAMES'!G79=\"DR\"),\"\",'ORDER FRAMES'!I79))","v":""},{"$f":"IF('ORDER FRAMES'!J79=\"\",\"\",IF(OR('ORDER FRAMES'!G79=\"DL\",'ORDER FRAMES'!G79=\"DR\"),\"\",'ORDER FRAMES'!J79))","v":""},{"$f":"IF('ORDER FRAMES'!K79=\"\",\"\",IF(OR('ORDER FRAMES'!G79=\"DL\",'ORDER FRAMES'!G79=\"DR\"),\"\",'ORDER FRAMES'!K79))","v":""},{"$f":"IF('ORDER FRAMES'!L79=\"\",\"\",IF(OR('ORDER FRAMES'!G79=\"DL\",'ORDER FRAMES'!G79=\"DR\"),\"\",'ORDER FRAMES'!L79))","v":""},{"$f":"IF('ORDER FRAMES'!M79=\"\",\"\",IF(OR('ORDER FRAMES'!G79=\"DL\",'ORDER FRAMES'!G79=\"DR\"),\"\",'ORDER FRAMES'!M79))","v":""},null,{"$f":"IF('ORDER FRAMES'!N79=\"\",\"\",IF(OR('ORDER FRAMES'!G79=\"DL\",'ORDER FRAMES'!G79=\"DR\"),\"\",'ORDER FRAMES'!N79))","v":3},{"$f":"IF('ORDER FRAMES'!O79=\"\",\"\",IF(OR('ORDER FRAMES'!G79=\"DL\",'ORDER FRAMES'!G79=\"DR\"),\"\",'ORDER FRAMES'!O79))","v":3},null,"",null,null,"","","",{"$f":"IF('ORDER FRAMES'!Q79=\"\",\"\",IF(OR('ORDER FRAMES'!G79=\"DL\",'ORDER FRAMES'!G79=\"DR\"),\"\",'ORDER FRAMES'!Q79))","v":""},{"$f":"IF('ORDER FRAMES'!S79=\"\",\"\",IF(OR('ORDER FRAMES'!G79=\"DL\",'ORDER FRAMES'!G79=\"DR\"),\"\",'ORDER FRAMES'!S79))","v":""},{"$f":"IF('ORDER FRAMES'!T79=\"\",\"\",IF(OR('ORDER FRAMES'!G79=\"DL\",'ORDER FRAMES'!G79=\"DR\"),\"\",'ORDER FRAMES'!T79))","v":""},{"$f":"IF('ORDER FRAMES'!U79=\"\",\"\",IF(OR('ORDER FRAMES'!G79=\"DL\",'ORDER FRAMES'!G79=\"DR\"),\"\",'ORDER FRAMES'!U79))","v":""},{"$f":"IF(C64=\"\",\"\",'ORDER FRAMES'!V79)","v":""},null,null,null,null,"",null,null,null,"","",""]
[80,{"$f":"IF('ORDER FRAMES'!A80=\"\",\"\",'ORDER FRAMES'!A80)","v":""},{"$f":"IF('ORDER FRAMES'!B80=\"\",\"\",IF(OR('ORDER FRAMES'!G80=\"DL\",'ORDER FRAMES'!G80=\"DR\"),\"\",'ORDER FRAMES'!B80))","v":""},{"$f":"IF('ORDER FRAMES'!C80=\"\",\"\",IF(OR('ORDER FRAMES'!G80=\"DL\",'ORDER FRAMES'!G80=\"DR\"),\"\",'ORDER FRAMES'!C80))","v":""},null,{"$f":"IF('ORDER FRAMES'!E80=\"\",\"\",IF(OR('ORDER FRAMES'!G80=\"DL\",'ORDER FRAMES'!G80=\"DR\"),\"\",'ORDER FRAMES'!E80))","v":""},{"$f":"IF('ORDER FRAMES'!F80=\"\",\"\",IF(OR('ORDER FRAMES'!G80=\"DL\",'ORDER FRAMES'!G80=\"DR\"),\"\",'ORDER FRAMES'!F80))","v":""},{"$f":"IF('ORDER FRAMES'!G80=\"\",\"\",IF(OR('ORDER FRAMES'!G80=\"DL\",'ORDER FRAMES'!G80=\"DR\"),\"\",'ORDER FRAMES'!G80))","v":""},{"$f":"IF('ORDER FRAMES'!H80=\"\",\"\",IF(OR('ORDER FRAMES'!G80=\"DL\",'ORDER FRAMES'!G80=\"DR\"),\"\",'ORDER FRAMES'!H80))","v":""},{"$f":"IF('ORDER FRAMES'!I80=\"\",\"\",IF(OR('ORDER FRAMES'!G80=\"DL\",'ORDER FRAMES'!G80=\"DR\"),\"\",'ORDER FRAMES'!I80))","v":""},{"$f":"IF('ORDER FRAMES'!J80=\"\",\"\",IF(OR('ORDER FRAMES'!G80=\"DL\",'ORDER FRAMES'!G80=\"DR\"),\"\",'ORDER FRAMES'!J80))","v":""},{"$f":"IF('ORDER FRAMES'!K80=\"\",\"\",IF(OR('ORDER FRAMES'!G80=\"DL\",'ORDER FRAMES'!G80=\"DR\"),\"\",'ORDER FRAMES'!K80))","v":""},{"$f":"IF('ORDER FRAMES'!L80=\"\",\"\",IF(OR('ORDER FRAMES'!G80=\"DL\",'ORDER FRAMES'!G80=\"DR\"),\"\",'ORDER FRAMES'!L80))","v":""},{"$f":"IF('ORDER FRAMES'!M80=\"\",\"\",IF(OR('ORDER FRAMES'!G80=\"DL\",'ORDER FRAMES'!G80=\"DR\"),\"\",'ORDER FRAMES'!M80))","v":""},null,{"$f":"IF('ORDER FRAMES'!N80=\"\",\"\",IF(OR('ORDER FRAMES'!G80=\"DL\",'ORDER FRAMES'!G80=\"DR\"),\"\",'ORDER FRAMES'!N80))","v":3},{"$f":"IF('ORDER FRAMES'!O80=\"\",\"\",IF(OR('ORDER FRAMES'!G80=\"DL\",'ORDER FRAMES'!G80=\"DR\"),\"\",'ORDER FRAMES'!O80))","v":3},null,"",null,null,"","","",{"$f":"IF('ORDER FRAMES'!Q80=\"\",\"\",IF(OR('ORDER FRAMES'!G80=\"DL\",'ORDER FRAMES'!G80=\"DR\"),\"\",'ORDER FRAMES'!Q80))","v":""},{"$f":"IF('ORDER FRAMES'!S80=\"\",\"\",IF(OR('ORDER FRAMES'!G80=\"DL\",'ORDER FRAMES'!G80=\"DR\"),\"\",'ORDER FRAMES'!S80))","v":""},{"$f":"IF('ORDER FRAMES'!T80=\"\",\"\",IF(OR('ORDER FRAMES'!G80=\"DL\",'ORDER FRAMES'!G80=\"DR\"),\"\",'ORDER FRAMES'!T80))","v":""},{"$f":"IF('ORDER FRAMES'!U80=\"\",\"\",IF(OR('ORDER FRAMES'!G80=\"DL\",'ORDER FRAMES'!G80=\"DR\"),\"\",'ORDER FRAMES'!U80))","v":""},{"$f":"IF(C65=\"\",\"\",'ORDER FRAMES'!V80)","v":""},null,null,null,null,"",null,null,null,"","",""]
[81,{"$f":"IF('ORDER FRAMES'!A81=\"\",\"\",'ORDER FRAMES'!A81)","v":""},{"$f":"IF('ORDER FRAMES'!B81=\"\",\"\",IF(OR('ORDER FRAMES'!G81=\"DL\",'ORDER FRAMES'!G81=\"DR\"),\"\",'ORDER FRAMES'!B81))","v":""},{"$f":"IF('ORDER FRAMES'!C81=\"\",\"\",IF(OR('ORDER FRAMES'!G81=\"DL\",'ORDER FRAMES'!G81=\"DR\"),\"\",'ORDER FRAMES'!C81))","v":""},null,{"$f":"IF('ORDER FRAMES'!E81=\"\",\"\",IF(OR('ORDER FRAMES'!G81=\"DL\",'ORDER FRAMES'!G81=\"DR\"),\"\",'ORDER FRAMES'!E81))","v":""},{"$f":"IF('ORDER FRAMES'!F81=\"\",\"\",IF(OR('ORDER FRAMES'!G81=\"DL\",'ORDER FRAMES'!G81=\"DR\"),\"\",'ORDER FRAMES'!F81))","v":""},{"$f":"IF('ORDER FRAMES'!G81=\"\",\"\",IF(OR('ORDER FRAMES'!G81=\"DL\",'ORDER FRAMES'!G81=\"DR\"),\"\",'ORDER FRAMES'!G81))","v":""},{"$f":"IF('ORDER FRAMES'!H81=\"\",\"\",IF(OR('ORDER FRAMES'!G81=\"DL\",'ORDER FRAMES'!G81=\"DR\"),\"\",'ORDER FRAMES'!H81))","v":""},{"$f":"IF('ORDER FRAMES'!I81=\"\",\"\",IF(OR('ORDER FRAMES'!G81=\"DL\",'ORDER FRAMES'!G81=\"DR\"),\"\",'ORDER FRAMES'!I81))","v":""},{"$f":"IF('ORDER FRAMES'!J81=\"\",\"\",IF(OR('ORDER FRAMES'!G81=\"DL\",'ORDER FRAMES'!G81=\"DR\"),\"\",'ORDER FRAMES'!J81))","v":""},{"$f":"IF('ORDER FRAMES'!K81=\"\",\"\",IF(OR('ORDER FRAMES'!G81=\"DL\",'ORDER FRAMES'!G81=\"DR\"),\"\",'ORDER FRAMES'!K81))","v":""},{"$f":"IF('ORDER FRAMES'!L81=\"\",\"\",IF(OR('ORDER FRAMES'!G81=\"DL\",'ORDER FRAMES'!G81=\"DR\"),\"\",'ORDER FRAMES'!L81))","v":""},{"$f":"IF('ORDER FRAMES'!M81=\"\",\"\",IF(OR('ORDER FRAMES'!G81=\"DL\",'ORDER FRAMES'!G81=\"DR\"),\"\",'ORDER FRAMES'!M81))","v":""},null,{"$f":"IF('ORDER FRAMES'!N81=\"\",\"\",IF(OR('ORDER FRAMES'!G81=\"DL\",'ORDER FRAMES'!G81=\"DR\"),\"\",'ORDER FRAMES'!N81))","v":3},{"$f":"IF('ORDER FRAMES'!O81=\"\",\"\",IF(OR('ORDER FRAMES'!G81=\"DL\",'ORDER FRAMES'!G81=\"DR\"),\"\",'ORDER FRAMES'!O81))","v":3},null,"",null,null,"","","",{"$f":"IF('ORDER FRAMES'!Q81=\"\",\"\",IF(OR('ORDER FRAMES'!G81=\"DL\",'ORDER FRAMES'!G81=\"DR\"),\"\",'ORDER FRAMES'!Q81))","v":""},{"$f":"IF('ORDER FRAMES'!S81=\"\",\"\",IF(OR('ORDER FRAMES'!G81=\"DL\",'ORDER FRAMES'!G81=\"DR\"),\"\",'ORDER FRAMES'!S81))","v":""},{"$f":"IF('ORDER FRAMES'!T81=\"\",\"\",IF(OR('ORDER FRAMES'!G81=\"DL\",'ORDER FRAMES'!G81=\"DR\"),\"\",'ORDER FRAMES'!T81))","v":""},{"$f":"IF('ORDER FRAMES'!U81=\"\",\"\",IF(OR('ORDER FRAMES'!G81=\"DL\",'ORDER FRAMES'!G81=\"DR\"),\"\",'ORDER FRAMES'!U81))","v":""},{"$f":"IF(C66=\"\",\"\",'ORDER FRAMES'!V81)","v":""},null,null,null,null,"",null,null,null,"","",""]
[82,{"$f":"IF('ORDER FRAMES'!A82=\"\",\"\",'ORDER FRAMES'!A82)","v":""},{"$f":"IF('ORDER FRAMES'!B82=\"\",\"\",IF(OR('ORDER FRAMES'!G82=\"DL\",'ORDER FRAMES'!G82=\"DR\"),\"\",'ORDER FRAMES'!B82))","v":""},{"$f":"IF('ORDER FRAMES'!C82=\"\",\"\",IF(OR('ORDER FRAMES'!G82=\"DL\",'ORDER FRAMES'!G82=\"DR\"),\"\",'ORDER FRAMES'!C82))","v":""},null,{"$f":"IF('ORDER FRAMES'!E82=\"\",\"\",IF(OR('ORDER FRAMES'!G82=\"DL\",'ORDER FRAMES'!G82=\"DR\"),\"\",'ORDER FRAMES'!E82))","v":""},{"$f":"IF('ORDER FRAMES'!F82=\"\",\"\",IF(OR('ORDER FRAMES'!G82=\"DL\",'ORDER FRAMES'!G82=\"DR\"),\"\",'ORDER FRAMES'!F82))","v":""},{"$f":"IF('ORDER FRAMES'!G82=\"\",\"\",IF(OR('ORDER FRAMES'!G82=\"DL\",'ORDER FRAMES'!G82=\"DR\"),\"\",'ORDER FRAMES'!G82))","v":""},{"$f":"IF('ORDER FRAMES'!H82=\"\",\"\",IF(OR('ORDER FRAMES'!G82=\"DL\",'ORDER FRAMES'!G82=\"DR\"),\"\",'ORDER FRAMES'!H82))","v":""},{"$f":"IF('ORDER FRAMES'!I82=\"\",\"\",IF(OR('ORDER FRAMES'!G82=\"DL\",'ORDER FRAMES'!G82=\"DR\"),\"\",'ORDER FRAMES'!I82))","v":""},{"$f":"IF('ORDER FRAMES'!J82=\"\",\"\",IF(OR('ORDER FRAMES'!G82=\"DL\",'ORDER FRAMES'!G82=\"DR\"),\"\",'ORDER FRAMES'!J82))","v":""},{"$f":"IF('ORDER FRAMES'!K82=\"\",\"\",IF(OR('ORDER FRAMES'!G82=\"DL\",'ORDER FRAMES'!G82=\"DR\"),\"\",'ORDER FRAMES'!K82))","v":""},{"$f":"IF('ORDER FRAMES'!L82=\"\",\"\",IF(OR('ORDER FRAMES'!G82=\"DL\",'ORDER FRAMES'!G82=\"DR\"),\"\",'ORDER FRAMES'!L82))","v":""},{"$f":"IF('ORDER FRAMES'!M82=\"\",\"\",IF(OR('ORDER FRAMES'!G82=\"DL\",'ORDER FRAMES'!G82=\"DR\"),\"\",'ORDER FRAMES'!M82))","v":""},null,{"$f":"IF('ORDER FRAMES'!N82=\"\",\"\",IF(OR('ORDER FRAMES'!G82=\"DL\",'ORDER FRAMES'!G82=\"DR\"),\"\",'ORDER FRAMES'!N82))","v":3},{"$f":"IF('ORDER FRAMES'!O82=\"\",\"\",IF(OR('ORDER FRAMES'!G82=\"DL\",'ORDER FRAMES'!G82=\"DR\"),\"\",'ORDER FRAMES'!O82))","v":3},null,"",null,null,"","","",{"$f":"IF('ORDER FRAMES'!Q82=\"\",\"\",IF(OR('ORDER FRAMES'!G82=\"DL\",'ORDER FRAMES'!G82=\"DR\"),\"\",'ORDER FRAMES'!Q82))","v":""},{"$f":"IF('ORDER FRAMES'!S82=\"\",\"\",IF(OR('ORDER FRAMES'!G82=\"DL\",'ORDER FRAMES'!G82=\"DR\"),\"\",'ORDER FRAMES'!S82))","v":""},{"$f":"IF('ORDER FRAMES'!T82=\"\",\"\",IF(OR('ORDER FRAMES'!G82=\"DL\",'ORDER FRAMES'!G82=\"DR\"),\"\",'ORDER FRAMES'!T82))","v":""},{"$f":"IF('ORDER FRAMES'!U82=\"\",\"\",IF(OR('ORDER FRAMES'!G82=\"DL\",'ORDER FRAMES'!G82=\"DR\"),\"\",'ORDER FRAMES'!U82))","v":""},{"$f":"IF(C67=\"\",\"\",'ORDER FRAMES'!V82)","v":""},null,null,null,null,"",null,null,null,"","",""]
[83,{"$f":"IF('ORDER FRAMES'!A83=\"\",\"\",'ORDER FRAMES'!A83)","v":""},{"$f":"IF('ORDER FRAMES'!B83=\"\",\"\",IF(OR('ORDER FRAMES'!G83=\"DL\",'ORDER FRAMES'!G83=\"DR\"),\"\",'ORDER FRAMES'!B83))","v":""},{"$f":"IF('ORDER FRAMES'!C83=\"\",\"\",IF(OR('ORDER FRAMES'!G83=\"DL\",'ORDER FRAMES'!G83=\"DR\"),\"\",'ORDER FRAMES'!C83))","v":""},null,{"$f":"IF('ORDER FRAMES'!E83=\"\",\"\",IF(OR('ORDER FRAMES'!G83=\"DL\",'ORDER FRAMES'!G83=\"DR\"),\"\",'ORDER FRAMES'!E83))","v":""},{"$f":"IF('ORDER FRAMES'!F83=\"\",\"\",IF(OR('ORDER FRAMES'!G83=\"DL\",'ORDER FRAMES'!G83=\"DR\"),\"\",'ORDER FRAMES'!F83))","v":""},{"$f":"IF('ORDER FRAMES'!G83=\"\",\"\",IF(OR('ORDER FRAMES'!G83=\"DL\",'ORDER FRAMES'!G83=\"DR\"),\"\",'ORDER FRAMES'!G83))","v":""},{"$f":"IF('ORDER FRAMES'!H83=\"\",\"\",IF(OR('ORDER FRAMES'!G83=\"DL\",'ORDER FRAMES'!G83=\"DR\"),\"\",'ORDER FRAMES'!H83))","v":""},{"$f":"IF('ORDER FRAMES'!I83=\"\",\"\",IF(OR('ORDER FRAMES'!G83=\"DL\",'ORDER FRAMES'!G83=\"DR\"),\"\",'ORDER FRAMES'!I83))","v":""},{"$f":"IF('ORDER FRAMES'!J83=\"\",\"\",IF(OR('ORDER FRAMES'!G83=\"DL\",'ORDER FRAMES'!G83=\"DR\"),\"\",'ORDER FRAMES'!J83))","v":""},{"$f":"IF('ORDER FRAMES'!K83=\"\",\"\",IF(OR('ORDER FRAMES'!G83=\"DL\",'ORDER FRAMES'!G83=\"DR\"),\"\",'ORDER FRAMES'!K83))","v":""},{"$f":"IF('ORDER FRAMES'!L83=\"\",\"\",IF(OR('ORDER FRAMES'!G83=\"DL\",'ORDER FRAMES'!G83=\"DR\"),\"\",'ORDER FRAMES'!L83))","v":""},{"$f":"IF('ORDER FRAMES'!M83=\"\",\"\",IF(OR('ORDER FRAMES'!G83=\"DL\",'ORDER FRAMES'!G83=\"DR\"),\"\",'ORDER FRAMES'!M83))","v":""},null,{"$f":"IF('ORDER FRAMES'!N83=\"\",\"\",IF(OR('ORDER FRAMES'!G83=\"DL\",'ORDER FRAMES'!G83=\"DR\"),\"\",'ORDER FRAMES'!N83))","v":3},{"$f":"IF('ORDER FRAMES'!O83=\"\",\"\",IF(OR('ORDER FRAMES'!G83=\"DL\",'ORDER FRAMES'!G83=\"DR\"),\"\",'ORDER FRAMES'!O83))","v":3},null,"",null,null,"","","",{"$f":"IF('ORDER FRAMES'!Q83=\"\",\"\",IF(OR('ORDER FRAMES'!G83=\"DL\",'ORDER FRAMES'!G83=\"DR\"),\"\",'ORDER FRAMES'!Q83))","v":""},{"$f":"IF('ORDER FRAMES'!S83=\"\",\"\",IF(OR('ORDER FRAMES'!G83=\"DL\",'ORDER FRAMES'!G83=\"DR\"),\"\",'ORDER FRAMES'!S83))","v":""},{"$f":"IF('ORDER FRAMES'!T83=\"\",\"\",IF(OR('ORDER FRAMES'!G83=\"DL\",'ORDER FRAMES'!G83=\"DR\"),\"\",'ORDER FRAMES'!T83))","v":""},{"$f":"IF('ORDER FRAMES'!U83=\"\",\"\",IF(OR('ORDER FRAMES'!G83=\"DL\",'ORDER FRAMES'!G83=\"DR\"),\"\",'ORDER FRAMES'!U83))","v":""},{"$f":"IF(C68=\"\",\"\",'ORDER FRAMES'!V83)","v":""},null,null,null,null,"",null,null,null,"","",""]
[84,{"$f":"IF('ORDER FRAMES'!A84=\"\",\"\",'ORDER FRAMES'!A84)","v":""},{"$f":"IF('ORDER FRAMES'!B84=\"\",\"\",IF(OR('ORDER FRAMES'!G84=\"DL\",'ORDER FRAMES'!G84=\"DR\"),\"\",'ORDER FRAMES'!B84))","v":""},{"$f":"IF('ORDER FRAMES'!C84=\"\",\"\",IF(OR('ORDER FRAMES'!G84=\"DL\",'ORDER FRAMES'!G84=\"DR\"),\"\",'ORDER FRAMES'!C84))","v":""},null,{"$f":"IF('ORDER FRAMES'!E84=\"\",\"\",IF(OR('ORDER FRAMES'!G84=\"DL\",'ORDER FRAMES'!G84=\"DR\"),\"\",'ORDER FRAMES'!E84))","v":""},{"$f":"IF('ORDER FRAMES'!F84=\"\",\"\",IF(OR('ORDER FRAMES'!G84=\"DL\",'ORDER FRAMES'!G84=\"DR\"),\"\",'ORDER FRAMES'!F84))","v":""},{"$f":"IF('ORDER FRAMES'!G84=\"\",\"\",IF(OR('ORDER FRAMES'!G84=\"DL\",'ORDER FRAMES'!G84=\"DR\"),\"\",'ORDER FRAMES'!G84))","v":""},{"$f":"IF('ORDER FRAMES'!H84=\"\",\"\",IF(OR('ORDER FRAMES'!G84=\"DL\",'ORDER FRAMES'!G84=\"DR\"),\"\",'ORDER FRAMES'!H84))","v":""},{"$f":"IF('ORDER FRAMES'!I84=\"\",\"\",IF(OR('ORDER FRAMES'!G84=\"DL\",'ORDER FRAMES'!G84=\"DR\"),\"\",'ORDER FRAMES'!I84))","v":""},{"$f":"IF('ORDER FRAMES'!J84=\"\",\"\",IF(OR('ORDER FRAMES'!G84=\"DL\",'ORDER FRAMES'!G84=\"DR\"),\"\",'ORDER FRAMES'!J84))","v":""},{"$f":"IF('ORDER FRAMES'!K84=\"\",\"\",IF(OR('ORDER FRAMES'!G84=\"DL\",'ORDER FRAMES'!G84=\"DR\"),\"\",'ORDER FRAMES'!K84))","v":""},{"$f":"IF('ORDER FRAMES'!L84=\"\",\"\",IF(OR('ORDER FRAMES'!G84=\"DL\",'ORDER FRAMES'!G84=\"DR\"),\"\",'ORDER FRAMES'!L84))","v":""},{"$f":"IF('ORDER FRAMES'!M84=\"\",\"\",IF(OR('ORDER FRAMES'!G84=\"DL\",'ORDER FRAMES'!G84=\"DR\"),\"\",'ORDER FRAMES'!M84))","v":""},null,{"$f":"IF('ORDER FRAMES'!N84=\"\",\"\",IF(OR('ORDER FRAMES'!G84=\"DL\",'ORDER FRAMES'!G84=\"DR\"),\"\",'ORDER FRAMES'!N84))","v":3},{"$f":"IF('ORDER FRAMES'!O84=\"\",\"\",IF(OR('ORDER FRAMES'!G84=\"DL\",'ORDER FRAMES'!G84=\"DR\"),\"\",'ORDER FRAMES'!O84))","v":3},null,"",null,null,"","","",{"$f":"IF('ORDER FRAMES'!Q84=\"\",\"\",IF(OR('ORDER FRAMES'!G84=\"DL\",'ORDER FRAMES'!G84=\"DR\"),\"\",'ORDER FRAMES'!Q84))","v":""},{"$f":"IF('ORDER FRAMES'!S84=\"\",\"\",IF(OR('ORDER FRAMES'!G84=\"DL\",'ORDER FRAMES'!G84=\"DR\"),\"\",'ORDER FRAMES'!S84))","v":""},{"$f":"IF('ORDER FRAMES'!T84=\"\",\"\",IF(OR('ORDER FRAMES'!G84=\"DL\",'ORDER FRAMES'!G84=\"DR\"),\"\",'ORDER FRAMES'!T84))","v":""},{"$f":"IF('ORDER FRAMES'!U84=\"\",\"\",IF(OR('ORDER FRAMES'!G84=\"DL\",'ORDER FRAMES'!G84=\"DR\"),\"\",'ORDER FRAMES'!U84))","v":""},{"$f":"IF(C69=\"\",\"\",'ORDER FRAMES'!V84)","v":""},null,null,null,null,"",null,null,null,"","",""]
[85,{"$f":"IF('ORDER FRAMES'!A85=\"\",\"\",'ORDER FRAMES'!A85)","v":""},{"$f":"IF('ORDER FRAMES'!B85=\"\",\"\",IF(OR('ORDER FRAMES'!G85=\"DL\",'ORDER FRAMES'!G85=\"DR\"),\"\",'ORDER FRAMES'!B85))","v":""},{"$f":"IF('ORDER FRAMES'!C85=\"\",\"\",IF(OR('ORDER FRAMES'!G85=\"DL\",'ORDER FRAMES'!G85=\"DR\"),\"\",'ORDER FRAMES'!C85))","v":""},null,{"$f":"IF('ORDER FRAMES'!E85=\"\",\"\",IF(OR('ORDER FRAMES'!G85=\"DL\",'ORDER FRAMES'!G85=\"DR\"),\"\",'ORDER FRAMES'!E85))","v":""},{"$f":"IF('ORDER FRAMES'!F85=\"\",\"\",IF(OR('ORDER FRAMES'!G85=\"DL\",'ORDER FRAMES'!G85=\"DR\"),\"\",'ORDER FRAMES'!F85))","v":""},{"$f":"IF('ORDER FRAMES'!G85=\"\",\"\",IF(OR('ORDER FRAMES'!G85=\"DL\",'ORDER FRAMES'!G85=\"DR\"),\"\",'ORDER FRAMES'!G85))","v":""},{"$f":"IF('ORDER FRAMES'!H85=\"\",\"\",IF(OR('ORDER FRAMES'!G85=\"DL\",'ORDER FRAMES'!G85=\"DR\"),\"\",'ORDER FRAMES'!H85))","v":""},{"$f":"IF('ORDER FRAMES'!I85=\"\",\"\",IF(OR('ORDER FRAMES'!G85=\"DL\",'ORDER FRAMES'!G85=\"DR\"),\"\",'ORDER FRAMES'!I85))","v":""},{"$f":"IF('ORDER FRAMES'!J85=\"\",\"\",IF(OR('ORDER FRAMES'!G85=\"DL\",'ORDER FRAMES'!G85=\"DR\"),\"\",'ORDER FRAMES'!J85))","v":""},{"$f":"IF('ORDER FRAMES'!K85=\"\",\"\",IF(OR('ORDER FRAMES'!G85=\"DL\",'ORDER FRAMES'!G85=\"DR\"),\"\",'ORDER FRAMES'!K85))","v":""},{"$f":"IF('ORDER FRAMES'!L85=\"\",\"\",IF(OR('ORDER FRAMES'!G85=\"DL\",'ORDER FRAMES'!G85=\"DR\"),\"\",'ORDER FRAMES'!L85))","v":""},{"$f":"IF('ORDER FRAMES'!M85=\"\",\"\",IF(OR('ORDER FRAMES'!G85=\"DL\",'ORDER FRAMES'!G85=\"DR\"),\"\",'ORDER FRAMES'!M85))","v":""},null,{"$f":"IF('ORDER FRAMES'!N85=\"\",\"\",IF(OR('ORDER FRAMES'!G85=\"DL\",'ORDER FRAMES'!G85=\"DR\"),\"\",'ORDER FRAMES'!N85))","v":3},{"$f":"IF('ORDER FRAMES'!O85=\"\",\"\",IF(OR('ORDER FRAMES'!G85=\"DL\",'ORDER FRAMES'!G85=\"DR\"),\"\",'ORDER FRAMES'!O85))","v":3},null,{"$f":"IF(F70=\"V\",R70,IF(F70=\"W\",S70=0,\"\"))","v":""},null,null,"","","",{"$f":"IF('ORDER FRAMES'!Q85=\"\",\"\",IF(OR('ORDER FRAMES'!G85=\"DL\",'ORDER FRAMES'!G85=\"DR\"),\"\",'ORDER FRAMES'!Q85))","v":""},{"$f":"IF('ORDER FRAMES'!S85=\"\",\"\",IF(OR('ORDER FRAMES'!G85=\"DL\",'ORDER FRAMES'!G85=\"DR\"),\"\",'ORDER FRAMES'!S85))","v":""},{"$f":"IF('ORDER FRAMES'!T85=\"\",\"\",IF(OR('ORDER FRAMES'!G85=\"DL\",'ORDER FRAMES'!G85=\"DR\"),\"\",'ORDER FRAMES'!T85))","v":""},{"$f":"IF('ORDER FRAMES'!U85=\"\",\"\",IF(OR('ORDER FRAMES'!G85=\"DL\",'ORDER FRAMES'!G85=\"DR\"),\"\",'ORDER FRAMES'!U85))","v":""},{"$f":"IF(C70=\"\",\"\",'ORDER FRAMES'!V85)","v":""},null,null,null,null,{"$f":"IF(C70=\"\",\"\",\"STANDAARD\")","v":""},null,null,null,{"$f":"IF(C70=\"\",\"\",CONCATENATE(\"X7\",IF(E70=\"EI 0\",\"00\",IF(E70=\"EI 1 30\",\"30\",IF(E70=\"EI 1 45\",\"45\",IF(E70=\"EI 2 60\",\"60\",\"\")))),IF(O70=50,\"01\",IF(O70=40,\"02\",IF(O70=60,\"04\",\"X\"))),\".\",O70,\"-\",IF(M70<2116,\"H1\",IF(M70<2416,\"H2\",IF(M70<2616,\"H3\",IF(M70>2615,\"H4\",\"\")))),IF( L70<831,\"B1\",IF(L70<931,\"B2\",IF(L70>930,\"B3\",\"\"))),\"-\",AA70,IF(OR(Z70=\"A24.0\",Z70=\"A24.1\",Z70=\"A24.2\",Z70=\"X4030.W\",Z70=\"X4030.G\",Z70=\"X4030.B\"),\"A24\",IF(OR(Z70=\"TE340.0\",Z70=\"TE340.1\",Z70=\"TE340.2\"),\"TE340\",\"A30\")),\"-\",IF(OR(AB70=\"00BB\",AB70=\"00PZ\",AB70=\"00WC\",AB70=\"E0BB\",AB70=\"E0PZ\",AB70=\"E0WC\"),\"D7X\",IF(OR(AB70=\"R15W.55BB\",AB70=\"R15I.55BB\",AB70=\"R15B.55BB\",AB70=\"R17W.55WC\",AB70=\"R17I.55WC\",AB70=\"R17B.55WC\",AB70=\"R19W.55PZ\",AB70=\"R19I.55PZ\",AB70=\"R19B.55PZ\",AB70=\"R35W.55BB\",AB70=\"R35I.55BB\",AB70=\"R35B.55BB\",AB70=\"R37W.55WC\",AB70=\"R37I.55WC\",AB70=\"R37B.55WC\",AB70=\"R59W.55PZ\",AB70=\"R59I.55PZ\",AB70=\"R59B.55PZ\",AB70=\"0K1\",AB70=\"0K2\",AB70=\"0K3\",AB70=\"0K4\",AB70=\"EK1\",AB70=\"EK2\",AB70=\"EK3\",AB70=\"EK4\"),\"DIN\",IF(AB70=\"0NH\",\"0NH\",IF(AB70=\"0NHZ\",\"0NH\",IF(AB70=\"0NHW\",\"0NH\",IF(OR(AB70=\"0NZB\",AB70=\"0NZW\",AB70=\"0NZG\"),\"NZ\",IF(OR(AB70=\"2NZB\",AB70=\"2NZW\",AB70=\"2NZG\"),\"2NZ\",IF(AB70=\"NIXX\",\"NIXX\",IF(AB70=\"SECL 1\",\"SECL 1\",IF(AB70=\"SECL 2\",\"SECL 2\",IF(AB70=\"SECL 3\",\"SECL 3\",IF(AB70=\"SECL 4 \",\"SECL 4\",IF(AB70=\"XXXX\",\"XXXX\",\"\"))))))))))))),\"-\",X70,\"-\",H70,IF(Y70=1,\"\",IF(Y70=2,\"-AS\",IF(Y70=3,\"-I\",IF(Y70=4,\"-ITS\",IF(Y70=5,\"-SC\",\"\"))))),IF(AG70=\"ja\",\"-\",\"\"),IF(AG70=\"ja\",\"VD\",\"\")))","v":""},"",""]
[86,{"$f":"IF('ORDER FRAMES'!A86=\"\",\"\",'ORDER FRAMES'!A86)","v":""},{"$f":"IF('ORDER FRAMES'!B86=\"\",\"\",IF(OR('ORDER FRAMES'!G86=\"DL\",'ORDER FRAMES'!G86=\"DR\"),\"\",'ORDER FRAMES'!B86))","v":""},{"$f":"IF('ORDER FRAMES'!C86=\"\",\"\",IF(OR('ORDER FRAMES'!G86=\"DL\",'ORDER FRAMES'!G86=\"DR\"),\"\",'ORDER FRAMES'!C86))","v":""},null,{"$f":"IF('ORDER FRAMES'!E86=\"\",\"\",IF(OR('ORDER FRAMES'!G86=\"DL\",'ORDER FRAMES'!G86=\"DR\"),\"\",'ORDER FRAMES'!E86))","v":""},{"$f":"IF('ORDER FRAMES'!F86=\"\",\"\",IF(OR('ORDER FRAMES'!G86=\"DL\",'ORDER FRAMES'!G86=\"DR\"),\"\",'ORDER FRAMES'!F86))","v":""},{"$f":"IF('ORDER FRAMES'!G86=\"\",\"\",IF(OR('ORDER FRAMES'!G86=\"DL\",'ORDER FRAMES'!G86=\"DR\"),\"\",'ORDER FRAMES'!G86))","v":""},{"$f":"IF('ORDER FRAMES'!H86=\"\",\"\",IF(OR('ORDER FRAMES'!G86=\"DL\",'ORDER FRAMES'!G86=\"DR\"),\"\",'ORDER FRAMES'!H86))","v":""},{"$f":"IF('ORDER FRAMES'!I86=\"\",\"\",IF(OR('ORDER FRAMES'!G86=\"DL\",'ORDER FRAMES'!G86=\"DR\"),\"\",'ORDER FRAMES'!I86))","v":""},{"$f":"IF('ORDER FRAMES'!J86=\"\",\"\",IF(OR('ORDER FRAMES'!G86=\"DL\",'ORDER FRAMES'!G86=\"DR\"),\"\",'ORDER FRAMES'!J86))","v":""},{"$f":"IF('ORDER FRAMES'!K86=\"\",\"\",IF(OR('ORDER FRAMES'!G86=\"DL\",'ORDER FRAMES'!G86=\"DR\"),\"\",'ORDER FRAMES'!K86))","v":""},{"$f":"IF('ORDER FRAMES'!L86=\"\",\"\",IF(OR('ORDER FRAMES'!G86=\"DL\",'ORDER FRAMES'!G86=\"DR\"),\"\",'ORDER FRAMES'!L86))","v":""},{"$f":"IF('ORDER FRAMES'!M86=\"\",\"\",IF(OR('ORDER FRAMES'!G86=\"DL\",'ORDER FRAMES'!G86=\"DR\"),\"\",'ORDER FRAMES'!M86))","v":""},null,{"$f":"IF('ORDER FRAMES'!N86=\"\",\"\",IF(OR('ORDER FRAMES'!G86=\"DL\",'ORDER FRAMES'!G86=\"DR\"),\"\",'ORDER FRAMES'!N86))","v":3},{"$f":"IF('ORDER FRAMES'!O86=\"\",\"\",IF(OR('ORDER FRAMES'!G86=\"DL\",'ORDER FRAMES'!G86=\"DR\"),\"\",'ORDER FRAMES'!O86))","v":3},null,"",null,null,"","",{"$f":"IF(O71=\"\",\"\",IF(OR(AND(C71=\"X240\",F71=\"V\",O71=40),AND(C71=\"X1\",F71=\"V\",O71=40),AND(C71=\"X245\",F71=\"V\",O71=44-45)),\"A\",IF(OR(AND(C71=\"X1\",F71=\"V\",O71=50),AND(C71=\"X240\",F71=\"V\",O71=50),AND(C71=\"X245\",F71=\"V\",O71=55),AND(C71=\"X250\",F71=\"V\",O71=60),AND(C71=\"X40\",F71=\"V\",O71=40),AND(C71=\"X45\",F71=\"V\",O71=44-45)),\"B\",IF(OR(AND(C71=\"X1\",F71=\"C\",O71=50),AND(C71=\"X240\",F71=\"C\",O71=50),AND(C71=\"X245\",F71=\"C\",O71=55),AND(C71=\"X250\",F71=\"C\",O71=60),AND(C71=\"X40\",F71=\"T\",O71=40),AND(C71=\"X45\",F71=\"T\",O71=44-45)),\"C\",IF(OR(AND(C71=\"X1\",F71=\"W\",O71=50),AND(C71=\"X240\",F71=\"W\",O71=50),AND(C71=\"X245\",F71=\"W\",O71=55),AND(C71=\"X250\",F71=\"W\",O71=60),AND(C71=\"X40\",F71=\"W\",O71=40),AND(C71=\"X45\",F71=\"W\",O71=44-45)),\"D\",\"\")))))","v":""},{"$f":"IF('ORDER FRAMES'!Q86=\"\",\"\",IF(OR('ORDER FRAMES'!G86=\"DL\",'ORDER FRAMES'!G86=\"DR\"),\"\",'ORDER FRAMES'!Q86))","v":""},{"$f":"IF('ORDER FRAMES'!S86=\"\",\"\",IF(OR('ORDER FRAMES'!G86=\"DL\",'ORDER FRAMES'!G86=\"DR\"),\"\",'ORDER FRAMES'!S86))","v":""},{"$f":"IF('ORDER FRAMES'!T86=\"\",\"\",IF(OR('ORDER FRAMES'!G86=\"DL\",'ORDER FRAMES'!G86=\"DR\"),\"\",'ORDER FRAMES'!T86))","v":""},{"$f":"IF('ORDER FRAMES'!U86=\"\",\"\",IF(OR('ORDER FRAMES'!G86=\"DL\",'ORDER FRAMES'!G86=\"DR\"),\"\",'ORDER FRAMES'!U86))","v":""},{"$f":"IF(C71=\"\",\"\",'ORDER FRAMES'!V86)","v":""},null,null,null,null,"",null,null,null,"",{"$f":"IF(AND(OR(AE71=\"Geboord rond dia 20\",AE71=\"Geboord ovaal\"),AD71=\"Nee\"),\"X7-SG\",IF(AND(OR(AE71=\"Geboord rond dia 20 met patentgaten\",AE71=\"Geboord ovaal met patentagaten\"),AD71=\"Nee\"),\"X7-SG-PG\",IF(AND(AD71=\"Niet geboord\",OR(AE71=\"BB\",AE71=\"WC\",AE71=\"WC NH Locco\",AE71=\"WC NH Cartel\",AE71=\"PZ\")),\"X7-KG\",IF(AND(AD71=\"Niet geboord\",OR(AE71=\"BB met patentgaten\",AE71=\"WC met patentgaten\",AE71=\"PZ met patentgaten\",)),\"X7-KG-PG\",IF(AND(OR(AD71=\"Geboord rond dia 20 met patentgaten\",AD71=\"Geboord ovaal met patentagaten\"),OR(AE71=\"BB met patentgaten\",AE71=\"WC met patentgaten\",AE71=\"PZ met patentgaten\")),\"X7-KG-PG-SG-PG\",IF(AND(OR(AD71=\"Geboord rond dia 20\",AD71=\"Geboord ovaal\"),OR(AE71=\"BB met patentgaten\",AE71=\"WC met patentgaten\",AE71=\"PZ met patentgaten\")),\"X7-KG-SG-PG\",IF(AND(OR(AD71=\"Geboord rond dia 20 met patentgaten\",AD71=\"Geboord ovaal met patentgaten\"),OR(AE71=\"BB\",AE71=\"WC\",AE71=\"WC NH Locco\",AE71=\"WC NH Cartel\",AE71=\"PZ\")),\"X7-KG-PG-SG\",\"\")))))))","v":""},{"$f":"IF(AJ71=\"Lak\",\"X7-LAQUER\",IF(AJ71=\"HPL\",\"X7-HPL\",IF(AJ71=\"Fineer\",\"X7-FINEER\",IF(AI71=\"Ja\",\"X7-GRUNDIERT\",\"\"))))","v":""}]
[87,{"$f":"IF('ORDER FRAMES'!A87=\"\",\"\",'ORDER FRAMES'!A87)","v":""},{"$f":"IF('ORDER FRAMES'!B87=\"\",\"\",IF(OR('ORDER FRAMES'!G87=\"DL\",'ORDER FRAMES'!G87=\"DR\"),\"\",'ORDER FRAMES'!B87))","v":""},{"$f":"IF('ORDER FRAMES'!C87=\"\",\"\",IF(OR('ORDER FRAMES'!G87=\"DL\",'ORDER FRAMES'!G87=\"DR\"),\"\",'ORDER FRAMES'!C87))","v":""},null,{"$f":"IF('ORDER FRAMES'!E87=\"\",\"\",IF(OR('ORDER FRAMES'!G87=\"DL\",'ORDER FRAMES'!G87=\"DR\"),\"\",'ORDER FRAMES'!E87))","v":""},{"$f":"IF('ORDER FRAMES'!F87=\"\",\"\",IF(OR('ORDER FRAMES'!G87=\"DL\",'ORDER FRAMES'!G87=\"DR\"),\"\",'ORDER FRAMES'!F87))","v":""},{"$f":"IF('ORDER FRAMES'!G87=\"\",\"\",IF(OR('ORDER FRAMES'!G87=\"DL\",'ORDER FRAMES'!G87=\"DR\"),\"\",'ORDER FRAMES'!G87))","v":""},{"$f":"IF('ORDER FRAMES'!H87=\"\",\"\",IF(OR('ORDER FRAMES'!G87=\"DL\",'ORDER FRAMES'!G87=\"DR\"),\"\",'ORDER FRAMES'!H87))","v":""},{"$f":"IF('ORDER FRAMES'!I87=\"\",\"\",IF(OR('ORDER FRAMES'!G87=\"DL\",'ORDER FRAMES'!G87=\"DR\"),\"\",'ORDER FRAMES'!I87))","v":""},{"$f":"IF('ORDER FRAMES'!J87=\"\",\"\",IF(OR('ORDER FRAMES'!G87=\"DL\",'ORDER FRAMES'!G87=\"DR\"),\"\",'ORDER FRAMES'!J87))","v":""},{"$f":"IF('ORDER FRAMES'!K87=\"\",\"\",IF(OR('ORDER FRAMES'!G87=\"DL\",'ORDER FRAMES'!G87=\"DR\"),\"\",'ORDER FRAMES'!K87))","v":""},{"$f":"IF('ORDER FRAMES'!L87=\"\",\"\",IF(OR('ORDER FRAMES'!G87=\"DL\",'ORDER FRAMES'!G87=\"DR\"),\"\",'ORDER FRAMES'!L87))","v":""},{"$f":"IF('ORDER FRAMES'!M87=\"\",\"\",IF(OR('ORDER FRAMES'!G87=\"DL\",'ORDER FRAMES'!G87=\"DR\"),\"\",'ORDER FRAMES'!M87))","v":""},null,{"$f":"IF('ORDER FRAMES'!N87=\"\",\"\",IF(OR('ORDER FRAMES'!G87=\"DL\",'ORDER FRAMES'!G87=\"DR\"),\"\",'ORDER FRAMES'!N87))","v":3},{"$f":"IF('ORDER FRAMES'!O87=\"\",\"\",IF(OR('ORDER FRAMES'!G87=\"DL\",'ORDER FRAMES'!G87=\"DR\"),\"\",'ORDER FRAMES'!O87))","v":3},null,"",null,null,"","","",{"$f":"IF('ORDER FRAMES'!Q87=\"\",\"\",IF(OR('ORDER FRAMES'!G87=\"DL\",'ORDER FRAMES'!G87=\"DR\"),\"\",'ORDER FRAMES'!Q87))","v":""},{"$f":"IF('ORDER FRAMES'!S87=\"\",\"\",IF(OR('ORDER FRAMES'!G87=\"DL\",'ORDER FRAMES'!G87=\"DR\"),\"\",'ORDER FRAMES'!S87))","v":""},{"$f":"IF('ORDER FRAMES'!T87=\"\",\"\",IF(OR('ORDER FRAMES'!G87=\"DL\",'ORDER FRAMES'!G87=\"DR\"),\"\",'ORDER FRAMES'!T87))","v":""},{"$f":"IF('ORDER FRAMES'!U87=\"\",\"\",IF(OR('ORDER FRAMES'!G87=\"DL\",'ORDER FRAMES'!G87=\"DR\"),\"\",'ORDER FRAMES'!U87))","v":""},{"$f":"IF(C72=\"\",\"\",'ORDER FRAMES'!V87)","v":""},null,null,null,null,"",null,null,null,"","",""]
[88,{"$f":"IF('ORDER FRAMES'!A88=\"\",\"\",'ORDER FRAMES'!A88)","v":""},{"$f":"IF('ORDER FRAMES'!B88=\"\",\"\",IF(OR('ORDER FRAMES'!G88=\"DL\",'ORDER FRAMES'!G88=\"DR\"),\"\",'ORDER FRAMES'!B88))","v":""},{"$f":"IF('ORDER FRAMES'!C88=\"\",\"\",IF(OR('ORDER FRAMES'!G88=\"DL\",'ORDER FRAMES'!G88=\"DR\"),\"\",'ORDER FRAMES'!C88))","v":""},null,{"$f":"IF('ORDER FRAMES'!E88=\"\",\"\",IF(OR('ORDER FRAMES'!G88=\"DL\",'ORDER FRAMES'!G88=\"DR\"),\"\",'ORDER FRAMES'!E88))","v":""},{"$f":"IF('ORDER FRAMES'!F88=\"\",\"\",IF(OR('ORDER FRAMES'!G88=\"DL\",'ORDER FRAMES'!G88=\"DR\"),\"\",'ORDER FRAMES'!F88))","v":""},{"$f":"IF('ORDER FRAMES'!G88=\"\",\"\",IF(OR('ORDER FRAMES'!G88=\"DL\",'ORDER FRAMES'!G88=\"DR\"),\"\",'ORDER FRAMES'!G88))","v":""},{"$f":"IF('ORDER FRAMES'!H88=\"\",\"\",IF(OR('ORDER FRAMES'!G88=\"DL\",'ORDER FRAMES'!G88=\"DR\"),\"\",'ORDER FRAMES'!H88))","v":""},{"$f":"IF('ORDER FRAMES'!I88=\"\",\"\",'ORDER FRAMES'!I88)","v":""},{"$f":"IF('ORDER FRAMES'!J88=\"\",\"\",IF(OR('ORDER FRAMES'!G88=\"DL\",'ORDER FRAMES'!G88=\"DR\"),\"\",'ORDER FRAMES'!J88))","v":""},{"$f":"IF('ORDER FRAMES'!K88=\"\",\"\",IF(OR('ORDER FRAMES'!G88=\"DL\",'ORDER FRAMES'!G88=\"DR\"),\"\",'ORDER FRAMES'!K88))","v":""},{"$f":"IF('ORDER FRAMES'!L88=\"\",\"\",IF(OR('ORDER FRAMES'!G88=\"DL\",'ORDER FRAMES'!G88=\"DR\"),\"\",'ORDER FRAMES'!L88))","v":""},{"$f":"IF('ORDER FRAMES'!M88=\"\",\"\",IF(OR('ORDER FRAMES'!G88=\"DL\",'ORDER FRAMES'!G88=\"DR\"),\"\",'ORDER FRAMES'!M88))","v":""},null,{"$f":"IF('ORDER FRAMES'!N88=\"\",\"\",IF(OR('ORDER FRAMES'!G88=\"DL\",'ORDER FRAMES'!G88=\"DR\"),\"\",'ORDER FRAMES'!N88))","v":3},{"$f":"IF('ORDER FRAMES'!O88=\"\",\"\",IF(OR('ORDER FRAMES'!G88=\"DL\",'ORDER FRAMES'!G88=\"DR\"),\"\",'ORDER FRAMES'!O88))","v":3},null,"",null,null,"","","",{"$f":"IF('ORDER FRAMES'!Q88=\"\",\"\",IF(OR('ORDER FRAMES'!G88=\"DL\",'ORDER FRAMES'!G88=\"DR\"),\"\",'ORDER FRAMES'!Q88))","v":""},{"$f":"IF('ORDER FRAMES'!S88=\"\",\"\",IF(OR('ORDER FRAMES'!G88=\"DL\",'ORDER FRAMES'!G88=\"DR\"),\"\",'ORDER FRAMES'!S88))","v":""},{"$f":"IF('ORDER FRAMES'!T88=\"\",\"\",IF(OR('ORDER FRAMES'!G88=\"DL\",'ORDER FRAMES'!G88=\"DR\"),\"\",'ORDER FRAMES'!T88))","v":""},{"$f":"IF('ORDER FRAMES'!U88=\"\",\"\",IF(OR('ORDER FRAMES'!G88=\"DL\",'ORDER FRAMES'!G88=\"DR\"),\"\",'ORDER FRAMES'!U88))","v":""},{"$f":"IF(C73=\"\",\"\",'ORDER FRAMES'!V88)","v":""},null,null,null,null,"",null,null,null,"","",""]
[]
[null,"Vul hier zelf je code in"]

{"sheet":"ORDER DOUBLE DOOR","index":3,"n_rows":73,"n_cols":42,"rows_kept":73,"cut":false,"hidden":false,"merged":[[3,30,3,34],[3,35,3,37],[2,9,2,25],[2,26,2,29],[3,2,3,7],[3,9,3,10],[3,11,3,16],[3,17,3,22],[3,23,3,25],[3,27,3,28]]}
[]
[]
[null,null,null,null,null,null,null,null,null,"MATEN",null,null,null,null,null,null,null,null,null,null,null,null,null,null,null,null,"BESLAG"]
[null,null,"PROFIEL TYPE",null,null,null,null,null,null,"INBOUWMAAT",null,"DEURMAAT",null,null,null,null,null,"VENTILATIE",null,null,null,null,null,"EFFECTIEVE DEURAFMETINGEN",null,null,"DEURDRANGER","SCHARNIER",null,"SLOT","INFO",null,null,null,null,"AFWERKING DEURBLAD",null,null,"OPMERKING","CODE","INFREZING ","AFWERKING"]
[null,"Deur nr.","Profiel type","Kleur:\nWit(W)\nZwart(B)","Brandwerend (EI)","Zaagwijze\nV T C W","Duwen(D)\nTrekken(T)","EU links(L)\nEU rechts(R) \nDubbel (DL-DR)","Aantal","Breedte\nWw","Hoogte\nHw","Breedte\nWp","Hoogte\nHP","Voorstel deurdikte","Effectieve deurdikte ","Breedte\ndeur 1","Breedte \ndeur 2","Boven \nVb","Onder\nVo","Onderaan afkorten scharnierkant","Onderaan afkorten slotkant","Bovenaan afkorten scharnierkant","Bovenaan afkorten slotkant","Breedte\nWp","Hoogte\nHp","Slagen","(1) Nee                                 (2) Active Stop                            (3) Boxer Geze (stock)                        (4) ITS Dorma  \n(5) X4030-SC","Type\n","Aantal","Type","Standaard krukhoogte","Krukgat type","Sleutelgat type","Andere frezingen","Valdorpel type\nstandaard \nEL5….. ","Grondlaag","Grondverf","Afwerkingslaag"]
[21,{"$f":"IF('ORDER FRAMES'!A21=\"\",\"\",IF(OR('ORDER FRAMES'!G21=\"L\",'ORDER FRAMES'!G21=\"R\"),\"\",'ORDER FRAMES'!A21))","v":""},{"$f":"IF('ORDER FRAMES'!B21=\"\",\"\",IF(OR('ORDER FRAMES'!G21=\"L\",'ORDER FRAMES'!G21=\"R\"),\"\",'ORDER FRAMES'!B21))","v":""},{"$f":"IF('ORDER FRAMES'!C21=\"\",\"\",IF(OR('ORDER FRAMES'!G21=\"L\",'ORDER FRAMES'!G21=\"R\"),\"\",'ORDER FRAMES'!C21))","v":""},null,{"$f":"IF('ORDER FRAMES'!E21=\"\",\"\",IF(OR('ORDER FRAMES'!G21=\"L\",'ORDER FRAMES'!G21=\"R\"),\"\",'ORDER FRAMES'!E21))","v":""},{"$f":"IF('ORDER FRAMES'!F21=\"\",\"\",IF(OR('ORDER FRAMES'!G21=\"L\",'ORDER FRAMES'!G21=\"R\"),\"\",'ORDER FRAMES'!F21))","v":""},{"$f":"IF('ORDER FRAMES'!G21=\"\",\"\",IF(OR('ORDER FRAMES'!G21=\"L\",'ORDER FRAMES'!G21=\"R\"),\"\",'ORDER FRAMES'!G21))","v":""},{"$f":"IF('ORDER FRAMES'!H21=\"\",\"\",IF(OR('ORDER FRAMES'!G21=\"L\",'ORDER FRAMES'!G21=\"R\"),\"\",'ORDER FRAMES'!H21))","v":""},{"$f":"IF('ORDER FRAMES'!I21=\"\",\"\",IF(OR('ORDER FRAMES'!G21=\"L\",'ORDER FRAMES'!G21=\"R\"),\"\",'ORDER FRAMES'!I21))","v":""},{"$f":"IF('ORDER FRAMES'!J21=\"\",\"\",IF(OR('ORDER FRAMES'!G21=\"L\",'ORDER FRAMES'!G21=\"R\"),\"\",'ORDER FRAMES'!J21))","v":""},{"$f":"IF('ORDER FRAMES'!K21=\"\",\"\",IF(OR('ORDER FRAMES'!G21=\"L\",'ORDER FRAMES'!G21=\"R\"),\"\",'ORDER FRAMES'!K21))","v":""},{"$f":"IF('ORDER FRAMES'!L21=\"\",\"\",IF(OR('ORDER FRAMES'!G21=\"L\",'ORDER FRAMES'!G21=\"R\"),\"\",'ORDER FRAMES'!L21))","v":""},{"$f":"IF('ORDER FRAMES'!M21=\"\",\"\",IF(OR('ORDER FRAMES'!G21=\"L\",'ORDER FRAMES'!G21=\"R\"),\"\",'ORDER FRAMES'!M21))","v":""},null,null,null,{"$f":"IF(C6=\"\",\"\",IF(OR('ORDER FRAMES'!G21=\"L\",'ORDER FRAMES'!G21=\"R\"),\"\",'ORDER FRAMES'!N21))","v":""},{"$f":"IF(C6=\"\",\"\",IF(OR('ORDER FRAMES'!G21=\"L\",'ORDER FRAMES'!G21=\"R\"),\"\",'ORDER FRAMES'!O21))","v":""},null,{"$f":"IF(F6=\"V\",T6,IF(F6=\"W\",U6=0,\"\"))","v":""},null,null,{"$f":"L6","v":""},{"$f":"IF( M6=\"\",\"\",(M6+6)-R6-S6-T6-V6)","v":""},{"$f":"IF(O6=\"\",\"\",IF(OR(AND(C6=\"X240\",F6=\"V\",O6=40),AND(C6=\"X1\",F6=\"V\",O6=40),AND(C6=\"X245\",F6=\"V\",O6=44-45)),\"A\",IF(OR(AND(C6=\"X1\",F6=\"V\",O6=50),AND(C6=\"X240\",F6=\"V\",O6=50),AND(C6=\"X245\",F6=\"V\",O6=55),AND(C6=\"X250\",F6=\"V\",O6=60),AND(C6=\"X40\",F6=\"V\",O6=40),AND(C6=\"X45\",F6=\"V\",O6=44-45)),\"B\",IF(OR(AND(C6=\"X1\",F6=\"C\",O6=50),AND(C6=\"X240\",F6=\"C\",O6=50),AND(C6=\"X245\",F6=\"C\",O6=55),AND(C6=\"X250\",F6=\"C\",O6=60),AND(C6=\"X40\",F6=\"T\",O6=40),AND(C6=\"X45\",F6=\"T\",O6=44-45)),\"C\",IF(OR(AND(C6=\"X1\",F6=\"W\",O6=50),AND(C6=\"X240\",F6=\"W\",O6=50),AND(C6=\"X245\",F6=\"W\",O6=55),AND(C6=\"X250\",F6=\"W\",O6=60),AND(C6=\"X40\",F6=\"W\",O6=40),AND(C6=\"X45\",F6=\"W\",O6=44-45)),\"D\",\"\")))))","v":""},{"$f":"IF('ORDER FRAMES'!Q21=\"\",\"\",IF(OR('ORDER FRAMES'!G21=\"L\",'ORDER FRAMES'!G21=\"R\"),\"\",'ORDER FRAMES'!Q21))","v":""},{"$f":"IF('ORDER FRAMES'!S21=\"\",\"\",IF(OR('ORDER FRAMES'!G21=\"L\",'ORDER FRAMES'!G21=\"R\"),\"\",'ORDER FRAMES'!S21))","v":""},{"$f":"IF('ORDER FRAMES'!T21=\"\",\"\",IF(OR('ORDER FRAMES'!G21=\"L\",'ORDER FRAMES'!G21=\"R\"),\"\",'ORDER FRAMES'!T21))","v":""},{"$f":"IF('ORDER FRAMES'!U21=\"\",\"\",IF(OR('ORDER FRAMES'!G21=\"L\",'ORDER FRAMES'!G21=\"R\"),\"\",'ORDER FRAMES'!U21))","v":""},{"$f":"IF(C6=\"\",\"\",'ORDER FRAMES'!V21)","v":""},null,null,null,null,{"$f":"IF(C6=\"\",\"\",\"STANDAARD\")","v":""},null,null,null,{"$f":"IF(C6=\"\",\"\",CONCATENATE(\"X7\",IF(E6=\"EI 0\",\"00\",IF(E6=\"EI 1 30\",\"30\",IF(E6=\"EI 1 45\",\"45\",IF(E6=\"EI 2 60\",\"60\",\"\")))),IF(O6=50,\"01\",IF(O6=40,\"02\",IF(O6=60,\"04\",\"X\"))),\".\",O6,\"-\",IF(M6<2116,\"H1\",IF(M6<2416,\"H2\",IF(M6<2616,\"H3\",IF(M6>2615,\"H4\",\"\")))),IF( L6<831,\"B1\",IF(L6<931,\"B2\",IF(L6>930,\"B3\",\"\"))),\"-\",AC6,IF(OR(AB6=\"A24.0\",AB6=\"A24.1\",AB6=\"A24.2\",AB6=\"X4030.W\",AB6=\"X4030.G\",AB6=\"X4030.B\"),\"A24\",IF(OR(AB6=\"TE340.0\",AB6=\"TE340.1\",AB6=\"TE340.2\"),\"TE340\",\"A30\")),\"-\",IF(OR(AD6=\"00BB\",AD6=\"00PZ\",AD6=\"00WC\",AD6=\"E0BB\",AD6=\"E0PZ\",AD6=\"E0WC\"),\"D7X\",IF(OR(AD6=\"R15W.55BB\",AD6=\"R15I.55BB\",AD6=\"R15B.55BB\",AD6=\"R17W.55WC\",AD6=\"R17I.55WC\",AD6=\"R17B.55WC\",AD6=\"R19W.55PZ\",AD6=\"R19I.55PZ\",AD6=\"R19B.55PZ\",AD6=\"R35W.55BB\",AD6=\"R35I.55BB\",AD6=\"R35B.55BB\",AD6=\"R37W.55WC\",AD6=\"R37I.55WC\",AD6=\"R37B.55WC\",AD6=\"R59W.55PZ\",AD6=\"R59I.55PZ\",AD6=\"R59B.55PZ\",AD6=\"0K1\",AD6=\"0K2\",AD6=\"0K3\",AD6=\"0K4\",AD6=\"EK1\",AD6=\"EK2\",AD6=\"EK3\",AD6=\"EK4\"),\"DIN\",IF(AD6=\"0NH\",\"0NH\",IF(AD6=\"0NHZ\",\"0NH\",IF(AD6=\"0NHW\",\"0NH\",IF(OR(AD6=\"0NZB\",AD6=\"0NZW\",AD6=\"0NZG\"),\"NZ\",IF(OR(AD6=\"2NZB\",AD6=\"2NZW\",AD6=\"2NZG\"),\"2NZ\",IF(AD6=\"NIXX\",\"NIXX\",IF(AD6=\"SECL 1\",\"SECL 1\",IF(AD6=\"SECL 2\",\"SECL 2\",IF(AD6=\"SECL 3\",\"SECL 3\",IF(AD6=\"SECL 4 \",\"SECL 4\",IF(AD6=\"XXXX\",\"XXXX\",\"\"))))))))))))),\"-\",Z6,\"-\",H6,IF(AA6=1,\"\",IF(AA6=2,\"-AS\",IF(AA6=3,\"-I\",IF(AA6=4,\"-ITS\",IF(AA6=5,\"-SC\",\"\"))))),IF(AI6=\"ja \",\"-VD\",\"\"),))","v":""},{"$f":"IF(AND(OR(AF6=\"Geboord rond dia 20\",AF6=\"Geboord ovaal\"),AG6=\"Nee\"),\"X7-SG\",IF(AND(OR(AF6=\"Geboord rond dia 20 met patentgaten\",AF6=\"Geboord ovaal met patentagaten\"),AG6=\"Nee\"),\"X7-SG-PG\",IF(AND(AF6=\"Niet geboord\",OR(AG6=\"BB\",AG6=\"WC\",AG6=\"WC NH Locco\",AG6=\"WC NH Cartel\",AG6=\"PZ\")),\"X7-KG\",IF(AND(AF6=\"Niet geboord\",OR(AG6=\"BB met patentgaten\",AG6=\"WC met patentgaten\",AG6=\"PZ met patentgaten\",)),\"X7-KG-PG\",IF(AND(OR(AF6=\"\",AF6=\"Geboord rond dia 20 met patentgaten\",AF6=\"Geboord ovaal met patentagaten\"),OR(AG6=\"BB met patentgaten\",AG6=\"WC met patentgaten\",AG6=\"PZ met patentgaten\")),\"X7-KG-PG-SG-PG\",IF(AND(OR(AF6=\"Geboord rond dia 20\",AF6=\"Geboord ovaal\"),OR(AG6=\"BB met patentgaten\",AG6=\"WC met patentgaten\",AG6=\"PZ met patentgaten\")),\"X7-KG-SG-PG\",IF(AND(OR(AF6=\"Geboord rond dia 20 met patentgaten\",AF6=\"Geboord ovaal met patentgaten\"),OR(AG6=\"BB\",AG6=\"WC\",AG6=\"WC NH Locco\",AG6=\"WC NH Cartel\",AG6=\"PZ\")),\"X7-KG-PG-SG\",\"\")))))))","v":""},{"$f":"IF(AL6=\"Lak\",\"X7-LAQUER\",IF(AL6=\"HPL\",\"X7-HPL\",IF(AL6=\"Fineer\",\"X7-FINEER\",IF(AK6=\"Ja\",\"X7-GRUNDIERT\",\"\"))))","v":""}]
[22,{"$f":"IF('ORDER FRAMES'!A22=\"\",\"\",IF(OR('ORDER FRAMES'!G22=\"L\",'ORDER FRAMES'!G22=\"R\"),\"\",'ORDER FRAMES'!A22))","v":""},{"$f":"IF('ORDER FRAMES'!B22=\"\",\"\",IF(OR('ORDER FRAMES'!G22=\"L\",'ORDER FRAMES'!G22=\"R\"),\"\",'ORDER FRAMES'!B22))","v":""},{"$f":"IF('ORDER FRAMES'!C22=\"\",\"\",IF(OR('ORDER FRAMES'!G22=\"L\",'ORDER FRAMES'!G22=\"R\"),\"\",'ORDER FRAMES'!C22))","v":""},null,{"$f":"IF('ORDER FRAMES'!E22=\"\",\"\",IF(OR('ORDER FRAMES'!G22=\"L\",'ORDER FRAMES'!G22=\"R\"),\"\",'ORDER FRAMES'!E22))","v":""},{"$f":"IF('ORDER FRAMES'!F22=\"\",\"\",IF(OR('ORDER FRAMES'!G22=\"L\",'ORDER FRAMES'!G22=\"R\"),\"\",'ORDER FRAMES'!F22))","v":""},{"$f":"IF('ORDER FRAMES'!G22=\"\",\"\",IF(OR('ORDER FRAMES'!G22=\"L\",'ORDER FRAMES'!G22=\"R\"),\"\",'ORDER FRAMES'!G22))","v":""},{"$f":"IF('ORDER FRAMES'!H22=\"\",\"\",IF(OR('ORDER FRAMES'!G22=\"L\",'ORDER FRAMES'!G22=\"R\"),\"\",'ORDER FRAMES'!H22))","v":""},{"$f":"IF('ORDER FRAMES'!I22=\"\",\"\",IF(OR('ORDER FRAMES'!G22=\"L\",'ORDER FRAMES'!G22=\"R\"),\"\",'ORDER FRAMES'!I22))","v":""},{"$f":"IF('ORDER FRAMES'!J22=\"\",\"\",IF(OR('ORDER FRAMES'!G22=\"L\",'ORDER FRAMES'!G22=\"R\"),\"\",'ORDER FRAMES'!J22))","v":""},{"$f":"IF('ORDER FRAMES'!K22=\"\",\"\",IF(OR('ORDER FRAMES'!G22=\"L\",'ORDER FRAMES'!G22=\"R\"),\"\",'ORDER FRAMES'!K22))","v":""},{"$f":"IF('ORDER FRAMES'!L22=\"\",\"\",IF(OR('ORDER FRAMES'!G22=\"L\",'ORDER FRAMES'!G22=\"R\"),\"\",'ORDER FRAMES'!L22))","v":""},{"$f":"IF('ORDER FRAMES'!M22=\"\",\"\",IF(OR('ORDER FRAMES'!G22=\"L\",'ORDER FRAMES'!G22=\"R\"),\"\",'ORDER FRAMES'!M22))","v":""},null,null,null,{"$f":"IF(C7=\"\",\"\",IF(OR('ORDER FRAMES'!G22=\"L\",'ORDER FRAMES'!G22=\"R\"),\"\",'ORDER FRAMES'!N22))","v":""},{"$f":"IF(C7=\"\",\"\",IF(OR('ORDER FRAMES'!G22=\"L\",'ORDER FRAMES'!G22=\"R\"),\"\",'ORDER FRAMES'!O22))","v":""},null,{"$f":"IF(F7=\"V\",T7,IF(F7=\"W\",U7=0,\"\"))","v":""},null,null,{"$f":"L7","v":""},{"$f":"IF( M7=\"\",\"\",(M7+6)-R7-S7-T7-V7)","v":""},{"$f":"IF(O7=\"\",\"\",IF(OR(AND(C7=\"X240\",F7=\"V\",O7=40),AND(C7=\"X1\",F7=\"V\",O7=40),AND(C7=\"X245\",F7=\"V\",O7=44-45)),\"A\",IF(OR(AND(C7=\"X1\",F7=\"V\",O7=50),AND(C7=\"X240\",F7=\"V\",O7=50),AND(C7=\"X245\",F7=\"V\",O7=55),AND(C7=\"X250\",F7=\"V\",O7=60),AND(C7=\"X40\",F7=\"V\",O7=40),AND(C7=\"X45\",F7=\"V\",O7=44-45)),\"B\",IF(OR(AND(C7=\"X1\",F7=\"C\",O7=50),AND(C7=\"X240\",F7=\"C\",O7=50),AND(C7=\"X245\",F7=\"C\",O7=55),AND(C7=\"X250\",F7=\"C\",O7=60),AND(C7=\"X40\",F7=\"T\",O7=40),AND(C7=\"X45\",F7=\"T\",O7=44-45)),\"C\",IF(OR(AND(C7=\"X1\",F7=\"W\",O7=50),AND(C7=\"X240\",F7=\"W\",O7=50),AND(C7=\"X245\",F7=\"W\",O7=55),AND(C7=\"X250\",F7=\"W\",O7=60),AND(C7=\"X40\",F7=\"W\",O7=40),AND(C7=\"X45\",F7=\"W\",O7=44-45)),\"D\",\"\")))))","v":""},{"$f":"IF('ORDER FRAMES'!Q22=\"\",\"\",IF(OR('ORDER FRAMES'!G22=\"L\",'ORDER FRAMES'!G22=\"R\"),\"\",'ORDER FRAMES'!Q22))","v":""},{"$f":"IF('ORDER FRAMES'!S22=\"\",\"\",IF(OR('ORDER FRAMES'!G22=\"L\",'ORDER FRAMES'!G22=\"R\"),\"\",'ORDER FRAMES'!S22))","v":""},{"$f":"IF('ORDER FRAMES'!T22=\"\",\"\",IF(OR('ORDER FRAMES'!G22=\"L\",'ORDER FRAMES'!G22=\"R\"),\"\",'ORDER FRAMES'!T22))","v":""},{"$f":"IF('ORDER FRAMES'!U22=\"\",\"\",IF(OR('ORDER FRAMES'!G22=\"L\",'ORDER FRAMES'!G22=\"R\"),\"\",'ORDER FRAMES'!U22))","v":""},{"$f":"IF(C7=\"\",\"\",'ORDER FRAMES'!V22)","v":""},null,null,null,null,{"$f":"IF(C7=\"\",\"\",\"STANDAARD\")","v":""},null,null,null,{"$f":"IF(C7=\"\",\"\",CONCATENATE(\"X7\",IF(E7=\"EI 0\",\"00\",IF(E7=\"EI 1 30\",\"30\",IF(E7=\"EI 1 45\",\"45\",IF(E7=\"EI 2 60\",\"60\",\"\")))),IF(O7=50,\"01\",IF(O7=40,\"02\",IF(O7=60,\"04\",\"X\"))),\".\",O7,\"-\",IF(M7<2116,\"H1\",IF(M7<2416,\"H2\",IF(M7<2616,\"H3\",IF(M7>2615,\"H4\",\"\")))),IF( L7<831,\"B1\",IF(L7<931,\"B2\",IF(L7>930,\"B3\",\"\"))),\"-\",AC7,IF(OR(AB7=\"A24.0\",AB7=\"A24.1\",AB7=\"A24.2\",AB7=\"X4030.W\",AB7=\"X4030.G\",AB7=\"X4030.B\"),\"A24\",IF(OR(AB7=\"TE340.0\",AB7=\"TE340.1\",AB7=\"TE340.2\"),\"TE340\",\"A30\")),\"-\",IF(OR(AD7=\"00BB\",AD7=\"00PZ\",AD7=\"00WC\",AD7=\"E0BB\",AD7=\"E0PZ\",AD7=\"E0WC\"),\"D7X\",IF(OR(AD7=\"R15W.55BB\",AD7=\"R15I.55BB\",AD7=\"R15B.55BB\",AD7=\"R17W.55WC\",AD7=\"R17I.55WC\",AD7=\"R17B.55WC\",AD7=\"R19W.55PZ\",AD7=\"R19I.55PZ\",AD7=\"R19B.55PZ\",AD7=\"R35W.55BB\",AD7=\"R35I.55BB\",AD7=\"R35B.55BB\",AD7=\"R37W.55WC\",AD7=\"R37I.55WC\",AD7=\"R37B.55WC\",AD7=\"R59W.55PZ\",AD7=\"R59I.55PZ\",AD7=\"R59B.55PZ\",AD7=\"0K1\",AD7=\"0K2\",AD7=\"0K3\",AD7=\"0K4\",AD7=\"EK1\",AD7=\"EK2\",AD7=\"EK3\",AD7=\"EK4\"),\"DIN\",IF(AD7=\"0NH\",\"0NH\",IF(AD7=\"0NHZ\",\"0NH\",IF(AD7=\"0NHW\",\"0NH\",IF(OR(AD7=\"0NZB\",AD7=\"0NZW\",AD7=\"0NZG\"),\"NZ\",IF(OR(AD7=\"2NZB\",AD7=\"2NZW\",AD7=\"2NZG\"),\"2NZ\",IF(AD7=\"NIXX\",\"NIXX\",IF(AD7=\"SECL 1\",\"SECL 1\",IF(AD7=\"SECL 2\",\"SECL 2\",IF(AD7=\"SECL 3\",\"SECL 3\",IF(AD7=\"SECL 4 \",\"SECL 4\",IF(AD7=\"XXXX\",\"XXXX\",\"\"))))))))))))),\"-\",Z7,\"-\",H7,IF(AA7=1,\"\",IF(AA7=2,\"-AS\",IF(AA7=3,\"-I\",IF(AA7=4,\"-ITS\",IF(AA7=5,\"-SC\",\"\"))))),IF(AI7=\"ja \",\"-VD\",\"\"),))","v":""},{"$f":"IF(AND(OR(AF7=\"Geboord rond dia 20\",AF7=\"Geboord ovaal\"),AG7=\"Nee\"),\"X7-SG\",IF(AND(OR(AF7=\"Geboord rond dia 20 met patentgaten\",AF7=\"Geboord ovaal met patentagaten\"),AG7=\"Nee\"),\"X7-SG-PG\",IF(AND(AF7=\"Niet geboord\",OR(AG7=\"BB\",AG7=\"WC\",AG7=\"WC NH Locco\",AG7=\"WC NH Cartel\",AG7=\"PZ\")),\"X7-KG\",IF(AND(AF7=\"Niet geboord\",OR(AG7=\"BB met patentgaten\",AG7=\"WC met patentgaten\",AG7=\"PZ met patentgaten\",)),\"X7-KG-PG\",IF(AND(OR(AF7=\"\",AF7=\"Geboord rond dia 20 met patentgaten\",AF7=\"Geboord ovaal met patentagaten\"),OR(AG7=\"BB met patentgaten\",AG7=\"WC met patentgaten\",AG7=\"PZ met patentgaten\")),\"X7-KG-PG-SG-PG\",IF(AND(OR(AF7=\"Geboord rond dia 20\",AF7=\"Geboord ovaal\"),OR(AG7=\"BB met patentgaten\",AG7=\"WC met patentgaten\",AG7=\"PZ met patentgaten\")),\"X7-KG-SG-PG\",IF(AND(OR(AF7=\"Geboord rond dia 20 met patentgaten\",AF7=\"Geboord ovaal met patentgaten\"),OR(AG7=\"BB\",AG7=\"WC\",AG7=\"WC NH Locco\",AG7=\"WC NH Cartel\",AG7=\"PZ\")),\"X7-KG-PG-SG\",\"\")))))))","v":""},{"$f":"IF(AL7=\"Lak\",\"X7-LAQUER\",IF(AL7=\"HPL\",\"X7-HPL\",IF(AL7=\"Fineer\",\"X7-FINEER\",IF(AK7=\"Ja\",\"X7-GRUNDIERT\",\"\"))))","v":""}]
[23,{"$f":"IF('ORDER FRAMES'!A23=\"\",\"\",IF(OR('ORDER FRAMES'!G23=\"L\",'ORDER FRAMES'!G23=\"R\"),\"\",'ORDER FRAMES'!A23))","v":""},{"$f":"IF('ORDER FRAMES'!B23=\"\",\"\",IF(OR('ORDER FRAMES'!G23=\"L\",'ORDER FRAMES'!G23=\"R\"),\"\",'ORDER FRAMES'!B23))","v":""},{"$f":"IF('ORDER FRAMES'!C23=\"\",\"\",IF(OR('ORDER FRAMES'!G23=\"L\",'ORDER FRAMES'!G23=\"R\"),\"\",'ORDER FRAMES'!C23))","v":""},null,{"$f":"IF('ORDER FRAMES'!E23=\"\",\"\",IF(OR('ORDER FRAMES'!G23=\"L\",'ORDER FRAMES'!G23=\"R\"),\"\",'ORDER FRAMES'!E23))","v":""},{"$f":"IF('ORDER FRAMES'!F23=\"\",\"\",IF(OR('ORDER FRAMES'!G23=\"L\",'ORDER FRAMES'!G23=\"R\"),\"\",'ORDER FRAMES'!F23))","v":""},{"$f":"IF('ORDER FRAMES'!G23=\"\",\"\",IF(OR('ORDER FRAMES'!G23=\"L\",'ORDER FRAMES'!G23=\"R\"),\"\",'ORDER FRAMES'!G23))","v":""},{"$f":"IF('ORDER FRAMES'!H23=\"\",\"\",IF(OR('ORDER FRAMES'!G23=\"L\",'ORDER FRAMES'!G23=\"R\"),\"\",'ORDER FRAMES'!H23))","v":""},{"$f":"IF('ORDER FRAMES'!I23=\"\",\"\",IF(OR('ORDER FRAMES'!G23=\"L\",'ORDER FRAMES'!G23=\"R\"),\"\",'ORDER FRAMES'!I23))","v":""},{"$f":"IF('ORDER FRAMES'!J23=\"\",\"\",IF(OR('ORDER FRAMES'!G23=\"L\",'ORDER FRAMES'!G23=\"R\"),\"\",'ORDER FRAMES'!J23))","v":""},{"$f":"IF('ORDER FRAMES'!K23=\"\",\"\",IF(OR('ORDER FRAMES'!G23=\"L\",'ORDER FRAMES'!G23=\"R\"),\"\",'ORDER FRAMES'!K23))","v":""},{"$f":"IF('ORDER FRAMES'!L23=\"\",\"\",IF(OR('ORDER FRAMES'!G23=\"L\",'ORDER FRAMES'!G23=\"R\"),\"\",'ORDER FRAMES'!L23))","v":""},{"$f":"IF('ORDER FRAMES'!M23=\"\",\"\",IF(OR('ORDER FRAMES'!G23=\"L\",'ORDER FRAMES'!G23=\"R\"),\"\",'ORDER FRAMES'!M23))","v":""},null,null,null,{"$f":"IF(C8=\"\",\"\",IF(OR('ORDER FRAMES'!G23=\"L\",'ORDER FRAMES'!G23=\"R\"),\"\",'ORDER FRAMES'!N23))","v":""},{"$f":"IF(C8=\"\",\"\",IF(OR('ORDER FRAMES'!G23=\"L\",'ORDER FRAMES'!G23=\"R\"),\"\",'ORDER FRAMES'!O23))","v":""},null,"",null,null,"","","",{"$f":"IF('ORDER FRAMES'!Q23=\"\",\"\",IF(OR('ORDER FRAMES'!G23=\"L\",'ORDER FRAMES'!G23=\"R\"),\"\",'ORDER FRAMES'!Q23))","v":""},{"$f":"IF('ORDER FRAMES'!S23=\"\",\"\",IF(OR('ORDER FRAMES'!G23=\"L\",'ORDER FRAMES'!G23=\"R\"),\"\",'ORDER FRAMES'!S23))","v":""},{"$f":"IF('ORDER FRAMES'!T23=\"\",\"\",IF(OR('ORDER FRAMES'!G23=\"L\",'ORDER FRAMES'!G23=\"R\"),\"\",'ORDER FRAMES'!T23))","v":""},{"$f":"IF('ORDER FRAMES'!U23=\"\",\"\",IF(OR('ORDER FRAMES'!G23=\"L\",'ORDER FRAMES'!G23=\"R\"),\"\",'ORDER FRAMES'!U23))","v":""},{"$f":"IF(C8=\"\",\"\",'ORDER FRAMES'!V23)","v":""},null,null,null,null,"",null,null,null,"","",""]
[24,{"$f":"IF('ORDER FRAMES'!A24=\"\",\"\",IF(OR('ORDER FRAMES'!G24=\"L\",'ORDER FRAMES'!G24=\"R\"),\"\",'ORDER FRAMES'!A24))","v":""},{"$f":"IF('ORDER FRAMES'!B24=\"\",\"\",IF(OR('ORDER FRAMES'!G24=\"L\",'ORDER FRAMES'!G24=\"R\"),\"\",'ORDER FRAMES'!B24))","v":""},{"$f":"IF('ORDER FRAMES'!C24=\"\",\"\",IF(OR('ORDER FRAMES'!G24=\"L\",'ORDER FRAMES'!G24=\"R\"),\"\",'ORDER FRAMES'!C24))","v":""},null,{"$f":"IF('ORDER FRAMES'!E24=\"\",\"\",IF(OR('ORDER FRAMES'!G24=\"L\",'ORDER FRAMES'!G24=\"R\"),\"\",'ORDER FRAMES'!E24))","v":""},{"$f":"IF('ORDER FRAMES'!F24=\"\",\"\",IF(OR('ORDER FRAMES'!G24=\"L\",'ORDER FRAMES'!G24=\"R\"),\"\",'ORDER FRAMES'!F24))","v":""},{"$f":"IF('ORDER FRAMES'!G24=\"\",\"\",IF(OR('ORDER FRAMES'!G24=\"L\",'ORDER FRAMES'!G24=\"R\"),\"\",'ORDER FRAMES'!G24))","v":""},{"$f":"IF('ORDER FRAMES'!H24=\"\",\"\",IF(OR('ORDER FRAMES'!G24=\"L\",'ORDER FRAMES'!G24=\"R\"),\"\",'ORDER FRAMES'!H24))","v":""},{"$f":"IF('ORDER FRAMES'!I24=\"\",\"\",IF(OR('ORDER FRAMES'!G24=\"L\",'ORDER FRAMES'!G24=\"R\"),\"\",'ORDER FRAMES'!I24))","v":""},{"$f":"IF('ORDER FRAMES'!J24=\"\",\"\",IF(OR('ORDER FRAMES'!G24=\"L\",'ORDER FRAMES'!G24=\"R\"),\"\",'ORDER FRAMES'!J24))","v":""},{"$f":"IF('ORDER FRAMES'!K24=\"\",\"\",IF(OR('ORDER FRAMES'!G24=\"L\",'ORDER FRAMES'!G24=\"R\"),\"\",'ORDER FRAMES'!K24))","v":""},{"$f":"IF('ORDER FRAMES'!L24=\"\",\"\",IF(OR('ORDER FRAMES'!G24=\"L\",'ORDER FRAMES'!G24=\"R\"),\"\",'ORDER FRAMES'!L24))","v":""},{"$f":"IF('ORDER FRAMES'!M24=\"\",\"\",IF(OR('ORDER FRAMES'!G24=\"L\",'ORDER FRAMES'!G24=\"R\"),\"\",'ORDER FRAMES'!M24))","v":""},null,null,null,{"$f":"IF(C9=\"\",\"\",IF(OR('ORDER FRAMES'!G24=\"L\",'ORDER FRAMES'!G24=\"R\"),\"\",'ORDER FRAMES'!N24))","v":""},{"$f":"IF(C9=\"\",\"\",IF(OR('ORDER FRAMES'!G24=\"L\",'ORDER FRAMES'!G24=\"R\"),\"\",'ORDER FRAMES'!O24))","v":""},null,"",null,null,"","","",{"$f":"IF('ORDER FRAMES'!Q24=\"\",\"\",IF(OR('ORDER FRAMES'!G24=\"L\",'ORDER FRAMES'!G24=\"R\"),\"\",'ORDER FRAMES'!Q24))","v":""},{"$f":"IF('ORDER FRAMES'!S24=\"\",\"\",IF(OR('ORDER FRAMES'!G24=\"L\",'ORDER FRAMES'!G24=\"R\"),\"\",'ORDER FRAMES'!S24))","v":""},{"$f":"IF('ORDER FRAMES'!T24=\"\",\"\",IF(OR('ORDER FRAMES'!G24=\"L\",'ORDER FRAMES'!G24=\"R\"),\"\",'ORDER FRAMES'!T24))","v":""},{"$f":"IF('ORDER FRAMES'!U24=\"\",\"\",IF(OR('ORDER FRAMES'!G24=\"L\",'ORDER FRAMES'!G24=\"R\"),\"\",'ORDER FRAMES'!U24))","v":""},{"$f":"IF(C9=\"\",\"\",'ORDER FRAMES'!V24)","v":""},null,null,null,null,"",null,null,null,"","",""]
[25,{"$f":"IF('ORDER FRAMES'!A25=\"\",\"\",IF(OR('ORDER FRAMES'!G25=\"L\",'ORDER FRAMES'!G25=\"R\"),\"\",'ORDER FRAMES'!A25))","v":""},{"$f":"IF('ORDER FRAMES'!B25=\"\",\"\",IF(OR('ORDER FRAMES'!G25=\"L\",'ORDER FRAMES'!G25=\"R\"),\"\",'ORDER FRAMES'!B25))","v":""},{"$f":"IF('ORDER FRAMES'!C25=\"\",\"\",IF(OR('ORDER FRAMES'!G25=\"L\",'ORDER FRAMES'!G25=\"R\"),\"\",'ORDER FRAMES'!C25))","v":""},null,{"$f":"IF('ORDER FRAMES'!E25=\"\",\"\",IF(OR('ORDER FRAMES'!G25=\"L\",'ORDER FRAMES'!G25=\"R\"),\"\",'ORDER FRAMES'!E25))","v":""},{"$f":"IF('ORDER FRAMES'!F25=\"\",\"\",IF(OR('ORDER FRAMES'!G25=\"L\",'ORDER FRAMES'!G25=\"R\"),\"\",'ORDER FRAMES'!F25))","v":""},{"$f":"IF('ORDER FRAMES'!G25=\"\",\"\",IF(OR('ORDER FRAMES'!G25=\"L\",'ORDER FRAMES'!G25=\"R\"),\"\",'ORDER FRAMES'!G25))","v":""},{"$f":"IF('ORDER FRAMES'!H25=\"\",\"\",IF(OR('ORDER FRAMES'!G25=\"L\",'ORDER FRAMES'!G25=\"R\"),\"\",'ORDER FRAMES'!H25))","v":""},{"$f":"IF('ORDER FRAMES'!I25=\"\",\"\",IF(OR('ORDER FRAMES'!G25=\"L\",'ORDER FRAMES'!G25=\"R\"),\"\",'ORDER FRAMES'!I25))","v":""},{"$f":"IF('ORDER FRAMES'!J25=\"\",\"\",IF(OR('ORDER FRAMES'!G25=\"L\",'ORDER FRAMES'!G25=\"R\"),\"\",'ORDER FRAMES'!J25))","v":""},{"$f":"IF('ORDER FRAMES'!K25=\"\",\"\",IF(OR('ORDER FRAMES'!G25=\"L\",'ORDER FRAMES'!G25=\"R\"),\"\",'ORDER FRAMES'!K25))","v":""},{"$f":"IF('ORDER FRAMES'!L25=\"\",\"\",IF(OR('ORDER FRAMES'!G25=\"L\",'ORDER FRAMES'!G25=\"R\"),\"\",'ORDER FRAMES'!L25))","v":""},{"$f":"IF('ORDER FRAMES'!M25=\"\",\"\",IF(OR('ORDER FRAMES'!G25=\"L\",'ORDER FRAMES'!G25=\"R\"),\"\",'ORDER FRAMES'!M25))","v":""},null,null,null,{"$f":"IF(C10=\"\",\"\",IF(OR('ORDER FRAMES'!G25=\"L\",'ORDER FRAMES'!G25=\"R\"),\"\",'ORDER FRAMES'!N25))","v":""},{"$f":"IF(C10=\"\",\"\",IF(OR('ORDER FRAMES'!G25=\"L\",'ORDER FRAMES'!G25=\"R\"),\"\",'ORDER FRAMES'!O25))","v":""},null,"",null,null,"","","",{"$f":"IF('ORDER FRAMES'!Q25=\"\",\"\",IF(OR('ORDER FRAMES'!G25=\"L\",'ORDER FRAMES'!G25=\"R\"),\"\",'ORDER FRAMES'!Q25))","v":""},{"$f":"IF('ORDER FRAMES'!S25=\"\",\"\",IF(OR('ORDER FRAMES'!G25=\"L\",'ORDER FRAMES'!G25=\"R\"),\"\",'ORDER FRAMES'!S25))","v":""},{"$f":"IF('ORDER FRAMES'!T25=\"\",\"\",IF(OR('ORDER FRAMES'!G25=\"L\",'ORDER FRAMES'!G25=\"R\"),\"\",'ORDER FRAMES'!T25))","v":""},{"$f":"IF('ORDER FRAMES'!U25=\"\",\"\",IF(OR('ORDER FRAMES'!G25=\"L\",'ORDER FRAMES'!G25=\"R\"),\"\",'ORDER FRAMES'!U25))","v":""},{"$f":"IF(C10=\"\",\"\",'ORDER FRAMES'!V25)","v":""},null,null,null,null,"",null,null,null,"","",""]
[26,{"$f":"IF('ORDER FRAMES'!A26=\"\",\"\",IF(OR('ORDER FRAMES'!G26=\"L\",'ORDER FRAMES'!G26=\"R\"),\"\",'ORDER FRAMES'!A26))","v":""},{"$f":"IF('ORDER FRAMES'!B26=\"\",\"\",IF(OR('ORDER FRAMES'!G26=\"L\",'ORDER FRAMES'!G26=\"R\"),\"\",'ORDER FRAMES'!B26))","v":""},{"$f":"IF('ORDER FRAMES'!C26=\"\",\"\",IF(OR('ORDER FRAMES'!G26=\"L\",'ORDER FRAMES'!G26=\"R\"),\"\",'ORDER FRAMES'!C26))","v":""},null,{"$f":"IF('ORDER FRAMES'!E26=\"\",\"\",IF(OR('ORDER FRAMES'!G26=\"L\",'ORDER FRAMES'!G26=\"R\"),\"\",'ORDER FRAMES'!E26))","v":""},{"$f":"IF('ORDER FRAMES'!F26=\"\",\"\",IF(OR('ORDER FRAMES'!G26=\"L\",'ORDER FRAMES'!G26=\"R\"),\"\",'ORDER FRAMES'!F26))","v":""},{"$f":"IF('ORDER FRAMES'!G26=\"\",\"\",IF(OR('ORDER FRAMES'!G26=\"L\",'ORDER FRAMES'!G26=\"R\"),\"\",'ORDER FRAMES'!G26))","v":""},{"$f":"IF('ORDER FRAMES'!H26=\"\",\"\",IF(OR('ORDER FRAMES'!G26=\"L\",'ORDER FRAMES'!G26=\"R\"),\"\",'ORDER FRAMES'!H26))","v":""},{"$f":"IF('ORDER FRAMES'!I26=\"\",\"\",IF(OR('ORDER FRAMES'!G26=\"L\",'ORDER FRAMES'!G26=\"R\"),\"\",'ORDER FRAMES'!I26))","v":""},{"$f":"IF('ORDER FRAMES'!J26=\"\",\"\",IF(OR('ORDER FRAMES'!G26=\"L\",'ORDER FRAMES'!G26=\"R\"),\"\",'ORDER FRAMES'!J26))","v":""},{"$f":"IF('ORDER FRAMES'!K26=\"\",\"\",IF(OR('ORDER FRAMES'!G26=\"L\",'ORDER FRAMES'!G26=\"R\"),\"\",'ORDER FRAMES'!K26))","v":""},{"$f":"IF('ORDER FRAMES'!L26=\"\",\"\",IF(OR('ORDER FRAMES'!G26=\"L\",'ORDER FRAMES'!G26=\"R\"),\"\",'ORDER FRAMES'!L26))","v":""},{"$f":"IF('ORDER FRAMES'!M26=\"\",\"\",IF(OR('ORDER FRAMES'!G26=\"L\",'ORDER FRAMES'!G26=\"R\"),\"\",'ORDER FRAMES'!M26))","v":""},null,null,null,{"$f":"IF(C11=\"\",\"\",IF(OR('ORDER FRAMES'!G26=\"L\",'ORDER FRAMES'!G26=\"R\"),\"\",'ORDER FRAMES'!N26))","v":""},{"$f":"IF(C11=\"\",\"\",IF(OR('ORDER FRAMES'!G26=\"L\",'ORDER FRAMES'!G26=\"R\"),\"\",'ORDER FRAMES'!O26))","v":""},null,"",null,null,"","","",{"$f":"IF('ORDER FRAMES'!Q26=\"\",\"\",IF(OR('ORDER FRAMES'!G26=\"L\",'ORDER FRAMES'!G26=\"R\"),\"\",'ORDER FRAMES'!Q26))","v":""},{"$f":"IF('ORDER FRAMES'!S26=\"\",\"\",IF(OR('ORDER FRAMES'!G26=\"L\",'ORDER FRAMES'!G26=\"R\"),\"\",'ORDER FRAMES'!S26))","v":""},{"$f":"IF('ORDER FRAMES'!T26=\"\",\"\",IF(OR('ORDER FRAMES'!G26=\"L\",'ORDER FRAMES'!G26=\"R\"),\"\",'ORDER FRAMES'!T26))","v":""},{"$f":"IF('ORDER FRAMES'!U26=\"\",\"\",IF(OR('ORDER FRAMES'!G26=\"L\",'ORDER FRAMES'!G26=\"R\"),\"\",'ORDER FRAMES'!U26))","v":""},{"$f":"IF(C11=\"\",\"\",'ORDER FRAMES'!V26)","v":""},null,null,null,null,"",null,null,null,"","",""]
[27,{"$f":"IF('ORDER FRAMES'!A27=\"\",\"\",IF(OR('ORDER FRAMES'!G27=\"L\",'ORDER FRAMES'!G27=\"R\"),\"\",'ORDER FRAMES'!A27))","v":""},{"$f":"IF('ORDER FRAMES'!B27=\"\",\"\",IF(OR('ORDER FRAMES'!G27=\"L\",'ORDER FRAMES'!G27=\"R\"),\"\",'ORDER FRAMES'!B27))","v":""},{"$f":"IF('ORDER FRAMES'!C27=\"\",\"\",IF(OR('ORDER FRAMES'!G27=\"L\",'ORDER FRAMES'!G27=\"R\"),\"\",'ORDER FRAMES'!C27))","v":""},null,{"$f":"IF('ORDER FRAMES'!E27=\"\",\"\",IF(OR('ORDER FRAMES'!G27=\"L\",'ORDER FRAMES'!G27=\"R\"),\"\",'ORDER FRAMES'!E27))","v":""},{"$f":"IF('ORDER FRAMES'!F27=\"\",\"\",IF(OR('ORDER FRAMES'!G27=\"L\",'ORDER FRAMES'!G27=\"R\"),\"\",'ORDER FRAMES'!F27))","v":""},{"$f":"IF('ORDER FRAMES'!G27=\"\",\"\",IF(OR('ORDER FRAMES'!G27=\"L\",'ORDER FRAMES'!G27=\"R\"),\"\",'ORDER FRAMES'!G27))","v":""},{"$f":"IF('ORDER FRAMES'!H27=\"\",\"\",IF(OR('ORDER FRAMES'!G27=\"L\",'ORDER FRAMES'!G27=\"R\"),\"\",'ORDER FRAMES'!H27))","v":""},{"$f":"IF('ORDER FRAMES'!I27=\"\",\"\",IF(OR('ORDER FRAMES'!G27=\"L\",'ORDER FRAMES'!G27=\"R\"),\"\",'ORDER FRAMES'!I27))","v":""},{"$f":"IF('ORDER FRAMES'!J27=\"\",\"\",IF(OR('ORDER FRAMES'!G27=\"L\",'ORDER FRAMES'!G27=\"R\"),\"\",'ORDER FRAMES'!J27))","v":""},{"$f":"IF('ORDER FRAMES'!K27=\"\",\"\",IF(OR('ORDER FRAMES'!G27=\"L\",'ORDER FRAMES'!G27=\"R\"),\"\",'ORDER FRAMES'!K27))","v":""},{"$f":"IF('ORDER FRAMES'!L27=\"\",\"\",IF(OR('ORDER FRAMES'!G27=\"L\",'ORDER FRAMES'!G27=\"R\"),\"\",'ORDER FRAMES'!L27))","v":""},{"$f":"IF('ORDER FRAMES'!M27=\"\",\"\",IF(OR('ORDER FRAMES'!G27=\"L\",'ORDER FRAMES'!G27=\"R\"),\"\",'ORDER FRAMES'!M27))","v":""},null,null,null,{"$f":"IF(C12=\"\",\"\",IF(OR('ORDER FRAMES'!G27=\"L\",'ORDER FRAMES'!G27=\"R\"),\"\",'ORDER FRAMES'!N27))","v":""},{"$f":"IF(C12=\"\",\"\",IF(OR('ORDER FRAMES'!G27=\"L\",'ORDER FRAMES'!G27=\"R\"),\"\",'ORDER FRAMES'!O27))","v":""},null,"",null,null,"","","",{"$f":"IF('ORDER FRAMES'!Q27=\"\",\"\",IF(OR('ORDER FRAMES'!G27=\"L\",'ORDER FRAMES'!G27=\"R\"),\"\",'ORDER FRAMES'!Q27))","v":""},{"$f":"IF('ORDER FRAMES'!S27=\"\",\"\",IF(OR('ORDER FRAMES'!G27=\"L\",'ORDER FRAMES'!G27=\"R\"),\"\",'ORDER FRAMES'!S27))","v":""},{"$f":"IF('ORDER FRAMES'!T27=\"\",\"\",IF(OR('ORDER FRAMES'!G27=\"L\",'ORDER FRAMES'!G27=\"R\"),\"\",'ORDER FRAMES'!T27))","v":""},{"$f":"IF('ORDER FRAMES'!U27=\"\",\"\",IF(OR('ORDER FRAMES'!G27=\"L\",'ORDER FRAMES'!G27=\"R\"),\"\",'ORDER FRAMES'!U27))","v":""},{"$f":"IF(C12=\"\",\"\",'ORDER FRAMES'!V27)","v":""},null,null,null,null,"",null,null,null,"","",""]
[28,{"$f":"IF('ORDER FRAMES'!A28=\"\",\"\",IF(OR('ORDER FRAMES'!G28=\"L\",'ORDER FRAMES'!G28=\"R\"),\"\",'ORDER FRAMES'!A28))","v":""},{"$f":"IF('ORDER FRAMES'!B28=\"\",\"\",IF(OR('ORDER FRAMES'!G28=\"L\",'ORDER FRAMES'!G28=\"R\"),\"\",'ORDER FRAMES'!B28))","v":""},{"$f":"IF('ORDER FRAMES'!C28=\"\",\"\",IF(OR('ORDER FRAMES'!G28=\"L\",'ORDER FRAMES'!G28=\"R\"),\"\",'ORDER FRAMES'!C28))","v":""},null,{"$f":"IF('ORDER FRAMES'!E28=\"\",\"\",IF(OR('ORDER FRAMES'!G28=\"L\",'ORDER FRAMES'!G28=\"R\"),\"\",'ORDER FRAMES'!E28))","v":""},{"$f":"IF('ORDER FRAMES'!F28=\"\",\"\",IF(OR('ORDER FRAMES'!G28=\"L\",'ORDER FRAMES'!G28=\"R\"),\"\",'ORDER FRAMES'!F28))","v":""},{"$f":"IF('ORDER FRAMES'!G28=\"\",\"\",IF(OR('ORDER FRAMES'!G28=\"L\",'ORDER FRAMES'!G28=\"R\"),\"\",'ORDER FRAMES'!G28))","v":""},{"$f":"IF('ORDER FRAMES'!H28=\"\",\"\",IF(OR('ORDER FRAMES'!G28=\"L\",'ORDER FRAMES'!G28=\"R\"),\"\",'ORDER FRAMES'!H28))","v":""},{"$f":"IF('ORDER FRAMES'!I28=\"\",\"\",IF(OR('ORDER FRAMES'!G28=\"L\",'ORDER FRAMES'!G28=\"R\"),\"\",'ORDER FRAMES'!I28))","v":""},{"$f":"IF('ORDER FRAMES'!J28=\"\",\"\",IF(OR('ORDER FRAMES'!G28=\"L\",'ORDER FRAMES'!G28=\"R\"),\"\",'ORDER FRAMES'!J28))","v":""},{"$f":"IF('ORDER FRAMES'!K28=\"\",\"\",IF(OR('ORDER FRAMES'!G28=\"L\",'ORDER FRAMES'!G28=\"R\"),\"\",'ORDER FRAMES'!K28))","v":""},{"$f":"IF('ORDER FRAMES'!L28=\"\",\"\",IF(OR('ORDER FRAMES'!G28=\"L\",'ORDER FRAMES'!G28=\"R\"),\"\",'ORDER FRAMES'!L28))","v":""},{"$f":"IF('ORDER FRAMES'!M28=\"\",\"\",IF(OR('ORDER FRAMES'!G28=\"L\",'ORDER FRAMES'!G28=\"R\"),\"\",'ORDER FRAMES'!M28))","v":""},null,null,null,{"$f":"IF(C13=\"\",\"\",IF(OR('ORDER FRAMES'!G28=\"L\",'ORDER FRAMES'!G28=\"R\"),\"\",'ORDER FRAMES'!N28))","v":""},{"$f":"IF(C13=\"\",\"\",IF(OR('ORDER FRAMES'!G28=\"L\",'ORDER FRAMES'!G28=\"R\"),\"\",'ORDER FRAMES'!O28))","v":""},null,"",null,null,"","","",{"$f":"IF('ORDER FRAMES'!Q28=\"\",\"\",IF(OR('ORDER FRAMES'!G28=\"L\",'ORDER FRAMES'!G28=\"R\"),\"\",'ORDER FRAMES'!Q28))","v":""},{"$f":"IF('ORDER FRAMES'!S28=\"\",\"\",IF(OR('ORDER FRAMES'!G28=\"L\",'ORDER FRAMES'!G28=\"R\"),\"\",'ORDER FRAMES'!S28))","v":""},{"$f":"IF('ORDER FRAMES'!T28=\"\",\"\",IF(OR('ORDER FRAMES'!G28=\"L\",'ORDER FRAMES'!G28=\"R\"),\"\",'ORDER FRAMES'!T28))","v":""},{"$f":"IF('ORDER FRAMES'!U28=\"\",\"\",IF(OR('ORDER FRAMES'!G28=\"L\",'ORDER FRAMES'!G28=\"R\"),\"\",'ORDER FRAMES'!U28))","v":""},{"$f":"IF(C13=\"\",\"\",'ORDER FRAMES'!V28)","v":""},null,null,null,null,"",null,null,null,"","",""]
[29,{"$f":"IF('ORDER FRAMES'!A29=\"\",\"\",IF(OR('ORDER FRAMES'!G29=\"L\",'ORDER FRAMES'!G29=\"R\"),\"\",'ORDER FRAMES'!A29))","v":""},{"$f":"IF('ORDER FRAMES'!B29=\"\",\"\",IF(OR('ORDER FRAMES'!G29=\"L\",'ORDER FRAMES'!G29=\"R\"),\"\",'ORDER FRAMES'!B29))","v":""},{"$f":"IF('ORDER FRAMES'!C29=\"\",\"\",IF(OR('ORDER FRAMES'!G29=\"L\",'ORDER FRAMES'!G29=\"R\"),\"\",'ORDER FRAMES'!C29))","v":""},null,{"$f":"IF('ORDER FRAMES'!E29=\"\",\"\",IF(OR('ORDER FRAMES'!G29=\"L\",'ORDER FRAMES'!G29=\"R\"),\"\",'ORDER FRAMES'!E29))","v":""},{"$f":"IF('ORDER FRAMES'!F29=\"\",\"\",IF(OR('ORDER FRAMES'!G29=\"L\",'ORDER FRAMES'!G29=\"R\"),\"\",'ORDER FRAMES'!F29))","v":""},{"$f":"IF('ORDER FRAMES'!G29=\"\",\"\",IF(OR('ORDER FRAMES'!G29=\"L\",'ORDER FRAMES'!G29=\"R\"),\"\",'ORDER FRAMES'!G29))","v":""},{"$f":"IF('ORDER FRAMES'!H29=\"\",\"\",IF(OR('ORDER FRAMES'!G29=\"L\",'ORDER FRAMES'!G29=\"R\"),\"\",'ORDER FRAMES'!H29))","v":""},{"$f":"IF('ORDER FRAMES'!I29=\"\",\"\",IF(OR('ORDER FRAMES'!G29=\"L\",'ORDER FRAMES'!G29=\"R\"),\"\",'ORDER FRAMES'!I29))","v":""},{"$f":"IF('ORDER FRAMES'!J29=\"\",\"\",IF(OR('ORDER FRAMES'!G29=\"L\",'ORDER FRAMES'!G29=\"R\"),\"\",'ORDER FRAMES'!J29))","v":""},{"$f":"IF('ORDER FRAMES'!K29=\"\",\"\",IF(OR('ORDER FRAMES'!G29=\"L\",'ORDER FRAMES'!G29=\"R\"),\"\",'ORDER FRAMES'!K29))","v":""},{"$f":"IF('ORDER FRAMES'!L29=\"\",\"\",IF(OR('ORDER FRAMES'!G29=\"L\",'ORDER FRAMES'!G29=\"R\"),\"\",'ORDER FRAMES'!L29))","v":""},{"$f":"IF('ORDER FRAMES'!M29=\"\",\"\",IF(OR('ORDER FRAMES'!G29=\"L\",'ORDER FRAMES'!G29=\"R\"),\"\",'ORDER FRAMES'!M29))","v":""},null,null,null,{"$f":"IF(C14=\"\",\"\",IF(OR('ORDER FRAMES'!G29=\"L\",'ORDER FRAMES'!G29=\"R\"),\"\",'ORDER FRAMES'!N29))","v":""},{"$f":"IF(C14=\"\",\"\",IF(OR('ORDER FRAMES'!G29=\"L\",'ORDER FRAMES'!G29=\"R\"),\"\",'ORDER FRAMES'!O29))","v":""},null,"",null,null,"","","",{"$f":"IF('ORDER FRAMES'!Q29=\"\",\"\",IF(OR('ORDER FRAMES'!G29=\"L\",'ORDER FRAMES'!G29=\"R\"),\"\",'ORDER FRAMES'!Q29))","v":""},{"$f":"IF('ORDER FRAMES'!S29=\"\",\"\",IF(OR('ORDER FRAMES'!G29=\"L\",'ORDER FRAMES'!G29=\"R\"),\"\",'ORDER FRAMES'!S29))","v":""},{"$f":"IF('ORDER FRAMES'!T29=\"\",\"\",IF(OR('ORDER FRAMES'!G29=\"L\",'ORDER FRAMES'!G29=\"R\"),\"\",'ORDER FRAMES'!T29))","v":""},{"$f":"IF('ORDER FRAMES'!U29=\"\",\"\",IF(OR('ORDER FRAMES'!G29=\"L\",'ORDER FRAMES'!G29=\"R\"),\"\",'ORDER FRAMES'!U29))","v":""},{"$f":"IF(C14=\"\",\"\",'ORDER FRAMES'!V29)","v":""},null,null,null,null,"",null,null,null,"","",""]
[30,{"$f":"IF('ORDER FRAMES'!A30=\"\",\"\",IF(OR('ORDER FRAMES'!G30=\"L\",'ORDER FRAMES'!G30=\"R\"),\"\",'ORDER FRAMES'!A30))","v":""},{"$f":"IF('ORDER FRAMES'!B30=\"\",\"\",IF(OR('ORDER FRAMES'!G30=\"L\",'ORDER FRAMES'!G30=\"R\"),\"\",'ORDER FRAMES'!B30))","v":""},{"$f":"IF('ORDER FRAMES'!C30=\"\",\"\",IF(OR('ORDER FRAMES'!G30=\"L\",'ORDER FRAMES'!G30=\"R\"),\"\",'ORDER FRAMES'!C30))","v":""},null,{"$f":"IF('ORDER FRAMES'!E30=\"\",\"\",IF(OR('ORDER FRAMES'!G30=\"L\",'ORDER FRAMES'!G30=\"R\"),\"\",'ORDER FRAMES'!E30))","v":""},{"$f":"IF('ORDER FRAMES'!F30=\"\",\"\",IF(OR('ORDER FRAMES'!G30=\"L\",'ORDER FRAMES'!G30=\"R\"),\"\",'ORDER FRAMES'!F30))","v":""},{"$f":"IF('ORDER FRAMES'!G30=\"\",\"\",IF(OR('ORDER FRAMES'!G30=\"L\",'ORDER FRAMES'!G30=\"R\"),\"\",'ORDER FRAMES'!G30))","v":""},{"$f":"IF('ORDER FRAMES'!H30=\"\",\"\",IF(OR('ORDER FRAMES'!G30=\"L\",'ORDER FRAMES'!G30=\"R\"),\"\",'ORDER FRAMES'!H30))","v":""},{"$f":"IF('ORDER FRAMES'!I30=\"\",\"\",IF(OR('ORDER FRAMES'!G30=\"L\",'ORDER FRAMES'!G30=\"R\"),\"\",'ORDER FRAMES'!I30))","v":""},{"$f":"IF('ORDER FRAMES'!J30=\"\",\"\",IF(OR('ORDER FRAMES'!G30=\"L\",'ORDER FRAMES'!G30=\"R\"),\"\",'ORDER FRAMES'!J30))","v":""},{"$f":"IF('ORDER FRAMES'!K30=\"\",\"\",IF(OR('ORDER FRAMES'!G30=\"L\",'ORDER FRAMES'!G30=\"R\"),\"\",'ORDER FRAMES'!K30))","v":""},{"$f":"IF('ORDER FRAMES'!L30=\"\",\"\",IF(OR('ORDER FRAMES'!G30=\"L\",'ORDER FRAMES'!G30=\"R\"),\"\",'ORDER FRAMES'!L30))","v":""},{"$f":"IF('ORDER FRAMES'!M30=\"\",\"\",IF(OR('ORDER FRAMES'!G30=\"L\",'ORDER FRAMES'!G30=\"R\"),\"\",'ORDER FRAMES'!M30))","v":""},null,null,null,{"$f":"IF(C15=\"\",\"\",IF(OR('ORDER FRAMES'!G30=\"L\",'ORDER FRAMES'!G30=\"R\"),\"\",'ORDER FRAMES'!N30))","v":""},{"$f":"IF(C15=\"\",\"\",IF(OR('ORDER FRAMES'!G30=\"L\",'ORDER FRAMES'!G30=\"R\"),\"\",'ORDER FRAMES'!O30))","v":""},null,"",null,null,"","","",{"$f":"IF('ORDER FRAMES'!Q30=\"\",\"\",IF(OR('ORDER FRAMES'!G30=\"L\",'ORDER FRAMES'!G30=\"R\"),\"\",'ORDER FRAMES'!Q30))","v":""},{"$f":"IF('ORDER FRAMES'!S30=\"\",\"\",IF(OR('ORDER FRAMES'!G30=\"L\",'ORDER FRAMES'!G30=\"R\"),\"\",'ORDER FRAMES'!S30))","v":""},{"$f":"IF('ORDER FRAMES'!T30=\"\",\"\",IF(OR('ORDER FRAMES'!G30=\"L\",'ORDER FRAMES'!G30=\"R\"),\"\",'ORDER FRAMES'!T30))","v":""},{"$f":"IF('ORDER FRAMES'!U30=\"\",\"\",IF(OR('ORDER FRAMES'!G30=\"L\",'ORDER FRAMES'!G30=\"R\"),\"\",'ORDER FRAMES'!U30))","v":""},{"$f":"IF(C15=\"\",\"\",'ORDER FRAMES'!V30)","v":""},null,null,null,null,"",null,null,null,"","",""]
[31,{"$f":"IF('ORDER FRAMES'!A31=\"\",\"\",IF(OR('ORDER FRAMES'!G31=\"L\",'ORDER FRAMES'!G31=\"R\"),\"\",'ORDER FRAMES'!A31))","v":""},{"$f":"IF('ORDER FRAMES'!B31=\"\",\"\",IF(OR('ORDER FRAMES'!G31=\"L\",'ORDER FRAMES'!G31=\"R\"),\"\",'ORDER FRAMES'!B31))","v":""},{"$f":"IF('ORDER FRAMES'!C31=\"\",\"\",IF(OR('ORDER FRAMES'!G31=\"L\",'ORDER FRAMES'!G31=\"R\"),\"\",'ORDER FRAMES'!C31))","v":""},null,{"$f":"IF('ORDER FRAMES'!E31=\"\",\"\",IF(OR('ORDER FRAMES'!G31=\"L\",'ORDER FRAMES'!G31=\"R\"),\"\",'ORDER FRAMES'!E31))","v":""},{"$f":"IF('ORDER FRAMES'!F31=\"\",\"\",IF(OR('ORDER FRAMES'!G31=\"L\",'ORDER FRAMES'!G31=\"R\"),\"\",'ORDER FRAMES'!F31))","v":""},{"$f":"IF('ORDER FRAMES'!G31=\"\",\"\",IF(OR('ORDER FRAMES'!G31=\"L\",'ORDER FRAMES'!G31=\"R\"),\"\",'ORDER FRAMES'!G31))","v":""},{"$f":"IF('ORDER FRAMES'!H31=\"\",\"\",IF(OR('ORDER FRAMES'!G31=\"L\",'ORDER FRAMES'!G31=\"R\"),\"\",'ORDER FRAMES'!H31))","v":""},{"$f":"IF('ORDER FRAMES'!I31=\"\",\"\",IF(OR('ORDER FRAMES'!G31=\"L\",'ORDER FRAMES'!G31=\"R\"),\"\",'ORDER FRAMES'!I31))","v":""},{"$f":"IF('ORDER FRAMES'!J31=\"\",\"\",IF(OR('ORDER FRAMES'!G31=\"L\",'ORDER FRAMES'!G31=\"R\"),\"\",'ORDER FRAMES'!J31))","v":""},{"$f":"IF('ORDER FRAMES'!K31=\"\",\"\",IF(OR('ORDER FRAMES'!G31=\"L\",'ORDER FRAMES'!G31=\"R\"),\"\",'ORDER FRAMES'!K31))","v":""},{"$f":"IF('ORDER FRAMES'!L31=\"\",\"\",IF(OR('ORDER FRAMES'!G31=\"L\",'ORDER FRAMES'!G31=\"R\"),\"\",'ORDER FRAMES'!L31))","v":""},{"$f":"IF('ORDER FRAMES'!M31=\"\",\"\",IF(OR('ORDER FRAMES'!G31=\"L\",'ORDER FRAMES'!G31=\"R\"),\"\",'ORDER FRAMES'!M31))","v":""},null,null,null,{"$f":"IF(C16=\"\",\"\",IF(OR('ORDER FRAMES'!G31=\"L\",'ORDER FRAMES'!G31=\"R\"),\"\",'ORDER FRAMES'!N31))","v":""},{"$f":"IF(C16=\"\",\"\",IF(OR('ORDER FRAMES'!G31=\"L\",'ORDER FRAMES'!G31=\"R\"),\"\",'ORDER FRAMES'!O31))","v":""},null,"",null,null,"","","",{"$f":"IF('ORDER FRAMES'!Q31=\"\",\"\",IF(OR('ORDER FRAMES'!G31=\"L\",'ORDER FRAMES'!G31=\"R\"),\"\",'ORDER FRAMES'!Q31))","v":""},{"$f":"IF('ORDER FRAMES'!S31=\"\",\"\",IF(OR('ORDER FRAMES'!G31=\"L\",'ORDER FRAMES'!G31=\"R\"),\"\",'ORDER FRAMES'!S31))","v":""},{"$f":"IF('ORDER FRAMES'!T31=\"\",\"\",IF(OR('ORDER FRAMES'!G31=\"L\",'ORDER FRAMES'!G31=\"R\"),\"\",'ORDER FRAMES'!T31))","v":""},{"$f":"IF('ORDER FRAMES'!U31=\"\",\"\",IF(OR('ORDER FRAMES'!G31=\"L\",'ORDER FRAMES'!G31=\"R\"),\"\",'ORDER FRAMES'!U31))","v":""},{"$f":"IF(C16=\"\",\"\",'ORDER FRAMES'!V31)","v":""},null,null,null,null,"",null,null,null,"","",""]
[32,{"$f":"IF('ORDER FRAMES'!A32=\"\",\"\",IF(OR('ORDER FRAMES'!G32=\"L\",'ORDER FRAMES'!G32=\"R\"),\"\",'ORDER FRAMES'!A32))","v":""},{"$f":"IF('ORDER FRAMES'!B32=\"\",\"\",IF(OR('ORDER FRAMES'!G32=\"L\",'ORDER FRAMES'!G32=\"R\"),\"\",'ORDER FRAMES'!B32))","v":""},{"$f":"IF('ORDER FRAMES'!C32=\"\",\"\",IF(OR('ORDER FRAMES'!G32=\"L\",'ORDER FRAMES'!G32=\"R\"),\"\",'ORDER FRAMES'!C32))","v":""},null,{"$f":"IF('ORDER FRAMES'!E32=\"\",\"\",IF(OR('ORDER FRAMES'!G32=\"L\",'ORDER FRAMES'!G32=\"R\"),\"\",'ORDER FRAMES'!E32))","v":""},{"$f":"IF('ORDER FRAMES'!F32=\"\",\"\",IF(OR('ORDER FRAMES'!G32=\"L\",'ORDER FRAMES'!G32=\"R\"),\"\",'ORDER FRAMES'!F32))","v":""},{"$f":"IF('ORDER FRAMES'!G32=\"\",\"\",IF(OR('ORDER FRAMES'!G32=\"L\",'ORDER FRAMES'!G32=\"R\"),\"\",'ORDER FRAMES'!G32))","v":""},{"$f":"IF('ORDER FRAMES'!H32=\"\",\"\",IF(OR('ORDER FRAMES'!G32=\"L\",'ORDER FRAMES'!G32=\"R\"),\"\",'ORDER FRAMES'!H32))","v":""},{"$f":"IF('ORDER FRAMES'!I32=\"\",\"\",IF(OR('ORDER FRAMES'!G32=\"L\",'ORDER FRAMES'!G32=\"R\"),\"\",'ORDER FRAMES'!I32))","v":""},{"$f":"IF('ORDER FRAMES'!J32=\"\",\"\",IF(OR('ORDER FRAMES'!G32=\"L\",'ORDER FRAMES'!G32=\"R\"),\"\",'ORDER FRAMES'!J32))","v":""},{"$f":"IF('ORDER FRAMES'!K32=\"\",\"\",IF(OR('ORDER FRAMES'!G32=\"L\",'ORDER FRAMES'!G32=\"R\"),\"\",'ORDER FRAMES'!K32))","v":""},{"$f":"IF('ORDER FRAMES'!L32=\"\",\"\",IF(OR('ORDER FRAMES'!G32=\"L\",'ORDER FRAMES'!G32=\"R\"),\"\",'ORDER FRAMES'!L32))","v":""},{"$f":"IF('ORDER FRAMES'!M32=\"\",\"\",IF(OR('ORDER FRAMES'!G32=\"L\",'ORDER FRAMES'!G32=\"R\"),\"\",'ORDER FRAMES'!M32))","v":""},null,null,null,{"$f":"IF(C17=\"\",\"\",IF(OR('ORDER FRAMES'!G32=\"L\",'ORDER FRAMES'!G32=\"R\"),\"\",'ORDER FRAMES'!N32))","v":""},{"$f":"IF(C17=\"\",\"\",IF(OR('ORDER FRAMES'!G32=\"L\",'ORDER FRAMES'!G32=\"R\"),\"\",'ORDER FRAMES'!O32))","v":""},null,"",null,null,"","","",{"$f":"IF('ORDER FRAMES'!Q32=\"\",\"\",IF(OR('ORDER FRAMES'!G32=\"L\",'ORDER FRAMES'!G32=\"R\"),\"\",'ORDER FRAMES'!Q32))","v":""},{"$f":"IF('ORDER FRAMES'!S32=\"\",\"\",IF(OR('ORDER FRAMES'!G32=\"L\",'ORDER FRAMES'!G32=\"R\"),\"\",'ORDER FRAMES'!S32))","v":""},{"$f":"IF('ORDER FRAMES'!T32=\"\",\"\",IF(OR('ORDER FRAMES'!G32=\"L\",'ORDER FRAMES'!G32=\"R\"),\"\",'ORDER FRAMES'!T32))","v":""},{"$f":"IF('ORDER FRAMES'!U32=\"\",\"\",IF(OR('ORDER FRAMES'!G32=\"L\",'ORDER FRAMES'!G32=\"R\"),\"\",'ORDER FRAMES'!U32))","v":""},{"$f":"IF(C17=\"\",\"\",'ORDER FRAMES'!V32)","v":""},null,null,null,null,"",null,null,null,"","",""]
[33,{"$f":"IF('ORDER FRAMES'!A33=\"\",\"\",IF(OR('ORDER FRAMES'!G33=\"L\",'ORDER FRAMES'!G33=\"R\"),\"\",'ORDER FRAMES'!A33))","v":""},{"$f":"IF('ORDER FRAMES'!B33=\"\",\"\",IF(OR('ORDER FRAMES'!G33=\"L\",'ORDER FRAMES'!G33=\"R\"),\"\",'ORDER FRAMES'!B33))","v":""},{"$f":"IF('ORDER FRAMES'!C33=\"\",\"\",IF(OR('ORDER FRAMES'!G33=\"L\",'ORDER FRAMES'!G33=\"R\"),\"\",'ORDER FRAMES'!C33))","v":""},null,{"$f":"IF('ORDER FRAMES'!E33=\"\",\"\",IF(OR('ORDER FRAMES'!G33=\"L\",'ORDER FRAMES'!G33=\"R\"),\"\",'ORDER FRAMES'!E33))","v":""},{"$f":"IF('ORDER FRAMES'!F33=\"\",\"\",IF(OR('ORDER FRAMES'!G33=\"L\",'ORDER FRAMES'!G33=\"R\"),\"\",'ORDER FRAMES'!F33))","v":""},{"$f":"IF('ORDER FRAMES'!G33=\"\",\"\",IF(OR('ORDER FRAMES'!G33=\"L\",'ORDER FRAMES'!G33=\"R\"),\"\",'ORDER FRAMES'!G33))","v":""},{"$f":"IF('ORDER FRAMES'!H33=\"\",\"\",IF(OR('ORDER FRAMES'!G33=\"L\",'ORDER FRAMES'!G33=\"R\"),\"\",'ORDER FRAMES'!H33))","v":""},{"$f":"IF('ORDER FRAMES'!I33=\"\",\"\",IF(OR('ORDER FRAMES'!G33=\"L\",'ORDER FRAMES'!G33=\"R\"),\"\",'ORDER FRAMES'!I33))","v":""},{"$f":"IF('ORDER FRAMES'!J33=\"\",\"\",IF(OR('ORDER FRAMES'!G33=\"L\",'ORDER FRAMES'!G33=\"R\"),\"\",'ORDER FRAMES'!J33))","v":""},{"$f":"IF('ORDER FRAMES'!K33=\"\",\"\",IF(OR('ORDER FRAMES'!G33=\"L\",'ORDER FRAMES'!G33=\"R\"),\"\",'ORDER FRAMES'!K33))","v":""},{"$f":"IF('ORDER FRAMES'!L33=\"\",\"\",IF(OR('ORDER FRAMES'!G33=\"L\",'ORDER FRAMES'!G33=\"R\"),\"\",'ORDER FRAMES'!L33))","v":""},{"$f":"IF('ORDER FRAMES'!M33=\"\",\"\",IF(OR('ORDER FRAMES'!G33=\"L\",'ORDER FRAMES'!G33=\"R\"),\"\",'ORDER FRAMES'!M33))","v":""},null,null,null,{"$f":"IF(C18=\"\",\"\",IF(OR('ORDER FRAMES'!G33=\"L\",'ORDER FRAMES'!G33=\"R\"),\"\",'ORDER FRAMES'!N33))","v":""},{"$f":"IF(C18=\"\",\"\",IF(OR('ORDER FRAMES'!G33=\"L\",'ORDER FRAMES'!G33=\"R\"),\"\",'ORDER FRAMES'!O33))","v":""},null,"",null,null,"","","",{"$f":"IF('ORDER FRAMES'!Q33=\"\",\"\",IF(OR('ORDER FRAMES'!G33=\"L\",'ORDER FRAMES'!G33=\"R\"),\"\",'ORDER FRAMES'!Q33))","v":""},{"$f":"IF('ORDER FRAMES'!S33=\"\",\"\",IF(OR('ORDER FRAMES'!G33=\"L\",'ORDER FRAMES'!G33=\"R\"),\"\",'ORDER FRAMES'!S33))","v":""},{"$f":"IF('ORDER FRAMES'!T33=\"\",\"\",IF(OR('ORDER FRAMES'!G33=\"L\",'ORDER FRAMES'!G33=\"R\"),\"\",'ORDER FRAMES'!T33))","v":""},{"$f":"IF('ORDER FRAMES'!U33=\"\",\"\",IF(OR('ORDER FRAMES'!G33=\"L\",'ORDER FRAMES'!G33=\"R\"),\"\",'ORDER FRAMES'!U33))","v":""},{"$f":"IF(C18=\"\",\"\",'ORDER FRAMES'!V33)","v":""},null,null,null,null,"",null,null,null,"","",""]
[34,{"$f":"IF('ORDER FRAMES'!A34=\"\",\"\",IF(OR('ORDER FRAMES'!G34=\"L\",'ORDER FRAMES'!G34=\"R\"),\"\",'ORDER FRAMES'!A34))","v":""},{"$f":"IF('ORDER FRAMES'!B34=\"\",\"\",IF(OR('ORDER FRAMES'!G34=\"L\",'ORDER FRAMES'!G34=\"R\"),\"\",'ORDER FRAMES'!B34))","v":""},{"$f":"IF('ORDER FRAMES'!C34=\"\",\"\",IF(OR('ORDER FRAMES'!G34=\"L\",'ORDER FRAMES'!G34=\"R\"),\"\",'ORDER FRAMES'!C34))","v":""},null,{"$f":"IF('ORDER FRAMES'!E34=\"\",\"\",IF(OR('ORDER FRAMES'!G34=\"L\",'ORDER FRAMES'!G34=\"R\"),\"\",'ORDER FRAMES'!E34))","v":""},{"$f":"IF('ORDER FRAMES'!F34=\"\",\"\",IF(OR('ORDER FRAMES'!G34=\"L\",'ORDER FRAMES'!G34=\"R\"),\"\",'ORDER FRAMES'!F34))","v":""},{"$f":"IF('ORDER FRAMES'!G34=\"\",\"\",IF(OR('ORDER FRAMES'!G34=\"L\",'ORDER FRAMES'!G34=\"R\"),\"\",'ORDER FRAMES'!G34))","v":""},{"$f":"IF('ORDER FRAMES'!H34=\"\",\"\",IF(OR('ORDER FRAMES'!G34=\"L\",'ORDER FRAMES'!G34=\"R\"),\"\",'ORDER FRAMES'!H34))","v":""},{"$f":"IF('ORDER FRAMES'!I34=\"\",\"\",IF(OR('ORDER FRAMES'!G34=\"L\",'ORDER FRAMES'!G34=\"R\"),\"\",'ORDER FRAMES'!I34))","v":""},{"$f":"IF('ORDER FRAMES'!J34=\"\",\"\",IF(OR('ORDER FRAMES'!G34=\"L\",'ORDER FRAMES'!G34=\"R\"),\"\",'ORDER FRAMES'!J34))","v":""},{"$f":"IF('ORDER FRAMES'!K34=\"\",\"\",IF(OR('ORDER FRAMES'!G34=\"L\",'ORDER FRAMES'!G34=\"R\"),\"\",'ORDER FRAMES'!K34))","v":""},{"$f":"IF('ORDER FRAMES'!L34=\"\",\"\",IF(OR('ORDER FRAMES'!G34=\"L\",'ORDER FRAMES'!G34=\"R\"),\"\",'ORDER FRAMES'!L34))","v":""},{"$f":"IF('ORDER FRAMES'!M34=\"\",\"\",IF(OR('ORDER FRAMES'!G34=\"L\",'ORDER FRAMES'!G34=\"R\"),\"\",'ORDER FRAMES'!M34))","v":""},null,null,null,{"$f":"IF(C19=\"\",\"\",IF(OR('ORDER FRAMES'!G34=\"L\",'ORDER FRAMES'!G34=\"R\"),\"\",'ORDER FRAMES'!N34))","v":""},{"$f":"IF(C19=\"\",\"\",IF(OR('ORDER FRAMES'!G34=\"L\",'ORDER FRAMES'!G34=\"R\"),\"\",'ORDER FRAMES'!O34))","v":""},null,"",null,null,"","","",{"$f":"IF('ORDER FRAMES'!Q34=\"\",\"\",IF(OR('ORDER FRAMES'!G34=\"L\",'ORDER FRAMES'!G34=\"R\"),\"\",'ORDER FRAMES'!Q34))","v":""},{"$f":"IF('ORDER FRAMES'!S34=\"\",\"\",IF(OR('ORDER FRAMES'!G34=\"L\",'ORDER FRAMES'!G34=\"R\"),\"\",'ORDER FRAMES'!S34))","v":""},{"$f":"IF('ORDER FRAMES'!T34=\"\",\"\",IF(OR('ORDER FRAMES'!G34=\"L\",'ORDER FRAMES'!G34=\"R\"),\"\",'ORDER FRAMES'!T34))","v":""},{"$f":"IF('ORDER FRAMES'!U34=\"\",\"\",IF(OR('ORDER FRAMES'!G34=\"L\",'ORDER FRAMES'!G34=\"R\"),\"\",'ORDER FRAMES'!U34))","v":""},{"$f":"IF(C19=\"\",\"\",'ORDER FRAMES'!V34)","v":""},null,null,null,null,"",null,null,null,"","",""]
[35,{"$f":"IF('ORDER FRAMES'!A35=\"\",\"\",IF(OR('ORDER FRAMES'!G35=\"L\",'ORDER FRAMES'!G35=\"R\"),\"\",'ORDER FRAMES'!A35))","v":""},{"$f":"IF('ORDER FRAMES'!B35=\"\",\"\",IF(OR('ORDER FRAMES'!G35=\"L\",'ORDER FRAMES'!G35=\"R\"),\"\",'ORDER FRAMES'!B35))","v":""},{"$f":"IF('ORDER FRAMES'!C35=\"\",\"\",IF(OR('ORDER FRAMES'!G35=\"L\",'ORDER FRAMES'!G35=\"R\"),\"\",'ORDER FRAMES'!C35))","v":""},null,{"$f":"IF('ORDER FRAMES'!E35=\"\",\"\",IF(OR('ORDER FRAMES'!G35=\"L\",'ORDER FRAMES'!G35=\"R\"),\"\",'ORDER FRAMES'!E35))","v":""},{"$f":"IF('ORDER FRAMES'!F35=\"\",\"\",IF(OR('ORDER FRAMES'!G35=\"L\",'ORDER FRAMES'!G35=\"R\"),\"\",'ORDER FRAMES'!F35))","v":""},{"$f":"IF('ORDER FRAMES'!G35=\"\",\"\",IF(OR('ORDER FRAMES'!G35=\"L\",'ORDER FRAMES'!G35=\"R\"),\"\",'ORDER FRAMES'!G35))","v":""},{"$f":"IF('ORDER FRAMES'!H35=\"\",\"\",IF(OR('ORDER FRAMES'!G35=\"L\",'ORDER FRAMES'!G35=\"R\"),\"\",'ORDER FRAMES'!H35))","v":""},{"$f":"IF('ORDER FRAMES'!I35=\"\",\"\",IF(OR('ORDER FRAMES'!G35=\"L\",'ORDER FRAMES'!G35=\"R\"),\"\",'ORDER FRAMES'!I35))","v":""},{"$f":"IF('ORDER FRAMES'!J35=\"\",\"\",IF(OR('ORDER FRAMES'!G35=\"L\",'ORDER FRAMES'!G35=\"R\"),\"\",'ORDER FRAMES'!J35))","v":""},{"$f":"IF('ORDER FRAMES'!K35=\"\",\"\",IF(OR('ORDER FRAMES'!G35=\"L\",'ORDER FRAMES'!G35=\"R\"),\"\",'ORDER FRAMES'!K35))","v":""},{"$f":"IF('ORDER FRAMES'!L35=\"\",\"\",IF(OR('ORDER FRAMES'!G35=\"L\",'ORDER FRAMES'!G35=\"R\"),\"\",'ORDER FRAMES'!L35))","v":""},{"$f":"IF('ORDER FRAMES'!M35=\"\",\"\",IF(OR('ORDER FRAMES'!G35=\"L\",'ORDER FRAMES'!G35=\"R\"),\"\",'ORDER FRAMES'!M35))","v":""},null,null,null,{"$f":"IF(C20=\"\",\"\",IF(OR('ORDER FRAMES'!G35=\"L\",'ORDER FRAMES'!G35=\"R\"),\"\",'ORDER FRAMES'!N35))","v":""},{"$f":"IF(C20=\"\",\"\",IF(OR('ORDER FRAMES'!G35=\"L\",'ORDER FRAMES'!G35=\"R\"),\"\",'ORDER FRAMES'!O35))","v":""},null,"",null,null,"","","",{"$f":"IF('ORDER FRAMES'!Q35=\"\",\"\",IF(OR('ORDER FRAMES'!G35=\"L\",'ORDER FRAMES'!G35=\"R\"),\"\",'ORDER FRAMES'!Q35))","v":""},{"$f":"IF('ORDER FRAMES'!S35=\"\",\"\",IF(OR('ORDER FRAMES'!G35=\"L\",'ORDER FRAMES'!G35=\"R\"),\"\",'ORDER FRAMES'!S35))","v":""},{"$f":"IF('ORDER FRAMES'!T35=\"\",\"\",IF(OR('ORDER FRAMES'!G35=\"L\",'ORDER FRAMES'!G35=\"R\"),\"\",'ORDER FRAMES'!T35))","v":""},{"$f":"IF('ORDER FRAMES'!U35=\"\",\"\",IF(OR('ORDER FRAMES'!G35=\"L\",'ORDER FRAMES'!G35=\"R\"),\"\",'ORDER FRAMES'!U35))","v":""},{"$f":"IF(C20=\"\",\"\",'ORDER FRAMES'!V35)","v":""},null,null,null,null,"",null,null,null,"","",""]
[36,{"$f":"IF('ORDER FRAMES'!A36=\"\",\"\",IF(OR('ORDER FRAMES'!G36=\"L\",'ORDER FRAMES'!G36=\"R\"),\"\",'ORDER FRAMES'!A36))","v":""},{"$f":"IF('ORDER FRAMES'!B36=\"\",\"\",IF(OR('ORDER FRAMES'!G36=\"L\",'ORDER FRAMES'!G36=\"R\"),\"\",'ORDER FRAMES'!B36))","v":""},{"$f":"IF('ORDER FRAMES'!C36=\"\",\"\",IF(OR('ORDER FRAMES'!G36=\"L\",'ORDER FRAMES'!G36=\"R\"),\"\",'ORDER FRAMES'!C36))","v":""},null,{"$f":"IF('ORDER FRAMES'!E36=\"\",\"\",IF(OR('ORDER FRAMES'!G36=\"L\",'ORDER FRAMES'!G36=\"R\"),\"\",'ORDER FRAMES'!E36))","v":""},{"$f":"IF('ORDER FRAMES'!F36=\"\",\"\",IF(OR('ORDER FRAMES'!G36=\"L\",'ORDER FRAMES'!G36=\"R\"),\"\",'ORDER FRAMES'!F36))","v":""},{"$f":"IF('ORDER FRAMES'!G36=\"\",\"\",IF(OR('ORDER FRAMES'!G36=\"L\",'ORDER FRAMES'!G36=\"R\"),\"\",'ORDER FRAMES'!G36))","v":""},{"$f":"IF('ORDER FRAMES'!H36=\"\",\"\",IF(OR('ORDER FRAMES'!G36=\"L\",'ORDER FRAMES'!G36=\"R\"),\"\",'ORDER FRAMES'!H36))","v":""},{"$f":"IF('ORDER FRAMES'!I36=\"\",\"\",IF(OR('ORDER FRAMES'!G36=\"L\",'ORDER FRAMES'!G36=\"R\"),\"\",'ORDER FRAMES'!I36))","v":""},{"$f":"IF('ORDER FRAMES'!J36=\"\",\"\",IF(OR('ORDER FRAMES'!G36=\"L\",'ORDER FRAMES'!G36=\"R\"),\"\",'ORDER FRAMES'!J36))","v":""},{"$f":"IF('ORDER FRAMES'!K36=\"\",\"\",IF(OR('ORDER FRAMES'!G36=\"L\",'ORDER FRAMES'!G36=\"R\"),\"\",'ORDER FRAMES'!K36))","v":""},{"$f":"IF('ORDER FRAMES'!L36=\"\",\"\",IF(OR('ORDER FRAMES'!G36=\"L\",'ORDER FRAMES'!G36=\"R\"),\"\",'ORDER FRAMES'!L36))","v":""},{"$f":"IF('ORDER FRAMES'!M36=\"\",\"\",IF(OR('ORDER FRAMES'!G36=\"L\",'ORDER FRAMES'!G36=\"R\"),\"\",'ORDER FRAMES'!M36))","v":""},null,null,null,{"$f":"IF(C21=\"\",\"\",IF(OR('ORDER FRAMES'!G36=\"L\",'ORDER FRAMES'!G36=\"R\"),\"\",'ORDER FRAMES'!N36))","v":""},{"$f":"IF(C21=\"\",\"\",IF(OR('ORDER FRAMES'!G36=\"L\",'ORDER FRAMES'!G36=\"R\"),\"\",'ORDER FRAMES'!O36))","v":""},null,"",null,null,"","","",{"$f":"IF('ORDER FRAMES'!Q36=\"\",\"\",IF(OR('ORDER FRAMES'!G36=\"L\",'ORDER FRAMES'!G36=\"R\"),\"\",'ORDER FRAMES'!Q36))","v":""},{"$f":"IF('ORDER FRAMES'!S36=\"\",\"\",IF(OR('ORDER FRAMES'!G36=\"L\",'ORDER FRAMES'!G36=\"R\"),\"\",'ORDER FRAMES'!S36))","v":""},{"$f":"IF('ORDER FRAMES'!T36=\"\",\"\",IF(OR('ORDER FRAMES'!G36=\"L\",'ORDER FRAMES'!G36=\"R\"),\"\",'ORDER FRAMES'!T36))","v":""},{"$f":"IF('ORDER FRAMES'!U36=\"\",\"\",IF(OR('ORDER FRAMES'!G36=\"L\",'ORDER FRAMES'!G36=\"R\"),\"\",'ORDER FRAMES'!U36))","v":""},{"$f":"IF(C21=\"\",\"\",'ORDER FRAMES'!V36)","v":""},null,null,null,null,"",null,null,null,"","",""]
[37,{"$f":"IF('ORDER FRAMES'!A37=\"\",\"\",IF(OR('ORDER FRAMES'!#REF!=\"L\",'ORDER FRAMES'!#REF!=\"R\"),\"\",'ORDER FRAMES'!A37))","v":""},{"$f":"IF('ORDER FRAMES'!B37=\"\",\"\",IF(OR('ORDER FRAMES'!G37=\"L\",'ORDER FRAMES'!G37=\"R\"),\"\",'ORDER FRAMES'!B37))","v":""},{"$f":"IF('ORDER FRAMES'!C37=\"\",\"\",IF(OR('ORDER FRAMES'!G37=\"L\",'ORDER FRAMES'!G37=\"R\"),\"\",'ORDER FRAMES'!C37))","v":""},null,{"$f":"IF('ORDER FRAMES'!E37=\"\",\"\",IF(OR('ORDER FRAMES'!G37=\"L\",'ORDER FRAMES'!G37=\"R\"),\"\",'ORDER FRAMES'!E37))","v":""},{"$f":"IF('ORDER FRAMES'!F37=\"\",\"\",IF(OR('ORDER FRAMES'!G37=\"L\",'ORDER FRAMES'!G37=\"R\"),\"\",'ORDER FRAMES'!F37))","v":""},{"$f":"IF('ORDER FRAMES'!G37=\"\",\"\",IF(OR('ORDER FRAMES'!G37=\"L\",'ORDER FRAMES'!G37=\"R\"),\"\",'ORDER FRAMES'!G37))","v":""},{"$f":"IF('ORDER FRAMES'!H37=\"\",\"\",IF(OR('ORDER FRAMES'!G37=\"L\",'ORDER FRAMES'!G37=\"R\"),\"\",'ORDER FRAMES'!H37))","v":""},{"$f":"IF('ORDER FRAMES'!I37=\"\",\"\",IF(OR('ORDER FRAMES'!G37=\"L\",'ORDER FRAMES'!G37=\"R\"),\"\",'ORDER FRAMES'!I37))","v":""},{"$f":"IF('ORDER FRAMES'!J37=\"\",\"\",IF(OR('ORDER FRAMES'!G37=\"L\",'ORDER FRAMES'!G37=\"R\"),\"\",'ORDER FRAMES'!J37))","v":""},{"$f":"IF('ORDER FRAMES'!K37=\"\",\"\",IF(OR('ORDER FRAMES'!G37=\"L\",'ORDER FRAMES'!G37=\"R\"),\"\",'ORDER FRAMES'!K37))","v":""},{"$f":"IF('ORDER FRAMES'!L37=\"\",\"\",IF(OR('ORDER FRAMES'!G37=\"L\",'ORDER FRAMES'!G37=\"R\"),\"\",'ORDER FRAMES'!L37))","v":""},{"$f":"IF('ORDER FRAMES'!M37=\"\",\"\",IF(OR('ORDER FRAMES'!G37=\"L\",'ORDER FRAMES'!G37=\"R\"),\"\",'ORDER FRAMES'!M37))","v":""},null,null,null,{"$f":"IF(C22=\"\",\"\",IF(OR('ORDER FRAMES'!G37=\"L\",'ORDER FRAMES'!G37=\"R\"),\"\",'ORDER FRAMES'!N37))","v":""},{"$f":"IF(C22=\"\",\"\",IF(OR('ORDER FRAMES'!G37=\"L\",'ORDER FRAMES'!G37=\"R\"),\"\",'ORDER FRAMES'!O37))","v":""},null,"",null,null,"","","",{"$f":"IF('ORDER FRAMES'!Q37=\"\",\"\",IF(OR('ORDER FRAMES'!G37=\"L\",'ORDER FRAMES'!G37=\"R\"),\"\",'ORDER FRAMES'!Q37))","v":""},{"$f":"IF('ORDER FRAMES'!S37=\"\",\"\",IF(OR('ORDER FRAMES'!G37=\"L\",'ORDER FRAMES'!G37=\"R\"),\"\",'ORDER FRAMES'!S37))","v":""},{"$f":"IF('ORDER FRAMES'!T37=\"\",\"\",IF(OR('ORDER FRAMES'!G37=\"L\",'ORDER FRAMES'!G37=\"R\"),\"\",'ORDER FRAMES'!T37))","v":""},{"$f":"IF('ORDER FRAMES'!U37=\"\",\"\",IF(OR('ORDER FRAMES'!G37=\"L\",'ORDER FRAMES'!G37=\"R\"),\"\",'ORDER FRAMES'!U37))","v":""},{"$f":"IF(C22=\"\",\"\",'ORDER FRAMES'!V37)","v":""},null,null,null,null,"",null,null,null,"","",""]
[38,{"$f":"IF('ORDER FRAMES'!A38=\"\",\"\",IF(OR('ORDER FRAMES'!G37=\"L\",'ORDER FRAMES'!G37=\"R\"),\"\",'ORDER FRAMES'!A38))","v":""},{"$f":"IF('ORDER FRAMES'!B38=\"\",\"\",IF(OR('ORDER FRAMES'!G38=\"L\",'ORDER FRAMES'!G38=\"R\"),\"\",'ORDER FRAMES'!B38))","v":""},{"$f":"IF('ORDER FRAMES'!C38=\"\",\"\",IF(OR('ORDER FRAMES'!G38=\"L\",'ORDER FRAMES'!G38=\"R\"),\"\",'ORDER FRAMES'!C38))","v":""},null,{"$f":"IF('ORDER FRAMES'!E38=\"\",\"\",IF(OR('ORDER FRAMES'!G38=\"L\",'ORDER FRAMES'!G38=\"R\"),\"\",'ORDER FRAMES'!E38))","v":""},{"$f":"IF('ORDER FRAMES'!F38=\"\",\"\",IF(OR('ORDER FRAMES'!G38=\"L\",'ORDER FRAMES'!G38=\"R\"),\"\",'ORDER FRAMES'!F38))","v":""},{"$f":"IF('ORDER FRAMES'!G38=\"\",\"\",IF(OR('ORDER FRAMES'!G38=\"L\",'ORDER FRAMES'!G38=\"R\"),\"\",'ORDER FRAMES'!G38))","v":""},{"$f":"IF('ORDER FRAMES'!H38=\"\",\"\",IF(OR('ORDER FRAMES'!G38=\"L\",'ORDER FRAMES'!G38=\"R\"),\"\",'ORDER FRAMES'!H38))","v":""},{"$f":"IF('ORDER FRAMES'!I38=\"\",\"\",IF(OR('ORDER FRAMES'!G38=\"L\",'ORDER FRAMES'!G38=\"R\"),\"\",'ORDER FRAMES'!I38))","v":""},{"$f":"IF('ORDER FRAMES'!J38=\"\",\"\",IF(OR('ORDER FRAMES'!G38=\"L\",'ORDER FRAMES'!G38=\"R\"),\"\",'ORDER FRAMES'!J38))","v":""},{"$f":"IF('ORDER FRAMES'!K38=\"\",\"\",IF(OR('ORDER FRAMES'!G38=\"L\",'ORDER FRAMES'!G38=\"R\"),\"\",'ORDER FRAMES'!K38))","v":""},{"$f":"IF('ORDER FRAMES'!L38=\"\",\"\",IF(OR('ORDER FRAMES'!G38=\"L\",'ORDER FRAMES'!G38=\"R\"),\"\",'ORDER FRAMES'!L38))","v":""},{"$f":"IF('ORDER FRAMES'!M38=\"\",\"\",IF(OR('ORDER FRAMES'!G38=\"L\",'ORDER FRAMES'!G38=\"R\"),\"\",'ORDER FRAMES'!M38))","v":""},null,null,null,{"$f":"IF(C23=\"\",\"\",IF(OR('ORDER FRAMES'!G38=\"L\",'ORDER FRAMES'!G38=\"R\"),\"\",'ORDER FRAMES'!N38))","v":""},{"$f":"IF(C23=\"\",\"\",IF(OR('ORDER FRAMES'!G38=\"L\",'ORDER FRAMES'!G38=\"R\"),\"\",'ORDER FRAMES'!O38))","v":""},null,"",null,null,"","","",{"$f":"IF('ORDER FRAMES'!Q38=\"\",\"\",IF(OR('ORDER FRAMES'!G38=\"L\",'ORDER FRAMES'!G38=\"R\"),\"\",'ORDER FRAMES'!Q38))","v":""},{"$f":"IF('ORDER FRAMES'!S38=\"\",\"\",IF(OR('ORDER FRAMES'!G38=\"L\",'ORDER FRAMES'!G38=\"R\"),\"\",'ORDER FRAMES'!S38))","v":""},{"$f":"IF('ORDER FRAMES'!T38=\"\",\"\",IF(OR('ORDER FRAMES'!G38=\"L\",'ORDER FRAMES'!G38=\"R\"),\"\",'ORDER FRAMES'!T38))","v":""},{"$f":"IF('ORDER FRAMES'!U38=\"\",\"\",IF(OR('ORDER FRAMES'!G38=\"L\",'ORDER FRAMES'!G38=\"R\"),\"\",'ORDER FRAMES'!U38))","v":""},{"$f":"IF(C23=\"\",\"\",'ORDER FRAMES'!V38)","v":""},null,null,null,null,"",null,null,null,"","",""]
[39,{"$f":"IF('ORDER FRAMES'!A39=\"\",\"\",IF(OR('ORDER FRAMES'!G38=\"L\",'ORDER FRAMES'!G38=\"R\"),\"\",'ORDER FRAMES'!A39))","v":""},{"$f":"IF('ORDER FRAMES'!B39=\"\",\"\",IF(OR('ORDER FRAMES'!G39=\"L\",'ORDER FRAMES'!G39=\"R\"),\"\",'ORDER FRAMES'!B39))","v":""},{"$f":"IF('ORDER FRAMES'!C39=\"\",\"\",IF(OR('ORDER FRAMES'!G39=\"L\",'ORDER FRAMES'!G39=\"R\"),\"\",'ORDER FRAMES'!C39))","v":""},null,{"$f":"IF('ORDER FRAMES'!E39=\"\",\"\",IF(OR('ORDER FRAMES'!G39=\"L\",'ORDER FRAMES'!G39=\"R\"),\"\",'ORDER FRAMES'!E39))","v":""},{"$f":"IF('ORDER FRAMES'!F39=\"\",\"\",IF(OR('ORDER FRAMES'!G39=\"L\",'ORDER FRAMES'!G39=\"R\"),\"\",'ORDER FRAMES'!F39))","v":""},{"$f":"IF('ORDER FRAMES'!G39=\"\",\"\",IF(OR('ORDER FRAMES'!G39=\"L\",'ORDER FRAMES'!G39=\"R\"),\"\",'ORDER FRAMES'!G39))","v":""},{"$f":"IF('ORDER FRAMES'!H39=\"\",\"\",IF(OR('ORDER FRAMES'!G39=\"L\",'ORDER FRAMES'!G39=\"R\"),\"\",'ORDER FRAMES'!H39))","v":""},{"$f":"IF('ORDER FRAMES'!I39=\"\",\"\",IF(OR('ORDER FRAMES'!G39=\"L\",'ORDER FRAMES'!G39=\"R\"),\"\",'ORDER FRAMES'!I39))","v":""},{"$f":"IF('ORDER FRAMES'!J39=\"\",\"\",IF(OR('ORDER FRAMES'!G39=\"L\",'ORDER FRAMES'!G39=\"R\"),\"\",'ORDER FRAMES'!J39))","v":""},{"$f":"IF('ORDER FRAMES'!K39=\"\",\"\",IF(OR('ORDER FRAMES'!G39=\"L\",'ORDER FRAMES'!G39=\"R\"),\"\",'ORDER FRAMES'!K39))","v":""},{"$f":"IF('ORDER FRAMES'!L39=\"\",\"\",IF(OR('ORDER FRAMES'!G39=\"L\",'ORDER FRAMES'!G39=\"R\"),\"\",'ORDER FRAMES'!L39))","v":""},{"$f":"IF('ORDER FRAMES'!M39=\"\",\"\",IF(OR('ORDER FRAMES'!G39=\"L\",'ORDER FRAMES'!G39=\"R\"),\"\",'ORDER FRAMES'!M39))","v":""},null,null,null,{"$f":"IF(C24=\"\",\"\",IF(OR('ORDER FRAMES'!G39=\"L\",'ORDER FRAMES'!G39=\"R\"),\"\",'ORDER FRAMES'!N39))","v":""},{"$f":"IF(C24=\"\",\"\",IF(OR('ORDER FRAMES'!G39=\"L\",'ORDER FRAMES'!G39=\"R\"),\"\",'ORDER FRAMES'!O39))","v":""},null,"",null,null,"","","",{"$f":"IF('ORDER FRAMES'!Q39=\"\",\"\",IF(OR('ORDER FRAMES'!G39=\"L\",'ORDER FRAMES'!G39=\"R\"),\"\",'ORDER FRAMES'!Q39))","v":""},{"$f":"IF('ORDER FRAMES'!S39=\"\",\"\",IF(OR('ORDER FRAMES'!G39=\"L\",'ORDER FRAMES'!G39=\"R\"),\"\",'ORDER FRAMES'!S39))","v":""},{"$f":"IF('ORDER FRAMES'!T39=\"\",\"\",IF(OR('ORDER FRAMES'!G39=\"L\",'ORDER FRAMES'!G39=\"R\"),\"\",'ORDER FRAMES'!T39))","v":""},{"$f":"IF('ORDER FRAMES'!U39=\"\",\"\",IF(OR('ORDER FRAMES'!G39=\"L\",'ORDER FRAMES'!G39=\"R\"),\"\",'ORDER FRAMES'!U39))","v":""},{"$f":"IF(C24=\"\",\"\",'ORDER FRAMES'!V39)","v":""},null,null,null,null,"",null,null,null,"","",""]
[40,{"$f":"IF('ORDER FRAMES'!A40=\"\",\"\",IF(OR('ORDER FRAMES'!G39=\"L\",'ORDER FRAMES'!G39=\"R\"),\"\",'ORDER FRAMES'!A40))","v":""},{"$f":"IF('ORDER FRAMES'!B40=\"\",\"\",IF(OR('ORDER FRAMES'!G40=\"L\",'ORDER FRAMES'!G40=\"R\"),\"\",'ORDER FRAMES'!B40))","v":""},{"$f":"IF('ORDER FRAMES'!C40=\"\",\"\",IF(OR('ORDER FRAMES'!G40=\"L\",'ORDER FRAMES'!G40=\"R\"),\"\",'ORDER FRAMES'!C40))","v":""},null,{"$f":"IF('ORDER FRAMES'!E40=\"\",\"\",IF(OR('ORDER FRAMES'!G40=\"L\",'ORDER FRAMES'!G40=\"R\"),\"\",'ORDER FRAMES'!E40))","v":""},{"$f":"IF('ORDER FRAMES'!F40=\"\",\"\",IF(OR('ORDER FRAMES'!G40=\"L\",'ORDER FRAMES'!G40=\"R\"),\"\",'ORDER FRAMES'!F40))","v":""},{"$f":"IF('ORDER FRAMES'!G40=\"\",\"\",IF(OR('ORDER FRAMES'!G40=\"L\",'ORDER FRAMES'!G40=\"R\"),\"\",'ORDER FRAMES'!G40))","v":""},{"$f":"IF('ORDER FRAMES'!H40=\"\",\"\",IF(OR('ORDER FRAMES'!G40=\"L\",'ORDER FRAMES'!G40=\"R\"),\"\",'ORDER FRAMES'!H40))","v":""},{"$f":"IF('ORDER FRAMES'!I40=\"\",\"\",IF(OR('ORDER FRAMES'!G40=\"L\",'ORDER FRAMES'!G40=\"R\"),\"\",'ORDER FRAMES'!I40))","v":""},{"$f":"IF('ORDER FRAMES'!J40=\"\",\"\",IF(OR('ORDER FRAMES'!G40=\"L\",'ORDER FRAMES'!G40=\"R\"),\"\",'ORDER FRAMES'!J40))","v":""},{"$f":"IF('ORDER FRAMES'!K40=\"\",\"\",IF(OR('ORDER FRAMES'!G40=\"L\",'ORDER FRAMES'!G40=\"R\"),\"\",'ORDER FRAMES'!K40))","v":""},{"$f":"IF('ORDER FRAMES'!L40=\"\",\"\",IF(OR('ORDER FRAMES'!G40=\"L\",'ORDER FRAMES'!G40=\"R\"),\"\",'ORDER FRAMES'!L40))","v":""},{"$f":"IF('ORDER FRAMES'!M40=\"\",\"\",IF(OR('ORDER FRAMES'!G40=\"L\",'ORDER FRAMES'!G40=\"R\"),\"\",'ORDER FRAMES'!M40))","v":""},null,null,null,{"$f":"IF(C25=\"\",\"\",IF(OR('ORDER FRAMES'!G40=\"L\",'ORDER FRAMES'!G40=\"R\"),\"\",'ORDER FRAMES'!N40))","v":""},{"$f":"IF(C25=\"\",\"\",IF(OR('ORDER FRAMES'!G40=\"L\",'ORDER FRAMES'!G40=\"R\"),\"\",'ORDER FRAMES'!O40))","v":""},null,"",null,null,"","","",{"$f":"IF('ORDER FRAMES'!Q40=\"\",\"\",IF(OR('ORDER FRAMES'!G40=\"L\",'ORDER FRAMES'!G40=\"R\"),\"\",'ORDER FRAMES'!Q40))","v":""},{"$f":"IF('ORDER FRAMES'!S40=\"\",\"\",IF(OR('ORDER FRAMES'!G40=\"L\",'ORDER FRAMES'!G40=\"R\"),\"\",'ORDER FRAMES'!S40))","v":""},{"$f":"IF('ORDER FRAMES'!T40=\"\",\"\",IF(OR('ORDER FRAMES'!G40=\"L\",'ORDER FRAMES'!G40=\"R\"),\"\",'ORDER FRAMES'!T40))","v":""},{"$f":"IF('ORDER FRAMES'!U40=\"\",\"\",IF(OR('ORDER FRAMES'!G40=\"L\",'ORDER FRAMES'!G40=\"R\"),\"\",'ORDER FRAMES'!U40))","v":""},{"$f":"IF(C25=\"\",\"\",'ORDER FRAMES'!V40)","v":""},null,null,null,null,"",null,null,null,"","",""]
[41,{"$f":"IF('ORDER FRAMES'!A41=\"\",\"\",IF(OR('ORDER FRAMES'!G40=\"L\",'ORDER FRAMES'!G40=\"R\"),\"\",'ORDER FRAMES'!A41))","v":""},{"$f":"IF('ORDER FRAMES'!B41=\"\",\"\",IF(OR('ORDER FRAMES'!G41=\"L\",'ORDER FRAMES'!G41=\"R\"),\"\",'ORDER FRAMES'!B41))","v":""},{"$f":"IF('ORDER FRAMES'!C41=\"\",\"\",IF(OR('ORDER FRAMES'!G41=\"L\",'ORDER FRAMES'!G41=\"R\"),\"\",'ORDER FRAMES'!C41))","v":""},null,{"$f":"IF('ORDER FRAMES'!E41=\"\",\"\",IF(OR('ORDER FRAMES'!G41=\"L\",'ORDER FRAMES'!G41=\"R\"),\"\",'ORDER FRAMES'!E41))","v":""},{"$f":"IF('ORDER FRAMES'!F41=\"\",\"\",IF(OR('ORDER FRAMES'!G41=\"L\",'ORDER FRAMES'!G41=\"R\"),\"\",'ORDER FRAMES'!F41))","v":""},{"$f":"IF('ORDER FRAMES'!G41=\"\",\"\",IF(OR('ORDER FRAMES'!G41=\"L\",'ORDER FRAMES'!G41=\"R\"),\"\",'ORDER FRAMES'!G41))","v":""},{"$f":"IF('ORDER FRAMES'!H41=\"\",\"\",IF(OR('ORDER FRAMES'!G41=\"L\",'ORDER FRAMES'!G41=\"R\"),\"\",'ORDER FRAMES'!H41))","v":""},{"$f":"IF('ORDER FRAMES'!I41=\"\",\"\",IF(OR('ORDER FRAMES'!G41=\"L\",'ORDER FRAMES'!G41=\"R\"),\"\",'ORDER FRAMES'!I41))","v":""},{"$f":"IF('ORDER FRAMES'!J41=\"\",\"\",IF(OR('ORDER FRAMES'!G41=\"L\",'ORDER FRAMES'!G41=\"R\"),\"\",'ORDER FRAMES'!J41))","v":""},{"$f":"IF('ORDER FRAMES'!K41=\"\",\"\",IF(OR('ORDER FRAMES'!G41=\"L\",'ORDER FRAMES'!G41=\"R\"),\"\",'ORDER FRAMES'!K41))","v":""},{"$f":"IF('ORDER FRAMES'!L41=\"\",\"\",IF(OR('ORDER FRAMES'!G41=\"L\",'ORDER FRAMES'!G41=\"R\"),\"\",'ORDER FRAMES'!L41))","v":""},{"$f":"IF('ORDER FRAMES'!M41=\"\",\"\",IF(OR('ORDER FRAMES'!G41=\"L\",'ORDER FRAMES'!G41=\"R\"),\"\",'ORDER FRAMES'!M41))","v":""},null,null,null,{"$f":"IF(C26=\"\",\"\",IF(OR('ORDER FRAMES'!G41=\"L\",'ORDER FRAMES'!G41=\"R\"),\"\",'ORDER FRAMES'!N41))","v":""},{"$f":"IF(C26=\"\",\"\",IF(OR('ORDER FRAMES'!G41=\"L\",'ORDER FRAMES'!G41=\"R\"),\"\",'ORDER FRAMES'!O41))","v":""},null,"",null,null,"","","",{"$f":"IF('ORDER FRAMES'!Q41=\"\",\"\",IF(OR('ORDER FRAMES'!G41=\"L\",'ORDER FRAMES'!G41=\"R\"),\"\",'ORDER FRAMES'!Q41))","v":""},{"$f":"IF('ORDER FRAMES'!S41=\"\",\"\",IF(OR('ORDER FRAMES'!G41=\"L\",'ORDER FRAMES'!G41=\"R\"),\"\",'ORDER FRAMES'!S41))","v":""},{"$f":"IF('ORDER FRAMES'!T41=\"\",\"\",IF(OR('ORDER FRAMES'!G41=\"L\",'ORDER FRAMES'!G41=\"R\"),\"\",'ORDER FRAMES'!T41))","v":""},{"$f":"IF('ORDER FRAMES'!U41=\"\",\"\",IF(OR('ORDER FRAMES'!G41=\"L\",'ORDER FRAMES'!G41=\"R\"),\"\",'ORDER FRAMES'!U41))","v":""},{"$f":"IF(C26=\"\",\"\",'ORDER FRAMES'!V41)","v":""},null,null,null,null,"",null,null,null,"","",""]
[42,{"$f":"IF('ORDER FRAMES'!A42=\"\",\"\",IF(OR('ORDER FRAMES'!G41=\"L\",'ORDER FRAMES'!G41=\"R\"),\"\",'ORDER FRAMES'!A42))","v":""},{"$f":"IF('ORDER FRAMES'!B42=\"\",\"\",IF(OR('ORDER FRAMES'!G42=\"L\",'ORDER FRAMES'!G42=\"R\"),\"\",'ORDER FRAMES'!B42))","v":""},{"$f":"IF('ORDER FRAMES'!C42=\"\",\"\",IF(OR('ORDER FRAMES'!G42=\"L\",'ORDER FRAMES'!G42=\"R\"),\"\",'ORDER FRAMES'!C42))","v":""},null,{"$f":"IF('ORDER FRAMES'!E42=\"\",\"\",IF(OR('ORDER FRAMES'!G42=\"L\",'ORDER FRAMES'!G42=\"R\"),\"\",'ORDER FRAMES'!E42))","v":""},{"$f":"IF('ORDER FRAMES'!F42=\"\",\"\",IF(OR('ORDER FRAMES'!G42=\"L\",'ORDER FRAMES'!G42=\"R\"),\"\",'ORDER FRAMES'!F42))","v":""},{"$f":"IF('ORDER FRAMES'!G42=\"\",\"\",IF(OR('ORDER FRAMES'!G42=\"L\",'ORDER FRAMES'!G42=\"R\"),\"\",'ORDER FRAMES'!G42))","v":""},{"$f":"IF('ORDER FRAMES'!H42=\"\",\"\",IF(OR('ORDER FRAMES'!G42=\"L\",'ORDER FRAMES'!G42=\"R\"),\"\",'ORDER FRAMES'!H42))","v":""},{"$f":"IF('ORDER FRAMES'!I42=\"\",\"\",IF(OR('ORDER FRAMES'!G42=\"L\",'ORDER FRAMES'!G42=\"R\"),\"\",'ORDER FRAMES'!I42))","v":""},{"$f":"IF('ORDER FRAMES'!J42=\"\",\"\",IF(OR('ORDER FRAMES'!G42=\"L\",'ORDER FRAMES'!G42=\"R\"),\"\",'ORDER FRAMES'!J42))","v":""},{"$f":"IF('ORDER FRAMES'!K42=\"\",\"\",IF(OR('ORDER FRAMES'!G42=\"L\",'ORDER FRAMES'!G42=\"R\"),\"\",'ORDER FRAMES'!K42))","v":""},{"$f":"IF('ORDER FRAMES'!L42=\"\",\"\",IF(OR('ORDER FRAMES'!G42=\"L\",'ORDER FRAMES'!G42=\"R\"),\"\",'ORDER FRAMES'!L42))","v":""},{"$f":"IF('ORDER FRAMES'!M42=\"\",\"\",IF(OR('ORDER FRAMES'!G42=\"L\",'ORDER FRAMES'!G42=\"R\"),\"\",'ORDER FRAMES'!M42))","v":""},null,null,null,{"$f":"IF(C27=\"\",\"\",IF(OR('ORDER FRAMES'!G42=\"L\",'ORDER FRAMES'!G42=\"R\"),\"\",'ORDER FRAMES'!N42))","v":""},{"$f":"IF(C27=\"\",\"\",IF(OR('ORDER FRAMES'!G42=\"L\",'ORDER FRAMES'!G42=\"R\"),\"\",'ORDER FRAMES'!O42))","v":""},null,"",null,null,"","","",{"$f":"IF('ORDER FRAMES'!Q42=\"\",\"\",IF(OR('ORDER FRAMES'!G42=\"L\",'ORDER FRAMES'!G42=\"R\"),\"\",'ORDER FRAMES'!Q42))","v":""},{"$f":"IF('ORDER FRAMES'!S42=\"\",\"\",IF(OR('ORDER FRAMES'!G42=\"L\",'ORDER FRAMES'!G42=\"R\"),\"\",'ORDER FRAMES'!S42))","v":""},{"$f":"IF('ORDER FRAMES'!T42=\"\",\"\",IF(OR('ORDER FRAMES'!G42=\"L\",'ORDER FRAMES'!G42=\"R\"),\"\",'ORDER FRAMES'!T42))","v":""},{"$f":"IF('ORDER FRAMES'!U42=\"\",\"\",IF(OR('ORDER FRAMES'!G42=\"L\",'ORDER FRAMES'!G42=\"R\"),\"\",'ORDER FRAMES'!U42))","v":""},{"$f":"IF(C27=\"\",\"\",'ORDER FRAMES'!V42)","v":""},null,null,null,null,"",null,null,null,"","",""]
[43,{"$f":"IF('ORDER FRAMES'!A43=\"\",\"\",IF(OR('ORDER FRAMES'!G42=\"L\",'ORDER FRAMES'!G42=\"R\"),\"\",'ORDER FRAMES'!A43))","v":""},{"$f":"IF('ORDER FRAMES'!B43=\"\",\"\",IF(OR('ORDER FRAMES'!G43=\"L\",'ORDER FRAMES'!G43=\"R\"),\"\",'ORDER FRAMES'!B43))","v":""},{"$f":"IF('ORDER FRAMES'!C43=\"\",\"\",IF(OR('ORDER FRAMES'!G43=\"L\",'ORDER FRAMES'!G43=\"R\"),\"\",'ORDER FRAMES'!C43))","v":""},null,{"$f":"IF('ORDER FRAMES'!E43=\"\",\"\",IF(OR('ORDER FRAMES'!G43=\"L\",'ORDER FRAMES'!G43=\"R\"),\"\",'ORDER FRAMES'!E43))","v":""},{"$f":"IF('ORDER FRAMES'!F43=\"\",\"\",IF(OR('ORDER FRAMES'!G43=\"L\",'ORDER FRAMES'!G43=\"R\"),\"\",'ORDER FRAMES'!F43))","v":""},{"$f":"IF('ORDER FRAMES'!G43=\"\",\"\",IF(OR('ORDER FRAMES'!G43=\"L\",'ORDER FRAMES'!G43=\"R\"),\"\",'ORDER FRAMES'!G43))","v":""},{"$f":"IF('ORDER FRAMES'!H43=\"\",\"\",IF(OR('ORDER FRAMES'!G43=\"L\",'ORDER FRAMES'!G43=\"R\"),\"\",'ORDER FRAMES'!H43))","v":""},{"$f":"IF('ORDER FRAMES'!I43=\"\",\"\",IF(OR('ORDER FRAMES'!G43=\"L\",'ORDER FRAMES'!G43=\"R\"),\"\",'ORDER FRAMES'!I43))","v":""},{"$f":"IF('ORDER FRAMES'!J43=\"\",\"\",IF(OR('ORDER FRAMES'!G43=\"L\",'ORDER FRAMES'!G43=\"R\"),\"\",'ORDER FRAMES'!J43))","v":""},{"$f":"IF('ORDER FRAMES'!K43=\"\",\"\",IF(OR('ORDER FRAMES'!G43=\"L\",'ORDER FRAMES'!G43=\"R\"),\"\",'ORDER FRAMES'!K43))","v":""},{"$f":"IF('ORDER FRAMES'!L43=\"\",\"\",IF(OR('ORDER FRAMES'!G43=\"L\",'ORDER FRAMES'!G43=\"R\"),\"\",'ORDER FRAMES'!L43))","v":""},{"$f":"IF('ORDER FRAMES'!M43=\"\",\"\",IF(OR('ORDER FRAMES'!G43=\"L\",'ORDER FRAMES'!G43=\"R\"),\"\",'ORDER FRAMES'!M43))","v":""},null,null,null,{"$f":"IF(C28=\"\",\"\",IF(OR('ORDER FRAMES'!G43=\"L\",'ORDER FRAMES'!G43=\"R\"),\"\",'ORDER FRAMES'!N43))","v":""},{"$f":"IF(C28=\"\",\"\",IF(OR('ORDER FRAMES'!G43=\"L\",'ORDER FRAMES'!G43=\"R\"),\"\",'ORDER FRAMES'!O43))","v":""},null,"",null,null,"","","",{"$f":"IF('ORDER FRAMES'!Q43=\"\",\"\",IF(OR('ORDER FRAMES'!G43=\"L\",'ORDER FRAMES'!G43=\"R\"),\"\",'ORDER FRAMES'!Q43))","v":""},{"$f":"IF('ORDER FRAMES'!S43=\"\",\"\",IF(OR('ORDER FRAMES'!G43=\"L\",'ORDER FRAMES'!G43=\"R\"),\"\",'ORDER FRAMES'!S43))","v":""},{"$f":"IF('ORDER FRAMES'!T43=\"\",\"\",IF(OR('ORDER FRAMES'!G43=\"L\",'ORDER FRAMES'!G43=\"R\"),\"\",'ORDER FRAMES'!T43))","v":""},{"$f":"IF('ORDER FRAMES'!U43=\"\",\"\",IF(OR('ORDER FRAMES'!G43=\"L\",'ORDER FRAMES'!G43=\"R\"),\"\",'ORDER FRAMES'!U43))","v":""},{"$f":"IF(C28=\"\",\"\",'ORDER FRAMES'!V43)","v":""},null,null,null,null,"",null,null,null,"","",""]
[44,{"$f":"IF('ORDER FRAMES'!A44=\"\",\"\",IF(OR('ORDER FRAMES'!G43=\"L\",'ORDER FRAMES'!G43=\"R\"),\"\",'ORDER FRAMES'!A44))","v":""},{"$f":"IF('ORDER FRAMES'!B44=\"\",\"\",IF(OR('ORDER FRAMES'!G44=\"L\",'ORDER FRAMES'!G44=\"R\"),\"\",'ORDER FRAMES'!B44))","v":""},{"$f":"IF('ORDER FRAMES'!C44=\"\",\"\",IF(OR('ORDER FRAMES'!G44=\"L\",'ORDER FRAMES'!G44=\"R\"),\"\",'ORDER FRAMES'!C44))","v":""},null,{"$f":"IF('ORDER FRAMES'!E44=\"\",\"\",IF(OR('ORDER FRAMES'!G44=\"L\",'ORDER FRAMES'!G44=\"R\"),\"\",'ORDER FRAMES'!E44))","v":""},{"$f":"IF('ORDER FRAMES'!F44=\"\",\"\",IF(OR('ORDER FRAMES'!G44=\"L\",'ORDER FRAMES'!G44=\"R\"),\"\",'ORDER FRAMES'!F44))","v":""},{"$f":"IF('ORDER FRAMES'!G44=\"\",\"\",IF(OR('ORDER FRAMES'!G44=\"L\",'ORDER FRAMES'!G44=\"R\"),\"\",'ORDER FRAMES'!G44))","v":""},{"$f":"IF('ORDER FRAMES'!H44=\"\",\"\",IF(OR('ORDER FRAMES'!G44=\"L\",'ORDER FRAMES'!G44=\"R\"),\"\",'ORDER FRAMES'!H44))","v":""},{"$f":"IF('ORDER FRAMES'!I44=\"\",\"\",IF(OR('ORDER FRAMES'!G44=\"L\",'ORDER FRAMES'!G44=\"R\"),\"\",'ORDER FRAMES'!I44))","v":""},{"$f":"IF('ORDER FRAMES'!J44=\"\",\"\",IF(OR('ORDER FRAMES'!G44=\"L\",'ORDER FRAMES'!G44=\"R\"),\"\",'ORDER FRAMES'!J44))","v":""},{"$f":"IF('ORDER FRAMES'!K44=\"\",\"\",IF(OR('ORDER FRAMES'!G44=\"L\",'ORDER FRAMES'!G44=\"R\"),\"\",'ORDER FRAMES'!K44))","v":""},{"$f":"IF('ORDER FRAMES'!L44=\"\",\"\",IF(OR('ORDER FRAMES'!G44=\"L\",'ORDER FRAMES'!G44=\"R\"),\"\",'ORDER FRAMES'!L44))","v":""},{"$f":"IF('ORDER FRAMES'!M44=\"\",\"\",IF(OR('ORDER FRAMES'!G44=\"L\",'ORDER FRAMES'!G44=\"R\"),\"\",'ORDER FRAMES'!M44))","v":""},null,null,null,{"$f":"IF(C29=\"\",\"\",IF(OR('ORDER FRAMES'!G44=\"L\",'ORDER FRAMES'!G44=\"R\"),\"\",'ORDER FRAMES'!N44))","v":""},{"$f":"IF(C29=\"\",\"\",IF(OR('ORDER FRAMES'!G44=\"L\",'ORDER FRAMES'!G44=\"R\"),\"\",'ORDER FRAMES'!O44))","v":""},null,"",null,null,"","","",{"$f":"IF('ORDER FRAMES'!Q44=\"\",\"\",IF(OR('ORDER FRAMES'!G44=\"L\",'ORDER FRAMES'!G44=\"R\"),\"\",'ORDER FRAMES'!Q44))","v":""},{"$f":"IF('ORDER FRAMES'!S44=\"\",\"\",IF(OR('ORDER FRAMES'!G44=\"L\",'ORDER FRAMES'!G44=\"R\"),\"\",'ORDER FRAMES'!S44))","v":""},{"$f":"IF('ORDER FRAMES'!T44=\"\",\"\",IF(OR('ORDER FRAMES'!G44=\"L\",'ORDER FRAMES'!G44=\"R\"),\"\",'ORDER FRAMES'!T44))","v":""},{"$f":"IF('ORDER FRAMES'!U44=\"\",\"\",IF(OR('ORDER FRAMES'!G44=\"L\",'ORDER FRAMES'!G44=\"R\"),\"\",'ORDER FRAMES'!U44))","v":""},{"$f":"IF(C29=\"\",\"\",'ORDER FRAMES'!V44)","v":""},null,null,null,null,"",null,null,null,"","",""]
[45,{"$f":"IF('ORDER FRAMES'!A45=\"\",\"\",IF(OR('ORDER FRAMES'!G44=\"L\",'ORDER FRAMES'!G44=\"R\"),\"\",'ORDER FRAMES'!A45))","v":""},{"$f":"IF('ORDER FRAMES'!B45=\"\",\"\",IF(OR('ORDER FRAMES'!G45=\"L\",'ORDER FRAMES'!G45=\"R\"),\"\",'ORDER FRAMES'!B45))","v":""},{"$f":"IF('ORDER FRAMES'!C45=\"\",\"\",IF(OR('ORDER FRAMES'!G45=\"L\",'ORDER FRAMES'!G45=\"R\"),\"\",'ORDER FRAMES'!C45))","v":""},null,{"$f":"IF('ORDER FRAMES'!E45=\"\",\"\",IF(OR('ORDER FRAMES'!G45=\"L\",'ORDER FRAMES'!G45=\"R\"),\"\",'ORDER FRAMES'!E45))","v":""},{"$f":"IF('ORDER FRAMES'!F45=\"\",\"\",IF(OR('ORDER FRAMES'!G45=\"L\",'ORDER FRAMES'!G45=\"R\"),\"\",'ORDER FRAMES'!F45))","v":""},{"$f":"IF('ORDER FRAMES'!G45=\"\",\"\",IF(OR('ORDER FRAMES'!G45=\"L\",'ORDER FRAMES'!G45=\"R\"),\"\",'ORDER FRAMES'!G45))","v":""},{"$f":"IF('ORDER FRAMES'!H45=\"\",\"\",IF(OR('ORDER FRAMES'!G45=\"L\",'ORDER FRAMES'!G45=\"R\"),\"\",'ORDER FRAMES'!H45))","v":""},{"$f":"IF('ORDER FRAMES'!I45=\"\",\"\",IF(OR('ORDER FRAMES'!G45=\"L\",'ORDER FRAMES'!G45=\"R\"),\"\",'ORDER FRAMES'!I45))","v":""},{"$f":"IF('ORDER FRAMES'!J45=\"\",\"\",IF(OR('ORDER FRAMES'!G45=\"L\",'ORDER FRAMES'!G45=\"R\"),\"\",'ORDER FRAMES'!J45))","v":""},{"$f":"IF('ORDER FRAMES'!K45=\"\",\"\",IF(OR('ORDER FRAMES'!G45=\"L\",'ORDER FRAMES'!G45=\"R\"),\"\",'ORDER FRAMES'!K45))","v":""},{"$f":"IF('ORDER FRAMES'!L45=\"\",\"\",IF(OR('ORDER FRAMES'!G45=\"L\",'ORDER FRAMES'!G45=\"R\"),\"\",'ORDER FRAMES'!L45))","v":""},{"$f":"IF('ORDER FRAMES'!M45=\"\",\"\",IF(OR('ORDER FRAMES'!G45=\"L\",'ORDER FRAMES'!G45=\"R\"),\"\",'ORDER FRAMES'!M45))","v":""},null,null,null,{"$f":"IF(C30=\"\",\"\",IF(OR('ORDER FRAMES'!G45=\"L\",'ORDER FRAMES'!G45=\"R\"),\"\",'ORDER FRAMES'!N45))","v":""},{"$f":"IF(C30=\"\",\"\",IF(OR('ORDER FRAMES'!G45=\"L\",'ORDER FRAMES'!G45=\"R\"),\"\",'ORDER FRAMES'!O45))","v":""},null,"",null,null,"","","",{"$f":"IF('ORDER FRAMES'!Q45=\"\",\"\",IF(OR('ORDER FRAMES'!G45=\"L\",'ORDER FRAMES'!G45=\"R\"),\"\",'ORDER FRAMES'!Q45))","v":""},{"$f":"IF('ORDER FRAMES'!S45=\"\",\"\",IF(OR('ORDER FRAMES'!G45=\"L\",'ORDER FRAMES'!G45=\"R\"),\"\",'ORDER FRAMES'!S45))","v":""},{"$f":"IF('ORDER FRAMES'!T45=\"\",\"\",IF(OR('ORDER FRAMES'!G45=\"L\",'ORDER FRAMES'!G45=\"R\"),\"\",'ORDER FRAMES'!T45))","v":""},{"$f":"IF('ORDER FRAMES'!U45=\"\",\"\",IF(OR('ORDER FRAMES'!G45=\"L\",'ORDER FRAMES'!G45=\"R\"),\"\",'ORDER FRAMES'!U45))","v":""},{"$f":"IF(C30=\"\",\"\",'ORDER FRAMES'!V45)","v":""},null,null,null,null,"",null,null,null,"","",""]
[46,{"$f":"IF('ORDER FRAMES'!A46=\"\",\"\",IF(OR('ORDER FRAMES'!G45=\"L\",'ORDER FRAMES'!G45=\"R\"),\"\",'ORDER FRAMES'!A46))","v":""},{"$f":"IF('ORDER FRAMES'!B46=\"\",\"\",IF(OR('ORDER FRAMES'!G46=\"L\",'ORDER FRAMES'!G46=\"R\"),\"\",'ORDER FRAMES'!B46))","v":""},{"$f":"IF('ORDER FRAMES'!C46=\"\",\"\",IF(OR('ORDER FRAMES'!G46=\"L\",'ORDER FRAMES'!G46=\"R\"),\"\",'ORDER FRAMES'!C46))","v":""},null,{"$f":"IF('ORDER FRAMES'!E46=\"\",\"\",IF(OR('ORDER FRAMES'!G46=\"L\",'ORDER FRAMES'!G46=\"R\"),\"\",'ORDER FRAMES'!E46))","v":""},{"$f":"IF('ORDER FRAMES'!F46=\"\",\"\",IF(OR('ORDER FRAMES'!G46=\"L\",'ORDER FRAMES'!G46=\"R\"),\"\",'ORDER FRAMES'!F46))","v":""},{"$f":"IF('ORDER FRAMES'!G46=\"\",\"\",IF(OR('ORDER FRAMES'!G46=\"L\",'ORDER FRAMES'!G46=\"R\"),\"\",'ORDER FRAMES'!G46))","v":""},{"$f":"IF('ORDER FRAMES'!H46=\"\",\"\",IF(OR('ORDER FRAMES'!G46=\"L\",'ORDER FRAMES'!G46=\"R\"),\"\",'ORDER FRAMES'!H46))","v":""},{"$f":"IF('ORDER FRAMES'!I46=\"\",\"\",IF(OR('ORDER FRAMES'!G46=\"L\",'ORDER FRAMES'!G46=\"R\"),\"\",'ORDER FRAMES'!I46))","v":""},{"$f":"IF('ORDER FRAMES'!J46=\"\",\"\",IF(OR('ORDER FRAMES'!G46=\"L\",'ORDER FRAMES'!G46=\"R\"),\"\",'ORDER FRAMES'!J46))","v":""},{"$f":"IF('ORDER FRAMES'!K46=\"\",\"\",IF(OR('ORDER FRAMES'!G46=\"L\",'ORDER FRAMES'!G46=\"R\"),\"\",'ORDER FRAMES'!K46))","v":""},{"$f":"IF('ORDER FRAMES'!L46=\"\",\"\",IF(OR('ORDER FRAMES'!G46=\"L\",'ORDER FRAMES'!G46=\"R\"),\"\",'ORDER FRAMES'!L46))","v":""},{"$f":"IF('ORDER FRAMES'!M46=\"\",\"\",IF(OR('ORDER FRAMES'!G46=\"L\",'ORDER FRAMES'!G46=\"R\"),\"\",'ORDER FRAMES'!M46))","v":""},null,null,null,{"$f":"IF(C31=\"\",\"\",IF(OR('ORDER FRAMES'!G46=\"L\",'ORDER FRAMES'!G46=\"R\"),\"\",'ORDER FRAMES'!N46))","v":""},{"$f":"IF(C31=\"\",\"\",IF(OR('ORDER FRAMES'!G46=\"L\",'ORDER FRAMES'!G46=\"R\"),\"\",'ORDER FRAMES'!O46))","v":""},null,"",null,null,"","","",{"$f":"IF('ORDER FRAMES'!Q46=\"\",\"\",IF(OR('ORDER FRAMES'!G46=\"L\",'ORDER FRAMES'!G46=\"R\"),\"\",'ORDER FRAMES'!Q46))","v":""},{"$f":"IF('ORDER FRAMES'!S46=\"\",\"\",IF(OR('ORDER FRAMES'!G46=\"L\",'ORDER FRAMES'!G46=\"R\"),\"\",'ORDER FRAMES'!S46))","v":""},{"$f":"IF('ORDER FRAMES'!T46=\"\",\"\",IF(OR('ORDER FRAMES'!G46=\"L\",'ORDER FRAMES'!G46=\"R\"),\"\",'ORDER FRAMES'!T46))","v":""},{"$f":"IF('ORDER FRAMES'!U46=\"\",\"\",IF(OR('ORDER FRAMES'!G46=\"L\",'ORDER FRAMES'!G46=\"R\"),\"\",'ORDER FRAMES'!U46))","v":""},{"$f":"IF(C31=\"\",\"\",'ORDER FRAMES'!V46)","v":""},null,null,null,null,"",null,null,null,"","",""]
[47,{"$f":"IF('ORDER FRAMES'!A47=\"\",\"\",IF(OR('ORDER FRAMES'!G46=\"L\",'ORDER FRAMES'!G46=\"R\"),\"\",'ORDER FRAMES'!A47))","v":""},{"$f":"IF('ORDER FRAMES'!B47=\"\",\"\",IF(OR('ORDER FRAMES'!G47=\"L\",'ORDER FRAMES'!G47=\"R\"),\"\",'ORDER FRAMES'!B47))","v":""},{"$f":"IF('ORDER FRAMES'!C47=\"\",\"\",IF(OR('ORDER FRAMES'!G47=\"L\",'ORDER FRAMES'!G47=\"R\"),\"\",'ORDER FRAMES'!C47))","v":""},null,{"$f":"IF('ORDER FRAMES'!E47=\"\",\"\",IF(OR('ORDER FRAMES'!G47=\"L\",'ORDER FRAMES'!G47=\"R\"),\"\",'ORDER FRAMES'!E47))","v":""},{"$f":"IF('ORDER FRAMES'!F47=\"\",\"\",IF(OR('ORDER FRAMES'!G47=\"L\",'ORDER FRAMES'!G47=\"R\"),\"\",'ORDER FRAMES'!F47))","v":""},{"$f":"IF('ORDER FRAMES'!G47=\"\",\"\",IF(OR('ORDER FRAMES'!G47=\"L\",'ORDER FRAMES'!G47=\"R\"),\"\",'ORDER FRAMES'!G47))","v":""},{"$f":"IF('ORDER FRAMES'!H47=\"\",\"\",IF(OR('ORDER FRAMES'!G47=\"L\",'ORDER FRAMES'!G47=\"R\"),\"\",'ORDER FRAMES'!H47))","v":""},{"$f":"IF('ORDER FRAMES'!I47=\"\",\"\",IF(OR('ORDER FRAMES'!G47=\"L\",'ORDER FRAMES'!G47=\"R\"),\"\",'ORDER FRAMES'!I47))","v":""},{"$f":"IF('ORDER FRAMES'!J47=\"\",\"\",IF(OR('ORDER FRAMES'!G47=\"L\",'ORDER FRAMES'!G47=\"R\"),\"\",'ORDER FRAMES'!J47))","v":""},{"$f":"IF('ORDER FRAMES'!K47=\"\",\"\",IF(OR('ORDER FRAMES'!G47=\"L\",'ORDER FRAMES'!G47=\"R\"),\"\",'ORDER FRAMES'!K47))","v":""},{"$f":"IF('ORDER FRAMES'!L47=\"\",\"\",IF(OR('ORDER FRAMES'!G47=\"L\",'ORDER FRAMES'!G47=\"R\"),\"\",'ORDER FRAMES'!L47))","v":""},{"$f":"IF('ORDER FRAMES'!M47=\"\",\"\",IF(OR('ORDER FRAMES'!G47=\"L\",'ORDER FRAMES'!G47=\"R\"),\"\",'ORDER FRAMES'!M47))","v":""},null,null,null,{"$f":"IF(C32=\"\",\"\",IF(OR('ORDER FRAMES'!G47=\"L\",'ORDER FRAMES'!G47=\"R\"),\"\",'ORDER FRAMES'!N47))","v":""},{"$f":"IF(C32=\"\",\"\",IF(OR('ORDER FRAMES'!G47=\"L\",'ORDER FRAMES'!G47=\"R\"),\"\",'ORDER FRAMES'!O47))","v":""},null,"",null,null,"","","",{"$f":"IF('ORDER FRAMES'!Q47=\"\",\"\",IF(OR('ORDER FRAMES'!G47=\"L\",'ORDER FRAMES'!G47=\"R\"),\"\",'ORDER FRAMES'!Q47))","v":""},{"$f":"IF('ORDER FRAMES'!S47=\"\",\"\",IF(OR('ORDER FRAMES'!G47=\"L\",'ORDER FRAMES'!G47=\"R\"),\"\",'ORDER FRAMES'!S47))","v":""},{"$f":"IF('ORDER FRAMES'!T47=\"\",\"\",IF(OR('ORDER FRAMES'!G47=\"L\",'ORDER FRAMES'!G47=\"R\"),\"\",'ORDER FRAMES'!T47))","v":""},{"$f":"IF('ORDER FRAMES'!U47=\"\",\"\",IF(OR('ORDER FRAMES'!G47=\"L\",'ORDER FRAMES'!G47=\"R\"),\"\",'ORDER FRAMES'!U47))","v":""},{"$f":"IF(C32=\"\",\"\",'ORDER FRAMES'!V47)","v":""},null,null,null,null,"",null,null,null,"","",""]
[48,{"$f":"IF('ORDER FRAMES'!A48=\"\",\"\",IF(OR('ORDER FRAMES'!G47=\"L\",'ORDER FRAMES'!G47=\"R\"),\"\",'ORDER FRAMES'!A48))","v":""},{"$f":"IF('ORDER FRAMES'!B48=\"\",\"\",IF(OR('ORDER FRAMES'!G48=\"L\",'ORDER FRAMES'!G48=\"R\"),\"\",'ORDER FRAMES'!B48))","v":""},{"$f":"IF('ORDER FRAMES'!C48=\"\",\"\",IF(OR('ORDER FRAMES'!G48=\"L\",'ORDER FRAMES'!G48=\"R\"),\"\",'ORDER FRAMES'!C48))","v":""},null,{"$f":"IF('ORDER FRAMES'!E48=\"\",\"\",IF(OR('ORDER FRAMES'!G48=\"L\",'ORDER FRAMES'!G48=\"R\"),\"\",'ORDER FRAMES'!E48))","v":""},{"$f":"IF('ORDER FRAMES'!F48=\"\",\"\",IF(OR('ORDER FRAMES'!G48=\"L\",'ORDER FRAMES'!G48=\"R\"),\"\",'ORDER FRAMES'!F48))","v":""},{"$f":"IF('ORDER FRAMES'!G48=\"\",\"\",IF(OR('ORDER FRAMES'!G48=\"L\",'ORDER FRAMES'!G48=\"R\"),\"\",'ORDER FRAMES'!G48))","v":""},{"$f":"IF('ORDER FRAMES'!H48=\"\",\"\",IF(OR('ORDER FRAMES'!G48=\"L\",'ORDER FRAMES'!G48=\"R\"),\"\",'ORDER FRAMES'!H48))","v":""},{"$f":"IF('ORDER FRAMES'!I48=\"\",\"\",IF(OR('ORDER FRAMES'!G48=\"L\",'ORDER FRAMES'!G48=\"R\"),\"\",'ORDER FRAMES'!I48))","v":""},{"$f":"IF('ORDER FRAMES'!J48=\"\",\"\",IF(OR('ORDER FRAMES'!G48=\"L\",'ORDER FRAMES'!G48=\"R\"),\"\",'ORDER FRAMES'!J48))","v":""},{"$f":"IF('ORDER FRAMES'!K48=\"\",\"\",IF(OR('ORDER FRAMES'!G48=\"L\",'ORDER FRAMES'!G48=\"R\"),\"\",'ORDER FRAMES'!K48))","v":""},{"$f":"IF('ORDER FRAMES'!L48=\"\",\"\",IF(OR('ORDER FRAMES'!G48=\"L\",'ORDER FRAMES'!G48=\"R\"),\"\",'ORDER FRAMES'!L48))","v":""},{"$f":"IF('ORDER FRAMES'!M48=\"\",\"\",IF(OR('ORDER FRAMES'!G48=\"L\",'ORDER FRAMES'!G48=\"R\"),\"\",'ORDER FRAMES'!M48))","v":""},null,null,null,{"$f":"IF(C33=\"\",\"\",IF(OR('ORDER FRAMES'!G48=\"L\",'ORDER FRAMES'!G48=\"R\"),\"\",'ORDER FRAMES'!N48))","v":""},{"$f":"IF(C33=\"\",\"\",IF(OR('ORDER FRAMES'!G48=\"L\",'ORDER FRAMES'!G48=\"R\"),\"\",'ORDER FRAMES'!O48))","v":""},null,"",null,null,"","","",{"$f":"IF('ORDER FRAMES'!Q48=\"\",\"\",IF(OR('ORDER FRAMES'!G48=\"L\",'ORDER FRAMES'!G48=\"R\"),\"\",'ORDER FRAMES'!Q48))","v":""},{"$f":"IF('ORDER FRAMES'!S48=\"\",\"\",IF(OR('ORDER FRAMES'!G48=\"L\",'ORDER FRAMES'!G48=\"R\"),\"\",'ORDER FRAMES'!S48))","v":""},{"$f":"IF('ORDER FRAMES'!T48=\"\",\"\",IF(OR('ORDER FRAMES'!G48=\"L\",'ORDER FRAMES'!G48=\"R\"),\"\",'ORDER FRAMES'!T48))","v":""},{"$f":"IF('ORDER FRAMES'!U48=\"\",\"\",IF(OR('ORDER FRAMES'!G48=\"L\",'ORDER FRAMES'!G48=\"R\"),\"\",'ORDER FRAMES'!U48))","v":""},{"$f":"IF(C33=\"\",\"\",'ORDER FRAMES'!V48)","v":""},null,null,null,null,"",null,null,null,"","",""]
[49,{"$f":"IF('ORDER FRAMES'!A49=\"\",\"\",IF(OR('ORDER FRAMES'!G48=\"L\",'ORDER FRAMES'!G48=\"R\"),\"\",'ORDER FRAMES'!A49))","v":""},{"$f":"IF('ORDER FRAMES'!B49=\"\",\"\",IF(OR('ORDER FRAMES'!G49=\"L\",'ORDER FRAMES'!G49=\"R\"),\"\",'ORDER FRAMES'!B49))","v":""},{"$f":"IF('ORDER FRAMES'!C49=\"\",\"\",IF(OR('ORDER FRAMES'!G49=\"L\",'ORDER FRAMES'!G49=\"R\"),\"\",'ORDER FRAMES'!C49))","v":""},null,{"$f":"IF('ORDER FRAMES'!E49=\"\",\"\",IF(OR('ORDER FRAMES'!G49=\"L\",'ORDER FRAMES'!G49=\"R\"),\"\",'ORDER FRAMES'!E49))","v":""},{"$f":"IF('ORDER FRAMES'!F49=\"\",\"\",IF(OR('ORDER FRAMES'!G49=\"L\",'ORDER FRAMES'!G49=\"R\"),\"\",'ORDER FRAMES'!F49))","v":""},{"$f":"IF('ORDER FRAMES'!G49=\"\",\"\",IF(OR('ORDER FRAMES'!G49=\"L\",'ORDER FRAMES'!G49=\"R\"),\"\",'ORDER FRAMES'!G49))","v":""},{"$f":"IF('ORDER FRAMES'!H49=\"\",\"\",IF(OR('ORDER FRAMES'!G49=\"L\",'ORDER FRAMES'!G49=\"R\"),\"\",'ORDER FRAMES'!H49))","v":""},{"$f":"IF('ORDER FRAMES'!I49=\"\",\"\",IF(OR('ORDER FRAMES'!G49=\"L\",'ORDER FRAMES'!G49=\"R\"),\"\",'ORDER FRAMES'!I49))","v":""},{"$f":"IF('ORDER FRAMES'!J49=\"\",\"\",IF(OR('ORDER FRAMES'!G49=\"L\",'ORDER FRAMES'!G49=\"R\"),\"\",'ORDER FRAMES'!J49))","v":""},{"$f":"IF('ORDER FRAMES'!K49=\"\",\"\",IF(OR('ORDER FRAMES'!G49=\"L\",'ORDER FRAMES'!G49=\"R\"),\"\",'ORDER FRAMES'!K49))","v":""},{"$f":"IF('ORDER FRAMES'!L49=\"\",\"\",IF(OR('ORDER FRAMES'!G49=\"L\",'ORDER FRAMES'!G49=\"R\"),\"\",'ORDER FRAMES'!L49))","v":""},{"$f":"IF('ORDER FRAMES'!M49=\"\",\"\",IF(OR('ORDER FRAMES'!G49=\"L\",'ORDER FRAMES'!G49=\"R\"),\"\",'ORDER FRAMES'!M49))","v":""},null,null,null,{"$f":"IF(C34=\"\",\"\",IF(OR('ORDER FRAMES'!G49=\"L\",'ORDER FRAMES'!G49=\"R\"),\"\",'ORDER FRAMES'!N49))","v":""},{"$f":"IF(C34=\"\",\"\",IF(OR('ORDER FRAMES'!G49=\"L\",'ORDER FRAMES'!G49=\"R\"),\"\",'ORDER FRAMES'!O49))","v":""},null,"",null,null,"","","",{"$f":"IF('ORDER FRAMES'!Q49=\"\",\"\",IF(OR('ORDER FRAMES'!G49=\"L\",'ORDER FRAMES'!G49=\"R\"),\"\",'ORDER FRAMES'!Q49))","v":""},{"$f":"IF('ORDER FRAMES'!S49=\"\",\"\",IF(OR('ORDER FRAMES'!G49=\"L\",'ORDER FRAMES'!G49=\"R\"),\"\",'ORDER FRAMES'!S49))","v":""},{"$f":"IF('ORDER FRAMES'!T49=\"\",\"\",IF(OR('ORDER FRAMES'!G49=\"L\",'ORDER FRAMES'!G49=\"R\"),\"\",'ORDER FRAMES'!T49))","v":""},{"$f":"IF('ORDER FRAMES'!U49=\"\",\"\",IF(OR('ORDER FRAMES'!G49=\"L\",'ORDER FRAMES'!G49=\"R\"),\"\",'ORDER FRAMES'!U49))","v":""},{"$f":"IF(C34=\"\",\"\",'ORDER FRAMES'!V49)","v":""},null,null,null,null,"",null,null,null,"","",""]
[50,{"$f":"IF('ORDER FRAMES'!A50=\"\",\"\",IF(OR('ORDER FRAMES'!G49=\"L\",'ORDER FRAMES'!G49=\"R\"),\"\",'ORDER FRAMES'!A50))","v":""},{"$f":"IF('ORDER FRAMES'!B50=\"\",\"\",IF(OR('ORDER FRAMES'!G50=\"L\",'ORDER FRAMES'!G50=\"R\"),\"\",'ORDER FRAMES'!B50))","v":""},{"$f":"IF('ORDER FRAMES'!C50=\"\",\"\",IF(OR('ORDER FRAMES'!G50=\"L\",'ORDER FRAMES'!G50=\"R\"),\"\",'ORDER FRAMES'!C50))","v":""},null,{"$f":"IF('ORDER FRAMES'!E50=\"\",\"\",IF(OR('ORDER FRAMES'!G50=\"L\",'ORDER FRAMES'!G50=\"R\"),\"\",'ORDER FRAMES'!E50))","v":""},{"$f":"IF('ORDER FRAMES'!F50=\"\",\"\",IF(OR('ORDER FRAMES'!G50=\"L\",'ORDER FRAMES'!G50=\"R\"),\"\",'ORDER FRAMES'!F50))","v":""},{"$f":"IF('ORDER FRAMES'!G50=\"\",\"\",IF(OR('ORDER FRAMES'!G50=\"L\",'ORDER FRAMES'!G50=\"R\"),\"\",'ORDER FRAMES'!G50))","v":""},{"$f":"IF('ORDER FRAMES'!H50=\"\",\"\",IF(OR('ORDER FRAMES'!G50=\"L\",'ORDER FRAMES'!G50=\"R\"),\"\",'ORDER FRAMES'!H50))","v":""},{"$f":"IF('ORDER FRAMES'!I50=\"\",\"\",IF(OR('ORDER FRAMES'!G50=\"L\",'ORDER FRAMES'!G50=\"R\"),\"\",'ORDER FRAMES'!I50))","v":""},{"$f":"IF('ORDER FRAMES'!J50=\"\",\"\",IF(OR('ORDER FRAMES'!G50=\"L\",'ORDER FRAMES'!G50=\"R\"),\"\",'ORDER FRAMES'!J50))","v":""},{"$f":"IF('ORDER FRAMES'!K50=\"\",\"\",IF(OR('ORDER FRAMES'!G50=\"L\",'ORDER FRAMES'!G50=\"R\"),\"\",'ORDER FRAMES'!K50))","v":""},{"$f":"IF('ORDER FRAMES'!L50=\"\",\"\",IF(OR('ORDER FRAMES'!G50=\"L\",'ORDER FRAMES'!G50=\"R\"),\"\",'ORDER FRAMES'!L50))","v":""},{"$f":"IF('ORDER FRAMES'!M50=\"\",\"\",IF(OR('ORDER FRAMES'!G50=\"L\",'ORDER FRAMES'!G50=\"R\"),\"\",'ORDER FRAMES'!M50))","v":""},null,null,null,{"$f":"IF(C35=\"\",\"\",IF(OR('ORDER FRAMES'!G50=\"L\",'ORDER FRAMES'!G50=\"R\"),\"\",'ORDER FRAMES'!N50))","v":""},{"$f":"IF(C35=\"\",\"\",IF(OR('ORDER FRAMES'!G50=\"L\",'ORDER FRAMES'!G50=\"R\"),\"\",'ORDER FRAMES'!O50))","v":""},null,"",null,null,"","","",{"$f":"IF('ORDER FRAMES'!Q50=\"\",\"\",IF(OR('ORDER FRAMES'!G50=\"L\",'ORDER FRAMES'!G50=\"R\"),\"\",'ORDER FRAMES'!Q50))","v":""},{"$f":"IF('ORDER FRAMES'!S50=\"\",\"\",IF(OR('ORDER FRAMES'!G50=\"L\",'ORDER FRAMES'!G50=\"R\"),\"\",'ORDER FRAMES'!S50))","v":""},{"$f":"IF('ORDER FRAMES'!T50=\"\",\"\",IF(OR('ORDER FRAMES'!G50=\"L\",'ORDER FRAMES'!G50=\"R\"),\"\",'ORDER FRAMES'!T50))","v":""},{"$f":"IF('ORDER FRAMES'!U50=\"\",\"\",IF(OR('ORDER FRAMES'!G50=\"L\",'ORDER FRAMES'!G50=\"R\"),\"\",'ORDER FRAMES'!U50))","v":""},{"$f":"IF(C35=\"\",\"\",'ORDER FRAMES'!V50)","v":""},null,null,null,null,"",null,null,null,"","",""]
[51,{"$f":"IF('ORDER FRAMES'!A51=\"\",\"\",IF(OR('ORDER FRAMES'!G50=\"L\",'ORDER FRAMES'!G50=\"R\"),\"\",'ORDER FRAMES'!A51))","v":""},{"$f":"IF('ORDER FRAMES'!B51=\"\",\"\",IF(OR('ORDER FRAMES'!G51=\"L\",'ORDER FRAMES'!G51=\"R\"),\"\",'ORDER FRAMES'!B51))","v":""},{"$f":"IF('ORDER FRAMES'!C51=\"\",\"\",IF(OR('ORDER FRAMES'!G51=\"L\",'ORDER FRAMES'!G51=\"R\"),\"\",'ORDER FRAMES'!C51))","v":""},null,{"$f":"IF('ORDER FRAMES'!E51=\"\",\"\",IF(OR('ORDER FRAMES'!G51=\"L\",'ORDER FRAMES'!G51=\"R\"),\"\",'ORDER FRAMES'!E51))","v":""},{"$f":"IF('ORDER FRAMES'!F51=\"\",\"\",IF(OR('ORDER FRAMES'!G51=\"L\",'ORDER FRAMES'!G51=\"R\"),\"\",'ORDER FRAMES'!F51))","v":""},{"$f":"IF('ORDER FRAMES'!G51=\"\",\"\",IF(OR('ORDER FRAMES'!G51=\"L\",'ORDER FRAMES'!G51=\"R\"),\"\",'ORDER FRAMES'!G51))","v":""},{"$f":"IF('ORDER FRAMES'!H51=\"\",\"\",IF(OR('ORDER FRAMES'!G51=\"L\",'ORDER FRAMES'!G51=\"R\"),\"\",'ORDER FRAMES'!H51))","v":""},{"$f":"IF('ORDER FRAMES'!I51=\"\",\"\",IF(OR('ORDER FRAMES'!G51=\"L\",'ORDER FRAMES'!G51=\"R\"),\"\",'ORDER FRAMES'!I51))","v":""},{"$f":"IF('ORDER FRAMES'!J51=\"\",\"\",IF(OR('ORDER FRAMES'!G51=\"L\",'ORDER FRAMES'!G51=\"R\"),\"\",'ORDER FRAMES'!J51))","v":""},{"$f":"IF('ORDER FRAMES'!K51=\"\",\"\",IF(OR('ORDER FRAMES'!G51=\"L\",'ORDER FRAMES'!G51=\"R\"),\"\",'ORDER FRAMES'!K51))","v":""},{"$f":"IF('ORDER FRAMES'!L51=\"\",\"\",IF(OR('ORDER FRAMES'!G51=\"L\",'ORDER FRAMES'!G51=\"R\"),\"\",'ORDER FRAMES'!L51))","v":""},{"$f":"IF('ORDER FRAMES'!M51=\"\",\"\",IF(OR('ORDER FRAMES'!G51=\"L\",'ORDER FRAMES'!G51=\"R\"),\"\",'ORDER FRAMES'!M51))","v":""},null,null,null,{"$f":"IF(C36=\"\",\"\",IF(OR('ORDER FRAMES'!G51=\"L\",'ORDER FRAMES'!G51=\"R\"),\"\",'ORDER FRAMES'!N51))","v":""},{"$f":"IF(C36=\"\",\"\",IF(OR('ORDER FRAMES'!G51=\"L\",'ORDER FRAMES'!G51=\"R\"),\"\",'ORDER FRAMES'!O51))","v":""},null,"",null,null,"","","",{"$f":"IF('ORDER FRAMES'!Q51=\"\",\"\",IF(OR('ORDER FRAMES'!G51=\"L\",'ORDER FRAMES'!G51=\"R\"),\"\",'ORDER FRAMES'!Q51))","v":""},{"$f":"IF('ORDER FRAMES'!S51=\"\",\"\",IF(OR('ORDER FRAMES'!G51=\"L\",'ORDER FRAMES'!G51=\"R\"),\"\",'ORDER FRAMES'!S51))","v":""},{"$f":"IF('ORDER FRAMES'!T51=\"\",\"\",IF(OR('ORDER FRAMES'!G51=\"L\",'ORDER FRAMES'!G51=\"R\"),\"\",'ORDER FRAMES'!T51))","v":""},{"$f":"IF('ORDER FRAMES'!U51=\"\",\"\",IF(OR('ORDER FRAMES'!G51=\"L\",'ORDER FRAMES'!G51=\"R\"),\"\",'ORDER FRAMES'!U51))","v":""},{"$f":"IF(C36=\"\",\"\",'ORDER FRAMES'!V51)","v":""},null,null,null,null,"",null,null,null,"","",""]
[52,{"$f":"IF('ORDER FRAMES'!A52=\"\",\"\",IF(OR('ORDER FRAMES'!G51=\"L\",'ORDER FRAMES'!G51=\"R\"),\"\",'ORDER FRAMES'!A52))","v":""},{"$f":"IF('ORDER FRAMES'!B52=\"\",\"\",IF(OR('ORDER FRAMES'!G52=\"L\",'ORDER FRAMES'!G52=\"R\"),\"\",'ORDER FRAMES'!B52))","v":""},{"$f":"IF('ORDER FRAMES'!C52=\"\",\"\",IF(OR('ORDER FRAMES'!G52=\"L\",'ORDER FRAMES'!G52=\"R\"),\"\",'ORDER FRAMES'!C52))","v":""},null,{"$f":"IF('ORDER FRAMES'!E52=\"\",\"\",IF(OR('ORDER FRAMES'!G52=\"L\",'ORDER FRAMES'!G52=\"R\"),\"\",'ORDER FRAMES'!E52))","v":""},{"$f":"IF('ORDER FRAMES'!F52=\"\",\"\",IF(OR('ORDER FRAMES'!G52=\"L\",'ORDER FRAMES'!G52=\"R\"),\"\",'ORDER FRAMES'!F52))","v":""},{"$f":"IF('ORDER FRAMES'!G52=\"\",\"\",IF(OR('ORDER FRAMES'!G52=\"L\",'ORDER FRAMES'!G52=\"R\"),\"\",'ORDER FRAMES'!G52))","v":""},{"$f":"IF('ORDER FRAMES'!H52=\"\",\"\",IF(OR('ORDER FRAMES'!G52=\"L\",'ORDER FRAMES'!G52=\"R\"),\"\",'ORDER FRAMES'!H52))","v":""},{"$f":"IF('ORDER FRAMES'!I52=\"\",\"\",IF(OR('ORDER FRAMES'!G52=\"L\",'ORDER FRAMES'!G52=\"R\"),\"\",'ORDER FRAMES'!I52))","v":""},{"$f":"IF('ORDER FRAMES'!J52=\"\",\"\",IF(OR('ORDER FRAMES'!G52=\"L\",'ORDER FRAMES'!G52=\"R\"),\"\",'ORDER FRAMES'!J52))","v":""},{"$f":"IF('ORDER FRAMES'!K52=\"\",\"\",IF(OR('ORDER FRAMES'!G52=\"L\",'ORDER FRAMES'!G52=\"R\"),\"\",'ORDER FRAMES'!K52))","v":""},{"$f":"IF('ORDER FRAMES'!L52=\"\",\"\",IF(OR('ORDER FRAMES'!G52=\"L\",'ORDER FRAMES'!G52=\"R\"),\"\",'ORDER FRAMES'!L52))","v":""},{"$f":"IF('ORDER FRAMES'!M52=\"\",\"\",IF(OR('ORDER FRAMES'!G52=\"L\",'ORDER FRAMES'!G52=\"R\"),\"\",'ORDER FRAMES'!M52))","v":""},null,null,null,{"$f":"IF(C37=\"\",\"\",IF(OR('ORDER FRAMES'!G52=\"L\",'ORDER FRAMES'!G52=\"R\"),\"\",'ORDER FRAMES'!N52))","v":""},{"$f":"IF(C37=\"\",\"\",IF(OR('ORDER FRAMES'!G52=\"L\",'ORDER FRAMES'!G52=\"R\"),\"\",'ORDER FRAMES'!O52))","v":""},null,"",null,null,"","","",{"$f":"IF('ORDER FRAMES'!Q52=\"\",\"\",IF(OR('ORDER FRAMES'!G52=\"L\",'ORDER FRAMES'!G52=\"R\"),\"\",'ORDER FRAMES'!Q52))","v":""},{"$f":"IF('ORDER FRAMES'!S52=\"\",\"\",IF(OR('ORDER FRAMES'!G52=\"L\",'ORDER FRAMES'!G52=\"R\"),\"\",'ORDER FRAMES'!S52))","v":""},{"$f":"IF('ORDER FRAMES'!T52=\"\",\"\",IF(OR('ORDER FRAMES'!G52=\"L\",'ORDER FRAMES'!G52=\"R\"),\"\",'ORDER FRAMES'!T52))","v":""},{"$f":"IF('ORDER FRAMES'!U52=\"\",\"\",IF(OR('ORDER FRAMES'!G52=\"L\",'ORDER FRAMES'!G52=\"R\"),\"\",'ORDER FRAMES'!U52))","v":""},{"$f":"IF(C37=\"\",\"\",'ORDER FRAMES'!V52)","v":""},null,null,null,null,"",null,null,null,"","",""]
[53,{"$f":"IF('ORDER FRAMES'!A53=\"\",\"\",IF(OR('ORDER FRAMES'!G52=\"L\",'ORDER FRAMES'!G52=\"R\"),\"\",'ORDER FRAMES'!A53))","v":""},{"$f":"IF('ORDER FRAMES'!B53=\"\",\"\",IF(OR('ORDER FRAMES'!G53=\"L\",'ORDER FRAMES'!G53=\"R\"),\"\",'ORDER FRAMES'!B53))","v":""},{"$f":"IF('ORDER FRAMES'!C53=\"\",\"\",IF(OR('ORDER FRAMES'!G53=\"L\",'ORDER FRAMES'!G53=\"R\"),\"\",'ORDER FRAMES'!C53))","v":""},null,{"$f":"IF('ORDER FRAMES'!E53=\"\",\"\",IF(OR('ORDER FRAMES'!G53=\"L\",'ORDER FRAMES'!G53=\"R\"),\"\",'ORDER FRAMES'!E53))","v":""},{"$f":"IF('ORDER FRAMES'!F53=\"\",\"\",IF(OR('ORDER FRAMES'!G53=\"L\",'ORDER FRAMES'!G53=\"R\"),\"\",'ORDER FRAMES'!F53))","v":""},{"$f":"IF('ORDER FRAMES'!G53=\"\",\"\",IF(OR('ORDER FRAMES'!G53=\"L\",'ORDER FRAMES'!G53=\"R\"),\"\",'ORDER FRAMES'!G53))","v":""},{"$f":"IF('ORDER FRAMES'!H53=\"\",\"\",IF(OR('ORDER FRAMES'!G53=\"L\",'ORDER FRAMES'!G53=\"R\"),\"\",'ORDER FRAMES'!H53))","v":""},{"$f":"IF('ORDER FRAMES'!I53=\"\",\"\",IF(OR('ORDER FRAMES'!G53=\"L\",'ORDER FRAMES'!G53=\"R\"),\"\",'ORDER FRAMES'!I53))","v":""},{"$f":"IF('ORDER FRAMES'!J53=\"\",\"\",IF(OR('ORDER FRAMES'!G53=\"L\",'ORDER FRAMES'!G53=\"R\"),\"\",'ORDER FRAMES'!J53))","v":""},{"$f":"IF('ORDER FRAMES'!K53=\"\",\"\",IF(OR('ORDER FRAMES'!G53=\"L\",'ORDER FRAMES'!G53=\"R\"),\"\",'ORDER FRAMES'!K53))","v":""},{"$f":"IF('ORDER FRAMES'!L53=\"\",\"\",IF(OR('ORDER FRAMES'!G53=\"L\",'ORDER FRAMES'!G53=\"R\"),\"\",'ORDER FRAMES'!L53))","v":""},{"$f":"IF('ORDER FRAMES'!M53=\"\",\"\",IF(OR('ORDER FRAMES'!G53=\"L\",'ORDER FRAMES'!G53=\"R\"),\"\",'ORDER FRAMES'!M53))","v":""},null,null,null,{"$f":"IF(C38=\"\",\"\",IF(OR('ORDER FRAMES'!G53=\"L\",'ORDER FRAMES'!G53=\"R\"),\"\",'ORDER FRAMES'!N53))","v":""},{"$f":"IF(C38=\"\",\"\",IF(OR('ORDER FRAMES'!G53=\"L\",'ORDER FRAMES'!G53=\"R\"),\"\",'ORDER FRAMES'!O53))","v":""},null,"",null,null,"","","",{"$f":"IF('ORDER FRAMES'!Q53=\"\",\"\",IF(OR('ORDER FRAMES'!G53=\"L\",'ORDER FRAMES'!G53=\"R\"),\"\",'ORDER FRAMES'!Q53))","v":""},{"$f":"IF('ORDER FRAMES'!S53=\"\",\"\",IF(OR('ORDER FRAMES'!G53=\"L\",'ORDER FRAMES'!G53=\"R\"),\"\",'ORDER FRAMES'!S53))","v":""},{"$f":"IF('ORDER FRAMES'!T53=\"\",\"\",IF(OR('ORDER FRAMES'!G53=\"L\",'ORDER FRAMES'!G53=\"R\"),\"\",'ORDER FRAMES'!T53))","v":""},{"$f":"IF('ORDER FRAMES'!U53=\"\",\"\",IF(OR('ORDER FRAMES'!G53=\"L\",'ORDER FRAMES'!G53=\"R\"),\"\",'ORDER FRAMES'!U53))","v":""},{"$f":"IF(C38=\"\",\"\",'ORDER FRAMES'!V53)","v":""},null,null,null,null,"",null,null,null,"","",""]
[54,{"$f":"IF('ORDER FRAMES'!A54=\"\",\"\",IF(OR('ORDER FRAMES'!G53=\"L\",'ORDER FRAMES'!G53=\"R\"),\"\",'ORDER FRAMES'!A54))","v":""},{"$f":"IF('ORDER FRAMES'!B54=\"\",\"\",IF(OR('ORDER FRAMES'!G54=\"L\",'ORDER FRAMES'!G54=\"R\"),\"\",'ORDER FRAMES'!B54))","v":""},{"$f":"IF('ORDER FRAMES'!C54=\"\",\"\",IF(OR('ORDER FRAMES'!G54=\"L\",'ORDER FRAMES'!G54=\"R\"),\"\",'ORDER FRAMES'!C54))","v":""},null,{"$f":"IF('ORDER FRAMES'!E54=\"\",\"\",IF(OR('ORDER FRAMES'!G54=\"L\",'ORDER FRAMES'!G54=\"R\"),\"\",'ORDER FRAMES'!E54))","v":""},{"$f":"IF('ORDER FRAMES'!F54=\"\",\"\",IF(OR('ORDER FRAMES'!G54=\"L\",'ORDER FRAMES'!G54=\"R\"),\"\",'ORDER FRAMES'!F54))","v":""},{"$f":"IF('ORDER FRAMES'!G54=\"\",\"\",IF(OR('ORDER FRAMES'!G54=\"L\",'ORDER FRAMES'!G54=\"R\"),\"\",'ORDER FRAMES'!G54))","v":""},{"$f":"IF('ORDER FRAMES'!H54=\"\",\"\",IF(OR('ORDER FRAMES'!G54=\"L\",'ORDER FRAMES'!G54=\"R\"),\"\",'ORDER FRAMES'!H54))","v":""},{"$f":"IF('ORDER FRAMES'!I54=\"\",\"\",IF(OR('ORDER FRAMES'!G54=\"L\",'ORDER FRAMES'!G54=\"R\"),\"\",'ORDER FRAMES'!I54))","v":""},{"$f":"IF('ORDER FRAMES'!J54=\"\",\"\",IF(OR('ORDER FRAMES'!G54=\"L\",'ORDER FRAMES'!G54=\"R\"),\"\",'ORDER FRAMES'!J54))","v":""},{"$f":"IF('ORDER FRAMES'!K54=\"\",\"\",IF(OR('ORDER FRAMES'!G54=\"L\",'ORDER FRAMES'!G54=\"R\"),\"\",'ORDER FRAMES'!K54))","v":""},{"$f":"IF('ORDER FRAMES'!L54=\"\",\"\",IF(OR('ORDER FRAMES'!G54=\"L\",'ORDER FRAMES'!G54=\"R\"),\"\",'ORDER FRAMES'!L54))","v":""},{"$f":"IF('ORDER FRAMES'!M54=\"\",\"\",IF(OR('ORDER FRAMES'!G54=\"L\",'ORDER FRAMES'!G54=\"R\"),\"\",'ORDER FRAMES'!M54))","v":""},null,null,null,{"$f":"IF(C39=\"\",\"\",IF(OR('ORDER FRAMES'!G54=\"L\",'ORDER FRAMES'!G54=\"R\"),\"\",'ORDER FRAMES'!N54))","v":""},{"$f":"IF(C39=\"\",\"\",IF(OR('ORDER FRAMES'!G54=\"L\",'ORDER FRAMES'!G54=\"R\"),\"\",'ORDER FRAMES'!O54))","v":""},null,"",null,null,"","","",{"$f":"IF('ORDER FRAMES'!Q54=\"\",\"\",IF(OR('ORDER FRAMES'!G54=\"L\",'ORDER FRAMES'!G54=\"R\"),\"\",'ORDER FRAMES'!Q54))","v":""},{"$f":"IF('ORDER FRAMES'!S54=\"\",\"\",IF(OR('ORDER FRAMES'!G54=\"L\",'ORDER FRAMES'!G54=\"R\"),\"\",'ORDER FRAMES'!S54))","v":""},{"$f":"IF('ORDER FRAMES'!T54=\"\",\"\",IF(OR('ORDER FRAMES'!G54=\"L\",'ORDER FRAMES'!G54=\"R\"),\"\",'ORDER FRAMES'!T54))","v":""},{"$f":"IF('ORDER FRAMES'!U54=\"\",\"\",IF(OR('ORDER FRAMES'!G54=\"L\",'ORDER FRAMES'!G54=\"R\"),\"\",'ORDER FRAMES'!U54))","v":""},{"$f":"IF(C39=\"\",\"\",'ORDER FRAMES'!V54)","v":""},null,null,null,null,"",null,null,null,"","",""]
[55,{"$f":"IF('ORDER FRAMES'!A55=\"\",\"\",IF(OR('ORDER FRAMES'!G54=\"L\",'ORDER FRAMES'!G54=\"R\"),\"\",'ORDER FRAMES'!A55))","v":""},{"$f":"IF('ORDER FRAMES'!B55=\"\",\"\",IF(OR('ORDER FRAMES'!G55=\"L\",'ORDER FRAMES'!G55=\"R\"),\"\",'ORDER FRAMES'!B55))","v":""},{"$f":"IF('ORDER FRAMES'!C55=\"\",\"\",IF(OR('ORDER FRAMES'!G55=\"L\",'ORDER FRAMES'!G55=\"R\"),\"\",'ORDER FRAMES'!C55))","v":""},null,{"$f":"IF('ORDER FRAMES'!E55=\"\",\"\",IF(OR('ORDER FRAMES'!G55=\"L\",'ORDER FRAMES'!G55=\"R\"),\"\",'ORDER FRAMES'!E55))","v":""},{"$f":"IF('ORDER FRAMES'!F55=\"\",\"\",IF(OR('ORDER FRAMES'!G55=\"L\",'ORDER FRAMES'!G55=\"R\"),\"\",'ORDER FRAMES'!F55))","v":""},{"$f":"IF('ORDER FRAMES'!G55=\"\",\"\",IF(OR('ORDER FRAMES'!G55=\"L\",'ORDER FRAMES'!G55=\"R\"),\"\",'ORDER FRAMES'!G55))","v":""},{"$f":"IF('ORDER FRAMES'!H55=\"\",\"\",IF(OR('ORDER FRAMES'!G55=\"L\",'ORDER FRAMES'!G55=\"R\"),\"\",'ORDER FRAMES'!H55))","v":""},{"$f":"IF('ORDER FRAMES'!I55=\"\",\"\",IF(OR('ORDER FRAMES'!G55=\"L\",'ORDER FRAMES'!G55=\"R\"),\"\",'ORDER FRAMES'!I55))","v":""},{"$f":"IF('ORDER FRAMES'!J55=\"\",\"\",IF(OR('ORDER FRAMES'!G55=\"L\",'ORDER FRAMES'!G55=\"R\"),\"\",'ORDER FRAMES'!J55))","v":""},{"$f":"IF('ORDER FRAMES'!K55=\"\",\"\",IF(OR('ORDER FRAMES'!G55=\"L\",'ORDER FRAMES'!G55=\"R\"),\"\",'ORDER FRAMES'!K55))","v":""},{"$f":"IF('ORDER FRAMES'!L55=\"\",\"\",IF(OR('ORDER FRAMES'!G55=\"L\",'ORDER FRAMES'!G55=\"R\"),\"\",'ORDER FRAMES'!L55))","v":""},{"$f":"IF('ORDER FRAMES'!M55=\"\",\"\",IF(OR('ORDER FRAMES'!G55=\"L\",'ORDER FRAMES'!G55=\"R\"),\"\",'ORDER FRAMES'!M55))","v":""},null,null,null,{"$f":"IF(C40=\"\",\"\",IF(OR('ORDER FRAMES'!G55=\"L\",'ORDER FRAMES'!G55=\"R\"),\"\",'ORDER FRAMES'!N55))","v":""},{"$f":"IF(C40=\"\",\"\",IF(OR('ORDER FRAMES'!G55=\"L\",'ORDER FRAMES'!G55=\"R\"),\"\",'ORDER FRAMES'!O55))","v":""},null,"",null,null,"","","",{"$f":"IF('ORDER FRAMES'!Q55=\"\",\"\",IF(OR('ORDER FRAMES'!G55=\"L\",'ORDER FRAMES'!G55=\"R\"),\"\",'ORDER FRAMES'!Q55))","v":""},{"$f":"IF('ORDER FRAMES'!S55=\"\",\"\",IF(OR('ORDER FRAMES'!G55=\"L\",'ORDER FRAMES'!G55=\"R\"),\"\",'ORDER FRAMES'!S55))","v":""},{"$f":"IF('ORDER FRAMES'!T55=\"\",\"\",IF(OR('ORDER FRAMES'!G55=\"L\",'ORDER FRAMES'!G55=\"R\"),\"\",'ORDER FRAMES'!T55))","v":""},{"$f":"IF('ORDER FRAMES'!U55=\"\",\"\",IF(OR('ORDER FRAMES'!G55=\"L\",'ORDER FRAMES'!G55=\"R\"),\"\",'ORDER FRAMES'!U55))","v":""},{"$f":"IF(C40=\"\",\"\",'ORDER FRAMES'!V55)","v":""},null,null,null,null,"",null,null,null,"","",""]
[56,{"$f":"IF('ORDER FRAMES'!A56=\"\",\"\",IF(OR('ORDER FRAMES'!G55=\"L\",'ORDER FRAMES'!G55=\"R\"),\"\",'ORDER FRAMES'!A56))","v":""},{"$f":"IF('ORDER FRAMES'!B56=\"\",\"\",IF(OR('ORDER FRAMES'!G56=\"L\",'ORDER FRAMES'!G56=\"R\"),\"\",'ORDER FRAMES'!B56))","v":""},{"$f":"IF('ORDER FRAMES'!C56=\"\",\"\",IF(OR('ORDER FRAMES'!G56=\"L\",'ORDER FRAMES'!G56=\"R\"),\"\",'ORDER FRAMES'!C56))","v":""},null,{"$f":"IF('ORDER FRAMES'!E56=\"\",\"\",IF(OR('ORDER FRAMES'!G56=\"L\",'ORDER FRAMES'!G56=\"R\"),\"\",'ORDER FRAMES'!E56))","v":""},{"$f":"IF('ORDER FRAMES'!F56=\"\",\"\",IF(OR('ORDER FRAMES'!G56=\"L\",'ORDER FRAMES'!G56=\"R\"),\"\",'ORDER FRAMES'!F56))","v":""},{"$f":"IF('ORDER FRAMES'!G56=\"\",\"\",IF(OR('ORDER FRAMES'!G56=\"L\",'ORDER FRAMES'!G56=\"R\"),\"\",'ORDER FRAMES'!G56))","v":""},{"$f":"IF('ORDER FRAMES'!H56=\"\",\"\",IF(OR('ORDER FRAMES'!G56=\"L\",'ORDER FRAMES'!G56=\"R\"),\"\",'ORDER FRAMES'!H56))","v":""},{"$f":"IF('ORDER FRAMES'!I56=\"\",\"\",IF(OR('ORDER FRAMES'!G56=\"L\",'ORDER FRAMES'!G56=\"R\"),\"\",'ORDER FRAMES'!I56))","v":""},{"$f":"IF('ORDER FRAMES'!J56=\"\",\"\",IF(OR('ORDER FRAMES'!G56=\"L\",'ORDER FRAMES'!G56=\"R\"),\"\",'ORDER FRAMES'!J56))","v":""},{"$f":"IF('ORDER FRAMES'!K56=\"\",\"\",IF(OR('ORDER FRAMES'!G56=\"L\",'ORDER FRAMES'!G56=\"R\"),\"\",'ORDER FRAMES'!K56))","v":""},{"$f":"IF('ORDER FRAMES'!L56=\"\",\"\",IF(OR('ORDER FRAMES'!G56=\"L\",'ORDER FRAMES'!G56=\"R\"),\"\",'ORDER FRAMES'!L56))","v":""},{"$f":"IF('ORDER FRAMES'!M56=\"\",\"\",IF(OR('ORDER FRAMES'!G56=\"L\",'ORDER FRAMES'!G56=\"R\"),\"\",'ORDER FRAMES'!M56))","v":""},null,null,null,{"$f":"IF(C41=\"\",\"\",IF(OR('ORDER FRAMES'!G56=\"L\",'ORDER FRAMES'!G56=\"R\"),\"\",'ORDER FRAMES'!N56))","v":""},{"$f":"IF(C41=\"\",\"\",IF(OR('ORDER FRAMES'!G56=\"L\",'ORDER FRAMES'!G56=\"R\"),\"\",'ORDER FRAMES'!O56))","v":""},null,"",null,null,"","","",{"$f":"IF('ORDER FRAMES'!Q56=\"\",\"\",IF(OR('ORDER FRAMES'!G56=\"L\",'ORDER FRAMES'!G56=\"R\"),\"\",'ORDER FRAMES'!Q56))","v":""},{"$f":"IF('ORDER FRAMES'!S56=\"\",\"\",IF(OR('ORDER FRAMES'!G56=\"L\",'ORDER FRAMES'!G56=\"R\"),\"\",'ORDER FRAMES'!S56))","v":""},{"$f":"IF('ORDER FRAMES'!T56=\"\",\"\",IF(OR('ORDER FRAMES'!G56=\"L\",'ORDER FRAMES'!G56=\"R\"),\"\",'ORDER FRAMES'!T56))","v":""},{"$f":"IF('ORDER FRAMES'!U56=\"\",\"\",IF(OR('ORDER FRAMES'!G56=\"L\",'ORDER FRAMES'!G56=\"R\"),\"\",'ORDER FRAMES'!U56))","v":""},{"$f":"IF(C41=\"\",\"\",'ORDER FRAMES'!V56)","v":""},null,null,null,null,"",null,null,null,"","",""]
[57,{"$f":"IF('ORDER FRAMES'!A57=\"\",\"\",IF(OR('ORDER FRAMES'!G56=\"L\",'ORDER FRAMES'!G56=\"R\"),\"\",'ORDER FRAMES'!A57))","v":""},{"$f":"IF('ORDER FRAMES'!B57=\"\",\"\",IF(OR('ORDER FRAMES'!G57=\"L\",'ORDER FRAMES'!G57=\"R\"),\"\",'ORDER FRAMES'!B57))","v":""},{"$f":"IF('ORDER FRAMES'!C57=\"\",\"\",IF(OR('ORDER FRAMES'!G57=\"L\",'ORDER FRAMES'!G57=\"R\"),\"\",'ORDER FRAMES'!C57))","v":""},null,{"$f":"IF('ORDER FRAMES'!E57=\"\",\"\",IF(OR('ORDER FRAMES'!G57=\"L\",'ORDER FRAMES'!G57=\"R\"),\"\",'ORDER FRAMES'!E57))","v":""},{"$f":"IF('ORDER FRAMES'!F57=\"\",\"\",IF(OR('ORDER FRAMES'!G57=\"L\",'ORDER FRAMES'!G57=\"R\"),\"\",'ORDER FRAMES'!F57))","v":""},{"$f":"IF('ORDER FRAMES'!G57=\"\",\"\",IF(OR('ORDER FRAMES'!G57=\"L\",'ORDER FRAMES'!G57=\"R\"),\"\",'ORDER FRAMES'!G57))","v":""},{"$f":"IF('ORDER FRAMES'!H57=\"\",\"\",IF(OR('ORDER FRAMES'!G57=\"L\",'ORDER FRAMES'!G57=\"R\"),\"\",'ORDER FRAMES'!H57))","v":""},{"$f":"IF('ORDER FRAMES'!I57=\"\",\"\",IF(OR('ORDER FRAMES'!G57=\"L\",'ORDER FRAMES'!G57=\"R\"),\"\",'ORDER FRAMES'!I57))","v":""},{"$f":"IF('ORDER FRAMES'!J57=\"\",\"\",IF(OR('ORDER FRAMES'!G57=\"L\",'ORDER FRAMES'!G57=\"R\"),\"\",'ORDER FRAMES'!J57))","v":""},{"$f":"IF('ORDER FRAMES'!K57=\"\",\"\",IF(OR('ORDER FRAMES'!G57=\"L\",'ORDER FRAMES'!G57=\"R\"),\"\",'ORDER FRAMES'!K57))","v":""},{"$f":"IF('ORDER FRAMES'!L57=\"\",\"\",IF(OR('ORDER FRAMES'!G57=\"L\",'ORDER FRAMES'!G57=\"R\"),\"\",'ORDER FRAMES'!L57))","v":""},{"$f":"IF('ORDER FRAMES'!M57=\"\",\"\",IF(OR('ORDER FRAMES'!G57=\"L\",'ORDER FRAMES'!G57=\"R\"),\"\",'ORDER FRAMES'!M57))","v":""},null,null,null,{"$f":"IF(C42=\"\",\"\",IF(OR('ORDER FRAMES'!G57=\"L\",'ORDER FRAMES'!G57=\"R\"),\"\",'ORDER FRAMES'!N57))","v":""},{"$f":"IF(C42=\"\",\"\",IF(OR('ORDER FRAMES'!G57=\"L\",'ORDER FRAMES'!G57=\"R\"),\"\",'ORDER FRAMES'!O57))","v":""},null,"",null,null,"","","",{"$f":"IF('ORDER FRAMES'!Q57=\"\",\"\",IF(OR('ORDER FRAMES'!G57=\"L\",'ORDER FRAMES'!G57=\"R\"),\"\",'ORDER FRAMES'!Q57))","v":""},{"$f":"IF('ORDER FRAMES'!S57=\"\",\"\",IF(OR('ORDER FRAMES'!G57=\"L\",'ORDER FRAMES'!G57=\"R\"),\"\",'ORDER FRAMES'!S57))","v":""},{"$f":"IF('ORDER FRAMES'!T57=\"\",\"\",IF(OR('ORDER FRAMES'!G57=\"L\",'ORDER FRAMES'!G57=\"R\"),\"\",'ORDER FRAMES'!T57))","v":""},{"$f":"IF('ORDER FRAMES'!U57=\"\",\"\",IF(OR('ORDER FRAMES'!G57=\"L\",'ORDER FRAMES'!G57=\"R\"),\"\",'ORDER FRAMES'!U57))","v":""},{"$f":"IF(C42=\"\",\"\",'ORDER FRAMES'!V57)","v":""},null,null,null,null,"",null,null,null,"","",""]
[58,{"$f":"IF('ORDER FRAMES'!A58=\"\",\"\",IF(OR('ORDER FRAMES'!G57=\"L\",'ORDER FRAMES'!G57=\"R\"),\"\",'ORDER FRAMES'!A58))","v":""},{"$f":"IF('ORDER FRAMES'!B58=\"\",\"\",IF(OR('ORDER FRAMES'!G58=\"L\",'ORDER FRAMES'!G58=\"R\"),\"\",'ORDER FRAMES'!B58))","v":""},{"$f":"IF('ORDER FRAMES'!C58=\"\",\"\",IF(OR('ORDER FRAMES'!G58=\"L\",'ORDER FRAMES'!G58=\"R\"),\"\",'ORDER FRAMES'!C58))","v":""},null,{"$f":"IF('ORDER FRAMES'!E58=\"\",\"\",IF(OR('ORDER FRAMES'!G58=\"L\",'ORDER FRAMES'!G58=\"R\"),\"\",'ORDER FRAMES'!E58))","v":""},{"$f":"IF('ORDER FRAMES'!F58=\"\",\"\",IF(OR('ORDER FRAMES'!G58=\"L\",'ORDER FRAMES'!G58=\"R\"),\"\",'ORDER FRAMES'!F58))","v":""},{"$f":"IF('ORDER FRAMES'!G58=\"\",\"\",IF(OR('ORDER FRAMES'!G58=\"L\",'ORDER FRAMES'!G58=\"R\"),\"\",'ORDER FRAMES'!G58))","v":""},{"$f":"IF('ORDER FRAMES'!H58=\"\",\"\",IF(OR('ORDER FRAMES'!G58=\"L\",'ORDER FRAMES'!G58=\"R\"),\"\",'ORDER FRAMES'!H58))","v":""},{"$f":"IF('ORDER FRAMES'!I58=\"\",\"\",IF(OR('ORDER FRAMES'!G58=\"L\",'ORDER FRAMES'!G58=\"R\"),\"\",'ORDER FRAMES'!I58))","v":""},{"$f":"IF('ORDER FRAMES'!J58=\"\",\"\",IF(OR('ORDER FRAMES'!G58=\"L\",'ORDER FRAMES'!G58=\"R\"),\"\",'ORDER FRAMES'!J58))","v":""},{"$f":"IF('ORDER FRAMES'!K58=\"\",\"\",IF(OR('ORDER FRAMES'!G58=\"L\",'ORDER FRAMES'!G58=\"R\"),\"\",'ORDER FRAMES'!K58))","v":""},{"$f":"IF('ORDER FRAMES'!L58=\"\",\"\",IF(OR('ORDER FRAMES'!G58=\"L\",'ORDER FRAMES'!G58=\"R\"),\"\",'ORDER FRAMES'!L58))","v":""},{"$f":"IF('ORDER FRAMES'!M58=\"\",\"\",IF(OR('ORDER FRAMES'!G58=\"L\",'ORDER FRAMES'!G58=\"R\"),\"\",'ORDER FRAMES'!M58))","v":""},null,null,null,{"$f":"IF(C43=\"\",\"\",IF(OR('ORDER FRAMES'!G58=\"L\",'ORDER FRAMES'!G58=\"R\"),\"\",'ORDER FRAMES'!N58))","v":""},{"$f":"IF(C43=\"\",\"\",IF(OR('ORDER FRAMES'!G58=\"L\",'ORDER FRAMES'!G58=\"R\"),\"\",'ORDER FRAMES'!O58))","v":""},null,"",null,null,"","","",{"$f":"IF('ORDER FRAMES'!Q58=\"\",\"\",IF(OR('ORDER FRAMES'!G58=\"L\",'ORDER FRAMES'!G58=\"R\"),\"\",'ORDER FRAMES'!Q58))","v":""},{"$f":"IF('ORDER FRAMES'!S58=\"\",\"\",IF(OR('ORDER FRAMES'!G58=\"L\",'ORDER FRAMES'!G58=\"R\"),\"\",'ORDER FRAMES'!S58))","v":""},{"$f":"IF('ORDER FRAMES'!T58=\"\",\"\",IF(OR('ORDER FRAMES'!G58=\"L\",'ORDER FRAMES'!G58=\"R\"),\"\",'ORDER FRAMES'!T58))","v":""},{"$f":"IF('ORDER FRAMES'!U58=\"\",\"\",IF(OR('ORDER FRAMES'!G58=\"L\",'ORDER FRAMES'!G58=\"R\"),\"\",'ORDER FRAMES'!U58))","v":""},{"$f":"IF(C43=\"\",\"\",'ORDER FRAMES'!V58)","v":""},null,null,null,null,"",null,null,null,"","",""]
[59,{"$f":"IF('ORDER FRAMES'!A59=\"\",\"\",IF(OR('ORDER FRAMES'!G58=\"L\",'ORDER FRAMES'!G58=\"R\"),\"\",'ORDER FRAMES'!A59))","v":""},{"$f":"IF('ORDER FRAMES'!B59=\"\",\"\",IF(OR('ORDER FRAMES'!G59=\"L\",'ORDER FRAMES'!G59=\"R\"),\"\",'ORDER FRAMES'!B59))","v":""},{"$f":"IF('ORDER FRAMES'!C59=\"\",\"\",IF(OR('ORDER FRAMES'!G59=\"L\",'ORDER FRAMES'!G59=\"R\"),\"\",'ORDER FRAMES'!C59))","v":""},null,{"$f":"IF('ORDER FRAMES'!E59=\"\",\"\",IF(OR('ORDER FRAMES'!G59=\"L\",'ORDER FRAMES'!G59=\"R\"),\"\",'ORDER FRAMES'!E59))","v":""},{"$f":"IF('ORDER FRAMES'!F59=\"\",\"\",IF(OR('ORDER FRAMES'!G59=\"L\",'ORDER FRAMES'!G59=\"R\"),\"\",'ORDER FRAMES'!F59))","v":""},{"$f":"IF('ORDER FRAMES'!G59=\"\",\"\",IF(OR('ORDER FRAMES'!G59=\"L\",'ORDER FRAMES'!G59=\"R\"),\"\",'ORDER FRAMES'!G59))","v":""},{"$f":"IF('ORDER FRAMES'!H59=\"\",\"\",IF(OR('ORDER FRAMES'!G59=\"L\",'ORDER FRAMES'!G59=\"R\"),\"\",'ORDER FRAMES'!H59))","v":""},{"$f":"IF('ORDER FRAMES'!I59=\"\",\"\",IF(OR('ORDER FRAMES'!G59=\"L\",'ORDER FRAMES'!G59=\"R\"),\"\",'ORDER FRAMES'!I59))","v":""},{"$f":"IF('ORDER FRAMES'!J59=\"\",\"\",IF(OR('ORDER FRAMES'!G59=\"L\",'ORDER FRAMES'!G59=\"R\"),\"\",'ORDER FRAMES'!J59))","v":""},{"$f":"IF('ORDER FRAMES'!K59=\"\",\"\",IF(OR('ORDER FRAMES'!G59=\"L\",'ORDER FRAMES'!G59=\"R\"),\"\",'ORDER FRAMES'!K59))","v":""},{"$f":"IF('ORDER FRAMES'!L59=\"\",\"\",IF(OR('ORDER FRAMES'!G59=\"L\",'ORDER FRAMES'!G59=\"R\"),\"\",'ORDER FRAMES'!L59))","v":""},{"$f":"IF('ORDER FRAMES'!M59=\"\",\"\",IF(OR('ORDER FRAMES'!G59=\"L\",'ORDER FRAMES'!G59=\"R\"),\"\",'ORDER FRAMES'!M59))","v":""},null,null,null,{"$f":"IF(C44=\"\",\"\",IF(OR('ORDER FRAMES'!G59=\"L\",'ORDER FRAMES'!G59=\"R\"),\"\",'ORDER FRAMES'!N59))","v":""},{"$f":"IF(C44=\"\",\"\",IF(OR('ORDER FRAMES'!G59=\"L\",'ORDER FRAMES'!G59=\"R\"),\"\",'ORDER FRAMES'!O59))","v":""},null,"",null,null,"","","",{"$f":"IF('ORDER FRAMES'!Q59=\"\",\"\",IF(OR('ORDER FRAMES'!G59=\"L\",'ORDER FRAMES'!G59=\"R\"),\"\",'ORDER FRAMES'!Q59))","v":""},{"$f":"IF('ORDER FRAMES'!S59=\"\",\"\",IF(OR('ORDER FRAMES'!G59=\"L\",'ORDER FRAMES'!G59=\"R\"),\"\",'ORDER FRAMES'!S59))","v":""},{"$f":"IF('ORDER FRAMES'!T59=\"\",\"\",IF(OR('ORDER FRAMES'!G59=\"L\",'ORDER FRAMES'!G59=\"R\"),\"\",'ORDER FRAMES'!T59))","v":""},{"$f":"IF('ORDER FRAMES'!U59=\"\",\"\",IF(OR('ORDER FRAMES'!G59=\"L\",'ORDER FRAMES'!G59=\"R\"),\"\",'ORDER FRAMES'!U59))","v":""},{"$f":"IF(C44=\"\",\"\",'ORDER FRAMES'!V59)","v":""},null,null,null,null,"",null,null,null,"","",""]
[60,{"$f":"IF('ORDER FRAMES'!A60=\"\",\"\",IF(OR('ORDER FRAMES'!G59=\"L\",'ORDER FRAMES'!G59=\"R\"),\"\",'ORDER FRAMES'!A60))","v":""},{"$f":"IF('ORDER FRAMES'!B60=\"\",\"\",IF(OR('ORDER FRAMES'!G60=\"L\",'ORDER FRAMES'!G60=\"R\"),\"\",'ORDER FRAMES'!B60))","v":""},{"$f":"IF('ORDER FRAMES'!C60=\"\",\"\",IF(OR('ORDER FRAMES'!G60=\"L\",'ORDER FRAMES'!G60=\"R\"),\"\",'ORDER FRAMES'!C60))","v":""},null,{"$f":"IF('ORDER FRAMES'!E60=\"\",\"\",IF(OR('ORDER FRAMES'!G60=\"L\",'ORDER FRAMES'!G60=\"R\"),\"\",'ORDER FRAMES'!E60))","v":""},{"$f":"IF('ORDER FRAMES'!F60=\"\",\"\",IF(OR('ORDER FRAMES'!G60=\"L\",'ORDER FRAMES'!G60=\"R\"),\"\",'ORDER FRAMES'!F60))","v":""},{"$f":"IF('ORDER FRAMES'!G60=\"\",\"\",IF(OR('ORDER FRAMES'!G60=\"L\",'ORDER FRAMES'!G60=\"R\"),\"\",'ORDER FRAMES'!G60))","v":""},{"$f":"IF('ORDER FRAMES'!H60=\"\",\"\",IF(OR('ORDER FRAMES'!G60=\"L\",'ORDER FRAMES'!G60=\"R\"),\"\",'ORDER FRAMES'!H60))","v":""},{"$f":"IF('ORDER FRAMES'!I60=\"\",\"\",IF(OR('ORDER FRAMES'!G60=\"L\",'ORDER FRAMES'!G60=\"R\"),\"\",'ORDER FRAMES'!I60))","v":""},{"$f":"IF('ORDER FRAMES'!J60=\"\",\"\",IF(OR('ORDER FRAMES'!G60=\"L\",'ORDER FRAMES'!G60=\"R\"),\"\",'ORDER FRAMES'!J60))","v":""},{"$f":"IF('ORDER FRAMES'!K60=\"\",\"\",IF(OR('ORDER FRAMES'!G60=\"L\",'ORDER FRAMES'!G60=\"R\"),\"\",'ORDER FRAMES'!K60))","v":""},{"$f":"IF('ORDER FRAMES'!L60=\"\",\"\",IF(OR('ORDER FRAMES'!G60=\"L\",'ORDER FRAMES'!G60=\"R\"),\"\",'ORDER FRAMES'!L60))","v":""},{"$f":"IF('ORDER FRAMES'!M60=\"\",\"\",IF(OR('ORDER FRAMES'!G60=\"L\",'ORDER FRAMES'!G60=\"R\"),\"\",'ORDER FRAMES'!M60))","v":""},null,null,null,{"$f":"IF(C45=\"\",\"\",IF(OR('ORDER FRAMES'!G60=\"L\",'ORDER FRAMES'!G60=\"R\"),\"\",'ORDER FRAMES'!N60))","v":""},{"$f":"IF(C45=\"\",\"\",IF(OR('ORDER FRAMES'!G60=\"L\",'ORDER FRAMES'!G60=\"R\"),\"\",'ORDER FRAMES'!O60))","v":""},null,"",null,null,"","","",{"$f":"IF('ORDER FRAMES'!Q60=\"\",\"\",IF(OR('ORDER FRAMES'!G60=\"L\",'ORDER FRAMES'!G60=\"R\"),\"\",'ORDER FRAMES'!Q60))","v":""},{"$f":"IF('ORDER FRAMES'!S60=\"\",\"\",IF(OR('ORDER FRAMES'!G60=\"L\",'ORDER FRAMES'!G60=\"R\"),\"\",'ORDER FRAMES'!S60))","v":""},{"$f":"IF('ORDER FRAMES'!T60=\"\",\"\",IF(OR('ORDER FRAMES'!G60=\"L\",'ORDER FRAMES'!G60=\"R\"),\"\",'ORDER FRAMES'!T60))","v":""},{"$f":"IF('ORDER FRAMES'!U60=\"\",\"\",IF(OR('ORDER FRAMES'!G60=\"L\",'ORDER FRAMES'!G60=\"R\"),\"\",'ORDER FRAMES'!U60))","v":""},{"$f":"IF(C45=\"\",\"\",'ORDER FRAMES'!V60)","v":""},null,null,null,null,"",null,null,null,"","",""]
[61,{"$f":"IF('ORDER FRAMES'!A61=\"\",\"\",IF(OR('ORDER FRAMES'!G60=\"L\",'ORDER FRAMES'!G60=\"R\"),\"\",'ORDER FRAMES'!A61))","v":""},{"$f":"IF('ORDER FRAMES'!B61=\"\",\"\",IF(OR('ORDER FRAMES'!G61=\"L\",'ORDER FRAMES'!G61=\"R\"),\"\",'ORDER FRAMES'!B61))","v":""},{"$f":"IF('ORDER FRAMES'!C61=\"\",\"\",IF(OR('ORDER FRAMES'!G61=\"L\",'ORDER FRAMES'!G61=\"R\"),\"\",'ORDER FRAMES'!C61))","v":""},null,{"$f":"IF('ORDER FRAMES'!E61=\"\",\"\",IF(OR('ORDER FRAMES'!G61=\"L\",'ORDER FRAMES'!G61=\"R\"),\"\",'ORDER FRAMES'!E61))","v":""},{"$f":"IF('ORDER FRAMES'!F61=\"\",\"\",IF(OR('ORDER FRAMES'!G61=\"L\",'ORDER FRAMES'!G61=\"R\"),\"\",'ORDER FRAMES'!F61))","v":""},{"$f":"IF('ORDER FRAMES'!G61=\"\",\"\",IF(OR('ORDER FRAMES'!G61=\"L\",'ORDER FRAMES'!G61=\"R\"),\"\",'ORDER FRAMES'!G61))","v":""},{"$f":"IF('ORDER FRAMES'!H61=\"\",\"\",IF(OR('ORDER FRAMES'!G61=\"L\",'ORDER FRAMES'!G61=\"R\"),\"\",'ORDER FRAMES'!H61))","v":""},{"$f":"IF('ORDER FRAMES'!I61=\"\",\"\",IF(OR('ORDER FRAMES'!G61=\"L\",'ORDER FRAMES'!G61=\"R\"),\"\",'ORDER FRAMES'!I61))","v":""},{"$f":"IF('ORDER FRAMES'!J61=\"\",\"\",IF(OR('ORDER FRAMES'!G61=\"L\",'ORDER FRAMES'!G61=\"R\"),\"\",'ORDER FRAMES'!J61))","v":""},{"$f":"IF('ORDER FRAMES'!K61=\"\",\"\",IF(OR('ORDER FRAMES'!G61=\"L\",'ORDER FRAMES'!G61=\"R\"),\"\",'ORDER FRAMES'!K61))","v":""},{"$f":"IF('ORDER FRAMES'!L61=\"\",\"\",IF(OR('ORDER FRAMES'!G61=\"L\",'ORDER FRAMES'!G61=\"R\"),\"\",'ORDER FRAMES'!L61))","v":""},{"$f":"IF('ORDER FRAMES'!M61=\"\",\"\",IF(OR('ORDER FRAMES'!G61=\"L\",'ORDER FRAMES'!G61=\"R\"),\"\",'ORDER FRAMES'!M61))","v":""},null,null,null,{"$f":"IF(C46=\"\",\"\",IF(OR('ORDER FRAMES'!G61=\"L\",'ORDER FRAMES'!G61=\"R\"),\"\",'ORDER FRAMES'!N61))","v":""},{"$f":"IF(C46=\"\",\"\",IF(OR('ORDER FRAMES'!G61=\"L\",'ORDER FRAMES'!G61=\"R\"),\"\",'ORDER FRAMES'!O61))","v":""},null,"",null,null,"","","",{"$f":"IF('ORDER FRAMES'!Q61=\"\",\"\",IF(OR('ORDER FRAMES'!G61=\"L\",'ORDER FRAMES'!G61=\"R\"),\"\",'ORDER FRAMES'!Q61))","v":""},{"$f":"IF('ORDER FRAMES'!S61=\"\",\"\",IF(OR('ORDER FRAMES'!G61=\"L\",'ORDER FRAMES'!G61=\"R\"),\"\",'ORDER FRAMES'!S61))","v":""},{"$f":"IF('ORDER FRAMES'!T61=\"\",\"\",IF(OR('ORDER FRAMES'!G61=\"L\",'ORDER FRAMES'!G61=\"R\"),\"\",'ORDER FRAMES'!T61))","v":""},{"$f":"IF('ORDER FRAMES'!U61=\"\",\"\",IF(OR('ORDER FRAMES'!G61=\"L\",'ORDER FRAMES'!G61=\"R\"),\"\",'ORDER FRAMES'!U61))","v":""},{"$f":"IF(C46=\"\",\"\",'ORDER FRAMES'!V61)","v":""},null,null,null,null,"",null,null,null,"","",""]
[62,{"$f":"IF('ORDER FRAMES'!A62=\"\",\"\",IF(OR('ORDER FRAMES'!G61=\"L\",'ORDER FRAMES'!G61=\"R\"),\"\",'ORDER FRAMES'!A62))","v":""},{"$f":"IF('ORDER FRAMES'!B62=\"\",\"\",IF(OR('ORDER FRAMES'!G62=\"L\",'ORDER FRAMES'!G62=\"R\"),\"\",'ORDER FRAMES'!B62))","v":""},{"$f":"IF('ORDER FRAMES'!C62=\"\",\"\",IF(OR('ORDER FRAMES'!G62=\"L\",'ORDER FRAMES'!G62=\"R\"),\"\",'ORDER FRAMES'!C62))","v":""},null,{"$f":"IF('ORDER FRAMES'!E62=\"\",\"\",IF(OR('ORDER FRAMES'!G62=\"L\",'ORDER FRAMES'!G62=\"R\"),\"\",'ORDER FRAMES'!E62))","v":""},{"$f":"IF('ORDER FRAMES'!F62=\"\",\"\",IF(OR('ORDER FRAMES'!G62=\"L\",'ORDER FRAMES'!G62=\"R\"),\"\",'ORDER FRAMES'!F62))","v":""},{"$f":"IF('ORDER FRAMES'!G62=\"\",\"\",IF(OR('ORDER FRAMES'!G62=\"L\",'ORDER FRAMES'!G62=\"R\"),\"\",'ORDER FRAMES'!G62))","v":""},{"$f":"IF('ORDER FRAMES'!H62=\"\",\"\",IF(OR('ORDER FRAMES'!G62=\"L\",'ORDER FRAMES'!G62=\"R\"),\"\",'ORDER FRAMES'!H62))","v":""},{"$f":"IF('ORDER FRAMES'!I62=\"\",\"\",IF(OR('ORDER FRAMES'!G62=\"L\",'ORDER FRAMES'!G62=\"R\"),\"\",'ORDER FRAMES'!I62))","v":""},{"$f":"IF('ORDER FRAMES'!J62=\"\",\"\",IF(OR('ORDER FRAMES'!G62=\"L\",'ORDER FRAMES'!G62=\"R\"),\"\",'ORDER FRAMES'!J62))","v":""},{"$f":"IF('ORDER FRAMES'!K62=\"\",\"\",IF(OR('ORDER FRAMES'!G62=\"L\",'ORDER FRAMES'!G62=\"R\"),\"\",'ORDER FRAMES'!K62))","v":""},{"$f":"IF('ORDER FRAMES'!L62=\"\",\"\",IF(OR('ORDER FRAMES'!G62=\"L\",'ORDER FRAMES'!G62=\"R\"),\"\",'ORDER FRAMES'!L62))","v":""},{"$f":"IF('ORDER FRAMES'!M62=\"\",\"\",IF(OR('ORDER FRAMES'!G62=\"L\",'ORDER FRAMES'!G62=\"R\"),\"\",'ORDER FRAMES'!M62))","v":""},null,null,null,{"$f":"IF(C47=\"\",\"\",IF(OR('ORDER FRAMES'!G62=\"L\",'ORDER FRAMES'!G62=\"R\"),\"\",'ORDER FRAMES'!N62))","v":""},{"$f":"IF(C47=\"\",\"\",IF(OR('ORDER FRAMES'!G62=\"L\",'ORDER FRAMES'!G62=\"R\"),\"\",'ORDER FRAMES'!O62))","v":""},null,"",null,null,"","","",{"$f":"IF('ORDER FRAMES'!Q62=\"\",\"\",IF(OR('ORDER FRAMES'!G62=\"L\",'ORDER FRAMES'!G62=\"R\"),\"\",'ORDER FRAMES'!Q62))","v":""},{"$f":"IF('ORDER FRAMES'!S62=\"\",\"\",IF(OR('ORDER FRAMES'!G62=\"L\",'ORDER FRAMES'!G62=\"R\"),\"\",'ORDER FRAMES'!S62))","v":""},{"$f":"IF('ORDER FRAMES'!T62=\"\",\"\",IF(OR('ORDER FRAMES'!G62=\"L\",'ORDER FRAMES'!G62=\"R\"),\"\",'ORDER FRAMES'!T62))","v":""},{"$f":"IF('ORDER FRAMES'!U62=\"\",\"\",IF(OR('ORDER FRAMES'!G62=\"L\",'ORDER FRAMES'!G62=\"R\"),\"\",'ORDER FRAMES'!U62))","v":""},{"$f":"IF(C47=\"\",\"\",'ORDER FRAMES'!V62)","v":""},null,null,null,null,"",null,null,null,"","",""]
[63,{"$f":"IF('ORDER FRAMES'!A63=\"\",\"\",IF(OR('ORDER FRAMES'!G62=\"L\",'ORDER FRAMES'!G62=\"R\"),\"\",'ORDER FRAMES'!A63))","v":""},{"$f":"IF('ORDER FRAMES'!B63=\"\",\"\",IF(OR('ORDER FRAMES'!G63=\"L\",'ORDER FRAMES'!G63=\"R\"),\"\",'ORDER FRAMES'!B63))","v":""},{"$f":"IF('ORDER FRAMES'!C63=\"\",\"\",IF(OR('ORDER FRAMES'!G63=\"L\",'ORDER FRAMES'!G63=\"R\"),\"\",'ORDER FRAMES'!C63))","v":""},null,{"$f":"IF('ORDER FRAMES'!E63=\"\",\"\",IF(OR('ORDER FRAMES'!G63=\"L\",'ORDER FRAMES'!G63=\"R\"),\"\",'ORDER FRAMES'!E63))","v":""},{"$f":"IF('ORDER FRAMES'!F63=\"\",\"\",IF(OR('ORDER FRAMES'!G63=\"L\",'ORDER FRAMES'!G63=\"R\"),\"\",'ORDER FRAMES'!F63))","v":""},{"$f":"IF('ORDER FRAMES'!G63=\"\",\"\",IF(OR('ORDER FRAMES'!G63=\"L\",'ORDER FRAMES'!G63=\"R\"),\"\",'ORDER FRAMES'!G63))","v":""},{"$f":"IF('ORDER FRAMES'!H63=\"\",\"\",IF(OR('ORDER FRAMES'!G63=\"L\",'ORDER FRAMES'!G63=\"R\"),\"\",'ORDER FRAMES'!H63))","v":""},{"$f":"IF('ORDER FRAMES'!I63=\"\",\"\",IF(OR('ORDER FRAMES'!G63=\"L\",'ORDER FRAMES'!G63=\"R\"),\"\",'ORDER FRAMES'!I63))","v":""},{"$f":"IF('ORDER FRAMES'!J63=\"\",\"\",IF(OR('ORDER FRAMES'!G63=\"L\",'ORDER FRAMES'!G63=\"R\"),\"\",'ORDER FRAMES'!J63))","v":""},{"$f":"IF('ORDER FRAMES'!K63=\"\",\"\",IF(OR('ORDER FRAMES'!G63=\"L\",'ORDER FRAMES'!G63=\"R\"),\"\",'ORDER FRAMES'!K63))","v":""},{"$f":"IF('ORDER FRAMES'!L63=\"\",\"\",IF(OR('ORDER FRAMES'!G63=\"L\",'ORDER FRAMES'!G63=\"R\"),\"\",'ORDER FRAMES'!L63))","v":""},{"$f":"IF('ORDER FRAMES'!M63=\"\",\"\",IF(OR('ORDER FRAMES'!G63=\"L\",'ORDER FRAMES'!G63=\"R\"),\"\",'ORDER FRAMES'!M63))","v":""},null,null,null,{"$f":"IF(C48=\"\",\"\",IF(OR('ORDER FRAMES'!G63=\"L\",'ORDER FRAMES'!G63=\"R\"),\"\",'ORDER FRAMES'!N63))","v":""},{"$f":"IF(C48=\"\",\"\",IF(OR('ORDER FRAMES'!G63=\"L\",'ORDER FRAMES'!G63=\"R\"),\"\",'ORDER FRAMES'!O63))","v":""},null,"",null,null,"","","",{"$f":"IF('ORDER FRAMES'!Q63=\"\",\"\",IF(OR('ORDER FRAMES'!G63=\"L\",'ORDER FRAMES'!G63=\"R\"),\"\",'ORDER FRAMES'!Q63))","v":""},{"$f":"IF('ORDER FRAMES'!S63=\"\",\"\",IF(OR('ORDER FRAMES'!G63=\"L\",'ORDER FRAMES'!G63=\"R\"),\"\",'ORDER FRAMES'!S63))","v":""},{"$f":"IF('ORDER FRAMES'!T63=\"\",\"\",IF(OR('ORDER FRAMES'!G63=\"L\",'ORDER FRAMES'!G63=\"R\"),\"\",'ORDER FRAMES'!T63))","v":""},{"$f":"IF('ORDER FRAMES'!U63=\"\",\"\",IF(OR('ORDER FRAMES'!G63=\"L\",'ORDER FRAMES'!G63=\"R\"),\"\",'ORDER FRAMES'!U63))","v":""},{"$f":"IF(C48=\"\",\"\",'ORDER FRAMES'!V63)","v":""},null,null,null,null,"",null,null,null,"","",""]
[64,{"$f":"IF('ORDER FRAMES'!A64=\"\",\"\",IF(OR('ORDER FRAMES'!G63=\"L\",'ORDER FRAMES'!G63=\"R\"),\"\",'ORDER FRAMES'!A64))","v":""},{"$f":"IF('ORDER FRAMES'!B64=\"\",\"\",IF(OR('ORDER FRAMES'!G64=\"L\",'ORDER FRAMES'!G64=\"R\"),\"\",'ORDER FRAMES'!B64))","v":""},{"$f":"IF('ORDER FRAMES'!C64=\"\",\"\",IF(OR('ORDER FRAMES'!G64=\"L\",'ORDER FRAMES'!G64=\"R\"),\"\",'ORDER FRAMES'!C64))","v":""},null,{"$f":"IF('ORDER FRAMES'!E64=\"\",\"\",IF(OR('ORDER FRAMES'!G64=\"L\",'ORDER FRAMES'!G64=\"R\"),\"\",'ORDER FRAMES'!E64))","v":""},{"$f":"IF('ORDER FRAMES'!F64=\"\",\"\",IF(OR('ORDER FRAMES'!G64=\"L\",'ORDER FRAMES'!G64=\"R\"),\"\",'ORDER FRAMES'!F64))","v":""},{"$f":"IF('ORDER FRAMES'!G64=\"\",\"\",IF(OR('ORDER FRAMES'!G64=\"L\",'ORDER FRAMES'!G64=\"R\"),\"\",'ORDER FRAMES'!G64))","v":""},{"$f":"IF('ORDER FRAMES'!H64=\"\",\"\",IF(OR('ORDER FRAMES'!G64=\"L\",'ORDER FRAMES'!G64=\"R\"),\"\",'ORDER FRAMES'!H64))","v":""},{"$f":"IF('ORDER FRAMES'!I64=\"\",\"\",IF(OR('ORDER FRAMES'!G64=\"L\",'ORDER FRAMES'!G64=\"R\"),\"\",'ORDER FRAMES'!I64))","v":""},{"$f":"IF('ORDER FRAMES'!J64=\"\",\"\",IF(OR('ORDER FRAMES'!G64=\"L\",'ORDER FRAMES'!G64=\"R\"),\"\",'ORDER FRAMES'!J64))","v":""},{"$f":"IF('ORDER FRAMES'!K64=\"\",\"\",IF(OR('ORDER FRAMES'!G64=\"L\",'ORDER FRAMES'!G64=\"R\"),\"\",'ORDER FRAMES'!K64))","v":""},{"$f":"IF('ORDER FRAMES'!L64=\"\",\"\",IF(OR('ORDER FRAMES'!G64=\"L\",'ORDER FRAMES'!G64=\"R\"),\"\",'ORDER FRAMES'!L64))","v":""},{"$f":"IF('ORDER FRAMES'!M64=\"\",\"\",IF(OR('ORDER FRAMES'!G64=\"L\",'ORDER FRAMES'!G64=\"R\"),\"\",'ORDER FRAMES'!M64))","v":""},null,null,null,{"$f":"IF(C49=\"\",\"\",IF(OR('ORDER FRAMES'!G64=\"L\",'ORDER FRAMES'!G64=\"R\"),\"\",'ORDER FRAMES'!N64))","v":""},{"$f":"IF(C49=\"\",\"\",IF(OR('ORDER FRAMES'!G64=\"L\",'ORDER FRAMES'!G64=\"R\"),\"\",'ORDER FRAMES'!O64))","v":""},null,"",null,null,"","","",{"$f":"IF('ORDER FRAMES'!Q64=\"\",\"\",IF(OR('ORDER FRAMES'!G64=\"L\",'ORDER FRAMES'!G64=\"R\"),\"\",'ORDER FRAMES'!Q64))","v":""},{"$f":"IF('ORDER FRAMES'!S64=\"\",\"\",IF(OR('ORDER FRAMES'!G64=\"L\",'ORDER FRAMES'!G64=\"R\"),\"\",'ORDER FRAMES'!S64))","v":""},{"$f":"IF('ORDER FRAMES'!T64=\"\",\"\",IF(OR('ORDER FRAMES'!G64=\"L\",'ORDER FRAMES'!G64=\"R\"),\"\",'ORDER FRAMES'!T64))","v":""},{"$f":"IF('ORDER FRAMES'!U64=\"\",\"\",IF(OR('ORDER FRAMES'!G64=\"L\",'ORDER FRAMES'!G64=\"R\"),\"\",'ORDER FRAMES'!U64))","v":""},{"$f":"IF(C49=\"\",\"\",'ORDER FRAMES'!V64)","v":""},null,null,null,null,"",null,null,null,"","",""]
[65,{"$f":"IF('ORDER FRAMES'!A65=\"\",\"\",IF(OR('ORDER FRAMES'!G64=\"L\",'ORDER FRAMES'!G64=\"R\"),\"\",'ORDER FRAMES'!A65))","v":""},{"$f":"IF('ORDER FRAMES'!B65=\"\",\"\",IF(OR('ORDER FRAMES'!G65=\"L\",'ORDER FRAMES'!G65=\"R\"),\"\",'ORDER FRAMES'!B65))","v":""},{"$f":"IF('ORDER FRAMES'!C65=\"\",\"\",IF(OR('ORDER FRAMES'!G65=\"L\",'ORDER FRAMES'!G65=\"R\"),\"\",'ORDER FRAMES'!C65))","v":""},null,{"$f":"IF('ORDER FRAMES'!E65=\"\",\"\",IF(OR('ORDER FRAMES'!G65=\"L\",'ORDER FRAMES'!G65=\"R\"),\"\",'ORDER FRAMES'!E65))","v":""},{"$f":"IF('ORDER FRAMES'!F65=\"\",\"\",IF(OR('ORDER FRAMES'!G65=\"L\",'ORDER FRAMES'!G65=\"R\"),\"\",'ORDER FRAMES'!F65))","v":""},{"$f":"IF('ORDER FRAMES'!G65=\"\",\"\",IF(OR('ORDER FRAMES'!G65=\"L\",'ORDER FRAMES'!G65=\"R\"),\"\",'ORDER FRAMES'!G65))","v":""},{"$f":"IF('ORDER FRAMES'!H65=\"\",\"\",IF(OR('ORDER FRAMES'!G65=\"L\",'ORDER FRAMES'!G65=\"R\"),\"\",'ORDER FRAMES'!H65))","v":""},{"$f":"IF('ORDER FRAMES'!I65=\"\",\"\",IF(OR('ORDER FRAMES'!G65=\"L\",'ORDER FRAMES'!G65=\"R\"),\"\",'ORDER FRAMES'!I65))","v":""},{"$f":"IF('ORDER FRAMES'!J65=\"\",\"\",IF(OR('ORDER FRAMES'!G65=\"L\",'ORDER FRAMES'!G65=\"R\"),\"\",'ORDER FRAMES'!J65))","v":""},{"$f":"IF('ORDER FRAMES'!K65=\"\",\"\",IF(OR('ORDER FRAMES'!G65=\"L\",'ORDER FRAMES'!G65=\"R\"),\"\",'ORDER FRAMES'!K65))","v":""},{"$f":"IF('ORDER FRAMES'!L65=\"\",\"\",IF(OR('ORDER FRAMES'!G65=\"L\",'ORDER FRAMES'!G65=\"R\"),\"\",'ORDER FRAMES'!L65))","v":""},{"$f":"IF('ORDER FRAMES'!M65=\"\",\"\",IF(OR('ORDER FRAMES'!G65=\"L\",'ORDER FRAMES'!G65=\"R\"),\"\",'ORDER FRAMES'!M65))","v":""},null,null,null,{"$f":"IF(C50=\"\",\"\",IF(OR('ORDER FRAMES'!G65=\"L\",'ORDER FRAMES'!G65=\"R\"),\"\",'ORDER FRAMES'!N65))","v":""},{"$f":"IF(C50=\"\",\"\",IF(OR('ORDER FRAMES'!G65=\"L\",'ORDER FRAMES'!G65=\"R\"),\"\",'ORDER FRAMES'!O65))","v":""},null,"",null,null,"","","",{"$f":"IF('ORDER FRAMES'!Q65=\"\",\"\",IF(OR('ORDER FRAMES'!G65=\"L\",'ORDER FRAMES'!G65=\"R\"),\"\",'ORDER FRAMES'!Q65))","v":""},{"$f":"IF('ORDER FRAMES'!S65=\"\",\"\",IF(OR('ORDER FRAMES'!G65=\"L\",'ORDER FRAMES'!G65=\"R\"),\"\",'ORDER FRAMES'!S65))","v":""},{"$f":"IF('ORDER FRAMES'!T65=\"\",\"\",IF(OR('ORDER FRAMES'!G65=\"L\",'ORDER FRAMES'!G65=\"R\"),\"\",'ORDER FRAMES'!T65))","v":""},{"$f":"IF('ORDER FRAMES'!U65=\"\",\"\",IF(OR('ORDER FRAMES'!G65=\"L\",'ORDER FRAMES'!G65=\"R\"),\"\",'ORDER FRAMES'!U65))","v":""},{"$f":"IF(C50=\"\",\"\",'ORDER FRAMES'!V65)","v":""},null,null,null,null,"",null,null,null,"","",""]
[66,null,{"$f":"IF('ORDER FRAMES'!B66=\"\",\"\",IF(OR('ORDER FRAMES'!G66=\"L\",'ORDER FRAMES'!G66=\"R\"),\"\",'ORDER FRAMES'!B66))","v":""},{"$f":"IF('ORDER FRAMES'!C66=\"\",\"\",IF(OR('ORDER FRAMES'!G66=\"L\",'ORDER FRAMES'!G66=\"R\"),\"\",'ORDER FRAMES'!C66))","v":""},null,{"$f":"IF('ORDER FRAMES'!E66=\"\",\"\",IF(OR('ORDER FRAMES'!G66=\"L\",'ORDER FRAMES'!G66=\"R\"),\"\",'ORDER FRAMES'!E66))","v":""},{"$f":"IF('ORDER FRAMES'!F66=\"\",\"\",IF(OR('ORDER FRAMES'!G66=\"L\",'ORDER FRAMES'!G66=\"R\"),\"\",'ORDER FRAMES'!F66))","v":""},{"$f":"IF('ORDER FRAMES'!G66=\"\",\"\",IF(OR('ORDER FRAMES'!G66=\"L\",'ORDER FRAMES'!G66=\"R\"),\"\",'ORDER FRAMES'!G66))","v":""},{"$f":"IF('ORDER FRAMES'!H66=\"\",\"\",IF(OR('ORDER FRAMES'!G66=\"L\",'ORDER FRAMES'!G66=\"R\"),\"\",'ORDER FRAMES'!H66))","v":""},{"$f":"IF('ORDER FRAMES'!I66=\"\",\"\",IF(OR('ORDER FRAMES'!G66=\"L\",'ORDER FRAMES'!G66=\"R\"),\"\",'ORDER FRAMES'!I66))","v":""},{"$f":"IF('ORDER FRAMES'!J66=\"\",\"\",IF(OR('ORDER FRAMES'!G66=\"L\",'ORDER FRAMES'!G66=\"R\"),\"\",'ORDER FRAMES'!J66))","v":""},{"$f":"IF('ORDER FRAMES'!K66=\"\",\"\",IF(OR('ORDER FRAMES'!G66=\"L\",'ORDER FRAMES'!G66=\"R\"),\"\",'ORDER FRAMES'!K66))","v":""},{"$f":"IF('ORDER FRAMES'!L66=\"\",\"\",IF(OR('ORDER FRAMES'!G66=\"L\",'ORDER FRAMES'!G66=\"R\"),\"\",'ORDER FRAMES'!L66))","v":""},{"$f":"IF('ORDER FRAMES'!M66=\"\",\"\",IF(OR('ORDER FRAMES'!G66=\"L\",'ORDER FRAMES'!G66=\"R\"),\"\",'ORDER FRAMES'!M66))","v":""},null,null,null,{"$f":"IF(C51=\"\",\"\",IF(OR('ORDER FRAMES'!G66=\"L\",'ORDER FRAMES'!G66=\"R\"),\"\",'ORDER FRAMES'!N66))","v":""},{"$f":"IF(C51=\"\",\"\",IF(OR('ORDER FRAMES'!G66=\"L\",'ORDER FRAMES'!G66=\"R\"),\"\",'ORDER FRAMES'!O66))","v":""},null,"",null,null,"","","",{"$f":"IF('ORDER FRAMES'!Q66=\"\",\"\",IF(OR('ORDER FRAMES'!G66=\"L\",'ORDER FRAMES'!G66=\"R\"),\"\",'ORDER FRAMES'!Q66))","v":""},{"$f":"IF('ORDER FRAMES'!S66=\"\",\"\",IF(OR('ORDER FRAMES'!G66=\"L\",'ORDER FRAMES'!G66=\"R\"),\"\",'ORDER FRAMES'!S66))","v":""},{"$f":"IF('ORDER FRAMES'!T66=\"\",\"\",IF(OR('ORDER FRAMES'!G66=\"L\",'ORDER FRAMES'!G66=\"R\"),\"\",'ORDER FRAMES'!T66))","v":""},{"$f":"IF('ORDER FRAMES'!U66=\"\",\"\",IF(OR('ORDER FRAMES'!G66=\"L\",'ORDER FRAMES'!G66=\"R\"),\"\",'ORDER FRAMES'!U66))","v":""},{"$f":"IF(C51=\"\",\"\",'ORDER FRAMES'!V66)","v":""},null,null,null,null,"",null,null,null,"","",""]
[67,null,{"$f":"IF('ORDER FRAMES'!B67=\"\",\"\",IF(OR('ORDER FRAMES'!G67=\"L\",'ORDER FRAMES'!G67=\"R\"),\"\",'ORDER FRAMES'!B67))","v":""},{"$f":"IF('ORDER FRAMES'!C67=\"\",\"\",IF(OR('ORDER FRAMES'!G67=\"L\",'ORDER FRAMES'!G67=\"R\"),\"\",'ORDER FRAMES'!C67))","v":""},null,{"$f":"IF('ORDER FRAMES'!E67=\"\",\"\",IF(OR('ORDER FRAMES'!G67=\"L\",'ORDER FRAMES'!G67=\"R\"),\"\",'ORDER FRAMES'!E67))","v":""},{"$f":"IF('ORDER FRAMES'!F67=\"\",\"\",IF(OR('ORDER FRAMES'!G67=\"L\",'ORDER FRAMES'!G67=\"R\"),\"\",'ORDER FRAMES'!F67))","v":""},{"$f":"IF('ORDER FRAMES'!G67=\"\",\"\",IF(OR('ORDER FRAMES'!G67=\"L\",'ORDER FRAMES'!G67=\"R\"),\"\",'ORDER FRAMES'!G67))","v":""},{"$f":"IF('ORDER FRAMES'!H67=\"\",\"\",IF(OR('ORDER FRAMES'!G67=\"L\",'ORDER FRAMES'!G67=\"R\"),\"\",'ORDER FRAMES'!H67))","v":""},{"$f":"IF('ORDER FRAMES'!I67=\"\",\"\",IF(OR('ORDER FRAMES'!G67=\"L\",'ORDER FRAMES'!G67=\"R\"),\"\",'ORDER FRAMES'!I67))","v":""},{"$f":"IF('ORDER FRAMES'!J67=\"\",\"\",IF(OR('ORDER FRAMES'!G67=\"L\",'ORDER FRAMES'!G67=\"R\"),\"\",'ORDER FRAMES'!J67))","v":""},{"$f":"IF('ORDER FRAMES'!K67=\"\",\"\",IF(OR('ORDER FRAMES'!G67=\"L\",'ORDER FRAMES'!G67=\"R\"),\"\",'ORDER FRAMES'!K67))","v":""},{"$f":"IF('ORDER FRAMES'!L67=\"\",\"\",IF(OR('ORDER FRAMES'!G67=\"L\",'ORDER FRAMES'!G67=\"R\"),\"\",'ORDER FRAMES'!L67))","v":""},{"$f":"IF('ORDER FRAMES'!M67=\"\",\"\",IF(OR('ORDER FRAMES'!G67=\"L\",'ORDER FRAMES'!G67=\"R\"),\"\",'ORDER FRAMES'!M67))","v":""},null,null,null,{"$f":"IF(C52=\"\",\"\",IF(OR('ORDER FRAMES'!G67=\"L\",'ORDER FRAMES'!G67=\"R\"),\"\",'ORDER FRAMES'!N67))","v":""},{"$f":"IF(C52=\"\",\"\",IF(OR('ORDER FRAMES'!G67=\"L\",'ORDER FRAMES'!G67=\"R\"),\"\",'ORDER FRAMES'!O67))","v":""},null,"",null,null,"","","",{"$f":"IF('ORDER FRAMES'!Q67=\"\",\"\",IF(OR('ORDER FRAMES'!G67=\"L\",'ORDER FRAMES'!G67=\"R\"),\"\",'ORDER FRAMES'!Q67))","v":""},{"$f":"IF('ORDER FRAMES'!S67=\"\",\"\",IF(OR('ORDER FRAMES'!G67=\"L\",'ORDER FRAMES'!G67=\"R\"),\"\",'ORDER FRAMES'!S67))","v":""},{"$f":"IF('ORDER FRAMES'!T67=\"\",\"\",IF(OR('ORDER FRAMES'!G67=\"L\",'ORDER FRAMES'!G67=\"R\"),\"\",'ORDER FRAMES'!T67))","v":""},{"$f":"IF('ORDER FRAMES'!U67=\"\",\"\",IF(OR('ORDER FRAMES'!G67=\"L\",'ORDER FRAMES'!G67=\"R\"),\"\",'ORDER FRAMES'!U67))","v":""},{"$f":"IF(C52=\"\",\"\",'ORDER FRAMES'!V67)","v":""},null,null,null,null,"",null,null,null,"","",""]
[68,null,{"$f":"IF('ORDER FRAMES'!B68=\"\",\"\",IF(OR('ORDER FRAMES'!G68=\"L\",'ORDER FRAMES'!G68=\"R\"),\"\",'ORDER FRAMES'!B68))","v":""},{"$f":"IF('ORDER FRAMES'!C68=\"\",\"\",IF(OR('ORDER FRAMES'!G68=\"L\",'ORDER FRAMES'!G68=\"R\"),\"\",'ORDER FRAMES'!C68))","v":""},null,{"$f":"IF('ORDER FRAMES'!E68=\"\",\"\",IF(OR('ORDER FRAMES'!G68=\"L\",'ORDER FRAMES'!G68=\"R\"),\"\",'ORDER FRAMES'!E68))","v":""},{"$f":"IF('ORDER FRAMES'!F68=\"\",\"\",IF(OR('ORDER FRAMES'!G68=\"L\",'ORDER FRAMES'!G68=\"R\"),\"\",'ORDER FRAMES'!F68))","v":""},{"$f":"IF('ORDER FRAMES'!G68=\"\",\"\",IF(OR('ORDER FRAMES'!G68=\"L\",'ORDER FRAMES'!G68=\"R\"),\"\",'ORDER FRAMES'!G68))","v":""},{"$f":"IF('ORDER FRAMES'!H68=\"\",\"\",IF(OR('ORDER FRAMES'!G68=\"L\",'ORDER FRAMES'!G68=\"R\"),\"\",'ORDER FRAMES'!H68))","v":""},{"$f":"IF('ORDER FRAMES'!I68=\"\",\"\",IF(OR('ORDER FRAMES'!G68=\"L\",'ORDER FRAMES'!G68=\"R\"),\"\",'ORDER FRAMES'!I68))","v":""},{"$f":"IF('ORDER FRAMES'!J68=\"\",\"\",IF(OR('ORDER FRAMES'!G68=\"L\",'ORDER FRAMES'!G68=\"R\"),\"\",'ORDER FRAMES'!J68))","v":""},{"$f":"IF('ORDER FRAMES'!K68=\"\",\"\",IF(OR('ORDER FRAMES'!G68=\"L\",'ORDER FRAMES'!G68=\"R\"),\"\",'ORDER FRAMES'!K68))","v":""},{"$f":"IF('ORDER FRAMES'!L68=\"\",\"\",IF(OR('ORDER FRAMES'!G68=\"L\",'ORDER FRAMES'!G68=\"R\"),\"\",'ORDER FRAMES'!L68))","v":""},{"$f":"IF('ORDER FRAMES'!M68=\"\",\"\",IF(OR('ORDER FRAMES'!G68=\"L\",'ORDER FRAMES'!G68=\"R\"),\"\",'ORDER FRAMES'!M68))","v":""},null,null,null,{"$f":"IF(C53=\"\",\"\",IF(OR('ORDER FRAMES'!G68=\"L\",'ORDER FRAMES'!G68=\"R\"),\"\",'ORDER FRAMES'!N68))","v":""},{"$f":"IF(C53=\"\",\"\",IF(OR('ORDER FRAMES'!G68=\"L\",'ORDER FRAMES'!G68=\"R\"),\"\",'ORDER FRAMES'!O68))","v":""},null,"",null,null,"","","",{"$f":"IF('ORDER FRAMES'!Q68=\"\",\"\",IF(OR('ORDER FRAMES'!G68=\"L\",'ORDER FRAMES'!G68=\"R\"),\"\",'ORDER FRAMES'!Q68))","v":""},{"$f":"IF('ORDER FRAMES'!S68=\"\",\"\",IF(OR('ORDER FRAMES'!G68=\"L\",'ORDER FRAMES'!G68=\"R\"),\"\",'ORDER FRAMES'!S68))","v":""},{"$f":"IF('ORDER FRAMES'!T68=\"\",\"\",IF(OR('ORDER FRAMES'!G68=\"L\",'ORDER FRAMES'!G68=\"R\"),\"\",'ORDER FRAMES'!T68))","v":""},{"$f":"IF('ORDER FRAMES'!U68=\"\",\"\",IF(OR('ORDER FRAMES'!G68=\"L\",'ORDER FRAMES'!G68=\"R\"),\"\",'ORDER FRAMES'!U68))","v":""},{"$f":"IF(C53=\"\",\"\",'ORDER FRAMES'!V68)","v":""},null,null,null,null,"",null,null,null,"","",""]
[69,null,{"$f":"IF('ORDER FRAMES'!B69=\"\",\"\",IF(OR('ORDER FRAMES'!G69=\"L\",'ORDER FRAMES'!G69=\"R\"),\"\",'ORDER FRAMES'!B69))","v":""},{"$f":"IF('ORDER FRAMES'!C69=\"\",\"\",IF(OR('ORDER FRAMES'!G69=\"L\",'ORDER FRAMES'!G69=\"R\"),\"\",'ORDER FRAMES'!C69))","v":""},null,{"$f":"IF('ORDER FRAMES'!E69=\"\",\"\",IF(OR('ORDER FRAMES'!G69=\"L\",'ORDER FRAMES'!G69=\"R\"),\"\",'ORDER FRAMES'!E69))","v":""},{"$f":"IF('ORDER FRAMES'!F69=\"\",\"\",IF(OR('ORDER FRAMES'!G69=\"L\",'ORDER FRAMES'!G69=\"R\"),\"\",'ORDER FRAMES'!F69))","v":""},{"$f":"IF('ORDER FRAMES'!G69=\"\",\"\",IF(OR('ORDER FRAMES'!G69=\"L\",'ORDER FRAMES'!G69=\"R\"),\"\",'ORDER FRAMES'!G69))","v":""},{"$f":"IF('ORDER FRAMES'!H69=\"\",\"\",IF(OR('ORDER FRAMES'!G69=\"L\",'ORDER FRAMES'!G69=\"R\"),\"\",'ORDER FRAMES'!H69))","v":""},{"$f":"IF('ORDER FRAMES'!I69=\"\",\"\",IF(OR('ORDER FRAMES'!G69=\"L\",'ORDER FRAMES'!G69=\"R\"),\"\",'ORDER FRAMES'!I69))","v":""},{"$f":"IF('ORDER FRAMES'!J69=\"\",\"\",IF(OR('ORDER FRAMES'!G69=\"L\",'ORDER FRAMES'!G69=\"R\"),\"\",'ORDER FRAMES'!J69))","v":""},{"$f":"IF('ORDER FRAMES'!K69=\"\",\"\",IF(OR('ORDER FRAMES'!G69=\"L\",'ORDER FRAMES'!G69=\"R\"),\"\",'ORDER FRAMES'!K69))","v":""},{"$f":"IF('ORDER FRAMES'!L69=\"\",\"\",IF(OR('ORDER FRAMES'!G69=\"L\",'ORDER FRAMES'!G69=\"R\"),\"\",'ORDER FRAMES'!L69))","v":""},{"$f":"IF('ORDER FRAMES'!M69=\"\",\"\",IF(OR('ORDER FRAMES'!G69=\"L\",'ORDER FRAMES'!G69=\"R\"),\"\",'ORDER FRAMES'!M69))","v":""},null,null,null,{"$f":"IF(C54=\"\",\"\",IF(OR('ORDER FRAMES'!G69=\"L\",'ORDER FRAMES'!G69=\"R\"),\"\",'ORDER FRAMES'!N69))","v":""},{"$f":"IF(C54=\"\",\"\",IF(OR('ORDER FRAMES'!G69=\"L\",'ORDER FRAMES'!G69=\"R\"),\"\",'ORDER FRAMES'!O69))","v":""},null,"",null,null,"","","",{"$f":"IF('ORDER FRAMES'!Q69=\"\",\"\",IF(OR('ORDER FRAMES'!G69=\"L\",'ORDER FRAMES'!G69=\"R\"),\"\",'ORDER FRAMES'!Q69))","v":""},{"$f":"IF('ORDER FRAMES'!S69=\"\",\"\",IF(OR('ORDER FRAMES'!G69=\"L\",'ORDER FRAMES'!G69=\"R\"),\"\",'ORDER FRAMES'!S69))","v":""},{"$f":"IF('ORDER FRAMES'!T69=\"\",\"\",IF(OR('ORDER FRAMES'!G69=\"L\",'ORDER FRAMES'!G69=\"R\"),\"\",'ORDER FRAMES'!T69))","v":""},{"$f":"IF('ORDER FRAMES'!U69=\"\",\"\",IF(OR('ORDER FRAMES'!G69=\"L\",'ORDER FRAMES'!G69=\"R\"),\"\",'ORDER FRAMES'!U69))","v":""},{"$f":"IF(C54=\"\",\"\",'ORDER FRAMES'!V69)","v":""},null,null,null,null,"",null,null,null,"","",""]
[70,null,{"$f":"IF('ORDER FRAMES'!B70=\"\",\"\",IF(OR('ORDER FRAMES'!G70=\"L\",'ORDER FRAMES'!G70=\"R\"),\"\",'ORDER FRAMES'!B70))","v":""},{"$f":"IF('ORDER FRAMES'!C70=\"\",\"\",IF(OR('ORDER FRAMES'!G70=\"L\",'ORDER FRAMES'!G70=\"R\"),\"\",'ORDER FRAMES'!C70))","v":""},null,{"$f":"IF('ORDER FRAMES'!E70=\"\",\"\",IF(OR('ORDER FRAMES'!G70=\"L\",'ORDER FRAMES'!G70=\"R\"),\"\",'ORDER FRAMES'!E70))","v":""},{"$f":"IF('ORDER FRAMES'!F70=\"\",\"\",IF(OR('ORDER FRAMES'!G70=\"L\",'ORDER FRAMES'!G70=\"R\"),\"\",'ORDER FRAMES'!F70))","v":""},{"$f":"IF('ORDER FRAMES'!G70=\"\",\"\",IF(OR('ORDER FRAMES'!G70=\"L\",'ORDER FRAMES'!G70=\"R\"),\"\",'ORDER FRAMES'!G70))","v":""},{"$f":"IF('ORDER FRAMES'!H70=\"\",\"\",IF(OR('ORDER FRAMES'!G70=\"L\",'ORDER FRAMES'!G70=\"R\"),\"\",'ORDER FRAMES'!H70))","v":""},{"$f":"IF('ORDER FRAMES'!I70=\"\",\"\",IF(OR('ORDER FRAMES'!G70=\"L\",'ORDER FRAMES'!G70=\"R\"),\"\",'ORDER FRAMES'!I70))","v":""},{"$f":"IF('ORDER FRAMES'!J70=\"\",\"\",IF(OR('ORDER FRAMES'!G70=\"L\",'ORDER FRAMES'!G70=\"R\"),\"\",'ORDER FRAMES'!J70))","v":""},{"$f":"IF('ORDER FRAMES'!K70=\"\",\"\",IF(OR('ORDER FRAMES'!G70=\"L\",'ORDER FRAMES'!G70=\"R\"),\"\",'ORDER FRAMES'!K70))","v":""},{"$f":"IF('ORDER FRAMES'!L70=\"\",\"\",IF(OR('ORDER FRAMES'!G70=\"L\",'ORDER FRAMES'!G70=\"R\"),\"\",'ORDER FRAMES'!L70))","v":""},{"$f":"IF('ORDER FRAMES'!M70=\"\",\"\",IF(OR('ORDER FRAMES'!G70=\"L\",'ORDER FRAMES'!G70=\"R\"),\"\",'ORDER FRAMES'!M70))","v":""},null,null,null,{"$f":"IF(C55=\"\",\"\",IF(OR('ORDER FRAMES'!G70=\"L\",'ORDER FRAMES'!G70=\"R\"),\"\",'ORDER FRAMES'!N70))","v":""},{"$f":"IF(C55=\"\",\"\",IF(OR('ORDER FRAMES'!G70=\"L\",'ORDER FRAMES'!G70=\"R\"),\"\",'ORDER FRAMES'!O70))","v":""},null,"",null,null,"","","",{"$f":"IF('ORDER FRAMES'!Q70=\"\",\"\",IF(OR('ORDER FRAMES'!G70=\"L\",'ORDER FRAMES'!G70=\"R\"),\"\",'ORDER FRAMES'!Q70))","v":""},{"$f":"IF('ORDER FRAMES'!S70=\"\",\"\",IF(OR('ORDER FRAMES'!G70=\"L\",'ORDER FRAMES'!G70=\"R\"),\"\",'ORDER FRAMES'!S70))","v":""},{"$f":"IF('ORDER FRAMES'!T70=\"\",\"\",IF(OR('ORDER FRAMES'!G70=\"L\",'ORDER FRAMES'!G70=\"R\"),\"\",'ORDER FRAMES'!T70))","v":""},{"$f":"IF('ORDER FRAMES'!U70=\"\",\"\",IF(OR('ORDER FRAMES'!G70=\"L\",'ORDER FRAMES'!G70=\"R\"),\"\",'ORDER FRAMES'!U70))","v":""},{"$f":"IF(C55=\"\",\"\",'ORDER FRAMES'!V70)","v":""},null,null,null,null,"",null,null,null,"","",""]
[71,null,{"$f":"IF('ORDER FRAMES'!B71=\"\",\"\",IF(OR('ORDER FRAMES'!G71=\"L\",'ORDER FRAMES'!G71=\"R\"),\"\",'ORDER FRAMES'!B71))","v":""},{"$f":"IF('ORDER FRAMES'!C71=\"\",\"\",IF(OR('ORDER FRAMES'!G71=\"L\",'ORDER FRAMES'!G71=\"R\"),\"\",'ORDER FRAMES'!C71))","v":""},null,{"$f":"IF('ORDER FRAMES'!E71=\"\",\"\",IF(OR('ORDER FRAMES'!G71=\"L\",'ORDER FRAMES'!G71=\"R\"),\"\",'ORDER FRAMES'!E71))","v":""},{"$f":"IF('ORDER FRAMES'!F71=\"\",\"\",IF(OR('ORDER FRAMES'!G71=\"L\",'ORDER FRAMES'!G71=\"R\"),\"\",'ORDER FRAMES'!F71))","v":""},{"$f":"IF('ORDER FRAMES'!G71=\"\",\"\",IF(OR('ORDER FRAMES'!G71=\"L\",'ORDER FRAMES'!G71=\"R\"),\"\",'ORDER FRAMES'!G71))","v":""},{"$f":"IF('ORDER FRAMES'!H71=\"\",\"\",IF(OR('ORDER FRAMES'!G71=\"L\",'ORDER FRAMES'!G71=\"R\"),\"\",'ORDER FRAMES'!H71))","v":""},{"$f":"IF('ORDER FRAMES'!I71=\"\",\"\",IF(OR('ORDER FRAMES'!G71=\"L\",'ORDER FRAMES'!G71=\"R\"),\"\",'ORDER FRAMES'!I71))","v":""},{"$f":"IF('ORDER FRAMES'!J71=\"\",\"\",IF(OR('ORDER FRAMES'!G71=\"L\",'ORDER FRAMES'!G71=\"R\"),\"\",'ORDER FRAMES'!J71))","v":""},{"$f":"IF('ORDER FRAMES'!K71=\"\",\"\",IF(OR('ORDER FRAMES'!G71=\"L\",'ORDER FRAMES'!G71=\"R\"),\"\",'ORDER FRAMES'!K71))","v":""},{"$f":"IF('ORDER FRAMES'!L71=\"\",\"\",IF(OR('ORDER FRAMES'!G71=\"L\",'ORDER FRAMES'!G71=\"R\"),\"\",'ORDER FRAMES'!L71))","v":""},{"$f":"IF('ORDER FRAMES'!M71=\"\",\"\",IF(OR('ORDER FRAMES'!G71=\"L\",'ORDER FRAMES'!G71=\"R\"),\"\",'ORDER FRAMES'!M71))","v":""},null,null,null,{"$f":"IF(C56=\"\",\"\",IF(OR('ORDER FRAMES'!G71=\"L\",'ORDER FRAMES'!G71=\"R\"),\"\",'ORDER FRAMES'!N71))","v":""},{"$f":"IF(C56=\"\",\"\",IF(OR('ORDER FRAMES'!G71=\"L\",'ORDER FRAMES'!G71=\"R\"),\"\",'ORDER FRAMES'!O71))","v":""},null,"",null,null,"","","",{"$f":"IF('ORDER FRAMES'!Q71=\"\",\"\",IF(OR('ORDER FRAMES'!G71=\"L\",'ORDER FRAMES'!G71=\"R\"),\"\",'ORDER FRAMES'!Q71))","v":""},{"$f":"IF('ORDER FRAMES'!S71=\"\",\"\",IF(OR('ORDER FRAMES'!G71=\"L\",'ORDER FRAMES'!G71=\"R\"),\"\",'ORDER FRAMES'!S71))","v":""},{"$f":"IF('ORDER FRAMES'!T71=\"\",\"\",IF(OR('ORDER FRAMES'!G71=\"L\",'ORDER FRAMES'!G71=\"R\"),\"\",'ORDER FRAMES'!T71))","v":""},{"$f":"IF('ORDER FRAMES'!U71=\"\",\"\",IF(OR('ORDER FRAMES'!G71=\"L\",'ORDER FRAMES'!G71=\"R\"),\"\",'ORDER FRAMES'!U71))","v":""},{"$f":"IF(C56=\"\",\"\",'ORDER FRAMES'!V71)","v":""},null,null,null,null,"",null,null,null,"","",""]
[72,null,{"$f":"IF('ORDER FRAMES'!B72=\"\",\"\",IF(OR('ORDER FRAMES'!G72=\"L\",'ORDER FRAMES'!G72=\"R\"),\"\",'ORDER FRAMES'!B72))","v":""},{"$f":"IF('ORDER FRAMES'!C72=\"\",\"\",IF(OR('ORDER FRAMES'!G72=\"L\",'ORDER FRAMES'!G72=\"R\"),\"\",'ORDER FRAMES'!C72))","v":""},null,{"$f":"IF('ORDER FRAMES'!E72=\"\",\"\",IF(OR('ORDER FRAMES'!G72=\"L\",'ORDER FRAMES'!G72=\"R\"),\"\",'ORDER FRAMES'!E72))","v":""},{"$f":"IF('ORDER FRAMES'!F72=\"\",\"\",IF(OR('ORDER FRAMES'!G72=\"L\",'ORDER FRAMES'!G72=\"R\"),\"\",'ORDER FRAMES'!F72))","v":""},{"$f":"IF('ORDER FRAMES'!G72=\"\",\"\",IF(OR('ORDER FRAMES'!G72=\"L\",'ORDER FRAMES'!G72=\"R\"),\"\",'ORDER FRAMES'!G72))","v":""},{"$f":"IF('ORDER FRAMES'!H72=\"\",\"\",IF(OR('ORDER FRAMES'!G72=\"L\",'ORDER FRAMES'!G72=\"R\"),\"\",'ORDER FRAMES'!H72))","v":""},{"$f":"IF('ORDER FRAMES'!I72=\"\",\"\",IF(OR('ORDER FRAMES'!G72=\"L\",'ORDER FRAMES'!G72=\"R\"),\"\",'ORDER FRAMES'!I72))","v":""},{"$f":"IF('ORDER FRAMES'!J72=\"\",\"\",IF(OR('ORDER FRAMES'!G72=\"L\",'ORDER FRAMES'!G72=\"R\"),\"\",'ORDER FRAMES'!J72))","v":""},{"$f":"IF('ORDER FRAMES'!K72=\"\",\"\",IF(OR('ORDER FRAMES'!G72=\"L\",'ORDER FRAMES'!G72=\"R\"),\"\",'ORDER FRAMES'!K72))","v":""},{"$f":"IF('ORDER FRAMES'!L72=\"\",\"\",IF(OR('ORDER FRAMES'!G72=\"L\",'ORDER FRAMES'!G72=\"R\"),\"\",'ORDER FRAMES'!L72))","v":""},{"$f":"IF('ORDER FRAMES'!M72=\"\",\"\",IF(OR('ORDER FRAMES'!G72=\"L\",'ORDER FRAMES'!G72=\"R\"),\"\",'ORDER FRAMES'!M72))","v":""},null,null,null,{"$f":"IF(C57=\"\",\"\",IF(OR('ORDER FRAMES'!G72=\"L\",'ORDER FRAMES'!G72=\"R\"),\"\",'ORDER FRAMES'!N72))","v":""},{"$f":"IF(C57=\"\",\"\",IF(OR('ORDER FRAMES'!G72=\"L\",'ORDER FRAMES'!G72=\"R\"),\"\",'ORDER FRAMES'!O72))","v":""},null,"",null,null,"","","",{"$f":"IF('ORDER FRAMES'!Q72=\"\",\"\",IF(OR('ORDER FRAMES'!G72=\"L\",'ORDER FRAMES'!G72=\"R\"),\"\",'ORDER FRAMES'!Q72))","v":""},{"$f":"IF('ORDER FRAMES'!S72=\"\",\"\",IF(OR('ORDER FRAMES'!G72=\"L\",'ORDER FRAMES'!G72=\"R\"),\"\",'ORDER FRAMES'!S72))","v":""},{"$f":"IF('ORDER FRAMES'!T72=\"\",\"\",IF(OR('ORDER FRAMES'!G72=\"L\",'ORDER FRAMES'!G72=\"R\"),\"\",'ORDER FRAMES'!T72))","v":""},{"$f":"IF('ORDER FRAMES'!U72=\"\",\"\",IF(OR('ORDER FRAMES'!G72=\"L\",'ORDER FRAMES'!G72=\"R\"),\"\",'ORDER FRAMES'!U72))","v":""},{"$f":"IF(C57=\"\",\"\",'ORDER FRAMES'!V72)","v":""},null,null,null,null,"",null,null,null,"","",""]
[73,null,{"$f":"IF('ORDER FRAMES'!B73=\"\",\"\",IF(OR('ORDER FRAMES'!G73=\"L\",'ORDER FRAMES'!G73=\"R\"),\"\",'ORDER FRAMES'!B73))","v":""},{"$f":"IF('ORDER FRAMES'!C73=\"\",\"\",IF(OR('ORDER FRAMES'!G73=\"L\",'ORDER FRAMES'!G73=\"R\"),\"\",'ORDER FRAMES'!C73))","v":""},null,{"$f":"IF('ORDER FRAMES'!E73=\"\",\"\",IF(OR('ORDER FRAMES'!G73=\"L\",'ORDER FRAMES'!G73=\"R\"),\"\",'ORDER FRAMES'!E73))","v":""},{"$f":"IF('ORDER FRAMES'!F73=\"\",\"\",IF(OR('ORDER FRAMES'!G73=\"L\",'ORDER FRAMES'!G73=\"R\"),\"\",'ORDER FRAMES'!F73))","v":""},{"$f":"IF('ORDER FRAMES'!G73=\"\",\"\",IF(OR('ORDER FRAMES'!G73=\"L\",'ORDER FRAMES'!G73=\"R\"),\"\",'ORDER FRAMES'!G73))","v":""},{"$f":"IF('ORDER FRAMES'!H73=\"\",\"\",IF(OR('ORDER FRAMES'!G73=\"L\",'ORDER FRAMES'!G73=\"R\"),\"\",'ORDER FRAMES'!H73))","v":""},{"$f":"IF('ORDER FRAMES'!I73=\"\",\"\",IF(OR('ORDER FRAMES'!G73=\"L\",'ORDER FRAMES'!G73=\"R\"),\"\",'ORDER FRAMES'!I73))","v":""},{"$f":"IF('ORDER FRAMES'!J73=\"\",\"\",IF(OR('ORDER FRAMES'!G73=\"L\",'ORDER FRAMES'!G73=\"R\"),\"\",'ORDER FRAMES'!J73))","v":""},{"$f":"IF('ORDER FRAMES'!K73=\"\",\"\",IF(OR('ORDER FRAMES'!G73=\"L\",'ORDER FRAMES'!G73=\"R\"),\"\",'ORDER FRAMES'!K73))","v":""},{"$f":"IF('ORDER FRAMES'!L73=\"\",\"\",IF(OR('ORDER FRAMES'!G73=\"L\",'ORDER FRAMES'!G73=\"R\"),\"\",'ORDER FRAMES'!L73))","v":""},{"$f":"IF('ORDER FRAMES'!M73=\"\",\"\",IF(OR('ORDER FRAMES'!G73=\"L\",'ORDER FRAMES'!G73=\"R\"),\"\",'ORDER FRAMES'!M73))","v":""},null,null,null,{"$f":"IF(C58=\"\",\"\",IF(OR('ORDER FRAMES'!G73=\"L\",'ORDER FRAMES'!G73=\"R\"),\"\",'ORDER FRAMES'!N73))","v":""},{"$f":"IF(C58=\"\",\"\",IF(OR('ORDER FRAMES'!G73=\"L\",'ORDER FRAMES'!G73=\"R\"),\"\",'ORDER FRAMES'!O73))","v":""},null,"",null,null,"","","",{"$f":"IF('ORDER FRAMES'!Q73=\"\",\"\",IF(OR('ORDER FRAMES'!G73=\"L\",'ORDER FRAMES'!G73=\"R\"),\"\",'ORDER FRAMES'!Q73))","v":""},{"$f":"IF('ORDER FRAMES'!S73=\"\",\"\",IF(OR('ORDER FRAMES'!G73=\"L\",'ORDER FRAMES'!G73=\"R\"),\"\",'ORDER FRAMES'!S73))","v":""},{"$f":"IF('ORDER FRAMES'!T73=\"\",\"\",IF(OR('ORDER FRAMES'!G73=\"L\",'ORDER FRAMES'!G73=\"R\"),\"\",'ORDER FRAMES'!T73))","v":""},{"$f":"IF('ORDER FRAMES'!U73=\"\",\"\",IF(OR('ORDER FRAMES'!G73=\"L\",'ORDER FRAMES'!G73=\"R\"),\"\",'ORDER FRAMES'!U73))","v":""},{"$f":"IF(C58=\"\",\"\",'ORDER FRAMES'!V73)","v":""},null,null,null,null,"",null,null,null,"","",""]
[74,null,{"$f":"IF('ORDER FRAMES'!B74=\"\",\"\",IF(OR('ORDER FRAMES'!G74=\"L\",'ORDER FRAMES'!G74=\"R\"),\"\",'ORDER FRAMES'!B74))","v":""},{"$f":"IF('ORDER FRAMES'!C74=\"\",\"\",IF(OR('ORDER FRAMES'!G74=\"L\",'ORDER FRAMES'!G74=\"R\"),\"\",'ORDER FRAMES'!C74))","v":""},null,{"$f":"IF('ORDER FRAMES'!E74=\"\",\"\",IF(OR('ORDER FRAMES'!G74=\"L\",'ORDER FRAMES'!G74=\"R\"),\"\",'ORDER FRAMES'!E74))","v":""},{"$f":"IF('ORDER FRAMES'!F74=\"\",\"\",IF(OR('ORDER FRAMES'!G74=\"L\",'ORDER FRAMES'!G74=\"R\"),\"\",'ORDER FRAMES'!F74))","v":""},{"$f":"IF('ORDER FRAMES'!G74=\"\",\"\",IF(OR('ORDER FRAMES'!G74=\"L\",'ORDER FRAMES'!G74=\"R\"),\"\",'ORDER FRAMES'!G74))","v":""},{"$f":"IF('ORDER FRAMES'!H74=\"\",\"\",IF(OR('ORDER FRAMES'!G74=\"L\",'ORDER FRAMES'!G74=\"R\"),\"\",'ORDER FRAMES'!H74))","v":""},{"$f":"IF('ORDER FRAMES'!I74=\"\",\"\",IF(OR('ORDER FRAMES'!G74=\"L\",'ORDER FRAMES'!G74=\"R\"),\"\",'ORDER FRAMES'!I74))","v":""},{"$f":"IF('ORDER FRAMES'!J74=\"\",\"\",IF(OR('ORDER FRAMES'!G74=\"L\",'ORDER FRAMES'!G74=\"R\"),\"\",'ORDER FRAMES'!J74))","v":""},{"$f":"IF('ORDER FRAMES'!K74=\"\",\"\",IF(OR('ORDER FRAMES'!G74=\"L\",'ORDER FRAMES'!G74=\"R\"),\"\",'ORDER FRAMES'!K74))","v":""},{"$f":"IF('ORDER FRAMES'!L74=\"\",\"\",IF(OR('ORDER FRAMES'!G74=\"L\",'ORDER FRAMES'!G74=\"R\"),\"\",'ORDER FRAMES'!L74))","v":""},{"$f":"IF('ORDER FRAMES'!M74=\"\",\"\",IF(OR('ORDER FRAMES'!G74=\"L\",'ORDER FRAMES'!G74=\"R\"),\"\",'ORDER FRAMES'!M74))","v":""},null,null,null,{"$f":"IF(C59=\"\",\"\",IF(OR('ORDER FRAMES'!G74=\"L\",'ORDER FRAMES'!G74=\"R\"),\"\",'ORDER FRAMES'!N74))","v":""},{"$f":"IF(C59=\"\",\"\",IF(OR('ORDER FRAMES'!G74=\"L\",'ORDER FRAMES'!G74=\"R\"),\"\",'ORDER FRAMES'!O74))","v":""},null,"",null,null,"","","",{"$f":"IF('ORDER FRAMES'!Q74=\"\",\"\",IF(OR('ORDER FRAMES'!G74=\"L\",'ORDER FRAMES'!G74=\"R\"),\"\",'ORDER FRAMES'!Q74))","v":""},{"$f":"IF('ORDER FRAMES'!S74=\"\",\"\",IF(OR('ORDER FRAMES'!G74=\"L\",'ORDER FRAMES'!G74=\"R\"),\"\",'ORDER FRAMES'!S74))","v":""},{"$f":"IF('ORDER FRAMES'!T74=\"\",\"\",IF(OR('ORDER FRAMES'!G74=\"L\",'ORDER FRAMES'!G74=\"R\"),\"\",'ORDER FRAMES'!T74))","v":""},{"$f":"IF('ORDER FRAMES'!U74=\"\",\"\",IF(OR('ORDER FRAMES'!G74=\"L\",'ORDER FRAMES'!G74=\"R\"),\"\",'ORDER FRAMES'!U74))","v":""},{"$f":"IF(C59=\"\",\"\",'ORDER FRAMES'!V74)","v":""},null,null,null,null,"",null,null,null,"","",""]
[75,null,{"$f":"IF('ORDER FRAMES'!B75=\"\",\"\",IF(OR('ORDER FRAMES'!G75=\"L\",'ORDER FRAMES'!G75=\"R\"),\"\",'ORDER FRAMES'!B75))","v":""},{"$f":"IF('ORDER FRAMES'!C75=\"\",\"\",IF(OR('ORDER FRAMES'!G75=\"L\",'ORDER FRAMES'!G75=\"R\"),\"\",'ORDER FRAMES'!C75))","v":""},null,{"$f":"IF('ORDER FRAMES'!E75=\"\",\"\",IF(OR('ORDER FRAMES'!G75=\"L\",'ORDER FRAMES'!G75=\"R\"),\"\",'ORDER FRAMES'!E75))","v":""},{"$f":"IF('ORDER FRAMES'!F75=\"\",\"\",IF(OR('ORDER FRAMES'!G75=\"L\",'ORDER FRAMES'!G75=\"R\"),\"\",'ORDER FRAMES'!F75))","v":""},{"$f":"IF('ORDER FRAMES'!G75=\"\",\"\",IF(OR('ORDER FRAMES'!G75=\"L\",'ORDER FRAMES'!G75=\"R\"),\"\",'ORDER FRAMES'!G75))","v":""},{"$f":"IF('ORDER FRAMES'!H75=\"\",\"\",IF(OR('ORDER FRAMES'!G75=\"L\",'ORDER FRAMES'!G75=\"R\"),\"\",'ORDER FRAMES'!H75))","v":""},{"$f":"IF('ORDER FRAMES'!I75=\"\",\"\",IF(OR('ORDER FRAMES'!G75=\"L\",'ORDER FRAMES'!G75=\"R\"),\"\",'ORDER FRAMES'!I75))","v":""},{"$f":"IF('ORDER FRAMES'!J75=\"\",\"\",IF(OR('ORDER FRAMES'!G75=\"L\",'ORDER FRAMES'!G75=\"R\"),\"\",'ORDER FRAMES'!J75))","v":""},{"$f":"IF('ORDER FRAMES'!K75=\"\",\"\",IF(OR('ORDER FRAMES'!G75=\"L\",'ORDER FRAMES'!G75=\"R\"),\"\",'ORDER FRAMES'!K75))","v":""},{"$f":"IF('ORDER FRAMES'!L75=\"\",\"\",IF(OR('ORDER FRAMES'!G75=\"L\",'ORDER FRAMES'!G75=\"R\"),\"\",'ORDER FRAMES'!L75))","v":""},{"$f":"IF('ORDER FRAMES'!M75=\"\",\"\",IF(OR('ORDER FRAMES'!G75=\"L\",'ORDER FRAMES'!G75=\"R\"),\"\",'ORDER FRAMES'!M75))","v":""},null,null,null,{"$f":"IF(C60=\"\",\"\",IF(OR('ORDER FRAMES'!G75=\"L\",'ORDER FRAMES'!G75=\"R\"),\"\",'ORDER FRAMES'!N75))","v":""},{"$f":"IF(C60=\"\",\"\",IF(OR('ORDER FRAMES'!G75=\"L\",'ORDER FRAMES'!G75=\"R\"),\"\",'ORDER FRAMES'!O75))","v":""},null,"",null,null,"","","",{"$f":"IF('ORDER FRAMES'!Q75=\"\",\"\",IF(OR('ORDER FRAMES'!G75=\"L\",'ORDER FRAMES'!G75=\"R\"),\"\",'ORDER FRAMES'!Q75))","v":""},{"$f":"IF('ORDER FRAMES'!S75=\"\",\"\",IF(OR('ORDER FRAMES'!G75=\"L\",'ORDER FRAMES'!G75=\"R\"),\"\",'ORDER FRAMES'!S75))","v":""},{"$f":"IF('ORDER FRAMES'!T75=\"\",\"\",IF(OR('ORDER FRAMES'!G75=\"L\",'ORDER FRAMES'!G75=\"R\"),\"\",'ORDER FRAMES'!T75))","v":""},{"$f":"IF('ORDER FRAMES'!U75=\"\",\"\",IF(OR('ORDER FRAMES'!G75=\"L\",'ORDER FRAMES'!G75=\"R\"),\"\",'ORDER FRAMES'!U75))","v":""},{"$f":"IF(C60=\"\",\"\",'ORDER FRAMES'!V75)","v":""},null,null,null,null,"",null,null,null,"","",""]
[76,null,{"$f":"IF('ORDER FRAMES'!B76=\"\",\"\",IF(OR('ORDER FRAMES'!G76=\"L\",'ORDER FRAMES'!G76=\"R\"),\"\",'ORDER FRAMES'!B76))","v":""},{"$f":"IF('ORDER FRAMES'!C76=\"\",\"\",IF(OR('ORDER FRAMES'!G76=\"L\",'ORDER FRAMES'!G76=\"R\"),\"\",'ORDER FRAMES'!C76))","v":""},null,{"$f":"IF('ORDER FRAMES'!E76=\"\",\"\",IF(OR('ORDER FRAMES'!G76=\"L\",'ORDER FRAMES'!G76=\"R\"),\"\",'ORDER FRAMES'!E76))","v":""},{"$f":"IF('ORDER FRAMES'!F76=\"\",\"\",IF(OR('ORDER FRAMES'!G76=\"L\",'ORDER FRAMES'!G76=\"R\"),\"\",'ORDER FRAMES'!F76))","v":""},{"$f":"IF('ORDER FRAMES'!G76=\"\",\"\",IF(OR('ORDER FRAMES'!G76=\"L\",'ORDER FRAMES'!G76=\"R\"),\"\",'ORDER FRAMES'!G76))","v":""},{"$f":"IF('ORDER FRAMES'!H76=\"\",\"\",IF(OR('ORDER FRAMES'!G76=\"L\",'ORDER FRAMES'!G76=\"R\"),\"\",'ORDER FRAMES'!H76))","v":""},{"$f":"IF('ORDER FRAMES'!I76=\"\",\"\",IF(OR('ORDER FRAMES'!G76=\"L\",'ORDER FRAMES'!G76=\"R\"),\"\",'ORDER FRAMES'!I76))","v":""},{"$f":"IF('ORDER FRAMES'!J76=\"\",\"\",IF(OR('ORDER FRAMES'!G76=\"L\",'ORDER FRAMES'!G76=\"R\"),\"\",'ORDER FRAMES'!J76))","v":""},{"$f":"IF('ORDER FRAMES'!K76=\"\",\"\",IF(OR('ORDER FRAMES'!G76=\"L\",'ORDER FRAMES'!G76=\"R\"),\"\",'ORDER FRAMES'!K76))","v":""},{"$f":"IF('ORDER FRAMES'!L76=\"\",\"\",IF(OR('ORDER FRAMES'!G76=\"L\",'ORDER FRAMES'!G76=\"R\"),\"\",'ORDER FRAMES'!L76))","v":""},{"$f":"IF('ORDER FRAMES'!M76=\"\",\"\",IF(OR('ORDER FRAMES'!G76=\"L\",'ORDER FRAMES'!G76=\"R\"),\"\",'ORDER FRAMES'!M76))","v":""},null,null,null,{"$f":"IF(C61=\"\",\"\",IF(OR('ORDER FRAMES'!G76=\"L\",'ORDER FRAMES'!G76=\"R\"),\"\",'ORDER FRAMES'!N76))","v":""},{"$f":"IF(C61=\"\",\"\",IF(OR('ORDER FRAMES'!G76=\"L\",'ORDER FRAMES'!G76=\"R\"),\"\",'ORDER FRAMES'!O76))","v":""},null,"",null,null,"","","",{"$f":"IF('ORDER FRAMES'!Q76=\"\",\"\",IF(OR('ORDER FRAMES'!G76=\"L\",'ORDER FRAMES'!G76=\"R\"),\"\",'ORDER FRAMES'!Q76))","v":""},{"$f":"IF('ORDER FRAMES'!S76=\"\",\"\",IF(OR('ORDER FRAMES'!G76=\"L\",'ORDER FRAMES'!G76=\"R\"),\"\",'ORDER FRAMES'!S76))","v":""},{"$f":"IF('ORDER FRAMES'!T76=\"\",\"\",IF(OR('ORDER FRAMES'!G76=\"L\",'ORDER FRAMES'!G76=\"R\"),\"\",'ORDER FRAMES'!T76))","v":""},{"$f":"IF('ORDER FRAMES'!U76=\"\",\"\",IF(OR('ORDER FRAMES'!G76=\"L\",'ORDER FRAMES'!G76=\"R\"),\"\",'ORDER FRAMES'!U76))","v":""},{"$f":"IF(C61=\"\",\"\",'ORDER FRAMES'!V76)","v":""},null,null,null,null,"",null,null,null,"","",""]
[77,null,{"$f":"IF('ORDER FRAMES'!B77=\"\",\"\",IF(OR('ORDER FRAMES'!G77=\"L\",'ORDER FRAMES'!G77=\"R\"),\"\",'ORDER FRAMES'!B77))","v":""},{"$f":"IF('ORDER FRAMES'!C77=\"\",\"\",IF(OR('ORDER FRAMES'!G77=\"L\",'ORDER FRAMES'!G77=\"R\"),\"\",'ORDER FRAMES'!C77))","v":""},null,{"$f":"IF('ORDER FRAMES'!E77=\"\",\"\",IF(OR('ORDER FRAMES'!G77=\"L\",'ORDER FRAMES'!G77=\"R\"),\"\",'ORDER FRAMES'!E77))","v":""},{"$f":"IF('ORDER FRAMES'!F77=\"\",\"\",IF(OR('ORDER FRAMES'!G77=\"L\",'ORDER FRAMES'!G77=\"R\"),\"\",'ORDER FRAMES'!F77))","v":""},{"$f":"IF('ORDER FRAMES'!G77=\"\",\"\",IF(OR('ORDER FRAMES'!G77=\"L\",'ORDER FRAMES'!G77=\"R\"),\"\",'ORDER FRAMES'!G77))","v":""},{"$f":"IF('ORDER FRAMES'!H77=\"\",\"\",IF(OR('ORDER FRAMES'!G77=\"L\",'ORDER FRAMES'!G77=\"R\"),\"\",'ORDER FRAMES'!H77))","v":""},{"$f":"IF('ORDER FRAMES'!I77=\"\",\"\",IF(OR('ORDER FRAMES'!G77=\"L\",'ORDER FRAMES'!G77=\"R\"),\"\",'ORDER FRAMES'!I77))","v":""},{"$f":"IF('ORDER FRAMES'!J77=\"\",\"\",IF(OR('ORDER FRAMES'!G77=\"L\",'ORDER FRAMES'!G77=\"R\"),\"\",'ORDER FRAMES'!J77))","v":""},{"$f":"IF('ORDER FRAMES'!K77=\"\",\"\",IF(OR('ORDER FRAMES'!G77=\"L\",'ORDER FRAMES'!G77=\"R\"),\"\",'ORDER FRAMES'!K77))","v":""},{"$f":"IF('ORDER FRAMES'!L77=\"\",\"\",IF(OR('ORDER FRAMES'!G77=\"L\",'ORDER FRAMES'!G77=\"R\"),\"\",'ORDER FRAMES'!L77))","v":""},{"$f":"IF('ORDER FRAMES'!M77=\"\",\"\",IF(OR('ORDER FRAMES'!G77=\"L\",'ORDER FRAMES'!G77=\"R\"),\"\",'ORDER FRAMES'!M77))","v":""},null,null,null,{"$f":"IF(C62=\"\",\"\",IF(OR('ORDER FRAMES'!G77=\"L\",'ORDER FRAMES'!G77=\"R\"),\"\",'ORDER FRAMES'!N77))","v":""},{"$f":"IF(C62=\"\",\"\",IF(OR('ORDER FRAMES'!G77=\"L\",'ORDER FRAMES'!G77=\"R\"),\"\",'ORDER FRAMES'!O77))","v":""},null,"",null,null,"","","",{"$f":"IF('ORDER FRAMES'!Q77=\"\",\"\",IF(OR('ORDER FRAMES'!G77=\"L\",'ORDER FRAMES'!G77=\"R\"),\"\",'ORDER FRAMES'!Q77))","v":""},{"$f":"IF('ORDER FRAMES'!S77=\"\",\"\",IF(OR('ORDER FRAMES'!G77=\"L\",'ORDER FRAMES'!G77=\"R\"),\"\",'ORDER FRAMES'!S77))","v":""},{"$f":"IF('ORDER FRAMES'!T77=\"\",\"\",IF(OR('ORDER FRAMES'!G77=\"L\",'ORDER FRAMES'!G77=\"R\"),\"\",'ORDER FRAMES'!T77))","v":""},{"$f":"IF('ORDER FRAMES'!U77=\"\",\"\",IF(OR('ORDER FRAMES'!G77=\"L\",'ORDER FRAMES'!G77=\"R\"),\"\",'ORDER FRAMES'!U77))","v":""},{"$f":"IF(C62=\"\",\"\",'ORDER FRAMES'!V77)","v":""},null,null,null,null,"",null,null,null,"","",""]
[78,null,{"$f":"IF('ORDER FRAMES'!B78=\"\",\"\",IF(OR('ORDER FRAMES'!G78=\"L\",'ORDER FRAMES'!G78=\"R\"),\"\",'ORDER FRAMES'!B78))","v":""},{"$f":"IF('ORDER FRAMES'!C78=\"\",\"\",IF(OR('ORDER FRAMES'!G78=\"L\",'ORDER FRAMES'!G78=\"R\"),\"\",'ORDER FRAMES'!C78))","v":""},null,{"$f":"IF('ORDER FRAMES'!E78=\"\",\"\",IF(OR('ORDER FRAMES'!G78=\"L\",'ORDER FRAMES'!G78=\"R\"),\"\",'ORDER FRAMES'!E78))","v":""},{"$f":"IF('ORDER FRAMES'!F78=\"\",\"\",IF(OR('ORDER FRAMES'!G78=\"L\",'ORDER FRAMES'!G78=\"R\"),\"\",'ORDER FRAMES'!F78))","v":""},{"$f":"IF('ORDER FRAMES'!G78=\"\",\"\",IF(OR('ORDER FRAMES'!G78=\"L\",'ORDER FRAMES'!G78=\"R\"),\"\",'ORDER FRAMES'!G78))","v":""},{"$f":"IF('ORDER FRAMES'!H78=\"\",\"\",IF(OR('ORDER FRAMES'!G78=\"L\",'ORDER FRAMES'!G78=\"R\"),\"\",'ORDER FRAMES'!H78))","v":""},{"$f":"IF('ORDER FRAMES'!I78=\"\",\"\",IF(OR('ORDER FRAMES'!G78=\"L\",'ORDER FRAMES'!G78=\"R\"),\"\",'ORDER FRAMES'!I78))","v":""},{"$f":"IF('ORDER FRAMES'!J78=\"\",\"\",IF(OR('ORDER FRAMES'!G78=\"L\",'ORDER FRAMES'!G78=\"R\"),\"\",'ORDER FRAMES'!J78))","v":""},{"$f":"IF('ORDER FRAMES'!K78=\"\",\"\",IF(OR('ORDER FRAMES'!G78=\"L\",'ORDER FRAMES'!G78=\"R\"),\"\",'ORDER FRAMES'!K78))","v":""},{"$f":"IF('ORDER FRAMES'!L78=\"\",\"\",IF(OR('ORDER FRAMES'!G78=\"L\",'ORDER FRAMES'!G78=\"R\"),\"\",'ORDER FRAMES'!L78))","v":""},{"$f":"IF('ORDER FRAMES'!M78=\"\",\"\",IF(OR('ORDER FRAMES'!G78=\"L\",'ORDER FRAMES'!G78=\"R\"),\"\",'ORDER FRAMES'!M78))","v":""},null,null,null,{"$f":"IF(C63=\"\",\"\",IF(OR('ORDER FRAMES'!G78=\"L\",'ORDER FRAMES'!G78=\"R\"),\"\",'ORDER FRAMES'!N78))","v":""},{"$f":"IF(C63=\"\",\"\",IF(OR('ORDER FRAMES'!G78=\"L\",'ORDER FRAMES'!G78=\"R\"),\"\",'ORDER FRAMES'!O78))","v":""},null,"",null,null,"","","",{"$f":"IF('ORDER FRAMES'!Q78=\"\",\"\",IF(OR('ORDER FRAMES'!G78=\"L\",'ORDER FRAMES'!G78=\"R\"),\"\",'ORDER FRAMES'!Q78))","v":""},{"$f":"IF('ORDER FRAMES'!S78=\"\",\"\",IF(OR('ORDER FRAMES'!G78=\"L\",'ORDER FRAMES'!G78=\"R\"),\"\",'ORDER FRAMES'!S78))","v":""},{"$f":"IF('ORDER FRAMES'!T78=\"\",\"\",IF(OR('ORDER FRAMES'!G78=\"L\",'ORDER FRAMES'!G78=\"R\"),\"\",'ORDER FRAMES'!T78))","v":""},{"$f":"IF('ORDER FRAMES'!U78=\"\",\"\",IF(OR('ORDER FRAMES'!G78=\"L\",'ORDER FRAMES'!G78=\"R\"),\"\",'ORDER FRAMES'!U78))","v":""},{"$f":"IF(C63=\"\",\"\",'ORDER FRAMES'!V78)","v":""},null,null,null,null,"",null,null,null,"","",""]
[79,null,{"$f":"IF('ORDER FRAMES'!B79=\"\",\"\",IF(OR('ORDER FRAMES'!G79=\"L\",'ORDER FRAMES'!G79=\"R\"),\"\",'ORDER FRAMES'!B79))","v":""},{"$f":"IF('ORDER FRAMES'!C79=\"\",\"\",IF(OR('ORDER FRAMES'!G79=\"L\",'ORDER FRAMES'!G79=\"R\"),\"\",'ORDER FRAMES'!C79))","v":""},null,{"$f":"IF('ORDER FRAMES'!E79=\"\",\"\",IF(OR('ORDER FRAMES'!G79=\"L\",'ORDER FRAMES'!G79=\"R\"),\"\",'ORDER FRAMES'!E79))","v":""},{"$f":"IF('ORDER FRAMES'!F79=\"\",\"\",IF(OR('ORDER FRAMES'!G79=\"L\",'ORDER FRAMES'!G79=\"R\"),\"\",'ORDER FRAMES'!F79))","v":""},{"$f":"IF('ORDER FRAMES'!G79=\"\",\"\",IF(OR('ORDER FRAMES'!G79=\"L\",'ORDER FRAMES'!G79=\"R\"),\"\",'ORDER FRAMES'!G79))","v":""},{"$f":"IF('ORDER FRAMES'!H79=\"\",\"\",IF(OR('ORDER FRAMES'!G79=\"L\",'ORDER FRAMES'!G79=\"R\"),\"\",'ORDER FRAMES'!H79))","v":""},{"$f":"IF('ORDER FRAMES'!I79=\"\",\"\",IF(OR('ORDER FRAMES'!G79=\"L\",'ORDER FRAMES'!G79=\"R\"),\"\",'ORDER FRAMES'!I79))","v":""},{"$f":"IF('ORDER FRAMES'!J79=\"\",\"\",IF(OR('ORDER FRAMES'!G79=\"L\",'ORDER FRAMES'!G79=\"R\"),\"\",'ORDER FRAMES'!J79))","v":""},{"$f":"IF('ORDER FRAMES'!K79=\"\",\"\",IF(OR('ORDER FRAMES'!G79=\"L\",'ORDER FRAMES'!G79=\"R\"),\"\",'ORDER FRAMES'!K79))","v":""},{"$f":"IF('ORDER FRAMES'!L79=\"\",\"\",IF(OR('ORDER FRAMES'!G79=\"L\",'ORDER FRAMES'!G79=\"R\"),\"\",'ORDER FRAMES'!L79))","v":""},{"$f":"IF('ORDER FRAMES'!M79=\"\",\"\",IF(OR('ORDER FRAMES'!G79=\"L\",'ORDER FRAMES'!G79=\"R\"),\"\",'ORDER FRAMES'!M79))","v":""},null,null,null,{"$f":"IF(C64=\"\",\"\",IF(OR('ORDER FRAMES'!G79=\"L\",'ORDER FRAMES'!G79=\"R\"),\"\",'ORDER FRAMES'!N79))","v":""},{"$f":"IF(C64=\"\",\"\",IF(OR('ORDER FRAMES'!G79=\"L\",'ORDER FRAMES'!G79=\"R\"),\"\",'ORDER FRAMES'!O79))","v":""},null,"",null,null,"","","",{"$f":"IF('ORDER FRAMES'!Q79=\"\",\"\",IF(OR('ORDER FRAMES'!G79=\"L\",'ORDER FRAMES'!G79=\"R\"),\"\",'ORDER FRAMES'!Q79))","v":""},{"$f":"IF('ORDER FRAMES'!S79=\"\",\"\",IF(OR('ORDER FRAMES'!G79=\"L\",'ORDER FRAMES'!G79=\"R\"),\"\",'ORDER FRAMES'!S79))","v":""},{"$f":"IF('ORDER FRAMES'!T79=\"\",\"\",IF(OR('ORDER FRAMES'!G79=\"L\",'ORDER FRAMES'!G79=\"R\"),\"\",'ORDER FRAMES'!T79))","v":""},{"$f":"IF('ORDER FRAMES'!U79=\"\",\"\",IF(OR('ORDER FRAMES'!G79=\"L\",'ORDER FRAMES'!G79=\"R\"),\"\",'ORDER FRAMES'!U79))","v":""},{"$f":"IF(C64=\"\",\"\",'ORDER FRAMES'!V79)","v":""},null,null,null,null,"",null,null,null,"","",""]
[80,null,{"$f":"IF('ORDER FRAMES'!B80=\"\",\"\",IF(OR('ORDER FRAMES'!G80=\"L\",'ORDER FRAMES'!G80=\"R\"),\"\",'ORDER FRAMES'!B80))","v":""},{"$f":"IF('ORDER FRAMES'!C80=\"\",\"\",IF(OR('ORDER FRAMES'!G80=\"L\",'ORDER FRAMES'!G80=\"R\"),\"\",'ORDER FRAMES'!C80))","v":""},null,{"$f":"IF('ORDER FRAMES'!E80=\"\",\"\",IF(OR('ORDER FRAMES'!G80=\"L\",'ORDER FRAMES'!G80=\"R\"),\"\",'ORDER FRAMES'!E80))","v":""},{"$f":"IF('ORDER FRAMES'!F80=\"\",\"\",IF(OR('ORDER FRAMES'!G80=\"L\",'ORDER FRAMES'!G80=\"R\"),\"\",'ORDER FRAMES'!F80))","v":""},{"$f":"IF('ORDER FRAMES'!G80=\"\",\"\",IF(OR('ORDER FRAMES'!G80=\"L\",'ORDER FRAMES'!G80=\"R\"),\"\",'ORDER FRAMES'!G80))","v":""},{"$f":"IF('ORDER FRAMES'!H80=\"\",\"\",IF(OR('ORDER FRAMES'!G80=\"L\",'ORDER FRAMES'!G80=\"R\"),\"\",'ORDER FRAMES'!H80))","v":""},{"$f":"IF('ORDER FRAMES'!I80=\"\",\"\",IF(OR('ORDER FRAMES'!G80=\"L\",'ORDER FRAMES'!G80=\"R\"),\"\",'ORDER FRAMES'!I80))","v":""},{"$f":"IF('ORDER FRAMES'!J80=\"\",\"\",IF(OR('ORDER FRAMES'!G80=\"L\",'ORDER FRAMES'!G80=\"R\"),\"\",'ORDER FRAMES'!J80))","v":""},{"$f":"IF('ORDER FRAMES'!K80=\"\",\"\",IF(OR('ORDER FRAMES'!G80=\"L\",'ORDER FRAMES'!G80=\"R\"),\"\",'ORDER FRAMES'!K80))","v":""},{"$f":"IF('ORDER FRAMES'!L80=\"\",\"\",IF(OR('ORDER FRAMES'!G80=\"L\",'ORDER FRAMES'!G80=\"R\"),\"\",'ORDER FRAMES'!L80))","v":""},{"$f":"IF('ORDER FRAMES'!M80=\"\",\"\",IF(OR('ORDER FRAMES'!G80=\"L\",'ORDER FRAMES'!G80=\"R\"),\"\",'ORDER FRAMES'!M80))","v":""},null,null,null,{"$f":"IF(C65=\"\",\"\",IF(OR('ORDER FRAMES'!G80=\"L\",'ORDER FRAMES'!G80=\"R\"),\"\",'ORDER FRAMES'!N80))","v":""},{"$f":"IF(C65=\"\",\"\",IF(OR('ORDER FRAMES'!G80=\"L\",'ORDER FRAMES'!G80=\"R\"),\"\",'ORDER FRAMES'!O80))","v":""},null,"",null,null,"","","",{"$f":"IF('ORDER FRAMES'!Q80=\"\",\"\",IF(OR('ORDER FRAMES'!G80=\"L\",'ORDER FRAMES'!G80=\"R\"),\"\",'ORDER FRAMES'!Q80))","v":""},{"$f":"IF('ORDER FRAMES'!S80=\"\",\"\",IF(OR('ORDER FRAMES'!G80=\"L\",'ORDER FRAMES'!G80=\"R\"),\"\",'ORDER FRAMES'!S80))","v":""},{"$f":"IF('ORDER FRAMES'!T80=\"\",\"\",IF(OR('ORDER FRAMES'!G80=\"L\",'ORDER FRAMES'!G80=\"R\"),\"\",'ORDER FRAMES'!T80))","v":""},{"$f":"IF('ORDER FRAMES'!U80=\"\",\"\",IF(OR('ORDER FRAMES'!G80=\"L\",'ORDER FRAMES'!G80=\"R\"),\"\",'ORDER FRAMES'!U80))","v":""},{"$f":"IF(C65=\"\",\"\",'ORDER FRAMES'!V80)","v":""},null,null,null,null,"",null,null,null,"","",""]
[81,null,{"$f":"IF('ORDER FRAMES'!B81=\"\",\"\",IF(OR('ORDER FRAMES'!G81=\"L\",'ORDER FRAMES'!G81=\"R\"),\"\",'ORDER FRAMES'!B81))","v":""},{"$f":"IF('ORDER FRAMES'!C81=\"\",\"\",IF(OR('ORDER FRAMES'!G81=\"L\",'ORDER FRAMES'!G81=\"R\"),\"\",'ORDER FRAMES'!C81))","v":""},null,{"$f":"IF('ORDER FRAMES'!E81=\"\",\"\",IF(OR('ORDER FRAMES'!G81=\"L\",'ORDER FRAMES'!G81=\"R\"),\"\",'ORDER FRAMES'!E81))","v":""},{"$f":"IF('ORDER FRAMES'!F81=\"\",\"\",IF(OR('ORDER FRAMES'!G81=\"L\",'ORDER FRAMES'!G81=\"R\"),\"\",'ORDER FRAMES'!F81))","v":""},{"$f":"IF('ORDER FRAMES'!G81=\"\",\"\",IF(OR('ORDER FRAMES'!G81=\"L\",'ORDER FRAMES'!G81=\"R\"),\"\",'ORDER FRAMES'!G81))","v":""},{"$f":"IF('ORDER FRAMES'!H81=\"\",\"\",IF(OR('ORDER FRAMES'!G81=\"L\",'ORDER FRAMES'!G81=\"R\"),\"\",'ORDER FRAMES'!H81))","v":""},{"$f":"IF('ORDER FRAMES'!I81=\"\",\"\",IF(OR('ORDER FRAMES'!G81=\"L\",'ORDER FRAMES'!G81=\"R\"),\"\",'ORDER FRAMES'!I81))","v":""},{"$f":"IF('ORDER FRAMES'!J81=\"\",\"\",IF(OR('ORDER FRAMES'!G81=\"L\",'ORDER FRAMES'!G81=\"R\"),\"\",'ORDER FRAMES'!J81))","v":""},{"$f":"IF('ORDER FRAMES'!K81=\"\",\"\",IF(OR('ORDER FRAMES'!G81=\"L\",'ORDER FRAMES'!G81=\"R\"),\"\",'ORDER FRAMES'!K81))","v":""},{"$f":"IF('ORDER FRAMES'!L81=\"\",\"\",IF(OR('ORDER FRAMES'!G81=\"L\",'ORDER FRAMES'!G81=\"R\"),\"\",'ORDER FRAMES'!L81))","v":""},{"$f":"IF('ORDER FRAMES'!M81=\"\",\"\",IF(OR('ORDER FRAMES'!G81=\"L\",'ORDER FRAMES'!G81=\"R\"),\"\",'ORDER FRAMES'!M81))","v":""},null,null,null,{"$f":"IF(C66=\"\",\"\",IF(OR('ORDER FRAMES'!G81=\"L\",'ORDER FRAMES'!G81=\"R\"),\"\",'ORDER FRAMES'!N81))","v":""},{"$f":"IF(C66=\"\",\"\",IF(OR('ORDER FRAMES'!G81=\"L\",'ORDER FRAMES'!G81=\"R\"),\"\",'ORDER FRAMES'!O81))","v":""},null,"",null,null,"","","",{"$f":"IF('ORDER FRAMES'!Q81=\"\",\"\",IF(OR('ORDER FRAMES'!G81=\"L\",'ORDER FRAMES'!G81=\"R\"),\"\",'ORDER FRAMES'!Q81))","v":""},{"$f":"IF('ORDER FRAMES'!S81=\"\",\"\",IF(OR('ORDER FRAMES'!G81=\"L\",'ORDER FRAMES'!G81=\"R\"),\"\",'ORDER FRAMES'!S81))","v":""},{"$f":"IF('ORDER FRAMES'!T81=\"\",\"\",IF(OR('ORDER FRAMES'!G81=\"L\",'ORDER FRAMES'!G81=\"R\"),\"\",'ORDER FRAMES'!T81))","v":""},{"$f":"IF('ORDER FRAMES'!U81=\"\",\"\",IF(OR('ORDER FRAMES'!G81=\"L\",'ORDER FRAMES'!G81=\"R\"),\"\",'ORDER FRAMES'!U81))","v":""},{"$f":"IF(C66=\"\",\"\",'ORDER FRAMES'!V81)","v":""},null,null,null,null,"",null,null,null,"","",""]
[82,null,{"$f":"IF('ORDER FRAMES'!B82=\"\",\"\",IF(OR('ORDER FRAMES'!G82=\"L\",'ORDER FRAMES'!G82=\"R\"),\"\",'ORDER FRAMES'!B82))","v":""},{"$f":"IF('ORDER FRAMES'!C82=\"\",\"\",IF(OR('ORDER FRAMES'!G82=\"L\",'ORDER FRAMES'!G82=\"R\"),\"\",'ORDER FRAMES'!C82))","v":""},null,{"$f":"IF('ORDER FRAMES'!E82=\"\",\"\",IF(OR('ORDER FRAMES'!G82=\"L\",'ORDER FRAMES'!G82=\"R\"),\"\",'ORDER FRAMES'!E82))","v":""},{"$f":"IF('ORDER FRAMES'!F82=\"\",\"\",IF(OR('ORDER FRAMES'!G82=\"L\",'ORDER FRAMES'!G82=\"R\"),\"\",'ORDER FRAMES'!F82))","v":""},{"$f":"IF('ORDER FRAMES'!G82=\"\",\"\",IF(OR('ORDER FRAMES'!G82=\"L\",'ORDER FRAMES'!G82=\"R\"),\"\",'ORDER FRAMES'!G82))","v":""},{"$f":"IF('ORDER FRAMES'!H82=\"\",\"\",IF(OR('ORDER FRAMES'!G82=\"L\",'ORDER FRAMES'!G82=\"R\"),\"\",'ORDER FRAMES'!H82))","v":""},{"$f":"IF('ORDER FRAMES'!I82=\"\",\"\",IF(OR('ORDER FRAMES'!G82=\"L\",'ORDER FRAMES'!G82=\"R\"),\"\",'ORDER FRAMES'!I82))","v":""},{"$f":"IF('ORDER FRAMES'!J82=\"\",\"\",IF(OR('ORDER FRAMES'!G82=\"L\",'ORDER FRAMES'!G82=\"R\"),\"\",'ORDER FRAMES'!J82))","v":""},{"$f":"IF('ORDER FRAMES'!K82=\"\",\"\",IF(OR('ORDER FRAMES'!G82=\"L\",'ORDER FRAMES'!G82=\"R\"),\"\",'ORDER FRAMES'!K82))","v":""},{"$f":"IF('ORDER FRAMES'!L82=\"\",\"\",IF(OR('ORDER FRAMES'!G82=\"L\",'ORDER FRAMES'!G82=\"R\"),\"\",'ORDER FRAMES'!L82))","v":""},{"$f":"IF('ORDER FRAMES'!M82=\"\",\"\",IF(OR('ORDER FRAMES'!G82=\"L\",'ORDER FRAMES'!G82=\"R\"),\"\",'ORDER FRAMES'!M82))","v":""},null,null,null,{"$f":"IF(C67=\"\",\"\",IF(OR('ORDER FRAMES'!G82=\"L\",'ORDER FRAMES'!G82=\"R\"),\"\",'ORDER FRAMES'!N82))","v":""},{"$f":"IF(C67=\"\",\"\",IF(OR('ORDER FRAMES'!G82=\"L\",'ORDER FRAMES'!G82=\"R\"),\"\",'ORDER FRAMES'!O82))","v":""},null,"",null,null,"","","",{"$f":"IF('ORDER FRAMES'!Q82=\"\",\"\",IF(OR('ORDER FRAMES'!G82=\"L\",'ORDER FRAMES'!G82=\"R\"),\"\",'ORDER FRAMES'!Q82))","v":""},{"$f":"IF('ORDER FRAMES'!S82=\"\",\"\",IF(OR('ORDER FRAMES'!G82=\"L\",'ORDER FRAMES'!G82=\"R\"),\"\",'ORDER FRAMES'!S82))","v":""},{"$f":"IF('ORDER FRAMES'!T82=\"\",\"\",IF(OR('ORDER FRAMES'!G82=\"L\",'ORDER FRAMES'!G82=\"R\"),\"\",'ORDER FRAMES'!T82))","v":""},{"$f":"IF('ORDER FRAMES'!U82=\"\",\"\",IF(OR('ORDER FRAMES'!G82=\"L\",'ORDER FRAMES'!G82=\"R\"),\"\",'ORDER FRAMES'!U82))","v":""},{"$f":"IF(C67=\"\",\"\",'ORDER FRAMES'!V82)","v":""},null,null,null,null,"",null,null,null,"","",""]
[83,null,{"$f":"IF('ORDER FRAMES'!B83=\"\",\"\",IF(OR('ORDER FRAMES'!G83=\"L\",'ORDER FRAMES'!G83=\"R\"),\"\",'ORDER FRAMES'!B83))","v":""},{"$f":"IF('ORDER FRAMES'!C83=\"\",\"\",IF(OR('ORDER FRAMES'!G83=\"L\",'ORDER FRAMES'!G83=\"R\"),\"\",'ORDER FRAMES'!C83))","v":""},null,{"$f":"IF('ORDER FRAMES'!E83=\"\",\"\",IF(OR('ORDER FRAMES'!G83=\"L\",'ORDER FRAMES'!G83=\"R\"),\"\",'ORDER FRAMES'!E83))","v":""},{"$f":"IF('ORDER FRAMES'!F83=\"\",\"\",IF(OR('ORDER FRAMES'!G83=\"L\",'ORDER FRAMES'!G83=\"R\"),\"\",'ORDER FRAMES'!F83))","v":""},{"$f":"IF('ORDER FRAMES'!G83=\"\",\"\",IF(OR('ORDER FRAMES'!G83=\"L\",'ORDER FRAMES'!G83=\"R\"),\"\",'ORDER FRAMES'!G83))","v":""},{"$f":"IF('ORDER FRAMES'!H83=\"\",\"\",IF(OR('ORDER FRAMES'!G83=\"L\",'ORDER FRAMES'!G83=\"R\"),\"\",'ORDER FRAMES'!H83))","v":""},{"$f":"IF('ORDER FRAMES'!I83=\"\",\"\",IF(OR('ORDER FRAMES'!G83=\"L\",'ORDER FRAMES'!G83=\"R\"),\"\",'ORDER FRAMES'!I83))","v":""},{"$f":"IF('ORDER FRAMES'!J83=\"\",\"\",IF(OR('ORDER FRAMES'!G83=\"L\",'ORDER FRAMES'!G83=\"R\"),\"\",'ORDER FRAMES'!J83))","v":""},{"$f":"IF('ORDER FRAMES'!K83=\"\",\"\",IF(OR('ORDER FRAMES'!G83=\"L\",'ORDER FRAMES'!G83=\"R\"),\"\",'ORDER FRAMES'!K83))","v":""},{"$f":"IF('ORDER FRAMES'!L83=\"\",\"\",IF(OR('ORDER FRAMES'!G83=\"L\",'ORDER FRAMES'!G83=\"R\"),\"\",'ORDER FRAMES'!L83))","v":""},{"$f":"IF('ORDER FRAMES'!M83=\"\",\"\",IF(OR('ORDER FRAMES'!G83=\"L\",'ORDER FRAMES'!G83=\"R\"),\"\",'ORDER FRAMES'!M83))","v":""},null,null,null,{"$f":"IF(C68=\"\",\"\",IF(OR('ORDER FRAMES'!G83=\"L\",'ORDER FRAMES'!G83=\"R\"),\"\",'ORDER FRAMES'!N83))","v":""},{"$f":"IF(C68=\"\",\"\",IF(OR('ORDER FRAMES'!G83=\"L\",'ORDER FRAMES'!G83=\"R\"),\"\",'ORDER FRAMES'!O83))","v":""},null,"",null,null,"","","",{"$f":"IF('ORDER FRAMES'!Q83=\"\",\"\",IF(OR('ORDER FRAMES'!G83=\"L\",'ORDER FRAMES'!G83=\"R\"),\"\",'ORDER FRAMES'!Q83))","v":""},{"$f":"IF('ORDER FRAMES'!S83=\"\",\"\",IF(OR('ORDER FRAMES'!G83=\"L\",'ORDER FRAMES'!G83=\"R\"),\"\",'ORDER FRAMES'!S83))","v":""},{"$f":"IF('ORDER FRAMES'!T83=\"\",\"\",IF(OR('ORDER FRAMES'!G83=\"L\",'ORDER FRAMES'!G83=\"R\"),\"\",'ORDER FRAMES'!T83))","v":""},{"$f":"IF('ORDER FRAMES'!U83=\"\",\"\",IF(OR('ORDER FRAMES'!G83=\"L\",'ORDER FRAMES'!G83=\"R\"),\"\",'ORDER FRAMES'!U83))","v":""},{"$f":"IF(C68=\"\",\"\",'ORDER FRAMES'!V83)","v":""},null,null,null,null,"",null,null,null,"","",""]
[84,null,{"$f":"IF('ORDER FRAMES'!B84=\"\",\"\",IF(OR('ORDER FRAMES'!G84=\"L\",'ORDER FRAMES'!G84=\"R\"),\"\",'ORDER FRAMES'!B84))","v":""},{"$f":"IF('ORDER FRAMES'!C84=\"\",\"\",IF(OR('ORDER FRAMES'!G84=\"L\",'ORDER FRAMES'!G84=\"R\"),\"\",'ORDER FRAMES'!C84))","v":""},null,{"$f":"IF('ORDER FRAMES'!E84=\"\",\"\",IF(OR('ORDER FRAMES'!G84=\"L\",'ORDER FRAMES'!G84=\"R\"),\"\",'ORDER FRAMES'!E84))","v":""},{"$f":"IF('ORDER FRAMES'!F84=\"\",\"\",IF(OR('ORDER FRAMES'!G84=\"L\",'ORDER FRAMES'!G84=\"R\"),\"\",'ORDER FRAMES'!F84))","v":""},{"$f":"IF('ORDER FRAMES'!G84=\"\",\"\",IF(OR('ORDER FRAMES'!G84=\"L\",'ORDER FRAMES'!G84=\"R\"),\"\",'ORDER FRAMES'!G84))","v":""},{"$f":"IF('ORDER FRAMES'!H84=\"\",\"\",IF(OR('ORDER FRAMES'!G84=\"L\",'ORDER FRAMES'!G84=\"R\"),\"\",'ORDER FRAMES'!H84))","v":""},{"$f":"IF('ORDER FRAMES'!I84=\"\",\"\",IF(OR('ORDER FRAMES'!G84=\"L\",'ORDER FRAMES'!G84=\"R\"),\"\",'ORDER FRAMES'!I84))","v":""},{"$f":"IF('ORDER FRAMES'!J84=\"\",\"\",IF(OR('ORDER FRAMES'!G84=\"L\",'ORDER FRAMES'!G84=\"R\"),\"\",'ORDER FRAMES'!J84))","v":""},{"$f":"IF('ORDER FRAMES'!K84=\"\",\"\",IF(OR('ORDER FRAMES'!G84=\"L\",'ORDER FRAMES'!G84=\"R\"),\"\",'ORDER FRAMES'!K84))","v":""},{"$f":"IF('ORDER FRAMES'!L84=\"\",\"\",IF(OR('ORDER FRAMES'!G84=\"L\",'ORDER FRAMES'!G84=\"R\"),\"\",'ORDER FRAMES'!L84))","v":""},{"$f":"IF('ORDER FRAMES'!M84=\"\",\"\",IF(OR('ORDER FRAMES'!G84=\"L\",'ORDER FRAMES'!G84=\"R\"),\"\",'ORDER FRAMES'!M84))","v":""},null,null,null,{"$f":"IF(C69=\"\",\"\",IF(OR('ORDER FRAMES'!G84=\"L\",'ORDER FRAMES'!G84=\"R\"),\"\",'ORDER FRAMES'!N84))","v":""},{"$f":"IF(C69=\"\",\"\",IF(OR('ORDER FRAMES'!G84=\"L\",'ORDER FRAMES'!G84=\"R\"),\"\",'ORDER FRAMES'!O84))","v":""},null,"",null,null,"","","",{"$f":"IF('ORDER FRAMES'!Q84=\"\",\"\",IF(OR('ORDER FRAMES'!G84=\"L\",'ORDER FRAMES'!G84=\"R\"),\"\",'ORDER FRAMES'!Q84))","v":""},{"$f":"IF('ORDER FRAMES'!S84=\"\",\"\",IF(OR('ORDER FRAMES'!G84=\"L\",'ORDER FRAMES'!G84=\"R\"),\"\",'ORDER FRAMES'!S84))","v":""},{"$f":"IF('ORDER FRAMES'!T84=\"\",\"\",IF(OR('ORDER FRAMES'!G84=\"L\",'ORDER FRAMES'!G84=\"R\"),\"\",'ORDER FRAMES'!T84))","v":""},{"$f":"IF('ORDER FRAMES'!U84=\"\",\"\",IF(OR('ORDER FRAMES'!G84=\"L\",'ORDER FRAMES'!G84=\"R\"),\"\",'ORDER FRAMES'!U84))","v":""},{"$f":"IF(C69=\"\",\"\",'ORDER FRAMES'!V84)","v":""},null,null,null,null,"",null,null,null,"","",""]
[85,null,{"$f":"IF('ORDER FRAMES'!B85=\"\",\"\",IF(OR('ORDER FRAMES'!G85=\"L\",'ORDER FRAMES'!G85=\"R\"),\"\",'ORDER FRAMES'!B85))","v":""},{"$f":"IF('ORDER FRAMES'!C85=\"\",\"\",IF(OR('ORDER FRAMES'!G85=\"L\",'ORDER FRAMES'!G85=\"R\"),\"\",'ORDER FRAMES'!C85))","v":""},null,{"$f":"IF('ORDER FRAMES'!E85=\"\",\"\",IF(OR('ORDER FRAMES'!G85=\"L\",'ORDER FRAMES'!G85=\"R\"),\"\",'ORDER FRAMES'!E85))","v":""},{"$f":"IF('ORDER FRAMES'!F85=\"\",\"\",IF(OR('ORDER FRAMES'!G85=\"L\",'ORDER FRAMES'!G85=\"R\"),\"\",'ORDER FRAMES'!F85))","v":""},{"$f":"IF('ORDER FRAMES'!G85=\"\",\"\",IF(OR('ORDER FRAMES'!G85=\"L\",'ORDER FRAMES'!G85=\"R\"),\"\",'ORDER FRAMES'!G85))","v":""},{"$f":"IF('ORDER FRAMES'!H85=\"\",\"\",IF(OR('ORDER FRAMES'!G85=\"L\",'ORDER FRAMES'!G85=\"R\"),\"\",'ORDER FRAMES'!H85))","v":""},{"$f":"IF('ORDER FRAMES'!I85=\"\",\"\",IF(OR('ORDER FRAMES'!G85=\"L\",'ORDER FRAMES'!G85=\"R\"),\"\",'ORDER FRAMES'!I85))","v":""},{"$f":"IF('ORDER FRAMES'!J85=\"\",\"\",IF(OR('ORDER FRAMES'!G85=\"L\",'ORDER FRAMES'!G85=\"R\"),\"\",'ORDER FRAMES'!J85))","v":""},{"$f":"IF('ORDER FRAMES'!K85=\"\",\"\",IF(OR('ORDER FRAMES'!G85=\"L\",'ORDER FRAMES'!G85=\"R\"),\"\",'ORDER FRAMES'!K85))","v":""},{"$f":"IF('ORDER FRAMES'!L85=\"\",\"\",IF(OR('ORDER FRAMES'!G85=\"L\",'ORDER FRAMES'!G85=\"R\"),\"\",'ORDER FRAMES'!L85))","v":""},{"$f":"IF('ORDER FRAMES'!M85=\"\",\"\",IF(OR('ORDER FRAMES'!G85=\"L\",'ORDER FRAMES'!G85=\"R\"),\"\",'ORDER FRAMES'!M85))","v":""},null,null,null,{"$f":"IF(C70=\"\",\"\",IF(OR('ORDER FRAMES'!G85=\"L\",'ORDER FRAMES'!G85=\"R\"),\"\",'ORDER FRAMES'!N85))","v":""},{"$f":"IF(C70=\"\",\"\",IF(OR('ORDER FRAMES'!G85=\"L\",'ORDER FRAMES'!G85=\"R\"),\"\",'ORDER FRAMES'!O85))","v":""},null,"",null,null,"","","",{"$f":"IF('ORDER FRAMES'!Q85=\"\",\"\",IF(OR('ORDER FRAMES'!G85=\"L\",'ORDER FRAMES'!G85=\"R\"),\"\",'ORDER FRAMES'!Q85))","v":""},{"$f":"IF('ORDER FRAMES'!S85=\"\",\"\",IF(OR('ORDER FRAMES'!G85=\"L\",'ORDER FRAMES'!G85=\"R\"),\"\",'ORDER FRAMES'!S85))","v":""},{"$f":"IF('ORDER FRAMES'!T85=\"\",\"\",IF(OR('ORDER FRAMES'!G85=\"L\",'ORDER FRAMES'!G85=\"R\"),\"\",'ORDER FRAMES'!T85))","v":""},{"$f":"IF('ORDER FRAMES'!U85=\"\",\"\",IF(OR('ORDER FRAMES'!G85=\"L\",'ORDER FRAMES'!G85=\"R\"),\"\",'ORDER FRAMES'!U85))","v":""},{"$f":"IF(C70=\"\",\"\",'ORDER FRAMES'!V85)","v":""},null,null,null,null,"",null,null,null,"","",""]
[86,null,{"$f":"IF('ORDER FRAMES'!B86=\"\",\"\",IF(OR('ORDER FRAMES'!G86=\"L\",'ORDER FRAMES'!G86=\"R\"),\"\",'ORDER FRAMES'!B86))","v":""},{"$f":"IF('ORDER FRAMES'!C86=\"\",\"\",IF(OR('ORDER FRAMES'!G86=\"L\",'ORDER FRAMES'!G86=\"R\"),\"\",'ORDER FRAMES'!C86))","v":""},null,{"$f":"IF('ORDER FRAMES'!E86=\"\",\"\",IF(OR('ORDER FRAMES'!G86=\"L\",'ORDER FRAMES'!G86=\"R\"),\"\",'ORDER FRAMES'!E86))","v":""},{"$f":"IF('ORDER FRAMES'!F86=\"\",\"\",IF(OR('ORDER FRAMES'!G86=\"L\",'ORDER FRAMES'!G86=\"R\"),\"\",'ORDER FRAMES'!F86))","v":""},{"$f":"IF('ORDER FRAMES'!G86=\"\",\"\",IF(OR('ORDER FRAMES'!G86=\"L\",'ORDER FRAMES'!G86=\"R\"),\"\",'ORDER FRAMES'!G86))","v":""},{"$f":"IF('ORDER FRAMES'!H86=\"\",\"\",IF(OR('ORDER FRAMES'!G86=\"L\",'ORDER FRAMES'!G86=\"R\"),\"\",'ORDER FRAMES'!H86))","v":""},{"$f":"IF('ORDER FRAMES'!I86=\"\",\"\",IF(OR('ORDER FRAMES'!G86=\"L\",'ORDER FRAMES'!G86=\"R\"),\"\",'ORDER FRAMES'!I86))","v":""},{"$f":"IF('ORDER FRAMES'!J86=\"\",\"\",IF(OR('ORDER FRAMES'!G86=\"L\",'ORDER FRAMES'!G86=\"R\"),\"\",'ORDER FRAMES'!J86))","v":""},{"$f":"IF('ORDER FRAMES'!K86=\"\",\"\",IF(OR('ORDER FRAMES'!G86=\"L\",'ORDER FRAMES'!G86=\"R\"),\"\",'ORDER FRAMES'!K86))","v":""},{"$f":"IF('ORDER FRAMES'!L86=\"\",\"\",IF(OR('ORDER FRAMES'!G86=\"L\",'ORDER FRAMES'!G86=\"R\"),\"\",'ORDER FRAMES'!L86))","v":""},{"$f":"IF('ORDER FRAMES'!M86=\"\",\"\",IF(OR('ORDER FRAMES'!G86=\"L\",'ORDER FRAMES'!G86=\"R\"),\"\",'ORDER FRAMES'!M86))","v":""},null,null,null,{"$f":"IF(C71=\"\",\"\",IF(OR('ORDER FRAMES'!G86=\"L\",'ORDER FRAMES'!G86=\"R\"),\"\",'ORDER FRAMES'!N86))","v":""},{"$f":"IF(C71=\"\",\"\",IF(OR('ORDER FRAMES'!G86=\"L\",'ORDER FRAMES'!G86=\"R\"),\"\",'ORDER FRAMES'!O86))","v":""},null,{"$f":"IF(F71=\"V\",T71,IF(F71=\"W\",U71=0,\"\"))","v":""},null,null,{"$f":"L71","v":""},{"$f":"IF( M71=\"\",\"\",(M71+6)-R71-S71-T71-V71)","v":""},{"$f":"IF(O71=\"\",\"\",IF(OR(AND(C71=\"X240\",F71=\"V\",O71=40),AND(C71=\"X1\",F71=\"V\",O71=40),AND(C71=\"X245\",F71=\"V\",O71=44-45)),\"A\",IF(OR(AND(C71=\"X1\",F71=\"V\",O71=50),AND(C71=\"X240\",F71=\"V\",O71=50),AND(C71=\"X245\",F71=\"V\",O71=55),AND(C71=\"X250\",F71=\"V\",O71=60),AND(C71=\"X40\",F71=\"V\",O71=40),AND(C71=\"X45\",F71=\"V\",O71=44-45)),\"B\",IF(OR(AND(C71=\"X1\",F71=\"C\",O71=50),AND(C71=\"X240\",F71=\"C\",O71=50),AND(C71=\"X245\",F71=\"C\",O71=55),AND(C71=\"X250\",F71=\"C\",O71=60),AND(C71=\"X40\",F71=\"T\",O71=40),AND(C71=\"X45\",F71=\"T\",O71=44-45)),\"C\",IF(OR(AND(C71=\"X1\",F71=\"W\",O71=50),AND(C71=\"X240\",F71=\"W\",O71=50),AND(C71=\"X245\",F71=\"W\",O71=55),AND(C71=\"X250\",F71=\"W\",O71=60),AND(C71=\"X40\",F71=\"W\",O71=40),AND(C71=\"X45\",F71=\"W\",O71=44-45)),\"D\",\"\")))))","v":""},{"$f":"IF('ORDER FRAMES'!Q86=\"\",\"\",IF(OR('ORDER FRAMES'!G86=\"L\",'ORDER FRAMES'!G86=\"R\"),\"\",'ORDER FRAMES'!Q86))","v":""},{"$f":"IF('ORDER FRAMES'!S86=\"\",\"\",IF(OR('ORDER FRAMES'!G86=\"L\",'ORDER FRAMES'!G86=\"R\"),\"\",'ORDER FRAMES'!S86))","v":""},{"$f":"IF('ORDER FRAMES'!T86=\"\",\"\",IF(OR('ORDER FRAMES'!G86=\"L\",'ORDER FRAMES'!G86=\"R\"),\"\",'ORDER FRAMES'!T86))","v":""},{"$f":"IF('ORDER FRAMES'!U86=\"\",\"\",IF(OR('ORDER FRAMES'!G86=\"L\",'ORDER FRAMES'!G86=\"R\"),\"\",'ORDER FRAMES'!U86))","v":""},{"$f":"IF(C71=\"\",\"\",'ORDER FRAMES'!V86)","v":""},null,null,null,null,{"$f":"IF(C71=\"\",\"\",\"STANDAARD\")","v":""},null,null,null,{"$f":"IF(C71=\"\",\"\",CONCATENATE(\"X7\",IF(E71=\"EI 0\",\"00\",IF(E71=\"EI 1 30\",\"30\",IF(E71=\"EI 1 45\",\"45\",IF(E71=\"EI 2 60\",\"60\",\"\")))),IF(O71=50,\"01\",IF(O71=40,\"02\",IF(O71=60,\"04\",\"X\"))),\".\",O71,\"-\",IF(M71<2116,\"H1\",IF(M71<2416,\"H2\",IF(M71<2616,\"H3\",IF(M71>2615,\"H4\",\"\")))),IF( L71<831,\"B1\",IF(L71<931,\"B2\",IF(L71>930,\"B3\",\"\"))),\"-\",AC71,IF(OR(AB71=\"A24.0\",AB71=\"A24.1\",AB71=\"A24.2\",AB71=\"X4030.W\",AB71=\"X4030.G\",AB71=\"X4030.B\"),\"A24\",IF(OR(AB71=\"TE340.0\",AB71=\"TE340.1\",AB71=\"TE340.2\"),\"TE340\",\"A30\")),\"-\",IF(OR(AD71=\"00BB\",AD71=\"00PZ\",AD71=\"00WC\",AD71=\"E0BB\",AD71=\"E0PZ\",AD71=\"E0WC\"),\"D7X\",IF(OR(AD71=\"R15W.55BB\",AD71=\"R15I.55BB\",AD71=\"R15B.55BB\",AD71=\"R17W.55WC\",AD71=\"R17I.55WC\",AD71=\"R17B.55WC\",AD71=\"R19W.55PZ\",AD71=\"R19I.55PZ\",AD71=\"R19B.55PZ\",AD71=\"R35W.55BB\",AD71=\"R35I.55BB\",AD71=\"R35B.55BB\",AD71=\"R37W.55WC\",AD71=\"R37I.55WC\",AD71=\"R37B.55WC\",AD71=\"R59W.55PZ\",AD71=\"R59I.55PZ\",AD71=\"R59B.55PZ\",AD71=\"0K1\",AD71=\"0K2\",AD71=\"0K3\",AD71=\"0K4\",AD71=\"EK1\",AD71=\"EK2\",AD71=\"EK3\",AD71=\"EK4\"),\"DIN\",IF(AD71=\"0NH\",\"0NH\",IF(AD71=\"0NHZ\",\"0NH\",IF(AD71=\"0NHW\",\"0NH\",IF(OR(AD71=\"0NZB\",AD71=\"0NZW\",AD71=\"0NZG\"),\"NZ\",IF(OR(AD71=\"2NZB\",AD71=\"2NZW\",AD71=\"2NZG\"),\"2NZ\",IF(AD71=\"NIXX\",\"NIXX\",IF(AD71=\"SECL 1\",\"SECL 1\",IF(AD71=\"SECL 2\",\"SECL 2\",IF(AD71=\"SECL 3\",\"SECL 3\",IF(AD71=\"SECL 4 \",\"SECL 4\",IF(AD71=\"XXXX\",\"XXXX\",\"\"))))))))))))),\"-\",Z71,\"-\",H71,IF(AA71=1,\"\",IF(AA71=2,\"-AS\",IF(AA71=3,\"-I\",IF(AA71=4,\"-ITS\",IF(AA71=5,\"-SC\",\"\"))))),IF(AI71=\"ja \",\"-VD\",\"\"),))","v":""},{"$f":"IF(AND(OR(AF71=\"Geboord rond dia 20\",AF71=\"Geboord ovaal\"),AG71=\"Nee\"),\"X7-SG\",IF(AND(OR(AF71=\"Geboord rond dia 20 met patentgaten\",AF71=\"Geboord ovaal met patentagaten\"),AG71=\"Nee\"),\"X7-SG-PG\",IF(AND(AF71=\"Niet geboord\",OR(AG71=\"BB\",AG71=\"WC\",AG71=\"WC NH Locco\",AG71=\"WC NH Cartel\",AG71=\"PZ\")),\"X7-KG\",IF(AND(AF71=\"Niet geboord\",OR(AG71=\"BB met patentgaten\",AG71=\"WC met patentgaten\",AG71=\"PZ met patentgaten\",)),\"X7-KG-PG\",IF(AND(OR(AF71=\"\",AF71=\"Geboord rond dia 20 met patentgaten\",AF71=\"Geboord ovaal met patentagaten\"),OR(AG71=\"BB met patentgaten\",AG71=\"WC met patentgaten\",AG71=\"PZ met patentgaten\")),\"X7-KG-PG-SG-PG\",IF(AND(OR(AF71=\"Geboord rond dia 20\",AF71=\"Geboord ovaal\"),OR(AG71=\"BB met patentgaten\",AG71=\"WC met patentgaten\",AG71=\"PZ met patentgaten\")),\"X7-KG-SG-PG\",IF(AND(OR(AF71=\"Geboord rond dia 20 met patentgaten\",AF71=\"Geboord ovaal met patentgaten\"),OR(AG71=\"BB\",AG71=\"WC\",AG71=\"WC NH Locco\",AG71=\"WC NH Cartel\",AG71=\"PZ\")),\"X7-KG-PG-SG\",\"\")))))))","v":""},{"$f":"IF(AL71=\"Lak\",\"X7-LAQUER\",IF(AL71=\"HPL\",\"X7-HPL\",IF(AL71=\"Fineer\",\"X7-FINEER\",IF(AK71=\"Ja\",\"X7-GRUNDIERT\",\"\"))))","v":""}]
[87,null,{"$f":"IF('ORDER FRAMES'!B87=\"\",\"\",IF(OR('ORDER FRAMES'!G87=\"L\",'ORDER FRAMES'!G87=\"R\"),\"\",'ORDER FRAMES'!B87))","v":""},{"$f":"IF('ORDER FRAMES'!C87=\"\",\"\",IF(OR('ORDER FRAMES'!G87=\"L\",'ORDER FRAMES'!G87=\"R\"),\"\",'ORDER FRAMES'!C87))","v":""},null,{"$f":"IF('ORDER FRAMES'!E87=\"\",\"\",IF(OR('ORDER FRAMES'!G87=\"L\",'ORDER FRAMES'!G87=\"R\"),\"\",'ORDER FRAMES'!E87))","v":""},{"$f":"IF('ORDER FRAMES'!F87=\"\",\"\",IF(OR('ORDER FRAMES'!G87=\"L\",'ORDER FRAMES'!G87=\"R\"),\"\",'ORDER FRAMES'!F87))","v":""},{"$f":"IF('ORDER FRAMES'!G87=\"\",\"\",IF(OR('ORDER FRAMES'!G87=\"L\",'ORDER FRAMES'!G87=\"R\"),\"\",'ORDER FRAMES'!G87))","v":""},{"$f":"IF('ORDER FRAMES'!H87=\"\",\"\",IF(OR('ORDER FRAMES'!G87=\"L\",'ORDER FRAMES'!G87=\"R\"),\"\",'ORDER FRAMES'!H87))","v":""},{"$f":"IF('ORDER FRAMES'!I87=\"\",\"\",IF(OR('ORDER FRAMES'!G87=\"L\",'ORDER FRAMES'!G87=\"R\"),\"\",'ORDER FRAMES'!I87))","v":""},{"$f":"IF('ORDER FRAMES'!J87=\"\",\"\",IF(OR('ORDER FRAMES'!G87=\"L\",'ORDER FRAMES'!G87=\"R\"),\"\",'ORDER FRAMES'!J87))","v":""},{"$f":"IF('ORDER FRAMES'!K87=\"\",\"\",IF(OR('ORDER FRAMES'!G87=\"L\",'ORDER FRAMES'!G87=\"R\"),\"\",'ORDER FRAMES'!K87))","v":""},{"$f":"IF('ORDER FRAMES'!L87=\"\",\"\",IF(OR('ORDER FRAMES'!G87=\"L\",'ORDER FRAMES'!G87=\"R\"),\"\",'ORDER FRAMES'!L87))","v":""},{"$f":"IF('ORDER FRAMES'!M87=\"\",\"\",IF(OR('ORDER FRAMES'!G87=\"L\",'ORDER FRAMES'!G87=\"R\"),\"\",'ORDER FRAMES'!M87))","v":""},null,null,null,{"$f":"IF(C72=\"\",\"\",IF(OR('ORDER FRAMES'!G87=\"L\",'ORDER FRAMES'!G87=\"R\"),\"\",'ORDER FRAMES'!N87))","v":""},{"$f":"IF(C72=\"\",\"\",IF(OR('ORDER FRAMES'!G87=\"L\",'ORDER FRAMES'!G87=\"R\"),\"\",'ORDER FRAMES'!O87))","v":""},null,"",null,null,"","","",{"$f":"IF('ORDER FRAMES'!Q87=\"\",\"\",IF(OR('ORDER FRAMES'!G87=\"L\",'ORDER FRAMES'!G87=\"R\"),\"\",'ORDER FRAMES'!Q87))","v":""},{"$f":"IF('ORDER FRAMES'!S87=\"\",\"\",IF(OR('ORDER FRAMES'!G87=\"L\",'ORDER FRAMES'!G87=\"R\"),\"\",'ORDER FRAMES'!S87))","v":""},{"$f":"IF('ORDER FRAMES'!T87=\"\",\"\",IF(OR('ORDER FRAMES'!G87=\"L\",'ORDER FRAMES'!G87=\"R\"),\"\",'ORDER FRAMES'!T87))","v":""},{"$f":"IF('ORDER FRAMES'!U87=\"\",\"\",IF(OR('ORDER FRAMES'!G87=\"L\",'ORDER FRAMES'!G87=\"R\"),\"\",'ORDER FRAMES'!U87))","v":""},{"$f":"IF(C72=\"\",\"\",'ORDER FRAMES'!V87)","v":""},null,null,null,null,"",null,null,null,"","",""]
[88,null,{"$f":"IF('ORDER FRAMES'!B88=\"\",\"\",IF(OR('ORDER FRAMES'!G88=\"L\",'ORDER FRAMES'!G88=\"R\"),\"\",'ORDER FRAMES'!B88))","v":""},{"$f":"IF('ORDER FRAMES'!C88=\"\",\"\",IF(OR('ORDER FRAMES'!G88=\"L\",'ORDER FRAMES'!G88=\"R\"),\"\",'ORDER FRAMES'!C88))","v":""},null,{"$f":"IF('ORDER FRAMES'!E88=\"\",\"\",IF(OR('ORDER FRAMES'!G88=\"L\",'ORDER FRAMES'!G88=\"R\"),\"\",'ORDER FRAMES'!E88))","v":""},{"$f":"IF('ORDER FRAMES'!F88=\"\",\"\",IF(OR('ORDER FRAMES'!G88=\"L\",'ORDER FRAMES'!G88=\"R\"),\"\",'ORDER FRAMES'!F88))","v":""},{"$f":"IF('ORDER FRAMES'!G88=\"\",\"\",IF(OR('ORDER FRAMES'!G88=\"L\",'ORDER FRAMES'!G88=\"R\"),\"\",'ORDER FRAMES'!G88))","v":""},{"$f":"IF('ORDER FRAMES'!H88=\"\",\"\",IF(OR('ORDER FRAMES'!G88=\"L\",'ORDER FRAMES'!G88=\"R\"),\"\",'ORDER FRAMES'!H88))","v":""},{"$f":"IF('ORDER FRAMES'!I88=\"\",\"\",IF(OR('ORDER FRAMES'!G88=\"L\",'ORDER FRAMES'!G88=\"R\"),\"\",'ORDER FRAMES'!I88))","v":""},{"$f":"IF('ORDER FRAMES'!J88=\"\",\"\",IF(OR('ORDER FRAMES'!G88=\"L\",'ORDER FRAMES'!G88=\"R\"),\"\",'ORDER FRAMES'!J88))","v":""},{"$f":"IF('ORDER FRAMES'!K88=\"\",\"\",IF(OR('ORDER FRAMES'!G88=\"L\",'ORDER FRAMES'!G88=\"R\"),\"\",'ORDER FRAMES'!K88))","v":""},{"$f":"IF('ORDER FRAMES'!L88=\"\",\"\",IF(OR('ORDER FRAMES'!G88=\"L\",'ORDER FRAMES'!G88=\"R\"),\"\",'ORDER FRAMES'!L88))","v":""},{"$f":"IF('ORDER FRAMES'!M88=\"\",\"\",IF(OR('ORDER FRAMES'!G88=\"L\",'ORDER FRAMES'!G88=\"R\"),\"\",'ORDER FRAMES'!M88))","v":""},null,null,null,{"$f":"IF(C73=\"\",\"\",IF(OR('ORDER FRAMES'!G88=\"L\",'ORDER FRAMES'!G88=\"R\"),\"\",'ORDER FRAMES'!N88))","v":""},{"$f":"IF(C73=\"\",\"\",IF(OR('ORDER FRAMES'!G88=\"L\",'ORDER FRAMES'!G88=\"R\"),\"\",'ORDER FRAMES'!O88))","v":""},null,"",null,null,"","","",{"$f":"IF('ORDER FRAMES'!Q88=\"\",\"\",IF(OR('ORDER FRAMES'!G88=\"L\",'ORDER FRAMES'!G88=\"R\"),\"\",'ORDER FRAMES'!Q88))","v":""},{"$f":"IF('ORDER FRAMES'!S88=\"\",\"\",IF(OR('ORDER FRAMES'!G88=\"L\",'ORDER FRAMES'!G88=\"R\"),\"\",'ORDER FRAMES'!S88))","v":""},{"$f":"IF('ORDER FRAMES'!T88=\"\",\"\",IF(OR('ORDER FRAMES'!G88=\"L\",'ORDER FRAMES'!G88=\"R\"),\"\",'ORDER FRAMES'!T88))","v":""},{"$f":"IF('ORDER FRAMES'!U88=\"\",\"\",IF(OR('ORDER FRAMES'!G88=\"L\",'ORDER FRAMES'!G88=\"R\"),\"\",'ORDER FRAMES'!U88))","v":""},{"$f":"IF(C73=\"\",\"\",'ORDER FRAMES'!V88)","v":""},null,null,null,null,"",null,null,null,"","",""]

{"sheet":"CALCULATION DOUBLE DOORS","index":4,"n_rows":10,"n_cols":13,"rows_kept":10,"cut":false,"hidden":false,"merged":[]}
[]
[]
[null,null,null,null,null,null,null,null,null,"Wp","Breedte deurpaneel"]
[null,null,null,null,null,null,null,null,null,"Wdp","Dubbele deur breedte"]
[]
[]
[null,null,null,null,null,null,null,null,null,"Deur 1 ","Deur 2","Orderbreedte"]
[null,null,null,null,null,null,null,null,"VUL IN (MM)",930,930,{"$f":"(J8-10)+3+K8","v":1853},"= Wdp"]
[null,null,null,null,null,null,null,null,null,null,null,"Inbouwbreedte"]
[null,null,null,null,null,null,null,null,null,null,null,{"$f":"L8+70","v":1923},"=Ww"]

{"sheet":"Scharnieren","index":5,"n_rows":67,"n_cols":100,"rows_kept":67,"cut":false,"hidden":true,"merged":[]}
[null,null,null,null,null,null,null,null,null,null,null,null,null,null,null,null,null,null,null,null,21,22,23,24,25,26,27,28,29,30,31,32,33,34,35,36,37,38,39,40,41,42,43,44,45,46,47,48,49,50,51,52,53,54,55,56,57,58,59,60,61,62,63,64,65,66,67,68,69,70,71,72,73,74,75,76,77,78,79,80,81,82,83,84,85,86,87,88,89,90,91,92,93,94,95,96,97,98,99,100]
[null,null,null,null,null,null,null,null,null,null,null,null,null,null,null,null,null,null,null,null,{"$f":"IF('ORDER FRAMES'!$B$21=\"X40\",VLOOKUP('ORDER FRAMES'!$Q$21,Scharnieren!$C$16:$J$20,2,FALSE),VLOOKUP('ORDER FRAMES'!$Q$21,Scharnieren!$C$7:$N$11,2,FALSE))","v":"A24.0"},{"$f":"IF('ORDER FRAMES'!$B$22=\"X40\",VLOOKUP('ORDER FRAMES'!$Q$22,Scharnieren!$C$16:$J$20,2,FALSE),VLOOKUP('ORDER FRAMES'!$Q$22,Scharnieren!$C$7:$N$11,2,FALSE))","v":"A24.0"},{"$f":"IF('ORDER FRAMES'!$B$23=\"X40\",VLOOKUP('ORDER FRAMES'!$Q$23,Scharnieren!$C$16:$J$20,2,FALSE),VLOOKUP('ORDER FRAMES'!$Q$23,Scharnieren!$C$7:$N$11,2,FALSE))","v":{"$error":"#N/A"}},{"$f":"IF('ORDER FRAMES'!$B$24=\"X40\",VLOOKUP('ORDER FRAMES'!$Q$24,Scharnieren!$C$16:$J$20,2,FALSE),VLOOKUP('ORDER FRAMES'!$Q$24,Scharnieren!$C$7:$N$11,2,FALSE))","v":{"$error":"#N/A"}},{"$f":"IF('ORDER FRAMES'!$B$25=\"X40\",VLOOKUP('ORDER FRAMES'!$Q$25,Scharnieren!$C$16:$J$20,2,FALSE),VLOOKUP('ORDER FRAMES'!$Q$25,Scharnieren!$C$7:$N$11,2,FALSE))","v":{"$error":"#N/A"}},{"$f":"IF('ORDER FRAMES'!$B$26=\"X40\",VLOOKUP('ORDER FRAMES'!$Q$26,Scharnieren!$C$16:$J$20,2,FALSE),VLOOKUP('ORDER FRAMES'!$Q$26,Scharnieren!$C$7:$N$11,2,FALSE))","v":{"$error":"#N/A"}},{"$f":"IF('ORDER FRAMES'!$B$27=\"X40\",VLOOKUP('ORDER FRAMES'!$Q$27,Scharnieren!$C$16:$J$20,2,FALSE),VLOOKUP('ORDER FRAMES'!$Q$27,Scharnieren!$C$7:$N$11,2,FALSE))","v":{"$error":"#N/A"}},{"$f":"IF('ORDER FRAMES'!$B$28=\"X40\",VLOOKUP('ORDER FRAMES'!$Q$28,Scharnieren!$C$16:$J$20,2,FALSE),VLOOKUP('ORDER FRAMES'!$Q$28,Scharnieren!$C$7:$N$11,2,FALSE))","v":{"$error":"#N/A"}},{"$f":"IF('ORDER FRAMES'!$B$29=\"X40\",VLOOKUP('ORDER FRAMES'!$Q$29,Scharnieren!$C$16:$J$20,2,FALSE),VLOOKUP('ORDER FRAMES'!$Q$29,Scharnieren!$C$7:$N$11,2,FALSE))","v":{"$error":"#N/A"}},{"$f":"IF('ORDER FRAMES'!$B$30=\"X40\",VLOOKUP('ORDER FRAMES'!$Q$30,Scharnieren!$C$16:$J$20,2,FALSE),VLOOKUP('ORDER FRAMES'!$Q$30,Scharnieren!$C$7:$M$11,2,FALSE))","v":{"$error":"#N/A"}},{"$f":"IF('ORDER FRAMES'!$B$31=\"X40\",VLOOKUP('ORDER FRAMES'!$Q$31,Scharnieren!$C$16:$J$20,2,FALSE),VLOOKUP('ORDER FRAMES'!$Q$31,Scharnieren!$C$7:$M$11,2,FALSE))","v":{"$error":"#N/A"}},{"$f":"IF('ORDER FRAMES'!$B$32=\"X40\",VLOOKUP('ORDER FRAMES'!$Q$32,Scharnieren!$C$16:$J$20,2,FALSE),VLOOKUP('ORDER FRAMES'!$Q$32,Scharnieren!$C$7:$M$11,2,FALSE))","v":{"$error":"#N/A"}},{"$f":"IF('ORDER FRAMES'!$B$33=\"X40\",VLOOKUP('ORDER FRAMES'!$Q$33,Scharnieren!$C$16:$J$20,2,FALSE),VLOOKUP('ORDER FRAMES'!$Q$33,Scharnieren!$C$7:$M$11,2,FALSE))","v":{"$error":"#N/A"}},{"$f":"IF('ORDER FRAMES'!$B$34=\"X40\",VLOOKUP('ORDER FRAMES'!$Q$34,Scharnieren!$C$16:$J$20,2,FALSE),VLOOKUP('ORDER FRAMES'!$Q$34,Scharnieren!$C$7:$M$11,2,FALSE))","v":{"$error":"#N/A"}},{"$f":"IF('ORDER FRAMES'!$B$35=\"X40\",VLOOKUP('ORDER FRAMES'!$Q$35,Scharnieren!$C$16:$J$20,2,FALSE),VLOOKUP('ORDER FRAMES'!$Q$35,Scharnieren!$C$7:$M$11,2,FALSE))","v":{"$error":"#N/A"}},{"$f":"IF('ORDER FRAMES'!$B$36=\"X40\",VLOOKUP('ORDER FRAMES'!$Q$36,Scharnieren!$C$16:$J$20,2,FALSE),VLOOKUP('ORDER FRAMES'!$Q$36,Scharnieren!$C$7:$M$11,2,FALSE))","v":{"$error":"#N/A"}},{"$f":"IF('ORDER FRAMES'!$B$37=\"X40\",VLOOKUP('ORDER FRAMES'!$Q$37,Scharnieren!$C$16:$J$20,2,FALSE),VLOOKUP('ORDER FRAMES'!$Q$37,Scharnieren!$C$7:$M$11,2,FALSE))","v":{"$error":"#N/A"}},{"$f":"IF('ORDER FRAMES'!$B$38=\"X40\",VLOOKUP('ORDER FRAMES'!$Q$38,Scharnieren!$C$16:$J$20,2,FALSE),VLOOKUP('ORDER FRAMES'!$Q$38,Scharnieren!$C$7:$M$11,2,FALSE))","v":{"$error":"#N/A"}},{"$f":"IF('ORDER FRAMES'!$B$39=\"X40\",VLOOKUP('ORDER FRAMES'!$Q$39,Scharnieren!$C$16:$J$20,2,FALSE),VLOOKUP('ORDER FRAMES'!$Q$39,Scharnieren!$C$7:$M$11,2,FALSE))","v":{"$error":"#N/A"}},{"$f":"IF('ORDER FRAMES'!$B$40=\"X40\",VLOOKUP('ORDER FRAMES'!$Q$40,Scharnieren!$C$16:$J$20,2,FALSE),VLOOKUP('ORDER FRAMES'!$Q$40,Scharnieren!$C$7:$M$11,2,FALSE))","v":{"$error":"#N/A"}},{"$f":"IF('ORDER FRAMES'!$B$41=\"X40\",VLOOKUP('ORDER FRAMES'!$Q$41,Scharnieren!$C$16:$J$20,2,FALSE),VLOOKUP('ORDER FRAMES'!$Q$41,Scharnieren!$C$7:$M$11,2,FALSE))","v":{"$error":"#N/A"}},{"$f":"IF('ORDER FRAMES'!$B$42=\"X40\",VLOOKUP('ORDER FRAMES'!$Q$42,Scharnieren!$C$16:$J$20,2,FALSE),VLOOKUP('ORDER FRAMES'!$Q$42,Scharnieren!$C$7:$M$11,2,FALSE))","v":{"$error":"#N/A"}},{"$f":"IF('ORDER FRAMES'!$B$43=\"X40\",VLOOKUP('ORDER FRAMES'!$Q$43,Scharnieren!$C$16:$J$20,2,FALSE),VLOOKUP('ORDER FRAMES'!$Q$43,Scharnieren!$C$7:$M$11,2,FALSE))","v":{"$error":"#N/A"}},{"$f":"IF('ORDER FRAMES'!$B$44=\"X40\",VLOOKUP('ORDER FRAMES'!$Q$44,Scharnieren!$C$16:$J$20,2,FALSE),VLOOKUP('ORDER FRAMES'!$Q$44,Scharnieren!$C$7:$M$11,2,FALSE))","v":{"$error":"#N/A"}},{"$f":"IF('ORDER FRAMES'!$B$45=\"X40\",VLOOKUP('ORDER FRAMES'!$Q$45,Scharnieren!$C$16:$J$20,2,FALSE),VLOOKUP('ORDER FRAMES'!$Q$45,Scharnieren!$C$7:$M$11,2,FALSE))","v":{"$error":"#N/A"}},{"$f":"IF('ORDER FRAMES'!$B$46=\"X40\",VLOOKUP('ORDER FRAMES'!$Q$46,Scharnieren!$C$16:$J$20,2,FALSE),VLOOKUP('ORDER FRAMES'!$Q$46,Scharnieren!$C$7:$M$11,2,FALSE))","v":{"$error":"#N/A"}},{"$f":"IF('ORDER FRAMES'!$B$47=\"X40\",VLOOKUP('ORDER FRAMES'!$Q$47,Scharnieren!$C$16:$J$20,2,FALSE),VLOOKUP('ORDER FRAMES'!$Q$47,Scharnieren!$C$7:$M$11,2,FALSE))","v":{"$error":"#N/A"}},{"$f":"IF('ORDER FRAMES'!$B$48=\"X40\",VLOOKUP('ORDER FRAMES'!$Q$48,Scharnieren!$C$16:$J$20,2,FALSE),VLOOKUP('ORDER FRAMES'!$Q$48,Scharnieren!$C$7:$M$11,2,FALSE))","v":{"$error":"#N/A"}},{"$f":"IF('ORDER FRAMES'!$B$49=\"X40\",VLOOKUP('ORDER FRAMES'!$Q$49,Scharnieren!$C$16:$J$20,2,FALSE),VLOOKUP('ORDER FRAMES'!$Q$49,Scharnieren!$C$7:$M$11,2,FALSE))","v":{"$error":"#N/A"}},{"$f":"IF('ORDER FRAMES'!$B$50=\"X40\",VLOOKUP('ORDER FRAMES'!$Q$50,Scharnieren!$C$16:$J$20,2,FALSE),VLOOKUP('ORDER FRAMES'!$Q$50,Scharnieren!$C$7:$M$11,2,FALSE))","v":{"$error":"#N/A"}},{"$f":"IF('ORDER FRAMES'!$B$51=\"X40\",VLOOKUP('ORDER FRAMES'!$Q$51,Scharnieren!$C$16:$J$20,2,FALSE),VLOOKUP('ORDER FRAMES'!$Q$51,Scharnieren!$C$7:$M$11,2,FALSE))","v":{"$error":"#N/A"}},{"$f":"IF('ORDER FRAMES'!$B$52=\"X40\",VLOOKUP('ORDER FRAMES'!$Q$52,Scharnieren!$C$16:$J$20,2,FALSE),VLOOKUP('ORDER FRAMES'!$Q$52,Scharnieren!$C$7:$M$11,2,FALSE))","v":{"$error":"#N/A"}},{"$f":"IF('ORDER FRAMES'!$B$53=\"X40\",VLOOKUP('ORDER FRAMES'!$Q$53,Scharnieren!$C$16:$J$20,2,FALSE),VLOOKUP('ORDER FRAMES'!$Q$53,Scharnieren!$C$7:$M$11,2,FALSE))","v":{"$error":"#N/A"}},{"$f":"IF('ORDER FRAMES'!$B$54=\"X40\",VLOOKUP('ORDER FRAMES'!$Q$54,Scharnieren!$C$16:$J$20,2,FALSE),VLOOKUP('ORDER FRAMES'!$Q$54,Scharnieren!$C$7:$M$11,2,FALSE))","v":{"$error":"#N/A"}},{"$f":"IF('ORDER FRAMES'!$B$55=\"X40\",VLOOKUP('ORDER FRAMES'!$Q$55,Scharnieren!$C$16:$J$20,2,FALSE),VLOOKUP('ORDER FRAMES'!$Q$55,Scharnieren!$C$7:$M$11,2,FALSE))","v":{"$error":"#N/A"}},{"$f":"IF('ORDER FRAMES'!$B$56=\"X40\",VLOOKUP('ORDER FRAMES'!$Q$56,Scharnieren!$C$16:$J$20,2,FALSE),VLOOKUP('ORDER FRAMES'!$Q$56,Scharnieren!$C$7:$M$11,2,FALSE))","v":{"$error":"#N/A"}},{"$f":"IF('ORDER FRAMES'!$B$57=\"X40\",VLOOKUP('ORDER FRAMES'!$Q$57,Scharnieren!$C$16:$J$20,2,FALSE),VLOOKUP('ORDER FRAMES'!$Q$57,Scharnieren!$C$7:$M$11,2,FALSE))","v":{"$error":"#N/A"}},{"$f":"IF('ORDER FRAMES'!$B$58=\"X40\",VLOOKUP('ORDER FRAMES'!$Q$58,Scharnieren!$C$16:$J$20,2,FALSE),VLOOKUP('ORDER FRAMES'!$Q$58,Scharnieren!$C$7:$M$11,2,FALSE))","v":{"$error":"#N/A"}},{"$f":"IF('ORDER FRAMES'!$B$59=\"X40\",VLOOKUP('ORDER FRAMES'!$Q$59,Scharnieren!$C$16:$J$20,2,FALSE),VLOOKUP('ORDER FRAMES'!$Q$59,Scharnieren!$C$7:$M$11,2,FALSE))","v":{"$error":"#N/A"}},{"$f":"IF('ORDER FRAMES'!$B$60=\"X40\",VLOOKUP('ORDER FRAMES'!$Q$60,Scharnieren!$C$16:$J$20,2,FALSE),VLOOKUP('ORDER FRAMES'!$Q$60,Scharnieren!$C$7:$M$11,2,FALSE))","v":{"$error":"#N/A"}},{"$f":"IF('ORDER FRAMES'!$B$61=\"X40\",VLOOKUP('ORDER FRAMES'!$Q$61,Scharnieren!$C$16:$J$20,2,FALSE),VLOOKUP('ORDER FRAMES'!$Q$61,Scharnieren!$C$7:$M$11,2,FALSE))","v":{"$error":"#N/A"}},{"$f":"IF('ORDER FRAMES'!$B$62=\"X40\",VLOOKUP('ORDER FRAMES'!$Q$62,Scharnieren!$C$16:$J$20,2,FALSE),VLOOKUP('ORDER FRAMES'!$Q$62,Scharnieren!$C$7:$M$11,2,FALSE))","v":{"$error":"#N/A"}},{"$f":"IF('ORDER FRAMES'!$B$63=\"X40\",VLOOKUP('ORDER FRAMES'!$Q$63,Scharnieren!$C$16:$J$20,2,FALSE),VLOOKUP('ORDER FRAMES'!$Q$63,Scharnieren!$C$7:$M$11,2,FALSE))","v":{"$error":"#N/A"}},{"$f":"IF('ORDER FRAMES'!$B$64=\"X40\",VLOOKUP('ORDER FRAMES'!$Q$64,Scharnieren!$C$16:$J$20,2,FALSE),VLOOKUP('ORDER FRAMES'!$Q$64,Scharnieren!$C$7:$M$11,2,FALSE))","v":{"$error":"#N/A"}},{"$f":"IF('ORDER FRAMES'!$B$65=\"X40\",VLOOKUP('ORDER FRAMES'!$Q$65,Scharnieren!$C$16:$J$20,2,FALSE),VLOOKUP('ORDER FRAMES'!$Q$65,Scharnieren!$C$7:$M$11,2,FALSE))","v":{"$error":"#N/A"}},{"$f":"IF('ORDER FRAMES'!$B$66=\"X40\",VLOOKUP('ORDER FRAMES'!$Q$66,Scharnieren!$C$16:$J$20,2,FALSE),VLOOKUP('ORDER FRAMES'!$Q$66,Scharnieren!$C$7:$M$11,2,FALSE))","v":{"$error":"#N/A"}},{"$f":"IF('ORDER FRAMES'!$B$67=\"X40\",VLOOKUP('ORDER FRAMES'!$Q$67,Scharnieren!$C$16:$J$20,2,FALSE),VLOOKUP('ORDER FRAMES'!$Q$67,Scharnieren!$C$7:$M$11,2,FALSE))","v":{"$error":"#N/A"}},{"$f":"IF('ORDER FRAMES'!$B$68=\"X40\",VLOOKUP('ORDER FRAMES'!$Q$68,Scharnieren!$C$16:$J$20,2,FALSE),VLOOKUP('ORDER FRAMES'!$Q$68,Scharnieren!$C$7:$M$11,2,FALSE))","v":{"$error":"#N/A"}},{"$f":"IF('ORDER FRAMES'!$B$69=\"X40\",VLOOKUP('ORDER FRAMES'!$Q$69,Scharnieren!$C$16:$J$20,2,FALSE),VLOOKUP('ORDER FRAMES'!$Q$69,Scharnieren!$C$7:$M$11,2,FALSE))","v":{"$error":"#N/A"}},{"$f":"IF('ORDER FRAMES'!$B$70=\"X40\",VLOOKUP('ORDER FRAMES'!$Q$70,Scharnieren!$C$16:$J$20,2,FALSE),VLOOKUP('ORDER FRAMES'!$Q$70,Scharnieren!$C$7:$M$11,2,FALSE))","v":{"$error":"#N/A"}},{"$f":"IF('ORDER FRAMES'!$B$71=\"X40\",VLOOKUP('ORDER FRAMES'!$Q$71,Scharnieren!$C$16:$J$20,2,FALSE),VLOOKUP('ORDER FRAMES'!$Q$71,Scharnieren!$C$7:$M$11,2,FALSE))","v":{"$error":"#N/A"}},{"$f":"IF('ORDER FRAMES'!$B$72=\"X40\",VLOOKUP('ORDER FRAMES'!$Q$72,Scharnieren!$C$16:$J$20,2,FALSE),VLOOKUP('ORDER FRAMES'!$Q$72,Scharnieren!$C$7:$M$11,2,FALSE))","v":{"$error":"#N/A"}},{"$f":"IF('ORDER FRAMES'!$B$73=\"X40\",VLOOKUP('ORDER FRAMES'!$Q$73,Scharnieren!$C$16:$J$20,2,FALSE),VLOOKUP('ORDER FRAMES'!$Q$73,Scharnieren!$C$7:$M$11,2,FALSE))","v":{"$error":"#N/A"}},{"$f":"IF('ORDER FRAMES'!$B$74=\"X40\",VLOOKUP('ORDER FRAMES'!$Q$74,Scharnieren!$C$16:$J$20,2,FALSE),VLOOKUP('ORDER FRAMES'!$Q$74,Scharnieren!$C$7:$M$11,2,FALSE))","v":{"$error":"#N/A"}},{"$f":"IF('ORDER FRAMES'!$B$75=\"X40\",VLOOKUP('ORDER FRAMES'!$Q$75,Scharnieren!$C$16:$J$20,2,FALSE),VLOOKUP('ORDER FRAMES'!$Q$75,Scharnieren!$C$7:$M$11,2,FALSE))","v":{"$error":"#N/A"}},{"$f":"IF('ORDER FRAMES'!$B$76=\"X40\",VLOOKUP('ORDER FRAMES'!$Q$76,Scharnieren!$C$16:$J$20,2,FALSE),VLOOKUP('ORDER FRAMES'!$Q$76,Scharnieren!$C$7:$M$11,2,FALSE))","v":{"$error":"#N/A"}},{"$f":"IF('ORDER FRAMES'!$B$77=\"X40\",VLOOKUP('ORDER FRAMES'!$Q$77,Scharnieren!$C$16:$J$20,2,FALSE),VLOOKUP('ORDER FRAMES'!$Q$77,Scharnieren!$C$7:$M$11,2,FALSE))","v":{"$error":"#N/A"}},{"$f":"IF('ORDER FRAMES'!$B$78=\"X40\",VLOOKUP('ORDER FRAMES'!$Q$78,Scharnieren!$C$16:$J$20,2,FALSE),VLOOKUP('ORDER FRAMES'!$Q$78,Scharnieren!$C$7:$M$11,2,FALSE))","v":{"$error":"#N/A"}},{"$f":"IF('ORDER FRAMES'!$B$79=\"X40\",VLOOKUP('ORDER FRAMES'!$Q$79,Scharnieren!$C$16:$J$20,2,FALSE),VLOOKUP('ORDER FRAMES'!$Q$79,Scharnieren!$C$7:$M$11,2,FALSE))","v":{"$error":"#N/A"}},{"$f":"IF('ORDER FRAMES'!$B$80=\"X40\",VLOOKUP('ORDER FRAMES'!$Q$80,Scharnieren!$C$16:$J$20,2,FALSE),VLOOKUP('ORDER FRAMES'!$Q$80,Scharnieren!$C$7:$M$11,2,FALSE))","v":{"$error":"#N/A"}},{"$f":"IF('ORDER FRAMES'!$B$81=\"X40\",VLOOKUP('ORDER FRAMES'!$Q$81,Scharnieren!$C$16:$J$20,2,FALSE),VLOOKUP('ORDER FRAMES'!$Q$81,Scharnieren!$C$7:$M$11,2,FALSE))","v":{"$error":"#N/A"}},{"$f":"IF('ORDER FRAMES'!$B$82=\"X40\",VLOOKUP('ORDER FRAMES'!$Q$82,Scharnieren!$C$16:$J$20,2,FALSE),VLOOKUP('ORDER FRAMES'!$Q$82,Scharnieren!$C$7:$M$11,2,FALSE))","v":{"$error":"#N/A"}},{"$f":"IF('ORDER FRAMES'!$B$83=\"X40\",VLOOKUP('ORDER FRAMES'!$Q$83,Scharnieren!$C$16:$J$20,2,FALSE),VLOOKUP('ORDER FRAMES'!$Q$83,Scharnieren!$C$7:$M$11,2,FALSE))","v":{"$error":"#N/A"}},{"$f":"IF('ORDER FRAMES'!$B$84=\"X40\",VLOOKUP('ORDER FRAMES'!$Q$84,Scharnieren!$C$16:$J$20,2,FALSE),VLOOKUP('ORDER FRAMES'!$Q$84,Scharnieren!$C$7:$M$11,2,FALSE))","v":{"$error":"#N/A"}},{"$f":"IF('ORDER FRAMES'!$B$85=\"X40\",VLOOKUP('ORDER FRAMES'!$Q$85,Scharnieren!$C$16:$J$20,2,FALSE),VLOOKUP('ORDER FRAMES'!$Q$85,Scharnieren!$C$7:$M$11,2,FALSE))","v":{"$error":"#N/A"}},{"$f":"IF('ORDER FRAMES'!$B$86=\"X40\",VLOOKUP('ORDER FRAMES'!$Q$86,Scharnieren!$C$16:$J$20,2,FALSE),VLOOKUP('ORDER FRAMES'!$Q$86,Scharnieren!$C$7:$M$11,2,FALSE))","v":{"$error":"#N/A"}},{"$f":"IF('ORDER FRAMES'!$B$87=\"X40\",VLOOKUP('ORDER FRAMES'!$Q$87,Scharnieren!$C$16:$J$20,2,FALSE),VLOOKUP('ORDER FRAMES'!$Q$87,Scharnieren!$C$7:$M$11,2,FALSE))","v":{"$error":"#N/A"}},{"$f":"IF('ORDER FRAMES'!$B$88=\"X40\",VLOOKUP('ORDER FRAMES'!$Q$88,Scharnieren!$C$16:$J$20,2,FALSE),VLOOKUP('ORDER FRAMES'!$Q$88,Scharnieren!$C$7:$M$11,2,FALSE))","v":{"$error":"#N/A"}},{"$f":"IF('ORDER FRAMES'!$B$89=\"X40\",VLOOKUP('ORDER FRAMES'!$Q$89,Scharnieren!$C$16:$J$20,2,FALSE),VLOOKUP('ORDER FRAMES'!$Q$89,Scharnieren!$C$7:$M$11,2,FALSE))","v":{"$error":"#N/A"}},{"$f":"IF('ORDER FRAMES'!$B$90=\"X40\",VLOOKUP('ORDER FRAMES'!$Q$90,Scharnieren!$C$16:$J$20,2,FALSE),VLOOKUP('ORDER FRAMES'!$Q$90,Scharnieren!$C$7:$M$11,2,FALSE))","v":{"$error":"#N/A"}},{"$f":"IF('ORDER FRAMES'!$B$91=\"X40\",VLOOKUP('ORDER FRAMES'!$Q$91,Scharnieren!$C$16:$J$20,2,FALSE),VLOOKUP('ORDER FRAMES'!$Q$91,Scharnieren!$C$7:$M$11,2,FALSE))","v":{"$error":"#N/A"}},{"$f":"IF('ORDER FRAMES'!$B$92=\"X40\",VLOOKUP('ORDER FRAMES'!$Q$92,Scharnieren!$C$16:$J$20,2,FALSE),VLOOKUP('ORDER FRAMES'!$Q$92,Scharnieren!$C$7:$M$11,2,FALSE))","v":{"$error":"#N/A"}},{"$f":"IF('ORDER FRAMES'!$B$93=\"X40\",VLOOKUP('ORDER FRAMES'!$Q$93,Scharnieren!$C$16:$J$20,2,FALSE),VLOOKUP('ORDER FRAMES'!$Q$93,Scharnieren!$C$7:$M$11,2,FALSE))","v":{"$error":"#N/A"}},{"$f":"IF('ORDER FRAMES'!$B$94=\"X40\",VLOOKUP('ORDER FRAMES'!$Q$94,Scharnieren!$C$16:$J$20,2,FALSE),VLOOKUP('ORDER FRAMES'!$Q$94,Scharnieren!$C$7:$M$11,2,FALSE))","v":{"$error":"#N/A"}},{"$f":"IF('ORDER FRAMES'!$B$95=\"X40\",VLOOKUP('ORDER FRAMES'!$Q$95,Scharnieren!$C$16:$J$20,2,FALSE),VLOOKUP('ORDER FRAMES'!$Q$95,Scharnieren!$C$7:$M$11,2,FALSE))","v":{"$error":"#N/A"}},{"$f":"IF('ORDER FRAMES'!$B$96=\"X40\",VLOOKUP('ORDER FRAMES'!$Q$96,Scharnieren!$C$16:$J$20,2,FALSE),VLOOKUP('ORDER FRAMES'!$Q$96,Scharnieren!$C$7:$M$11,2,FALSE))","v":{"$error":"#N/A"}},{"$f":"IF('ORDER FRAMES'!$B$97=\"X40\",VLOOKUP('ORDER FRAMES'!$Q$97,Scharnieren!$C$16:$J$20,2,FALSE),VLOOKUP('ORDER FRAMES'!$Q$97,Scharnieren!$C$7:$M$11,2,FALSE))","v":{"$error":"#N/A"}},{"$f":"IF('ORDER FRAMES'!$B$98=\"X40\",VLOOKUP('ORDER FRAMES'!$Q$98,Scharnieren!$C$16:$J$20,2,FALSE),VLOOKUP('ORDER FRAMES'!$Q$98,Scharnieren!$C$7:$M$11,2,FALSE))","v":{"$error":"#N/A"}},{"$f":"IF('ORDER FRAMES'!$B$99=\"X40\",VLOOKUP('ORDER FRAMES'!$Q$99,Scharnieren!$C$16:$J$20,2,FALSE),VLOOKUP('ORDER FRAMES'!$Q$99,Scharnieren!$C$7:$M$11,2,FALSE))","v":{"$error":"#N/A"}},{"$f":"IF('ORDER FRAMES'!$B$100=\"X40\",VLOOKUP('ORDER FRAMES'!$Q$100,Scharnieren!$C$16:$J$20,2,FALSE),VLOOKUP('ORDER FRAMES'!$Q$100,Scharnieren!$C$7:$M$11,2,FALSE))","v":{"$error":"#N/A"}}]
[null,null,null,null,null,null,null,null,null,null,null,null,null,null,null,null,null,null,null,null,{"$f":"IF('ORDER FRAMES'!$B$21=\"X40\",VLOOKUP('ORDER FRAMES'!$Q$21,Scharnieren!$C$16:$J$20,3,FALSE),VLOOKUP('ORDER FRAMES'!$Q$21,Scharnieren!$C$7:$N$11,3,FALSE))","v":"A24.1"},{"$f":"IF('ORDER FRAMES'!$B$22=\"X40\",VLOOKUP('ORDER FRAMES'!$Q$22,Scharnieren!$C$16:$J$20,3,FALSE),VLOOKUP('ORDER FRAMES'!$Q$22,Scharnieren!$C$7:$N$11,3,FALSE))","v":"A24.1"},{"$f":"IF('ORDER FRAMES'!$B$23=\"X40\",VLOOKUP('ORDER FRAMES'!$Q$23,Scharnieren!$C$16:$J$20,3,FALSE),VLOOKUP('ORDER FRAMES'!$Q$23,Scharnieren!$C$7:$N$11,3,FALSE))","v":{"$error":"#N/A"}},{"$f":"IF('ORDER FRAMES'!$B$24=\"X40\",VLOOKUP('ORDER FRAMES'!$Q$24,Scharnieren!$C$16:$J$20,3,FALSE),VLOOKUP('ORDER FRAMES'!$Q$24,Scharnieren!$C$7:$N$11,3,FALSE))","v":{"$error":"#N/A"}},{"$f":"IF('ORDER FRAMES'!$B$25=\"X40\",VLOOKUP('ORDER FRAMES'!$Q$25,Scharnieren!$C$16:$J$20,3,FALSE),VLOOKUP('ORDER FRAMES'!$Q$25,Scharnieren!$C$7:$N$11,3,FALSE))","v":{"$error":"#N/A"}},{"$f":"IF('ORDER FRAMES'!$B$26=\"X40\",VLOOKUP('ORDER FRAMES'!$Q$26,Scharnieren!$C$16:$J$20,3,FALSE),VLOOKUP('ORDER FRAMES'!$Q$26,Scharnieren!$C$7:$N$11,3,FALSE))","v":{"$error":"#N/A"}},{"$f":"IF('ORDER FRAMES'!$B$27=\"X40\",VLOOKUP('ORDER FRAMES'!$Q$27,Scharnieren!$C$16:$J$20,3,FALSE),VLOOKUP('ORDER FRAMES'!$Q$27,Scharnieren!$C$7:$N$11,3,FALSE))","v":{"$error":"#N/A"}},{"$f":"IF('ORDER FRAMES'!$B$28=\"X40\",VLOOKUP('ORDER FRAMES'!$Q$28,Scharnieren!$C$16:$J$20,3,FALSE),VLOOKUP('ORDER FRAMES'!$Q$28,Scharnieren!$C$7:$N$11,3,FALSE))","v":{"$error":"#N/A"}},{"$f":"IF('ORDER FRAMES'!$B$29=\"X40\",VLOOKUP('ORDER FRAMES'!$Q$29,Scharnieren!$C$16:$J$20,3,FALSE),VLOOKUP('ORDER FRAMES'!$Q$29,Scharnieren!$C$7:$N$11,3,FALSE))","v":{"$error":"#N/A"}},{"$f":"IF('ORDER FRAMES'!$B$30=\"X40\",VLOOKUP('ORDER FRAMES'!$Q$30,Scharnieren!$C$16:$J$20,3,FALSE),VLOOKUP('ORDER FRAMES'!$Q$30,Scharnieren!$C$7:$M$11,3,FALSE))","v":{"$error":"#N/A"}},{"$f":"IF('ORDER FRAMES'!$B$31=\"X40\",VLOOKUP('ORDER FRAMES'!$Q$31,Scharnieren!$C$16:$J$20,3,FALSE),VLOOKUP('ORDER FRAMES'!$Q$31,Scharnieren!$C$7:$M$11,3,FALSE))","v":{"$error":"#N/A"}},{"$f":"IF('ORDER FRAMES'!$B$32=\"X40\",VLOOKUP('ORDER FRAMES'!$Q$32,Scharnieren!$C$16:$J$20,3,FALSE),VLOOKUP('ORDER FRAMES'!$Q$32,Scharnieren!$C$7:$M$11,3,FALSE))","v":{"$error":"#N/A"}},{"$f":"IF('ORDER FRAMES'!$B$33=\"X40\",VLOOKUP('ORDER FRAMES'!$Q$33,Scharnieren!$C$16:$J$20,3,FALSE),VLOOKUP('ORDER FRAMES'!$Q$33,Scharnieren!$C$7:$M$11,3,FALSE))","v":{"$error":"#N/A"}},{"$f":"IF('ORDER FRAMES'!$B$34=\"X40\",VLOOKUP('ORDER FRAMES'!$Q$34,Scharnieren!$C$16:$J$20,3,FALSE),VLOOKUP('ORDER FRAMES'!$Q$34,Scharnieren!$C$7:$M$11,3,FALSE))","v":{"$error":"#N/A"}},{"$f":"IF('ORDER FRAMES'!$B$35=\"X40\",VLOOKUP('ORDER FRAMES'!$Q$35,Scharnieren!$C$16:$J$20,3,FALSE),VLOOKUP('ORDER FRAMES'!$Q$35,Scharnieren!$C$7:$M$11,3,FALSE))","v":{"$error":"#N/A"}},{"$f":"IF('ORDER FRAMES'!$B$36=\"X40\",VLOOKUP('ORDER FRAMES'!$Q$36,Scharnieren!$C$16:$J$20,3,FALSE),VLOOKUP('ORDER FRAMES'!$Q$36,Scharnieren!$C$7:$M$11,3,FALSE))","v":{"$error":"#N/A"}},{"$f":"IF('ORDER FRAMES'!$B$37=\"X40\",VLOOKUP('ORDER FRAMES'!$Q$37,Scharnieren!$C$16:$J$20,3,FALSE),VLOOKUP('ORDER FRAMES'!$Q$37,Scharnieren!$C$7:$M$11,3,FALSE))","v":{"$error":"#N/A"}},{"$f":"IF('ORDER FRAMES'!$B$38=\"X40\",VLOOKUP('ORDER FRAMES'!$Q$38,Scharnieren!$C$16:$J$20,3,FALSE),VLOOKUP('ORDER FRAMES'!$Q$38,Scharnieren!$C$7:$M$11,3,FALSE))","v":{"$error":"#N/A"}},{"$f":"IF('ORDER FRAMES'!$B$39=\"X40\",VLOOKUP('ORDER FRAMES'!$Q$39,Scharnieren!$C$16:$J$20,3,FALSE),VLOOKUP('ORDER FRAMES'!$Q$39,Scharnieren!$C$7:$M$11,3,FALSE))","v":{"$error":"#N/A"}},{"$f":"IF('ORDER FRAMES'!$B$40=\"X40\",VLOOKUP('ORDER FRAMES'!$Q$40,Scharnieren!$C$16:$J$20,3,FALSE),VLOOKUP('ORDER FRAMES'!$Q$40,Scharnieren!$C$7:$M$11,3,FALSE))","v":{"$error":"#N/A"}},{"$f":"IF('ORDER FRAMES'!$B$41=\"X40\",VLOOKUP('ORDER FRAMES'!$Q$41,Scharnieren!$C$16:$J$20,3,FALSE),VLOOKUP('ORDER FRAMES'!$Q$41,Scharnieren!$C$7:$M$11,3,FALSE))","v":{"$error":"#N/A"}},{"$f":"IF('ORDER FRAMES'!$B$42=\"X40\",VLOOKUP('ORDER FRAMES'!$Q$42,Scharnieren!$C$16:$J$20,3,FALSE),VLOOKUP('ORDER FRAMES'!$Q$42,Scharnieren!$C$7:$M$11,3,FALSE))","v":{"$error":"#N/A"}},{"$f":"IF('ORDER FRAMES'!$B$43=\"X40\",VLOOKUP('ORDER FRAMES'!$Q$43,Scharnieren!$C$16:$J$20,3,FALSE),VLOOKUP('ORDER FRAMES'!$Q$43,Scharnieren!$C$7:$M$11,3,FALSE))","v":{"$error":"#N/A"}},{"$f":"IF('ORDER FRAMES'!$B$44=\"X40\",VLOOKUP('ORDER FRAMES'!$Q$44,Scharnieren!$C$16:$J$20,3,FALSE),VLOOKUP('ORDER FRAMES'!$Q$44,Scharnieren!$C$7:$M$11,3,FALSE))","v":{"$error":"#N/A"}},{"$f":"IF('ORDER FRAMES'!$B$45=\"X40\",VLOOKUP('ORDER FRAMES'!$Q$45,Scharnieren!$C$16:$J$20,3,FALSE),VLOOKUP('ORDER FRAMES'!$Q$45,Scharnieren!$C$7:$M$11,3,FALSE))","v":{"$error":"#N/A"}},{"$f":"IF('ORDER FRAMES'!$B$46=\"X40\",VLOOKUP('ORDER FRAMES'!$Q$46,Scharnieren!$C$16:$J$20,3,FALSE),VLOOKUP('ORDER FRAMES'!$Q$46,Scharnieren!$C$7:$M$11,3,FALSE))","v":{"$error":"#N/A"}},{"$f":"IF('ORDER FRAMES'!$B$47=\"X40\",VLOOKUP('ORDER FRAMES'!$Q$47,Scharnieren!$C$16:$J$20,3,FALSE),VLOOKUP('ORDER FRAMES'!$Q$47,Scharnieren!$C$7:$M$11,3,FALSE))","v":{"$error":"#N/A"}},{"$f":"IF('ORDER FRAMES'!$B$48=\"X40\",VLOOKUP('ORDER FRAMES'!$Q$48,Scharnieren!$C$16:$J$20,3,FALSE),VLOOKUP('ORDER FRAMES'!$Q$48,Scharnieren!$C$7:$M$11,3,FALSE))","v":{"$error":"#N/A"}},{"$f":"IF('ORDER FRAMES'!$B$49=\"X40\",VLOOKUP('ORDER FRAMES'!$Q$49,Scharnieren!$C$16:$J$20,3,FALSE),VLOOKUP('ORDER FRAMES'!$Q$49,Scharnieren!$C$7:$M$11,3,FALSE))","v":{"$error":"#N/A"}},{"$f":"IF('ORDER FRAMES'!$B$50=\"X40\",VLOOKUP('ORDER FRAMES'!$Q$50,Scharnieren!$C$16:$J$20,3,FALSE),VLOOKUP('ORDER FRAMES'!$Q$50,Scharnieren!$C$7:$M$11,3,FALSE))","v":{"$error":"#N/A"}},{"$f":"IF('ORDER FRAMES'!$B$51=\"X40\",VLOOKUP('ORDER FRAMES'!$Q$51,Scharnieren!$C$16:$J$20,3,FALSE),VLOOKUP('ORDER FRAMES'!$Q$51,Scharnieren!$C$7:$M$11,3,FALSE))","v":{"$error":"#N/A"}},{"$f":"IF('ORDER FRAMES'!$B$52=\"X40\",VLOOKUP('ORDER FRAMES'!$Q$52,Scharnieren!$C$16:$J$20,3,FALSE),VLOOKUP('ORDER FRAMES'!$Q$52,Scharnieren!$C$7:$M$11,3,FALSE))","v":{"$error":"#N/A"}},{"$f":"IF('ORDER FRAMES'!$B$53=\"X40\",VLOOKUP('ORDER FRAMES'!$Q$53,Scharnieren!$C$16:$J$20,3,FALSE),VLOOKUP('ORDER FRAMES'!$Q$53,Scharnieren!$C$7:$M$11,3,FALSE))","v":{"$error":"#N/A"}},{"$f":"IF('ORDER FRAMES'!$B$54=\"X40\",VLOOKUP('ORDER FRAMES'!$Q$54,Scharnieren!$C$16:$J$20,3,FALSE),VLOOKUP('ORDER FRAMES'!$Q$54,Scharnieren!$C$7:$M$11,3,FALSE))","v":{"$error":"#N/A"}},{"$f":"IF('ORDER FRAMES'!$B$55=\"X40\",VLOOKUP('ORDER FRAMES'!$Q$55,Scharnieren!$C$16:$J$20,3,FALSE),VLOOKUP('ORDER FRAMES'!$Q$55,Scharnieren!$C$7:$M$11,3,FALSE))","v":{"$error":"#N/A"}},{"$f":"IF('ORDER FRAMES'!$B$56=\"X40\",VLOOKUP('ORDER FRAMES'!$Q$56,Scharnieren!$C$16:$J$20,3,FALSE),VLOOKUP('ORDER FRAMES'!$Q$56,Scharnieren!$C$7:$M$11,3,FALSE))","v":{"$error":"#N/A"}},{"$f":"IF('ORDER FRAMES'!$B$57=\"X40\",VLOOKUP('ORDER FRAMES'!$Q$57,Scharnieren!$C$16:$J$20,3,FALSE),VLOOKUP('ORDER FRAMES'!$Q$57,Scharnieren!$C$7:$M$11,3,FALSE))","v":{"$error":"#N/A"}},{"$f":"IF('ORDER FRAMES'!$B$58=\"X40\",VLOOKUP('ORDER FRAMES'!$Q$58,Scharnieren!$C$16:$J$20,3,FALSE),VLOOKUP('ORDER FRAMES'!$Q$58,Scharnieren!$C$7:$M$11,3,FALSE))","v":{"$error":"#N/A"}},{"$f":"IF('ORDER FRAMES'!$B$59=\"X40\",VLOOKUP('ORDER FRAMES'!$Q$59,Scharnieren!$C$16:$J$20,3,FALSE),VLOOKUP('ORDER FRAMES'!$Q$59,Scharnieren!$C$7:$M$11,3,FALSE))","v":{"$error":"#N/A"}},{"$f":"IF('ORDER FRAMES'!$B$60=\"X40\",VLOOKUP('ORDER FRAMES'!$Q$60,Scharnieren!$C$16:$J$20,3,FALSE),VLOOKUP('ORDER FRAMES'!$Q$60,Scharnieren!$C$7:$M$11,3,FALSE))","v":{"$error":"#N/A"}},{"$f":"IF('ORDER FRAMES'!$B$61=\"X40\",VLOOKUP('ORDER FRAMES'!$Q$61,Scharnieren!$C$16:$J$20,3,FALSE),VLOOKUP('ORDER FRAMES'!$Q$61,Scharnieren!$C$7:$M$11,3,FALSE))","v":{"$error":"#N/A"}},{"$f":"IF('ORDER FRAMES'!$B$62=\"X40\",VLOOKUP('ORDER FRAMES'!$Q$62,Scharnieren!$C$16:$J$20,3,FALSE),VLOOKUP('ORDER FRAMES'!$Q$62,Scharnieren!$C$7:$M$11,3,FALSE))","v":{"$error":"#N/A"}},{"$f":"IF('ORDER FRAMES'!$B$63=\"X40\",VLOOKUP('ORDER FRAMES'!$Q$63,Scharnieren!$C$16:$J$20,3,FALSE),VLOOKUP('ORDER FRAMES'!$Q$63,Scharnieren!$C$7:$M$11,3,FALSE))","v":{"$error":"#N/A"}},{"$f":"IF('ORDER FRAMES'!$B$64=\"X40\",VLOOKUP('ORDER FRAMES'!$Q$64,Scharnieren!$C$16:$J$20,3,FALSE),VLOOKUP('ORDER FRAMES'!$Q$64,Scharnieren!$C$7:$M$11,3,FALSE))","v":{"$error":"#N/A"}},{"$f":"IF('ORDER FRAMES'!$B$65=\"X40\",VLOOKUP('ORDER FRAMES'!$Q$65,Scharnieren!$C$16:$J$20,3,FALSE),VLOOKUP('ORDER FRAMES'!$Q$65,Scharnieren!$C$7:$M$11,3,FALSE))","v":{"$error":"#N/A"}},{"$f":"IF('ORDER FRAMES'!$B$66=\"X40\",VLOOKUP('ORDER FRAMES'!$Q$66,Scharnieren!$C$16:$J$20,3,FALSE),VLOOKUP('ORDER FRAMES'!$Q$66,Scharnieren!$C$7:$M$11,3,FALSE))","v":{"$error":"#N/A"}},{"$f":"IF('ORDER FRAMES'!$B$67=\"X40\",VLOOKUP('ORDER FRAMES'!$Q$67,Scharnieren!$C$16:$J$20,3,FALSE),VLOOKUP('ORDER FRAMES'!$Q$67,Scharnieren!$C$7:$M$11,3,FALSE))","v":{"$error":"#N/A"}},{"$f":"IF('ORDER FRAMES'!$B$68=\"X40\",VLOOKUP('ORDER FRAMES'!$Q$68,Scharnieren!$C$16:$J$20,3,FALSE),VLOOKUP('ORDER FRAMES'!$Q$68,Scharnieren!$C$7:$M$11,3,FALSE))","v":{"$error":"#N/A"}},{"$f":"IF('ORDER FRAMES'!$B$69=\"X40\",VLOOKUP('ORDER FRAMES'!$Q$69,Scharnieren!$C$16:$J$20,3,FALSE),VLOOKUP('ORDER FRAMES'!$Q$69,Scharnieren!$C$7:$M$11,3,FALSE))","v":{"$error":"#N/A"}},{"$f":"IF('ORDER FRAMES'!$B$70=\"X40\",VLOOKUP('ORDER FRAMES'!$Q$70,Scharnieren!$C$16:$J$20,3,FALSE),VLOOKUP('ORDER FRAMES'!$Q$70,Scharnieren!$C$7:$M$11,3,FALSE))","v":{"$error":"#N/A"}},{"$f":"IF('ORDER FRAMES'!$B$71=\"X40\",VLOOKUP('ORDER FRAMES'!$Q$71,Scharnieren!$C$16:$J$20,3,FALSE),VLOOKUP('ORDER FRAMES'!$Q$71,Scharnieren!$C$7:$M$11,3,FALSE))","v":{"$error":"#N/A"}},{"$f":"IF('ORDER FRAMES'!$B$72=\"X40\",VLOOKUP('ORDER FRAMES'!$Q$72,Scharnieren!$C$16:$J$20,3,FALSE),VLOOKUP('ORDER FRAMES'!$Q$72,Scharnieren!$C$7:$M$11,3,FALSE))","v":{"$error":"#N/A"}},{"$f":"IF('ORDER FRAMES'!$B$73=\"X40\",VLOOKUP('ORDER FRAMES'!$Q$73,Scharnieren!$C$16:$J$20,3,FALSE),VLOOKUP('ORDER FRAMES'!$Q$73,Scharnieren!$C$7:$M$11,3,FALSE))","v":{"$error":"#N/A"}},{"$f":"IF('ORDER FRAMES'!$B$74=\"X40\",VLOOKUP('ORDER FRAMES'!$Q$74,Scharnieren!$C$16:$J$20,3,FALSE),VLOOKUP('ORDER FRAMES'!$Q$74,Scharnieren!$C$7:$M$11,3,FALSE))","v":{"$error":"#N/A"}},{"$f":"IF('ORDER FRAMES'!$B$75=\"X40\",VLOOKUP('ORDER FRAMES'!$Q$75,Scharnieren!$C$16:$J$20,3,FALSE),VLOOKUP('ORDER FRAMES'!$Q$75,Scharnieren!$C$7:$M$11,3,FALSE))","v":{"$error":"#N/A"}},{"$f":"IF('ORDER FRAMES'!$B$76=\"X40\",VLOOKUP('ORDER FRAMES'!$Q$76,Scharnieren!$C$16:$J$20,3,FALSE),VLOOKUP('ORDER FRAMES'!$Q$76,Scharnieren!$C$7:$M$11,3,FALSE))","v":{"$error":"#N/A"}},{"$f":"IF('ORDER FRAMES'!$B$77=\"X40\",VLOOKUP('ORDER FRAMES'!$Q$77,Scharnieren!$C$16:$J$20,3,FALSE),VLOOKUP('ORDER FRAMES'!$Q$77,Scharnieren!$C$7:$M$11,3,FALSE))","v":{"$error":"#N/A"}},{"$f":"IF('ORDER FRAMES'!$B$78=\"X40\",VLOOKUP('ORDER FRAMES'!$Q$78,Scharnieren!$C$16:$J$20,3,FALSE),VLOOKUP('ORDER FRAMES'!$Q$78,Scharnieren!$C$7:$M$11,3,FALSE))","v":{"$error":"#N/A"}},{"$f":"IF('ORDER FRAMES'!$B$79=\"X40\",VLOOKUP('ORDER FRAMES'!$Q$79,Scharnieren!$C$16:$J$20,3,FALSE),VLOOKUP('ORDER FRAMES'!$Q$79,Scharnieren!$C$7:$M$11,3,FALSE))","v":{"$error":"#N/A"}},{"$f":"IF('ORDER FRAMES'!$B$80=\"X40\",VLOOKUP('ORDER FRAMES'!$Q$80,Scharnieren!$C$16:$J$20,3,FALSE),VLOOKUP('ORDER FRAMES'!$Q$80,Scharnieren!$C$7:$M$11,3,FALSE))","v":{"$error":"#N/A"}},{"$f":"IF('ORDER FRAMES'!$B$81=\"X40\",VLOOKUP('ORDER FRAMES'!$Q$81,Scharnieren!$C$16:$J$20,3,FALSE),VLOOKUP('ORDER FRAMES'!$Q$81,Scharnieren!$C$7:$M$11,3,FALSE))","v":{"$error":"#N/A"}},{"$f":"IF('ORDER FRAMES'!$B$82=\"X40\",VLOOKUP('ORDER FRAMES'!$Q$82,Scharnieren!$C$16:$J$20,3,FALSE),VLOOKUP('ORDER FRAMES'!$Q$82,Scharnieren!$C$7:$M$11,3,FALSE))","v":{"$error":"#N/A"}},{"$f":"IF('ORDER FRAMES'!$B$83=\"X40\",VLOOKUP('ORDER FRAMES'!$Q$83,Scharnieren!$C$16:$J$20,3,FALSE),VLOOKUP('ORDER FRAMES'!$Q$83,Scharnieren!$C$7:$M$11,3,FALSE))","v":{"$error":"#N/A"}},{"$f":"IF('ORDER FRAMES'!$B$84=\"X40\",VLOOKUP('ORDER FRAMES'!$Q$84,Scharnieren!$C$16:$J$20,3,FALSE),VLOOKUP('ORDER FRAMES'!$Q$84,Scharnieren!$C$7:$M$11,3,FALSE))","v":{"$error":"#N/A"}},{"$f":"IF('ORDER FRAMES'!$B$85=\"X40\",VLOOKUP('ORDER FRAMES'!$Q$85,Scharnieren!$C$16:$J$20,3,FALSE),VLOOKUP('ORDER FRAMES'!$Q$85,Scharnieren!$C$7:$M$11,3,FALSE))","v":{"$error":"#N/A"}},{"$f":"IF('ORDER FRAMES'!$B$86=\"X40\",VLOOKUP('ORDER FRAMES'!$Q$86,Scharnieren!$C$16:$J$20,3,FALSE),VLOOKUP('ORDER FRAMES'!$Q$86,Scharnieren!$C$7:$M$11,3,FALSE))","v":{"$error":"#N/A"}},{"$f":"IF('ORDER FRAMES'!$B$87=\"X40\",VLOOKUP('ORDER FRAMES'!$Q$87,Scharnieren!$C$16:$J$20,3,FALSE),VLOOKUP('ORDER FRAMES'!$Q$87,Scharnieren!$C$7:$M$11,3,FALSE))","v":{"$error":"#N/A"}},{"$f":"IF('ORDER FRAMES'!$B$88=\"X40\",VLOOKUP('ORDER FRAMES'!$Q$88,Scharnieren!$C$16:$J$20,3,FALSE),VLOOKUP('ORDER FRAMES'!$Q$88,Scharnieren!$C$7:$M$11,3,FALSE))","v":{"$error":"#N/A"}},{"$f":"IF('ORDER FRAMES'!$B$89=\"X40\",VLOOKUP('ORDER FRAMES'!$Q$89,Scharnieren!$C$16:$J$20,3,FALSE),VLOOKUP('ORDER FRAMES'!$Q$89,Scharnieren!$C$7:$M$11,3,FALSE))","v":{"$error":"#N/A"}},{"$f":"IF('ORDER FRAMES'!$B$90=\"X40\",VLOOKUP('ORDER FRAMES'!$Q$90,Scharnieren!$C$16:$J$20,3,FALSE),VLOOKUP('ORDER FRAMES'!$Q$90,Scharnieren!$C$7:$M$11,3,FALSE))","v":{"$error":"#N/A"}},{"$f":"IF('ORDER FRAMES'!$B$91=\"X40\",VLOOKUP('ORDER FRAMES'!$Q$91,Scharnieren!$C$16:$J$20,3,FALSE),VLOOKUP('ORDER FRAMES'!$Q$91,Scharnieren!$C$7:$M$11,3,FALSE))","v":{"$error":"#N/A"}},{"$f":"IF('ORDER FRAMES'!$B$92=\"X40\",VLOOKUP('ORDER FRAMES'!$Q$92,Scharnieren!$C$16:$J$20,3,FALSE),VLOOKUP('ORDER FRAMES'!$Q$92,Scharnieren!$C$7:$M$11,3,FALSE))","v":{"$error":"#N/A"}},{"$f":"IF('ORDER FRAMES'!$B$93=\"X40\",VLOOKUP('ORDER FRAMES'!$Q$93,Scharnieren!$C$16:$J$20,3,FALSE),VLOOKUP('ORDER FRAMES'!$Q$93,Scharnieren!$C$7:$M$11,3,FALSE))","v":{"$error":"#N/A"}},{"$f":"IF('ORDER FRAMES'!$B$94=\"X40\",VLOOKUP('ORDER FRAMES'!$Q$94,Scharnieren!$C$16:$J$20,3,FALSE),VLOOKUP('ORDER FRAMES'!$Q$94,Scharnieren!$C$7:$M$11,3,FALSE))","v":{"$error":"#N/A"}},{"$f":"IF('ORDER FRAMES'!$B$95=\"X40\",VLOOKUP('ORDER FRAMES'!$Q$95,Scharnieren!$C$16:$J$20,3,FALSE),VLOOKUP('ORDER FRAMES'!$Q$95,Scharnieren!$C$7:$M$11,3,FALSE))","v":{"$error":"#N/A"}},{"$f":"IF('ORDER FRAMES'!$B$96=\"X40\",VLOOKUP('ORDER FRAMES'!$Q$96,Scharnieren!$C$16:$J$20,3,FALSE),VLOOKUP('ORDER FRAMES'!$Q$96,Scharnieren!$C$7:$M$11,3,FALSE))","v":{"$error":"#N/A"}},{"$f":"IF('ORDER FRAMES'!$B$97=\"X40\",VLOOKUP('ORDER FRAMES'!$Q$97,Scharnieren!$C$16:$J$20,3,FALSE),VLOOKUP('ORDER FRAMES'!$Q$97,Scharnieren!$C$7:$M$11,3,FALSE))","v":{"$error":"#N/A"}},{"$f":"IF('ORDER FRAMES'!$B$98=\"X40\",VLOOKUP('ORDER FRAMES'!$Q$98,Scharnieren!$C$16:$J$20,3,FALSE),VLOOKUP('ORDER FRAMES'!$Q$98,Scharnieren!$C$7:$M$11,3,FALSE))","v":{"$error":"#N/A"}},{"$f":"IF('ORDER FRAMES'!$B$99=\"X40\",VLOOKUP('ORDER FRAMES'!$Q$99,Scharnieren!$C$16:$J$20,3,FALSE),VLOOKUP('ORDER FRAMES'!$Q$99,Scharnieren!$C$7:$M$11,3,FALSE))","v":{"$error":"#N/A"}},{"$f":"IF('ORDER FRAMES'!$B$100=\"X40\",VLOOKUP('ORDER FRAMES'!$Q$100,Scharnieren!$C$16:$J$20,3,FALSE),VLOOKUP('ORDER FRAMES'!$Q$100,Scharnieren!$C$7:$M$11,3,FALSE))","v":{"$error":"#N/A"}}]
[null,null,null,null,null,null,null,null,null,null,null,null,null,null,null,null,null,null,null,null,{"$f":"IF('ORDER FRAMES'!$B$21=\"X40\",VLOOKUP('ORDER FRAMES'!$Q$21,Scharnieren!$C$16:$J$20,4,FALSE),VLOOKUP('ORDER FRAMES'!$Q$21,Scharnieren!$C$7:$N$11,4,FALSE))","v":"A24.2"},{"$f":"IF('ORDER FRAMES'!$B$22=\"X40\",VLOOKUP('ORDER FRAMES'!$Q$22,Scharnieren!$C$16:$J$20,4,FALSE),VLOOKUP('ORDER FRAMES'!$Q$22,Scharnieren!$C$7:$N$11,4,FALSE))","v":"A24.2"},{"$f":"IF('ORDER FRAMES'!$B$23=\"X40\",VLOOKUP('ORDER FRAMES'!$Q$23,Scharnieren!$C$16:$J$20,4,FALSE),VLOOKUP('ORDER FRAMES'!$Q$23,Scharnieren!$C$7:$N$11,4,FALSE))","v":{"$error":"#N/A"}},{"$f":"IF('ORDER FRAMES'!$B$24=\"X40\",VLOOKUP('ORDER FRAMES'!$Q$24,Scharnieren!$C$16:$J$20,4,FALSE),VLOOKUP('ORDER FRAMES'!$Q$24,Scharnieren!$C$7:$N$11,4,FALSE))","v":{"$error":"#N/A"}},{"$f":"IF('ORDER FRAMES'!$B$25=\"X40\",VLOOKUP('ORDER FRAMES'!$Q$25,Scharnieren!$C$16:$J$20,4,FALSE),VLOOKUP('ORDER FRAMES'!$Q$25,Scharnieren!$C$7:$N$11,4,FALSE))","v":{"$error":"#N/A"}},{"$f":"IF('ORDER FRAMES'!$B$26=\"X40\",VLOOKUP('ORDER FRAMES'!$Q$26,Scharnieren!$C$16:$J$20,4,FALSE),VLOOKUP('ORDER FRAMES'!$Q$26,Scharnieren!$C$7:$N$11,4,FALSE))","v":{"$error":"#N/A"}},{"$f":"IF('ORDER FRAMES'!$B$27=\"X40\",VLOOKUP('ORDER FRAMES'!$Q$27,Scharnieren!$C$16:$J$20,4,FALSE),VLOOKUP('ORDER FRAMES'!$Q$27,Scharnieren!$C$7:$N$11,4,FALSE))","v":{"$error":"#N/A"}},{"$f":"IF('ORDER FRAMES'!$B$28=\"X40\",VLOOKUP('ORDER FRAMES'!$Q$28,Scharnieren!$C$16:$J$20,4,FALSE),VLOOKUP('ORDER FRAMES'!$Q$28,Scharnieren!$C$7:$N$11,4,FALSE))","v":{"$error":"#N/A"}},{"$f":"IF('ORDER FRAMES'!$B$29=\"X40\",VLOOKUP('ORDER FRAMES'!$Q$29,Scharnieren!$C$16:$J$20,4,FALSE),VLOOKUP('ORDER FRAMES'!$Q$29,Scharnieren!$C$7:$N$11,4,FALSE))","v":{"$error":"#N/A"}},{"$f":"IF('ORDER FRAMES'!$B$30=\"X40\",VLOOKUP('ORDER FRAMES'!$Q$30,Scharnieren!$C$16:$J$20,4,FALSE),VLOOKUP('ORDER FRAMES'!$Q$30,Scharnieren!$C$7:$M$11,4,FALSE))","v":{"$error":"#N/A"}},{"$f":"IF('ORDER FRAMES'!$B$31=\"X40\",VLOOKUP('ORDER FRAMES'!$Q$31,Scharnieren!$C$16:$J$20,4,FALSE),VLOOKUP('ORDER FRAMES'!$Q$31,Scharnieren!$C$7:$M$11,4,FALSE))","v":{"$error":"#N/A"}},{"$f":"IF('ORDER FRAMES'!$B$32=\"X40\",VLOOKUP('ORDER FRAMES'!$Q$32,Scharnieren!$C$16:$J$20,4,FALSE),VLOOKUP('ORDER FRAMES'!$Q$32,Scharnieren!$C$7:$M$11,4,FALSE))","v":{"$error":"#N/A"}},{"$f":"IF('ORDER FRAMES'!$B$33=\"X40\",VLOOKUP('ORDER FRAMES'!$Q$33,Scharnieren!$C$16:$J$20,4,FALSE),VLOOKUP('ORDER FRAMES'!$Q$33,Scharnieren!$C$7:$M$11,4,FALSE))","v":{"$error":"#N/A"}},{"$f":"IF('ORDER FRAMES'!$B$34=\"X40\",VLOOKUP('ORDER FRAMES'!$Q$34,Scharnieren!$C$16:$J$20,4,FALSE),VLOOKUP('ORDER FRAMES'!$Q$34,Scharnieren!$C$7:$M$11,4,FALSE))","v":{"$error":"#N/A"}},{"$f":"IF('ORDER FRAMES'!$B$35=\"X40\",VLOOKUP('ORDER FRAMES'!$Q$35,Scharnieren!$C$16:$J$20,4,FALSE),VLOOKUP('ORDER FRAMES'!$Q$35,Scharnieren!$C$7:$M$11,4,FALSE))","v":{"$error":"#N/A"}},{"$f":"IF('ORDER FRAMES'!$B$36=\"X40\",VLOOKUP('ORDER FRAMES'!$Q$36,Scharnieren!$C$16:$J$20,4,FALSE),VLOOKUP('ORDER FRAMES'!$Q$36,Scharnieren!$C$7:$M$11,4,FALSE))","v":{"$error":"#N/A"}},{"$f":"IF('ORDER FRAMES'!$B$37=\"X40\",VLOOKUP('ORDER FRAMES'!$Q$37,Scharnieren!$C$16:$J$20,4,FALSE),VLOOKUP('ORDER FRAMES'!$Q$37,Scharnieren!$C$7:$M$11,4,FALSE))","v":{"$error":"#N/A"}},{"$f":"IF('ORDER FRAMES'!$B$38=\"X40\",VLOOKUP('ORDER FRAMES'!$Q$38,Scharnieren!$C$16:$J$20,4,FALSE),VLOOKUP('ORDER FRAMES'!$Q$38,Scharnieren!$C$7:$M$11,4,FALSE))","v":{"$error":"#N/A"}},{"$f":"IF('ORDER FRAMES'!$B$39=\"X40\",VLOOKUP('ORDER FRAMES'!$Q$39,Scharnieren!$C$16:$J$20,4,FALSE),VLOOKUP('ORDER FRAMES'!$Q$39,Scharnieren!$C$7:$M$11,4,FALSE))","v":{"$error":"#N/A"}},{"$f":"IF('ORDER FRAMES'!$B$40=\"X40\",VLOOKUP('ORDER FRAMES'!$Q$40,Scharnieren!$C$16:$J$20,4,FALSE),VLOOKUP('ORDER FRAMES'!$Q$40,Scharnieren!$C$7:$M$11,4,FALSE))","v":{"$error":"#N/A"}},{"$f":"IF('ORDER FRAMES'!$B$41=\"X40\",VLOOKUP('ORDER FRAMES'!$Q$41,Scharnieren!$C$16:$J$20,4,FALSE),VLOOKUP('ORDER FRAMES'!$Q$41,Scharnieren!$C$7:$M$11,4,FALSE))","v":{"$error":"#N/A"}},{"$f":"IF('ORDER FRAMES'!$B$42=\"X40\",VLOOKUP('ORDER FRAMES'!$Q$42,Scharnieren!$C$16:$J$20,4,FALSE),VLOOKUP('ORDER FRAMES'!$Q$42,Scharnieren!$C$7:$M$11,4,FALSE))","v":{"$error":"#N/A"}},{"$f":"IF('ORDER FRAMES'!$B$43=\"X40\",VLOOKUP('ORDER FRAMES'!$Q$43,Scharnieren!$C$16:$J$20,4,FALSE),VLOOKUP('ORDER FRAMES'!$Q$43,Scharnieren!$C$7:$M$11,4,FALSE))","v":{"$error":"#N/A"}},{"$f":"IF('ORDER FRAMES'!$B$44=\"X40\",VLOOKUP('ORDER FRAMES'!$Q$44,Scharnieren!$C$16:$J$20,4,FALSE),VLOOKUP('ORDER FRAMES'!$Q$44,Scharnieren!$C$7:$M$11,4,FALSE))","v":{"$error":"#N/A"}},{"$f":"IF('ORDER FRAMES'!$B$45=\"X40\",VLOOKUP('ORDER FRAMES'!$Q$45,Scharnieren!$C$16:$J$20,4,FALSE),VLOOKUP('ORDER FRAMES'!$Q$45,Scharnieren!$C$7:$M$11,4,FALSE))","v":{"$error":"#N/A"}},{"$f":"IF('ORDER FRAMES'!$B$46=\"X40\",VLOOKUP('ORDER FRAMES'!$Q$46,Scharnieren!$C$16:$J$20,4,FALSE),VLOOKUP('ORDER FRAMES'!$Q$46,Scharnieren!$C$7:$M$11,4,FALSE))","v":{"$error":"#N/A"}},{"$f":"IF('ORDER FRAMES'!$B$47=\"X40\",VLOOKUP('ORDER FRAMES'!$Q$47,Scharnieren!$C$16:$J$20,4,FALSE),VLOOKUP('ORDER FRAMES'!$Q$47,Scharnieren!$C$7:$M$11,4,FALSE))","v":{"$error":"#N/A"}},{"$f":"IF('ORDER FRAMES'!$B$48=\"X40\",VLOOKUP('ORDER FRAMES'!$Q$48,Scharnieren!$C$16:$J$20,4,FALSE),VLOOKUP('ORDER FRAMES'!$Q$48,Scharnieren!$C$7:$M$11,4,FALSE))","v":{"$error":"#N/A"}},{"$f":"IF('ORDER FRAMES'!$B$49=\"X40\",VLOOKUP('ORDER FRAMES'!$Q$49,Scharnieren!$C$16:$J$20,4,FALSE),VLOOKUP('ORDER FRAMES'!$Q$49,Scharnieren!$C$7:$M$11,4,FALSE))","v":{"$error":"#N/A"}},{"$f":"IF('ORDER FRAMES'!$B$50=\"X40\",VLOOKUP('ORDER FRAMES'!$Q$50,Scharnieren!$C$16:$J$20,4,FALSE),VLOOKUP('ORDER FRAMES'!$Q$50,Scharnieren!$C$7:$M$11,4,FALSE))","v":{"$error":"#N/A"}},{"$f":"IF('ORDER FRAMES'!$B$51=\"X40\",VLOOKUP('ORDER FRAMES'!$Q$51,Scharnieren!$C$16:$J$20,4,FALSE),VLOOKUP('ORDER FRAMES'!$Q$51,Scharnieren!$C$7:$M$11,4,FALSE))","v":{"$error":"#N/A"}},{"$f":"IF('ORDER FRAMES'!$B$52=\"X40\",VLOOKUP('ORDER FRAMES'!$Q$52,Scharnieren!$C$16:$J$20,4,FALSE),VLOOKUP('ORDER FRAMES'!$Q$52,Scharnieren!$C$7:$M$11,4,FALSE))","v":{"$error":"#N/A"}},{"$f":"IF('ORDER FRAMES'!$B$53=\"X40\",VLOOKUP('ORDER FRAMES'!$Q$53,Scharnieren!$C$16:$J$20,4,FALSE),VLOOKUP('ORDER FRAMES'!$Q$53,Scharnieren!$C$7:$M$11,4,FALSE))","v":{"$error":"#N/A"}},{"$f":"IF('ORDER FRAMES'!$B$54=\"X40\",VLOOKUP('ORDER FRAMES'!$Q$54,Scharnieren!$C$16:$J$20,4,FALSE),VLOOKUP('ORDER FRAMES'!$Q$54,Scharnieren!$C$7:$M$11,4,FALSE))","v":{"$error":"#N/A"}},{"$f":"IF('ORDER FRAMES'!$B$55=\"X40\",VLOOKUP('ORDER FRAMES'!$Q$55,Scharnieren!$C$16:$J$20,4,FALSE),VLOOKUP('ORDER FRAMES'!$Q$55,Scharnieren!$C$7:$M$11,4,FALSE))","v":{"$error":"#N/A"}},{"$f":"IF('ORDER FRAMES'!$B$56=\"X40\",VLOOKUP('ORDER FRAMES'!$Q$56,Scharnieren!$C$16:$J$20,4,FALSE),VLOOKUP('ORDER FRAMES'!$Q$56,Scharnieren!$C$7:$M$11,4,FALSE))","v":{"$error":"#N/A"}},{"$f":"IF('ORDER FRAMES'!$B$57=\"X40\",VLOOKUP('ORDER FRAMES'!$Q$57,Scharnieren!$C$16:$J$20,4,FALSE),VLOOKUP('ORDER FRAMES'!$Q$57,Scharnieren!$C$7:$M$11,4,FALSE))","v":{"$error":"#N/A"}},{"$f":"IF('ORDER FRAMES'!$B$58=\"X40\",VLOOKUP('ORDER FRAMES'!$Q$58,Scharnieren!$C$16:$J$20,4,FALSE),VLOOKUP('ORDER FRAMES'!$Q$58,Scharnieren!$C$7:$M$11,4,FALSE))","v":{"$error":"#N/A"}},{"$f":"IF('ORDER FRAMES'!$B$59=\"X40\",VLOOKUP('ORDER FRAMES'!$Q$59,Scharnieren!$C$16:$J$20,4,FALSE),VLOOKUP('ORDER FRAMES'!$Q$59,Scharnieren!$C$7:$M$11,4,FALSE))","v":{"$error":"#N/A"}},{"$f":"IF('ORDER FRAMES'!$B$60=\"X40\",VLOOKUP('ORDER FRAMES'!$Q$60,Scharnieren!$C$16:$J$20,4,FALSE),VLOOKUP('ORDER FRAMES'!$Q$60,Scharnieren!$C$7:$M$11,4,FALSE))","v":{"$error":"#N/A"}},{"$f":"IF('ORDER FRAMES'!$B$61=\"X40\",VLOOKUP('ORDER FRAMES'!$Q$61,Scharnieren!$C$16:$J$20,4,FALSE),VLOOKUP('ORDER FRAMES'!$Q$61,Scharnieren!$C$7:$M$11,4,FALSE))","v":{"$error":"#N/A"}},{"$f":"IF('ORDER FRAMES'!$B$62=\"X40\",VLOOKUP('ORDER FRAMES'!$Q$62,Scharnieren!$C$16:$J$20,4,FALSE),VLOOKUP('ORDER FRAMES'!$Q$62,Scharnieren!$C$7:$M$11,4,FALSE))","v":{"$error":"#N/A"}},{"$f":"IF('ORDER FRAMES'!$B$63=\"X40\",VLOOKUP('ORDER FRAMES'!$Q$63,Scharnieren!$C$16:$J$20,4,FALSE),VLOOKUP('ORDER FRAMES'!$Q$63,Scharnieren!$C$7:$M$11,4,FALSE))","v":{"$error":"#N/A"}},{"$f":"IF('ORDER FRAMES'!$B$64=\"X40\",VLOOKUP('ORDER FRAMES'!$Q$64,Scharnieren!$C$16:$J$20,4,FALSE),VLOOKUP('ORDER FRAMES'!$Q$64,Scharnieren!$C$7:$M$11,4,FALSE))","v":{"$error":"#N/A"}},{"$f":"IF('ORDER FRAMES'!$B$65=\"X40\",VLOOKUP('ORDER FRAMES'!$Q$65,Scharnieren!$C$16:$J$20,4,FALSE),VLOOKUP('ORDER FRAMES'!$Q$65,Scharnieren!$C$7:$M$11,4,FALSE))","v":{"$error":"#N/A"}},{"$f":"IF('ORDER FRAMES'!$B$66=\"X40\",VLOOKUP('ORDER FRAMES'!$Q$66,Scharnieren!$C$16:$J$20,4,FALSE),VLOOKUP('ORDER FRAMES'!$Q$66,Scharnieren!$C$7:$M$11,4,FALSE))","v":{"$error":"#N/A"}},{"$f":"IF('ORDER FRAMES'!$B$67=\"X40\",VLOOKUP('ORDER FRAMES'!$Q$67,Scharnieren!$C$16:$J$20,4,FALSE),VLOOKUP('ORDER FRAMES'!$Q$67,Scharnieren!$C$7:$M$11,4,FALSE))","v":{"$error":"#N/A"}},{"$f":"IF('ORDER FRAMES'!$B$68=\"X40\",VLOOKUP('ORDER FRAMES'!$Q$68,Scharnieren!$C$16:$J$20,4,FALSE),VLOOKUP('ORDER FRAMES'!$Q$68,Scharnieren!$C$7:$M$11,4,FALSE))","v":{"$error":"#N/A"}},{"$f":"IF('ORDER FRAMES'!$B$69=\"X40\",VLOOKUP('ORDER FRAMES'!$Q$69,Scharnieren!$C$16:$J$20,4,FALSE),VLOOKUP('ORDER FRAMES'!$Q$69,Scharnieren!$C$7:$M$11,4,FALSE))","v":{"$error":"#N/A"}},{"$f":"IF('ORDER FRAMES'!$B$70=\"X40\",VLOOKUP('ORDER FRAMES'!$Q$70,Scharnieren!$C$16:$J$20,4,FALSE),VLOOKUP('ORDER FRAMES'!$Q$70,Scharnieren!$C$7:$M$11,4,FALSE))","v":{"$error":"#N/A"}},{"$f":"IF('ORDER FRAMES'!$B$71=\"X40\",VLOOKUP('ORDER FRAMES'!$Q$71,Scharnieren!$C$16:$J$20,4,FALSE),VLOOKUP('ORDER FRAMES'!$Q$71,Scharnieren!$C$7:$M$11,4,FALSE))","v":{"$error":"#N/A"}},{"$f":"IF('ORDER FRAMES'!$B$72=\"X40\",VLOOKUP('ORDER FRAMES'!$Q$72,Scharnieren!$C$16:$J$20,4,FALSE),VLOOKUP('ORDER FRAMES'!$Q$72,Scharnieren!$C$7:$M$11,4,FALSE))","v":{"$error":"#N/A"}},{"$f":"IF('ORDER FRAMES'!$B$73=\"X40\",VLOOKUP('ORDER FRAMES'!$Q$73,Scharnieren!$C$16:$J$20,4,FALSE),VLOOKUP('ORDER FRAMES'!$Q$73,Scharnieren!$C$7:$M$11,4,FALSE))","v":{"$error":"#N/A"}},{"$f":"IF('ORDER FRAMES'!$B$74=\"X40\",VLOOKUP('ORDER FRAMES'!$Q$74,Scharnieren!$C$16:$J$20,4,FALSE),VLOOKUP('ORDER FRAMES'!$Q$74,Scharnieren!$C$7:$M$11,4,FALSE))","v":{"$error":"#N/A"}},{"$f":"IF('ORDER FRAMES'!$B$75=\"X40\",VLOOKUP('ORDER FRAMES'!$Q$75,Scharnieren!$C$16:$J$20,4,FALSE),VLOOKUP('ORDER FRAMES'!$Q$75,Scharnieren!$C$7:$M$11,4,FALSE))","v":{"$error":"#N/A"}},{"$f":"IF('ORDER FRAMES'!$B$76=\"X40\",VLOOKUP('ORDER FRAMES'!$Q$76,Scharnieren!$C$16:$J$20,4,FALSE),VLOOKUP('ORDER FRAMES'!$Q$76,Scharnieren!$C$7:$M$11,4,FALSE))","v":{"$error":"#N/A"}},{"$f":"IF('ORDER FRAMES'!$B$77=\"X40\",VLOOKUP('ORDER FRAMES'!$Q$77,Scharnieren!$C$16:$J$20,4,FALSE),VLOOKUP('ORDER FRAMES'!$Q$77,Scharnieren!$C$7:$M$11,4,FALSE))","v":{"$error":"#N/A"}},{"$f":"IF('ORDER FRAMES'!$B$78=\"X40\",VLOOKUP('ORDER FRAMES'!$Q$78,Scharnieren!$C$16:$J$20,4,FALSE),VLOOKUP('ORDER FRAMES'!$Q$78,Scharnieren!$C$7:$M$11,4,FALSE))","v":{"$error":"#N/A"}},{"$f":"IF('ORDER FRAMES'!$B$79=\"X40\",VLOOKUP('ORDER FRAMES'!$Q$79,Scharnieren!$C$16:$J$20,4,FALSE),VLOOKUP('ORDER FRAMES'!$Q$79,Scharnieren!$C$7:$M$11,4,FALSE))","v":{"$error":"#N/A"}},{"$f":"IF('ORDER FRAMES'!$B$80=\"X40\",VLOOKUP('ORDER FRAMES'!$Q$80,Scharnieren!$C$16:$J$20,4,FALSE),VLOOKUP('ORDER FRAMES'!$Q$80,Scharnieren!$C$7:$M$11,4,FALSE))","v":{"$error":"#N/A"}},{"$f":"IF('ORDER FRAMES'!$B$81=\"X40\",VLOOKUP('ORDER FRAMES'!$Q$81,Scharnieren!$C$16:$J$20,4,FALSE),VLOOKUP('ORDER FRAMES'!$Q$81,Scharnieren!$C$7:$M$11,4,FALSE))","v":{"$error":"#N/A"}},{"$f":"IF('ORDER FRAMES'!$B$82=\"X40\",VLOOKUP('ORDER FRAMES'!$Q$82,Scharnieren!$C$16:$J$20,4,FALSE),VLOOKUP('ORDER FRAMES'!$Q$82,Scharnieren!$C$7:$M$11,4,FALSE))","v":{"$error":"#N/A"}},{"$f":"IF('ORDER FRAMES'!$B$83=\"X40\",VLOOKUP('ORDER FRAMES'!$Q$83,Scharnieren!$C$16:$J$20,4,FALSE),VLOOKUP('ORDER FRAMES'!$Q$83,Scharnieren!$C$7:$M$11,4,FALSE))","v":{"$error":"#N/A"}},{"$f":"IF('ORDER FRAMES'!$B$84=\"X40\",VLOOKUP('ORDER FRAMES'!$Q$84,Scharnieren!$C$16:$J$20,4,FALSE),VLOOKUP('ORDER FRAMES'!$Q$84,Scharnieren!$C$7:$M$11,4,FALSE))","v":{"$error":"#N/A"}},{"$f":"IF('ORDER FRAMES'!$B$85=\"X40\",VLOOKUP('ORDER FRAMES'!$Q$85,Scharnieren!$C$16:$J$20,4,FALSE),VLOOKUP('ORDER FRAMES'!$Q$85,Scharnieren!$C$7:$M$11,4,FALSE))","v":{"$error":"#N/A"}},{"$f":"IF('ORDER FRAMES'!$B$86=\"X40\",VLOOKUP('ORDER FRAMES'!$Q$86,Scharnieren!$C$16:$J$20,4,FALSE),VLOOKUP('ORDER FRAMES'!$Q$86,Scharnieren!$C$7:$M$11,4,FALSE))","v":{"$error":"#N/A"}},{"$f":"IF('ORDER FRAMES'!$B$87=\"X40\",VLOOKUP('ORDER FRAMES'!$Q$87,Scharnieren!$C$16:$J$20,4,FALSE),VLOOKUP('ORDER FRAMES'!$Q$87,Scharnieren!$C$7:$M$11,4,FALSE))","v":{"$error":"#N/A"}},{"$f":"IF('ORDER FRAMES'!$B$88=\"X40\",VLOOKUP('ORDER FRAMES'!$Q$88,Scharnieren!$C$16:$J$20,4,FALSE),VLOOKUP('ORDER FRAMES'!$Q$88,Scharnieren!$C$7:$M$11,4,FALSE))","v":{"$error":"#N/A"}},{"$f":"IF('ORDER FRAMES'!$B$89=\"X40\",VLOOKUP('ORDER FRAMES'!$Q$89,Scharnieren!$C$16:$J$20,4,FALSE),VLOOKUP('ORDER FRAMES'!$Q$89,Scharnieren!$C$7:$M$11,4,FALSE))","v":{"$error":"#N/A"}},{"$f":"IF('ORDER FRAMES'!$B$90=\"X40\",VLOOKUP('ORDER FRAMES'!$Q$90,Scharnieren!$C$16:$J$20,4,FALSE),VLOOKUP('ORDER FRAMES'!$Q$90,Scharnieren!$C$7:$M$11,4,FALSE))","v":{"$error":"#N/A"}},{"$f":"IF('ORDER FRAMES'!$B$91=\"X40\",VLOOKUP('ORDER FRAMES'!$Q$91,Scharnieren!$C$16:$J$20,4,FALSE),VLOOKUP('ORDER FRAMES'!$Q$91,Scharnieren!$C$7:$M$11,4,FALSE))","v":{"$error":"#N/A"}},{"$f":"IF('ORDER FRAMES'!$B$92=\"X40\",VLOOKUP('ORDER FRAMES'!$Q$92,Scharnieren!$C$16:$J$20,4,FALSE),VLOOKUP('ORDER FRAMES'!$Q$92,Scharnieren!$C$7:$M$11,4,FALSE))","v":{"$error":"#N/A"}},{"$f":"IF('ORDER FRAMES'!$B$93=\"X40\",VLOOKUP('ORDER FRAMES'!$Q$93,Scharnieren!$C$16:$J$20,4,FALSE),VLOOKUP('ORDER FRAMES'!$Q$93,Scharnieren!$C$7:$M$11,4,FALSE))","v":{"$error":"#N/A"}},{"$f":"IF('ORDER FRAMES'!$B$94=\"X40\",VLOOKUP('ORDER FRAMES'!$Q$94,Scharnieren!$C$16:$J$20,4,FALSE),VLOOKUP('ORDER FRAMES'!$Q$94,Scharnieren!$C$7:$M$11,4,FALSE))","v":{"$error":"#N/A"}},{"$f":"IF('ORDER FRAMES'!$B$95=\"X40\",VLOOKUP('ORDER FRAMES'!$Q$95,Scharnieren!$C$16:$J$20,4,FALSE),VLOOKUP('ORDER FRAMES'!$Q$95,Scharnieren!$C$7:$M$11,4,FALSE))","v":{"$error":"#N/A"}},{"$f":"IF('ORDER FRAMES'!$B$96=\"X40\",VLOOKUP('ORDER FRAMES'!$Q$96,Scharnieren!$C$16:$J$20,4,FALSE),VLOOKUP('ORDER FRAMES'!$Q$96,Scharnieren!$C$7:$M$11,4,FALSE))","v":{"$error":"#N/A"}},{"$f":"IF('ORDER FRAMES'!$B$97=\"X40\",VLOOKUP('ORDER FRAMES'!$Q$97,Scharnieren!$C$16:$J$20,4,FALSE),VLOOKUP('ORDER FRAMES'!$Q$97,Scharnieren!$C$7:$M$11,4,FALSE))","v":{"$error":"#N/A"}},{"$f":"IF('ORDER FRAMES'!$B$98=\"X40\",VLOOKUP('ORDER FRAMES'!$Q$98,Scharnieren!$C$16:$J$20,4,FALSE),VLOOKUP('ORDER FRAMES'!$Q$98,Scharnieren!$C$7:$M$11,4,FALSE))","v":{"$error":"#N/A"}},{"$f":"IF('ORDER FRAMES'!$B$99=\"X40\",VLOOKUP('ORDER FRAMES'!$Q$99,Scharnieren!$C$16:$J$20,4,FALSE),VLOOKUP('ORDER FRAMES'!$Q$99,Scharnieren!$C$7:$M$11,4,FALSE))","v":{"$error":"#N/A"}},{"$f":"IF('ORDER FRAMES'!$B$100=\"X40\",VLOOKUP('ORDER FRAMES'!$Q$100,Scharnieren!$C$16:$J$20,4,FALSE),VLOOKUP('ORDER FRAMES'!$Q$100,Scharnieren!$C$7:$M$11,4,FALSE))","v":{"$error":"#N/A"}}]
[null,null,null,null,null,null,null,null,null,null,null,null,null,null,null,null,null,null,null,null,{"$f":"IF('ORDER FRAMES'!$B$21=\"X40\",VLOOKUP('ORDER FRAMES'!$Q$21,Scharnieren!$C$16:$J$20,5,FALSE),VLOOKUP('ORDER FRAMES'!$Q$21,Scharnieren!$C$7:$N$11,5,FALSE))","v":"X4030.W"},{"$f":"IF('ORDER FRAMES'!$B$22=\"X40\",VLOOKUP('ORDER FRAMES'!$Q$22,Scharnieren!$C$16:$J$20,5,FALSE),VLOOKUP('ORDER FRAMES'!$Q$22,Scharnieren!$C$7:$N$11,5,FALSE))","v":"X4030.W"},{"$f":"IF('ORDER FRAMES'!$B$23=\"X40\",VLOOKUP('ORDER FRAMES'!$Q$23,Scharnieren!$C$16:$J$20,5,FALSE),VLOOKUP('ORDER FRAMES'!$Q$23,Scharnieren!$C$7:$N$11,5,FALSE))","v":{"$error":"#N/A"}},{"$f":"IF('ORDER FRAMES'!$B$24=\"X40\",VLOOKUP('ORDER FRAMES'!$Q$24,Scharnieren!$C$16:$J$20,5,FALSE),VLOOKUP('ORDER FRAMES'!$Q$24,Scharnieren!$C$7:$N$11,5,FALSE))","v":{"$error":"#N/A"}},{"$f":"IF('ORDER FRAMES'!$B$25=\"X40\",VLOOKUP('ORDER FRAMES'!$Q$25,Scharnieren!$C$16:$J$20,5,FALSE),VLOOKUP('ORDER FRAMES'!$Q$25,Scharnieren!$C$7:$N$11,5,FALSE))","v":{"$error":"#N/A"}},{"$f":"IF('ORDER FRAMES'!$B$26=\"X40\",VLOOKUP('ORDER FRAMES'!$Q$26,Scharnieren!$C$16:$J$20,5,FALSE),VLOOKUP('ORDER FRAMES'!$Q$26,Scharnieren!$C$7:$N$11,5,FALSE))","v":{"$error":"#N/A"}},{"$f":"IF('ORDER FRAMES'!$B$27=\"X40\",VLOOKUP('ORDER FRAMES'!$Q$27,Scharnieren!$C$16:$J$20,5,FALSE),VLOOKUP('ORDER FRAMES'!$Q$27,Scharnieren!$C$7:$N$11,5,FALSE))","v":{"$error":"#N/A"}},{"$f":"IF('ORDER FRAMES'!$B$28=\"X40\",VLOOKUP('ORDER FRAMES'!$Q$28,Scharnieren!$C$16:$J$20,5,FALSE),VLOOKUP('ORDER FRAMES'!$Q$28,Scharnieren!$C$7:$N$11,5,FALSE))","v":{"$error":"#N/A"}},{"$f":"IF('ORDER FRAMES'!$B$29=\"X40\",VLOOKUP('ORDER FRAMES'!$Q$29,Scharnieren!$C$16:$J$20,5,FALSE),VLOOKUP('ORDER FRAMES'!$Q$29,Scharnieren!$C$7:$N$11,5,FALSE))","v":{"$error":"#N/A"}},{"$f":"IF('ORDER FRAMES'!$B$30=\"X40\",VLOOKUP('ORDER FRAMES'!$Q$30,Scharnieren!$C$16:$J$20,5,FALSE),VLOOKUP('ORDER FRAMES'!$Q$30,Scharnieren!$C$7:$M$11,5,FALSE))","v":{"$error":"#N/A"}},{"$f":"IF('ORDER FRAMES'!$B$31=\"X40\",VLOOKUP('ORDER FRAMES'!$Q$31,Scharnieren!$C$16:$J$20,5,FALSE),VLOOKUP('ORDER FRAMES'!$Q$31,Scharnieren!$C$7:$M$11,5,FALSE))","v":{"$error":"#N/A"}},{"$f":"IF('ORDER FRAMES'!$B$32=\"X40\",VLOOKUP('ORDER FRAMES'!$Q$32,Scharnieren!$C$16:$J$20,5,FALSE),VLOOKUP('ORDER FRAMES'!$Q$32,Scharnieren!$C$7:$M$11,5,FALSE))","v":{"$error":"#N/A"}},{"$f":"IF('ORDER FRAMES'!$B$33=\"X40\",VLOOKUP('ORDER FRAMES'!$Q$33,Scharnieren!$C$16:$J$20,5,FALSE),VLOOKUP('ORDER FRAMES'!$Q$33,Scharnieren!$C$7:$M$11,5,FALSE))","v":{"$error":"#N/A"}},{"$f":"IF('ORDER FRAMES'!$B$34=\"X40\",VLOOKUP('ORDER FRAMES'!$Q$34,Scharnieren!$C$16:$J$20,5,FALSE),VLOOKUP('ORDER FRAMES'!$Q$34,Scharnieren!$C$7:$M$11,5,FALSE))","v":{"$error":"#N/A"}},{"$f":"IF('ORDER FRAMES'!$B$35=\"X40\",VLOOKUP('ORDER FRAMES'!$Q$35,Scharnieren!$C$16:$J$20,5,FALSE),VLOOKUP('ORDER FRAMES'!$Q$35,Scharnieren!$C$7:$M$11,5,FALSE))","v":{"$error":"#N/A"}},{"$f":"IF('ORDER FRAMES'!$B$36=\"X40\",VLOOKUP('ORDER FRAMES'!$Q$36,Scharnieren!$C$16:$J$20,5,FALSE),VLOOKUP('ORDER FRAMES'!$Q$36,Scharnieren!$C$7:$M$11,5,FALSE))","v":{"$error":"#N/A"}},{"$f":"IF('ORDER FRAMES'!$B$37=\"X40\",VLOOKUP('ORDER FRAMES'!$Q$37,Scharnieren!$C$16:$J$20,5,FALSE),VLOOKUP('ORDER FRAMES'!$Q$37,Scharnieren!$C$7:$M$11,5,FALSE))","v":{"$error":"#N/A"}},{"$f":"IF('ORDER FRAMES'!$B$38=\"X40\",VLOOKUP('ORDER FRAMES'!$Q$38,Scharnieren!$C$16:$J$20,5,FALSE),VLOOKUP('ORDER FRAMES'!$Q$38,Scharnieren!$C$7:$M$11,5,FALSE))","v":{"$error":"#N/A"}},{"$f":"IF('ORDER FRAMES'!$B$39=\"X40\",VLOOKUP('ORDER FRAMES'!$Q$39,Scharnieren!$C$16:$J$20,5,FALSE),VLOOKUP('ORDER FRAMES'!$Q$39,Scharnieren!$C$7:$M$11,5,FALSE))","v":{"$error":"#N/A"}},{"$f":"IF('ORDER FRAMES'!$B$40=\"X40\",VLOOKUP('ORDER FRAMES'!$Q$40,Scharnieren!$C$16:$J$20,5,FALSE),VLOOKUP('ORDER FRAMES'!$Q$40,Scharnieren!$C$7:$M$11,5,FALSE))","v":{"$error":"#N/A"}},{"$f":"IF('ORDER FRAMES'!$B$41=\"X40\",VLOOKUP('ORDER FRAMES'!$Q$41,Scharnieren!$C$16:$J$20,5,FALSE),VLOOKUP('ORDER FRAMES'!$Q$41,Scharnieren!$C$7:$M$11,5,FALSE))","v":{"$error":"#N/A"}},{"$f":"IF('ORDER FRAMES'!$B$42=\"X40\",VLOOKUP('ORDER FRAMES'!$Q$42,Scharnieren!$C$16:$J$20,5,FALSE),VLOOKUP('ORDER FRAMES'!$Q$42,Scharnieren!$C$7:$M$11,5,FALSE))","v":{"$error":"#N/A"}},{"$f":"IF('ORDER FRAMES'!$B$43=\"X40\",VLOOKUP('ORDER FRAMES'!$Q$43,Scharnieren!$C$16:$J$20,5,FALSE),VLOOKUP('ORDER FRAMES'!$Q$43,Scharnieren!$C$7:$M$11,5,FALSE))","v":{"$error":"#N/A"}},{"$f":"IF('ORDER FRAMES'!$B$44=\"X40\",VLOOKUP('ORDER FRAMES'!$Q$44,Scharnieren!$C$16:$J$20,5,FALSE),VLOOKUP('ORDER FRAMES'!$Q$44,Scharnieren!$C$7:$M$11,5,FALSE))","v":{"$error":"#N/A"}},{"$f":"IF('ORDER FRAMES'!$B$45=\"X40\",VLOOKUP('ORDER FRAMES'!$Q$45,Scharnieren!$C$16:$J$20,5,FALSE),VLOOKUP('ORDER FRAMES'!$Q$45,Scharnieren!$C$7:$M$11,5,FALSE))","v":{"$error":"#N/A"}},{"$f":"IF('ORDER FRAMES'!$B$46=\"X40\",VLOOKUP('ORDER FRAMES'!$Q$46,Scharnieren!$C$16:$J$20,5,FALSE),VLOOKUP('ORDER FRAMES'!$Q$46,Scharnieren!$C$7:$M$11,5,FALSE))","v":{"$error":"#N/A"}},{"$f":"IF('ORDER FRAMES'!$B$47=\"X40\",VLOOKUP('ORDER FRAMES'!$Q$47,Scharnieren!$C$16:$J$20,5,FALSE),VLOOKUP('ORDER FRAMES'!$Q$47,Scharnieren!$C$7:$M$11,5,FALSE))","v":{"$error":"#N/A"}},{"$f":"IF('ORDER FRAMES'!$B$48=\"X40\",VLOOKUP('ORDER FRAMES'!$Q$48,Scharnieren!$C$16:$J$20,5,FALSE),VLOOKUP('ORDER FRAMES'!$Q$48,Scharnieren!$C$7:$M$11,5,FALSE))","v":{"$error":"#N/A"}},{"$f":"IF('ORDER FRAMES'!$B$49=\"X40\",VLOOKUP('ORDER FRAMES'!$Q$49,Scharnieren!$C$16:$J$20,5,FALSE),VLOOKUP('ORDER FRAMES'!$Q$49,Scharnieren!$C$7:$M$11,5,FALSE))","v":{"$error":"#N/A"}},{"$f":"IF('ORDER FRAMES'!$B$50=\"X40\",VLOOKUP('ORDER FRAMES'!$Q$50,Scharnieren!$C$16:$J$20,5,FALSE),VLOOKUP('ORDER FRAMES'!$Q$50,Scharnieren!$C$7:$M$11,5,FALSE))","v":{"$error":"#N/A"}},{"$f":"IF('ORDER FRAMES'!$B$51=\"X40\",VLOOKUP('ORDER FRAMES'!$Q$51,Scharnieren!$C$16:$J$20,5,FALSE),VLOOKUP('ORDER FRAMES'!$Q$51,Scharnieren!$C$7:$M$11,5,FALSE))","v":{"$error":"#N/A"}},{"$f":"IF('ORDER FRAMES'!$B$52=\"X40\",VLOOKUP('ORDER FRAMES'!$Q$52,Scharnieren!$C$16:$J$20,5,FALSE),VLOOKUP('ORDER FRAMES'!$Q$52,Scharnieren!$C$7:$M$11,5,FALSE))","v":{"$error":"#N/A"}},{"$f":"IF('ORDER FRAMES'!$B$53=\"X40\",VLOOKUP('ORDER FRAMES'!$Q$53,Scharnieren!$C$16:$J$20,5,FALSE),VLOOKUP('ORDER FRAMES'!$Q$53,Scharnieren!$C$7:$M$11,5,FALSE))","v":{"$error":"#N/A"}},{"$f":"IF('ORDER FRAMES'!$B$54=\"X40\",VLOOKUP('ORDER FRAMES'!$Q$54,Scharnieren!$C$16:$J$20,5,FALSE),VLOOKUP('ORDER FRAMES'!$Q$54,Scharnieren!$C$7:$M$11,5,FALSE))","v":{"$error":"#N/A"}},{"$f":"IF('ORDER FRAMES'!$B$55=\"X40\",VLOOKUP('ORDER FRAMES'!$Q$55,Scharnieren!$C$16:$J$20,5,FALSE),VLOOKUP('ORDER FRAMES'!$Q$55,Scharnieren!$C$7:$M$11,5,FALSE))","v":{"$error":"#N/A"}},{"$f":"IF('ORDER FRAMES'!$B$56=\"X40\",VLOOKUP('ORDER FRAMES'!$Q$56,Scharnieren!$C$16:$J$20,5,FALSE),VLOOKUP('ORDER FRAMES'!$Q$56,Scharnieren!$C$7:$M$11,5,FALSE))","v":{"$error":"#N/A"}},{"$f":"IF('ORDER FRAMES'!$B$57=\"X40\",VLOOKUP('ORDER FRAMES'!$Q$57,Scharnieren!$C$16:$J$20,5,FALSE),VLOOKUP('ORDER FRAMES'!$Q$57,Scharnieren!$C$7:$M$11,5,FALSE))","v":{"$error":"#N/A"}},{"$f":"IF('ORDER FRAMES'!$B$58=\"X40\",VLOOKUP('ORDER FRAMES'!$Q$58,Scharnieren!$C$16:$J$20,5,FALSE),VLOOKUP('ORDER FRAMES'!$Q$58,Scharnieren!$C$7:$M$11,5,FALSE))","v":{"$error":"#N/A"}},{"$f":"IF('ORDER FRAMES'!$B$59=\"X40\",VLOOKUP('ORDER FRAMES'!$Q$59,Scharnieren!$C$16:$J$20,5,FALSE),VLOOKUP('ORDER FRAMES'!$Q$59,Scharnieren!$C$7:$M$11,5,FALSE))","v":{"$error":"#N/A"}},{"$f":"IF('ORDER FRAMES'!$B$60=\"X40\",VLOOKUP('ORDER FRAMES'!$Q$60,Scharnieren!$C$16:$J$20,5,FALSE),VLOOKUP('ORDER FRAMES'!$Q$60,Scharnieren!$C$7:$M$11,5,FALSE))","v":{"$error":"#N/A"}},{"$f":"IF('ORDER FRAMES'!$B$61=\"X40\",VLOOKUP('ORDER FRAMES'!$Q$61,Scharnieren!$C$16:$J$20,5,FALSE),VLOOKUP('ORDER FRAMES'!$Q$61,Scharnieren!$C$7:$M$11,5,FALSE))","v":{"$error":"#N/A"}},{"$f":"IF('ORDER FRAMES'!$B$62=\"X40\",VLOOKUP('ORDER FRAMES'!$Q$62,Scharnieren!$C$16:$J$20,5,FALSE),VLOOKUP('ORDER FRAMES'!$Q$62,Scharnieren!$C$7:$M$11,5,FALSE))","v":{"$error":"#N/A"}},{"$f":"IF('ORDER FRAMES'!$B$63=\"X40\",VLOOKUP('ORDER FRAMES'!$Q$63,Scharnieren!$C$16:$J$20,5,FALSE),VLOOKUP('ORDER FRAMES'!$Q$63,Scharnieren!$C$7:$M$11,5,FALSE))","v":{"$error":"#N/A"}},{"$f":"IF('ORDER FRAMES'!$B$64=\"X40\",VLOOKUP('ORDER FRAMES'!$Q$64,Scharnieren!$C$16:$J$20,5,FALSE),VLOOKUP('ORDER FRAMES'!$Q$64,Scharnieren!$C$7:$M$11,5,FALSE))","v":{"$error":"#N/A"}},{"$f":"IF('ORDER FRAMES'!$B$65=\"X40\",VLOOKUP('ORDER FRAMES'!$Q$65,Scharnieren!$C$16:$J$20,5,FALSE),VLOOKUP('ORDER FRAMES'!$Q$65,Scharnieren!$C$7:$M$11,5,FALSE))","v":{"$error":"#N/A"}},{"$f":"IF('ORDER FRAMES'!$B$66=\"X40\",VLOOKUP('ORDER FRAMES'!$Q$66,Scharnieren!$C$16:$J$20,5,FALSE),VLOOKUP('ORDER FRAMES'!$Q$66,Scharnieren!$C$7:$M$11,5,FALSE))","v":{"$error":"#N/A"}},{"$f":"IF('ORDER FRAMES'!$B$67=\"X40\",VLOOKUP('ORDER FRAMES'!$Q$67,Scharnieren!$C$16:$J$20,5,FALSE),VLOOKUP('ORDER FRAMES'!$Q$67,Scharnieren!$C$7:$M$11,5,FALSE))","v":{"$error":"#N/A"}},{"$f":"IF('ORDER FRAMES'!$B$68=\"X40\",VLOOKUP('ORDER FRAMES'!$Q$68,Scharnieren!$C$16:$J$20,5,FALSE),VLOOKUP('ORDER FRAMES'!$Q$68,Scharnieren!$C$7:$M$11,5,FALSE))","v":{"$error":"#N/A"}},{"$f":"IF('ORDER FRAMES'!$B$69=\"X40\",VLOOKUP('ORDER FRAMES'!$Q$69,Scharnieren!$C$16:$J$20,5,FALSE),VLOOKUP('ORDER FRAMES'!$Q$69,Scharnieren!$C$7:$M$11,5,FALSE))","v":{"$error":"#N/A"}},{"$f":"IF('ORDER FRAMES'!$B$70=\"X40\",VLOOKUP('ORDER FRAMES'!$Q$70,Scharnieren!$C$16:$J$20,5,FALSE),VLOOKUP('ORDER FRAMES'!$Q$70,Scharnieren!$C$7:$M$11,5,FALSE))","v":{"$error":"#N/A"}},{"$f":"IF('ORDER FRAMES'!$B$71=\"X40\",VLOOKUP('ORDER FRAMES'!$Q$71,Scharnieren!$C$16:$J$20,5,FALSE),VLOOKUP('ORDER FRAMES'!$Q$71,Scharnieren!$C$7:$M$11,5,FALSE))","v":{"$error":"#N/A"}},{"$f":"IF('ORDER FRAMES'!$B$72=\"X40\",VLOOKUP('ORDER FRAMES'!$Q$72,Scharnieren!$C$16:$J$20,5,FALSE),VLOOKUP('ORDER FRAMES'!$Q$72,Scharnieren!$C$7:$M$11,5,FALSE))","v":{"$error":"#N/A"}},{"$f":"IF('ORDER FRAMES'!$B$73=\"X40\",VLOOKUP('ORDER FRAMES'!$Q$73,Scharnieren!$C$16:$J$20,5,FALSE),VLOOKUP('ORDER FRAMES'!$Q$73,Scharnieren!$C$7:$M$11,5,FALSE))","v":{"$error":"#N/A"}},{"$f":"IF('ORDER FRAMES'!$B$74=\"X40\",VLOOKUP('ORDER FRAMES'!$Q$74,Scharnieren!$C$16:$J$20,5,FALSE),VLOOKUP('ORDER FRAMES'!$Q$74,Scharnieren!$C$7:$M$11,5,FALSE))","v":{"$error":"#N/A"}},{"$f":"IF('ORDER FRAMES'!$B$75=\"X40\",VLOOKUP('ORDER FRAMES'!$Q$75,Scharnieren!$C$16:$J$20,5,FALSE),VLOOKUP('ORDER FRAMES'!$Q$75,Scharnieren!$C$7:$M$11,5,FALSE))","v":{"$error":"#N/A"}},{"$f":"IF('ORDER FRAMES'!$B$76=\"X40\",VLOOKUP('ORDER FRAMES'!$Q$76,Scharnieren!$C$16:$J$20,5,FALSE),VLOOKUP('ORDER FRAMES'!$Q$76,Scharnieren!$C$7:$M$11,5,FALSE))","v":{"$error":"#N/A"}},{"$f":"IF('ORDER FRAMES'!$B$77=\"X40\",VLOOKUP('ORDER FRAMES'!$Q$77,Scharnieren!$C$16:$J$20,5,FALSE),VLOOKUP('ORDER FRAMES'!$Q$77,Scharnieren!$C$7:$M$11,5,FALSE))","v":{"$error":"#N/A"}},{"$f":"IF('ORDER FRAMES'!$B$78=\"X40\",VLOOKUP('ORDER FRAMES'!$Q$78,Scharnieren!$C$16:$J$20,5,FALSE),VLOOKUP('ORDER FRAMES'!$Q$78,Scharnieren!$C$7:$M$11,5,FALSE))","v":{"$error":"#N/A"}},{"$f":"IF('ORDER FRAMES'!$B$79=\"X40\",VLOOKUP('ORDER FRAMES'!$Q$79,Scharnieren!$C$16:$J$20,5,FALSE),VLOOKUP('ORDER FRAMES'!$Q$79,Scharnieren!$C$7:$M$11,5,FALSE))","v":{"$error":"#N/A"}},{"$f":"IF('ORDER FRAMES'!$B$80=\"X40\",VLOOKUP('ORDER FRAMES'!$Q$80,Scharnieren!$C$16:$J$20,5,FALSE),VLOOKUP('ORDER FRAMES'!$Q$80,Scharnieren!$C$7:$M$11,5,FALSE))","v":{"$error":"#N/A"}},{"$f":"IF('ORDER FRAMES'!$B$81=\"X40\",VLOOKUP('ORDER FRAMES'!$Q$81,Scharnieren!$C$16:$J$20,5,FALSE),VLOOKUP('ORDER FRAMES'!$Q$81,Scharnieren!$C$7:$M$11,5,FALSE))","v":{"$error":"#N/A"}},{"$f":"IF('ORDER FRAMES'!$B$82=\"X40\",VLOOKUP('ORDER FRAMES'!$Q$82,Scharnieren!$C$16:$J$20,5,FALSE),VLOOKUP('ORDER FRAMES'!$Q$82,Scharnieren!$C$7:$M$11,5,FALSE))","v":{"$error":"#N/A"}},{"$f":"IF('ORDER FRAMES'!$B$83=\"X40\",VLOOKUP('ORDER FRAMES'!$Q$83,Scharnieren!$C$16:$J$20,5,FALSE),VLOOKUP('ORDER FRAMES'!$Q$83,Scharnieren!$C$7:$M$11,5,FALSE))","v":{"$error":"#N/A"}},{"$f":"IF('ORDER FRAMES'!$B$84=\"X40\",VLOOKUP('ORDER FRAMES'!$Q$84,Scharnieren!$C$16:$J$20,5,FALSE),VLOOKUP('ORDER FRAMES'!$Q$84,Scharnieren!$C$7:$M$11,5,FALSE))","v":{"$error":"#N/A"}},{"$f":"IF('ORDER FRAMES'!$B$85=\"X40\",VLOOKUP('ORDER FRAMES'!$Q$85,Scharnieren!$C$16:$J$20,5,FALSE),VLOOKUP('ORDER FRAMES'!$Q$85,Scharnieren!$C$7:$M$11,5,FALSE))","v":{"$error":"#N/A"}},{"$f":"IF('ORDER FRAMES'!$B$86=\"X40\",VLOOKUP('ORDER FRAMES'!$Q$86,Scharnieren!$C$16:$J$20,5,FALSE),VLOOKUP('ORDER FRAMES'!$Q$86,Scharnieren!$C$7:$M$11,5,FALSE))","v":{"$error":"#N/A"}},{"$f":"IF('ORDER FRAMES'!$B$87=\"X40\",VLOOKUP('ORDER FRAMES'!$Q$87,Scharnieren!$C$16:$J$20,5,FALSE),VLOOKUP('ORDER FRAMES'!$Q$87,Scharnieren!$C$7:$M$11,5,FALSE))","v":{"$error":"#N/A"}},{"$f":"IF('ORDER FRAMES'!$B$88=\"X40\",VLOOKUP('ORDER FRAMES'!$Q$88,Scharnieren!$C$16:$J$20,5,FALSE),VLOOKUP('ORDER FRAMES'!$Q$88,Scharnieren!$C$7:$M$11,5,FALSE))","v":{"$error":"#N/A"}},{"$f":"IF('ORDER FRAMES'!$B$89=\"X40\",VLOOKUP('ORDER FRAMES'!$Q$89,Scharnieren!$C$16:$J$20,5,FALSE),VLOOKUP('ORDER FRAMES'!$Q$89,Scharnieren!$C$7:$M$11,5,FALSE))","v":{"$error":"#N/A"}},{"$f":"IF('ORDER FRAMES'!$B$90=\"X40\",VLOOKUP('ORDER FRAMES'!$Q$90,Scharnieren!$C$16:$J$20,5,FALSE),VLOOKUP('ORDER FRAMES'!$Q$90,Scharnieren!$C$7:$M$11,5,FALSE))","v":{"$error":"#N/A"}},{"$f":"IF('ORDER FRAMES'!$B$91=\"X40\",VLOOKUP('ORDER FRAMES'!$Q$91,Scharnieren!$C$16:$J$20,5,FALSE),VLOOKUP('ORDER FRAMES'!$Q$91,Scharnieren!$C$7:$M$11,5,FALSE))","v":{"$error":"#N/A"}},{"$f":"IF('ORDER FRAMES'!$B$92=\"X40\",VLOOKUP('ORDER FRAMES'!$Q$92,Scharnieren!$C$16:$J$20,5,FALSE),VLOOKUP('ORDER FRAMES'!$Q$92,Scharnieren!$C$7:$M$11,5,FALSE))","v":{"$error":"#N/A"}},{"$f":"IF('ORDER FRAMES'!$B$93=\"X40\",VLOOKUP('ORDER FRAMES'!$Q$93,Scharnieren!$C$16:$J$20,5,FALSE),VLOOKUP('ORDER FRAMES'!$Q$93,Scharnieren!$C$7:$M$11,5,FALSE))","v":{"$error":"#N/A"}},{"$f":"IF('ORDER FRAMES'!$B$94=\"X40\",VLOOKUP('ORDER FRAMES'!$Q$94,Scharnieren!$C$16:$J$20,5,FALSE),VLOOKUP('ORDER FRAMES'!$Q$94,Scharnieren!$C$7:$M$11,5,FALSE))","v":{"$error":"#N/A"}},{"$f":"IF('ORDER FRAMES'!$B$95=\"X40\",VLOOKUP('ORDER FRAMES'!$Q$95,Scharnieren!$C$16:$J$20,5,FALSE),VLOOKUP('ORDER FRAMES'!$Q$95,Scharnieren!$C$7:$M$11,5,FALSE))","v":{"$error":"#N/A"}},{"$f":"IF('ORDER FRAMES'!$B$96=\"X40\",VLOOKUP('ORDER FRAMES'!$Q$96,Scharnieren!$C$16:$J$20,5,FALSE),VLOOKUP('ORDER FRAMES'!$Q$96,Scharnieren!$C$7:$M$11,5,FALSE))","v":{"$error":"#N/A"}},{"$f":"IF('ORDER FRAMES'!$B$97=\"X40\",VLOOKUP('ORDER FRAMES'!$Q$97,Scharnieren!$C$16:$J$20,5,FALSE),VLOOKUP('ORDER FRAMES'!$Q$97,Scharnieren!$C$7:$M$11,5,FALSE))","v":{"$error":"#N/A"}},{"$f":"IF('ORDER FRAMES'!$B$98=\"X40\",VLOOKUP('ORDER FRAMES'!$Q$98,Scharnieren!$C$16:$J$20,5,FALSE),VLOOKUP('ORDER FRAMES'!$Q$98,Scharnieren!$C$7:$M$11,5,FALSE))","v":{"$error":"#N/A"}},{"$f":"IF('ORDER FRAMES'!$B$99=\"X40\",VLOOKUP('ORDER FRAMES'!$Q$99,Scharnieren!$C$16:$J$20,5,FALSE),VLOOKUP('ORDER FRAMES'!$Q$99,Scharnieren!$C$7:$M$11,5,FALSE))","v":{"$error":"#N/A"}},{"$f":"IF('ORDER FRAMES'!$B$100=\"X40\",VLOOKUP('ORDER FRAMES'!$Q$100,Scharnieren!$C$16:$J$20,5,FALSE),VLOOKUP('ORDER FRAMES'!$Q$100,Scharnieren!$C$7:$M$11,5,FALSE))","v":{"$error":"#N/A"}}]
[null,"Gewoon ",null,null,null,null,null,null,null,null,null,null,null,null,null,null,null,null,null,null,{"$f":"IF('ORDER FRAMES'!$B$21=\"X40\",VLOOKUP('ORDER FRAMES'!$Q$21,Scharnieren!$C$16:$J$20,6,FALSE),VLOOKUP('ORDER FRAMES'!$Q$21,Scharnieren!$C$7:$N$11,6,FALSE))","v":"X4030.G"},{"$f":"IF('ORDER FRAMES'!$B$22=\"X40\",VLOOKUP('ORDER FRAMES'!$Q$22,Scharnieren!$C$16:$J$20,6,FALSE),VLOOKUP('ORDER FRAMES'!$Q$22,Scharnieren!$C$7:$N$11,6,FALSE))","v":"X4030.G"},{"$f":"IF('ORDER FRAMES'!$B$23=\"X40\",VLOOKUP('ORDER FRAMES'!$Q$23,Scharnieren!$C$16:$J$20,6,FALSE),VLOOKUP('ORDER FRAMES'!$Q$23,Scharnieren!$C$7:$N$11,6,FALSE))","v":{"$error":"#N/A"}},{"$f":"IF('ORDER FRAMES'!$B$24=\"X40\",VLOOKUP('ORDER FRAMES'!$Q$24,Scharnieren!$C$16:$J$20,6,FALSE),VLOOKUP('ORDER FRAMES'!$Q$24,Scharnieren!$C$7:$N$11,6,FALSE))","v":{"$error":"#N/A"}},{"$f":"IF('ORDER FRAMES'!$B$25=\"X40\",VLOOKUP('ORDER FRAMES'!$Q$25,Scharnieren!$C$16:$J$20,6,FALSE),VLOOKUP('ORDER FRAMES'!$Q$25,Scharnieren!$C$7:$N$11,6,FALSE))","v":{"$error":"#N/A"}},{"$f":"IF('ORDER FRAMES'!$B$26=\"X40\",VLOOKUP('ORDER FRAMES'!$Q$26,Scharnieren!$C$16:$J$20,6,FALSE),VLOOKUP('ORDER FRAMES'!$Q$26,Scharnieren!$C$7:$N$11,6,FALSE))","v":{"$error":"#N/A"}},{"$f":"IF('ORDER FRAMES'!$B$27=\"X40\",VLOOKUP('ORDER FRAMES'!$Q$27,Scharnieren!$C$16:$J$20,6,FALSE),VLOOKUP('ORDER FRAMES'!$Q$27,Scharnieren!$C$7:$N$11,6,FALSE))","v":{"$error":"#N/A"}},{"$f":"IF('ORDER FRAMES'!$B$28=\"X40\",VLOOKUP('ORDER FRAMES'!$Q$28,Scharnieren!$C$16:$J$20,6,FALSE),VLOOKUP('ORDER FRAMES'!$Q$28,Scharnieren!$C$7:$N$11,6,FALSE))","v":{"$error":"#N/A"}},{"$f":"IF('ORDER FRAMES'!$B$29=\"X40\",VLOOKUP('ORDER FRAMES'!$Q$29,Scharnieren!$C$16:$J$20,6,FALSE),VLOOKUP('ORDER FRAMES'!$Q$29,Scharnieren!$C$7:$M$11,6,FALSE))","v":{"$error":"#N/A"}},{"$f":"IF('ORDER FRAMES'!$B$30=\"X40\",VLOOKUP('ORDER FRAMES'!$Q$30,Scharnieren!$C$16:$J$20,6,FALSE),VLOOKUP('ORDER FRAMES'!$Q$30,Scharnieren!$C$7:$M$11,6,FALSE))","v":{"$error":"#N/A"}},{"$f":"IF('ORDER FRAMES'!$B$31=\"X40\",VLOOKUP('ORDER FRAMES'!$Q$31,Scharnieren!$C$16:$J$20,6,FALSE),VLOOKUP('ORDER FRAMES'!$Q$31,Scharnieren!$C$7:$M$11,6,FALSE))","v":{"$error":"#N/A"}},{"$f":"IF('ORDER FRAMES'!$B$32=\"X40\",VLOOKUP('ORDER FRAMES'!$Q$32,Scharnieren!$C$16:$J$20,6,FALSE),VLOOKUP('ORDER FRAMES'!$Q$32,Scharnieren!$C$7:$M$11,6,FALSE))","v":{"$error":"#N/A"}},{"$f":"IF('ORDER FRAMES'!$B$33=\"X40\",VLOOKUP('ORDER FRAMES'!$Q$33,Scharnieren!$C$16:$J$20,6,FALSE),VLOOKUP('ORDER FRAMES'!$Q$33,Scharnieren!$C$7:$M$11,6,FALSE))","v":{"$error":"#N/A"}},{"$f":"IF('ORDER FRAMES'!$B$34=\"X40\",VLOOKUP('ORDER FRAMES'!$Q$34,Scharnieren!$C$16:$J$20,6,FALSE),VLOOKUP('ORDER FRAMES'!$Q$34,Scharnieren!$C$7:$M$11,6,FALSE))","v":{"$error":"#N/A"}},{"$f":"IF('ORDER FRAMES'!$B$35=\"X40\",VLOOKUP('ORDER FRAMES'!$Q$35,Scharnieren!$C$16:$J$20,6,FALSE),VLOOKUP('ORDER FRAMES'!$Q$35,Scharnieren!$C$7:$M$11,6,FALSE))","v":{"$error":"#N/A"}},{"$f":"IF('ORDER FRAMES'!$B$36=\"X40\",VLOOKUP('ORDER FRAMES'!$Q$36,Scharnieren!$C$16:$J$20,6,FALSE),VLOOKUP('ORDER FRAMES'!$Q$36,Scharnieren!$C$7:$M$11,6,FALSE))","v":{"$error":"#N/A"}},{"$f":"IF('ORDER FRAMES'!$B$37=\"X40\",VLOOKUP('ORDER FRAMES'!$Q$37,Scharnieren!$C$16:$J$20,6,FALSE),VLOOKUP('ORDER FRAMES'!$Q$37,Scharnieren!$C$7:$M$11,6,FALSE))","v":{"$error":"#N/A"}},{"$f":"IF('ORDER FRAMES'!$B$38=\"X40\",VLOOKUP('ORDER FRAMES'!$Q$38,Scharnieren!$C$16:$J$20,6,FALSE),VLOOKUP('ORDER FRAMES'!$Q$38,Scharnieren!$C$7:$M$11,6,FALSE))","v":{"$error":"#N/A"}},{"$f":"IF('ORDER FRAMES'!$B$39=\"X40\",VLOOKUP('ORDER FRAMES'!$Q$39,Scharnieren!$C$16:$J$20,6,FALSE),VLOOKUP('ORDER FRAMES'!$Q$39,Scharnieren!$C$7:$M$11,6,FALSE))","v":{"$error":"#N/A"}},{"$f":"IF('ORDER FRAMES'!$B$40=\"X40\",VLOOKUP('ORDER FRAMES'!$Q$40,Scharnieren!$C$16:$J$20,6,FALSE),VLOOKUP('ORDER FRAMES'!$Q$40,Scharnieren!$C$7:$M$11,6,FALSE))","v":{"$error":"#N/A"}},{"$f":"IF('ORDER FRAMES'!$B$41=\"X40\",VLOOKUP('ORDER FRAMES'!$Q$41,Scharnieren!$C$16:$J$20,6,FALSE),VLOOKUP('ORDER FRAMES'!$Q$41,Scharnieren!$C$7:$M$11,6,FALSE))","v":{"$error":"#N/A"}},{"$f":"IF('ORDER FRAMES'!$B$42=\"X40\",VLOOKUP('ORDER FRAMES'!$Q$42,Scharnieren!$C$16:$J$20,6,FALSE),VLOOKUP('ORDER FRAMES'!$Q$42,Scharnieren!$C$7:$M$11,6,FALSE))","v":{"$error":"#N/A"}},{"$f":"IF('ORDER FRAMES'!$B$43=\"X40\",VLOOKUP('ORDER FRAMES'!$Q$43,Scharnieren!$C$16:$J$20,6,FALSE),VLOOKUP('ORDER FRAMES'!$Q$43,Scharnieren!$C$7:$M$11,6,FALSE))","v":{"$error":"#N/A"}},{"$f":"IF('ORDER FRAMES'!$B$44=\"X40\",VLOOKUP('ORDER FRAMES'!$Q$44,Scharnieren!$C$16:$J$20,6,FALSE),VLOOKUP('ORDER FRAMES'!$Q$44,Scharnieren!$C$7:$M$11,6,FALSE))","v":{"$error":"#N/A"}},{"$f":"IF('ORDER FRAMES'!$B$45=\"X40\",VLOOKUP('ORDER FRAMES'!$Q$45,Scharnieren!$C$16:$J$20,6,FALSE),VLOOKUP('ORDER FRAMES'!$Q$45,Scharnieren!$C$7:$M$11,6,FALSE))","v":{"$error":"#N/A"}},{"$f":"IF('ORDER FRAMES'!$B$46=\"X40\",VLOOKUP('ORDER FRAMES'!$Q$46,Scharnieren!$C$16:$J$20,6,FALSE),VLOOKUP('ORDER FRAMES'!$Q$46,Scharnieren!$C$7:$M$11,6,FALSE))","v":{"$error":"#N/A"}},{"$f":"IF('ORDER FRAMES'!$B$47=\"X40\",VLOOKUP('ORDER FRAMES'!$Q$47,Scharnieren!$C$16:$J$20,6,FALSE),VLOOKUP('ORDER FRAMES'!$Q$47,Scharnieren!$C$7:$M$11,6,FALSE))","v":{"$error":"#N/A"}},{"$f":"IF('ORDER FRAMES'!$B$48=\"X40\",VLOOKUP('ORDER FRAMES'!$Q$48,Scharnieren!$C$16:$J$20,6,FALSE),VLOOKUP('ORDER FRAMES'!$Q$48,Scharnieren!$C$7:$M$11,6,FALSE))","v":{"$error":"#N/A"}},{"$f":"IF('ORDER FRAMES'!$B$49=\"X40\",VLOOKUP('ORDER FRAMES'!$Q$49,Scharnieren!$C$16:$J$20,6,FALSE),VLOOKUP('ORDER FRAMES'!$Q$49,Scharnieren!$C$7:$M$11,6,FALSE))","v":{"$error":"#N/A"}},{"$f":"IF('ORDER FRAMES'!$B$50=\"X40\",VLOOKUP('ORDER FRAMES'!$Q$50,Scharnieren!$C$16:$J$20,6,FALSE),VLOOKUP('ORDER FRAMES'!$Q$50,Scharnieren!$C$7:$M$11,6,FALSE))","v":{"$error":"#N/A"}},{"$f":"IF('ORDER FRAMES'!$B$51=\"X40\",VLOOKUP('ORDER FRAMES'!$Q$51,Scharnieren!$C$16:$J$20,6,FALSE),VLOOKUP('ORDER FRAMES'!$Q$51,Scharnieren!$C$7:$M$11,6,FALSE))","v":{"$error":"#N/A"}},{"$f":"IF('ORDER FRAMES'!$B$52=\"X40\",VLOOKUP('ORDER FRAMES'!$Q$52,Scharnieren!$C$16:$J$20,6,FALSE),VLOOKUP('ORDER FRAMES'!$Q$52,Scharnieren!$C$7:$M$11,6,FALSE))","v":{"$error":"#N/A"}},{"$f":"IF('ORDER FRAMES'!$B$53=\"X40\",VLOOKUP('ORDER FRAMES'!$Q$53,Scharnieren!$C$16:$J$20,6,FALSE),VLOOKUP('ORDER FRAMES'!$Q$53,Scharnieren!$C$7:$M$11,6,FALSE))","v":{"$error":"#N/A"}},{"$f":"IF('ORDER FRAMES'!$B$54=\"X40\",VLOOKUP('ORDER FRAMES'!$Q$54,Scharnieren!$C$16:$J$20,6,FALSE),VLOOKUP('ORDER FRAMES'!$Q$54,Scharnieren!$C$7:$M$11,6,FALSE))","v":{"$error":"#N/A"}},{"$f":"IF('ORDER FRAMES'!$B$55=\"X40\",VLOOKUP('ORDER FRAMES'!$Q$55,Scharnieren!$C$16:$J$20,6,FALSE),VLOOKUP('ORDER FRAMES'!$Q$55,Scharnieren!$C$7:$M$11,6,FALSE))","v":{"$error":"#N/A"}},{"$f":"IF('ORDER FRAMES'!$B$56=\"X40\",VLOOKUP('ORDER FRAMES'!$Q$56,Scharnieren!$C$16:$J$20,6,FALSE),VLOOKUP('ORDER FRAMES'!$Q$56,Scharnieren!$C$7:$M$11,6,FALSE))","v":{"$error":"#N/A"}},{"$f":"IF('ORDER FRAMES'!$B$57=\"X40\",VLOOKUP('ORDER FRAMES'!$Q$57,Scharnieren!$C$16:$J$20,6,FALSE),VLOOKUP('ORDER FRAMES'!$Q$57,Scharnieren!$C$7:$M$11,6,FALSE))","v":{"$error":"#N/A"}},{"$f":"IF('ORDER FRAMES'!$B$58=\"X40\",VLOOKUP('ORDER FRAMES'!$Q$58,Scharnieren!$C$16:$J$20,6,FALSE),VLOOKUP('ORDER FRAMES'!$Q$58,Scharnieren!$C$7:$M$11,6,FALSE))","v":{"$error":"#N/A"}},{"$f":"IF('ORDER FRAMES'!$B$59=\"X40\",VLOOKUP('ORDER FRAMES'!$Q$59,Scharnieren!$C$16:$J$20,6,FALSE),VLOOKUP('ORDER FRAMES'!$Q$59,Scharnieren!$C$7:$M$11,6,FALSE))","v":{"$error":"#N/A"}},{"$f":"IF('ORDER FRAMES'!$B$60=\"X40\",VLOOKUP('ORDER FRAMES'!$Q$60,Scharnieren!$C$16:$J$20,6,FALSE),VLOOKUP('ORDER FRAMES'!$Q$60,Scharnieren!$C$7:$M$11,6,FALSE))","v":{"$error":"#N/A"}},{"$f":"IF('ORDER FRAMES'!$B$61=\"X40\",VLOOKUP('ORDER FRAMES'!$Q$61,Scharnieren!$C$16:$J$20,6,FALSE),VLOOKUP('ORDER FRAMES'!$Q$61,Scharnieren!$C$7:$M$11,6,FALSE))","v":{"$error":"#N/A"}},{"$f":"IF('ORDER FRAMES'!$B$62=\"X40\",VLOOKUP('ORDER FRAMES'!$Q$62,Scharnieren!$C$16:$J$20,6,FALSE),VLOOKUP('ORDER FRAMES'!$Q$62,Scharnieren!$C$7:$M$11,6,FALSE))","v":{"$error":"#N/A"}},{"$f":"IF('ORDER FRAMES'!$B$63=\"X40\",VLOOKUP('ORDER FRAMES'!$Q$63,Scharnieren!$C$16:$J$20,6,FALSE),VLOOKUP('ORDER FRAMES'!$Q$63,Scharnieren!$C$7:$M$11,6,FALSE))","v":{"$error":"#N/A"}},{"$f":"IF('ORDER FRAMES'!$B$64=\"X40\",VLOOKUP('ORDER FRAMES'!$Q$64,Scharnieren!$C$16:$J$20,6,FALSE),VLOOKUP('ORDER FRAMES'!$Q$64,Scharnieren!$C$7:$M$11,6,FALSE))","v":{"$error":"#N/A"}},{"$f":"IF('ORDER FRAMES'!$B$65=\"X40\",VLOOKUP('ORDER FRAMES'!$Q$65,Scharnieren!$C$16:$J$20,6,FALSE),VLOOKUP('ORDER FRAMES'!$Q$65,Scharnieren!$C$7:$M$11,6,FALSE))","v":{"$error":"#N/A"}},{"$f":"IF('ORDER FRAMES'!$B$66=\"X40\",VLOOKUP('ORDER FRAMES'!$Q$66,Scharnieren!$C$16:$J$20,6,FALSE),VLOOKUP('ORDER FRAMES'!$Q$66,Scharnieren!$C$7:$M$11,6,FALSE))","v":{"$error":"#N/A"}},{"$f":"IF('ORDER FRAMES'!$B$67=\"X40\",VLOOKUP('ORDER FRAMES'!$Q$67,Scharnieren!$C$16:$J$20,6,FALSE),VLOOKUP('ORDER FRAMES'!$Q$67,Scharnieren!$C$7:$M$11,6,FALSE))","v":{"$error":"#N/A"}},{"$f":"IF('ORDER FRAMES'!$B$68=\"X40\",VLOOKUP('ORDER FRAMES'!$Q$68,Scharnieren!$C$16:$J$20,6,FALSE),VLOOKUP('ORDER FRAMES'!$Q$68,Scharnieren!$C$7:$M$11,6,FALSE))","v":{"$error":"#N/A"}},{"$f":"IF('ORDER FRAMES'!$B$69=\"X40\",VLOOKUP('ORDER FRAMES'!$Q$69,Scharnieren!$C$16:$J$20,6,FALSE),VLOOKUP('ORDER FRAMES'!$Q$69,Scharnieren!$C$7:$M$11,6,FALSE))","v":{"$error":"#N/A"}},{"$f":"IF('ORDER FRAMES'!$B$70=\"X40\",VLOOKUP('ORDER FRAMES'!$Q$70,Scharnieren!$C$16:$J$20,6,FALSE),VLOOKUP('ORDER FRAMES'!$Q$70,Scharnieren!$C$7:$M$11,6,FALSE))","v":{"$error":"#N/A"}},{"$f":"IF('ORDER FRAMES'!$B$71=\"X40\",VLOOKUP('ORDER FRAMES'!$Q$71,Scharnieren!$C$16:$J$20,6,FALSE),VLOOKUP('ORDER FRAMES'!$Q$71,Scharnieren!$C$7:$M$11,6,FALSE))","v":{"$error":"#N/A"}},{"$f":"IF('ORDER FRAMES'!$B$72=\"X40\",VLOOKUP('ORDER FRAMES'!$Q$72,Scharnieren!$C$16:$J$20,6,FALSE),VLOOKUP('ORDER FRAMES'!$Q$72,Scharnieren!$C$7:$M$11,6,FALSE))","v":{"$error":"#N/A"}},{"$f":"IF('ORDER FRAMES'!$B$73=\"X40\",VLOOKUP('ORDER FRAMES'!$Q$73,Scharnieren!$C$16:$J$20,6,FALSE),VLOOKUP('ORDER FRAMES'!$Q$73,Scharnieren!$C$7:$M$11,6,FALSE))","v":{"$error":"#N/A"}},{"$f":"IF('ORDER FRAMES'!$B$74=\"X40\",VLOOKUP('ORDER FRAMES'!$Q$74,Scharnieren!$C$16:$J$20,6,FALSE),VLOOKUP('ORDER FRAMES'!$Q$74,Scharnieren!$C$7:$M$11,6,FALSE))","v":{"$error":"#N/A"}},{"$f":"IF('ORDER FRAMES'!$B$75=\"X40\",VLOOKUP('ORDER FRAMES'!$Q$75,Scharnieren!$C$16:$J$20,6,FALSE),VLOOKUP('ORDER FRAMES'!$Q$75,Scharnieren!$C$7:$M$11,6,FALSE))","v":{"$error":"#N/A"}},{"$f":"IF('ORDER FRAMES'!$B$76=\"X40\",VLOOKUP('ORDER FRAMES'!$Q$76,Scharnieren!$C$16:$J$20,6,FALSE),VLOOKUP('ORDER FRAMES'!$Q$76,Scharnieren!$C$7:$M$11,6,FALSE))","v":{"$error":"#N/A"}},{"$f":"IF('ORDER FRAMES'!$B$77=\"X40\",VLOOKUP('ORDER FRAMES'!$Q$77,Scharnieren!$C$16:$J$20,6,FALSE),VLOOKUP('ORDER FRAMES'!$Q$77,Scharnieren!$C$7:$M$11,6,FALSE))","v":{"$error":"#N/A"}},{"$f":"IF('ORDER FRAMES'!$B$78=\"X40\",VLOOKUP('ORDER FRAMES'!$Q$78,Scharnieren!$C$16:$J$20,6,FALSE),VLOOKUP('ORDER FRAMES'!$Q$78,Scharnieren!$C$7:$M$11,6,FALSE))","v":{"$error":"#N/A"}},{"$f":"IF('ORDER FRAMES'!$B$79=\"X40\",VLOOKUP('ORDER FRAMES'!$Q$79,Scharnieren!$C$16:$J$20,6,FALSE),VLOOKUP('ORDER FRAMES'!$Q$79,Scharnieren!$C$7:$M$11,6,FALSE))","v":{"$error":"#N/A"}},{"$f":"IF('ORDER FRAMES'!$B$80=\"X40\",VLOOKUP('ORDER FRAMES'!$Q$80,Scharnieren!$C$16:$J$20,6,FALSE),VLOOKUP('ORDER FRAMES'!$Q$80,Scharnieren!$C$7:$M$11,6,FALSE))","v":{"$error":"#N/A"}},{"$f":"IF('ORDER FRAMES'!$B$81=\"X40\",VLOOKUP('ORDER FRAMES'!$Q$81,Scharnieren!$C$16:$J$20,6,FALSE),VLOOKUP('ORDER FRAMES'!$Q$81,Scharnieren!$C$7:$M$11,6,FALSE))","v":{"$error":"#N/A"}},{"$f":"IF('ORDER FRAMES'!$B$82=\"X40\",VLOOKUP('ORDER FRAMES'!$Q$82,Scharnieren!$C$16:$J$20,6,FALSE),VLOOKUP('ORDER FRAMES'!$Q$82,Scharnieren!$C$7:$M$11,6,FALSE))","v":{"$error":"#N/A"}},{"$f":"IF('ORDER FRAMES'!$B$83=\"X40\",VLOOKUP('ORDER FRAMES'!$Q$83,Scharnieren!$C$16:$J$20,6,FALSE),VLOOKUP('ORDER FRAMES'!$Q$83,Scharnieren!$C$7:$M$11,6,FALSE))","v":{"$error":"#N/A"}},{"$f":"IF('ORDER FRAMES'!$B$84=\"X40\",VLOOKUP('ORDER FRAMES'!$Q$84,Scharnieren!$C$16:$J$20,6,FALSE),VLOOKUP('ORDER FRAMES'!$Q$84,Scharnieren!$C$7:$M$11,6,FALSE))","v":{"$error":"#N/A"}},{"$f":"IF('ORDER FRAMES'!$B$85=\"X40\",VLOOKUP('ORDER FRAMES'!$Q$85,Scharnieren!$C$16:$J$20,6,FALSE),VLOOKUP('ORDER FRAMES'!$Q$85,Scharnieren!$C$7:$M$11,6,FALSE))","v":{"$error":"#N/A"}},{"$f":"IF('ORDER FRAMES'!$B$86=\"X40\",VLOOKUP('ORDER FRAMES'!$Q$86,Scharnieren!$C$16:$J$20,6,FALSE),VLOOKUP('ORDER FRAMES'!$Q$86,Scharnieren!$C$7:$M$11,6,FALSE))","v":{"$error":"#N/A"}},{"$f":"IF('ORDER FRAMES'!$B$87=\"X40\",VLOOKUP('ORDER FRAMES'!$Q$87,Scharnieren!$C$16:$J$20,6,FALSE),VLOOKUP('ORDER FRAMES'!$Q$87,Scharnieren!$C$7:$M$11,6,FALSE))","v":{"$error":"#N/A"}},{"$f":"IF('ORDER FRAMES'!$B$88=\"X40\",VLOOKUP('ORDER FRAMES'!$Q$88,Scharnieren!$C$16:$J$20,6,FALSE),VLOOKUP('ORDER FRAMES'!$Q$88,Scharnieren!$C$7:$M$11,6,FALSE))","v":{"$error":"#N/A"}},{"$f":"IF('ORDER FRAMES'!$B$89=\"X40\",VLOOKUP('ORDER FRAMES'!$Q$89,Scharnieren!$C$16:$J$20,6,FALSE),VLOOKUP('ORDER FRAMES'!$Q$89,Scharnieren!$C$7:$M$11,6,FALSE))","v":{"$error":"#N/A"}},{"$f":"IF('ORDER FRAMES'!$B$90=\"X40\",VLOOKUP('ORDER FRAMES'!$Q$90,Scharnieren!$C$16:$J$20,6,FALSE),VLOOKUP('ORDER FRAMES'!$Q$90,Scharnieren!$C$7:$M$11,6,FALSE))","v":{"$error":"#N/A"}},{"$f":"IF('ORDER FRAMES'!$B$91=\"X40\",VLOOKUP('ORDER FRAMES'!$Q$91,Scharnieren!$C$16:$J$20,6,FALSE),VLOOKUP('ORDER FRAMES'!$Q$91,Scharnieren!$C$7:$M$11,6,FALSE))","v":{"$error":"#N/A"}},{"$f":"IF('ORDER FRAMES'!$B$92=\"X40\",VLOOKUP('ORDER FRAMES'!$Q$92,Scharnieren!$C$16:$J$20,6,FALSE),VLOOKUP('ORDER FRAMES'!$Q$92,Scharnieren!$C$7:$M$11,6,FALSE))","v":{"$error":"#N/A"}},{"$f":"IF('ORDER FRAMES'!$B$93=\"X40\",VLOOKUP('ORDER FRAMES'!$Q$93,Scharnieren!$C$16:$J$20,6,FALSE),VLOOKUP('ORDER FRAMES'!$Q$93,Scharnieren!$C$7:$M$11,6,FALSE))","v":{"$error":"#N/A"}},{"$f":"IF('ORDER FRAMES'!$B$94=\"X40\",VLOOKUP('ORDER FRAMES'!$Q$94,Scharnieren!$C$16:$J$20,6,FALSE),VLOOKUP('ORDER FRAMES'!$Q$94,Scharnieren!$C$7:$M$11,6,FALSE))","v":{"$error":"#N/A"}},{"$f":"IF('ORDER FRAMES'!$B$95=\"X40\",VLOOKUP('ORDER FRAMES'!$Q$95,Scharnieren!$C$16:$J$20,6,FALSE),VLOOKUP('ORDER FRAMES'!$Q$95,Scharnieren!$C$7:$M$11,6,FALSE))","v":{"$error":"#N/A"}},{"$f":"IF('ORDER FRAMES'!$B$96=\"X40\",VLOOKUP('ORDER FRAMES'!$Q$96,Scharnieren!$C$16:$J$20,6,FALSE),VLOOKUP('ORDER FRAMES'!$Q$96,Scharnieren!$C$7:$M$11,6,FALSE))","v":{"$error":"#N/A"}},{"$f":"IF('ORDER FRAMES'!$B$97=\"X40\",VLOOKUP('ORDER FRAMES'!$Q$97,Scharnieren!$C$16:$J$20,6,FALSE),VLOOKUP('ORDER FRAMES'!$Q$97,Scharnieren!$C$7:$M$11,6,FALSE))","v":{"$error":"#N/A"}},{"$f":"IF('ORDER FRAMES'!$B$98=\"X40\",VLOOKUP('ORDER FRAMES'!$Q$98,Scharnieren!$C$16:$J$20,6,FALSE),VLOOKUP('ORDER FRAMES'!$Q$98,Scharnieren!$C$7:$M$11,6,FALSE))","v":{"$error":"#N/A"}},{"$f":"IF('ORDER FRAMES'!$B$99=\"X40\",VLOOKUP('ORDER FRAMES'!$Q$99,Scharnieren!$C$16:$J$20,6,FALSE),VLOOKUP('ORDER FRAMES'!$Q$99,Scharnieren!$C$7:$M$11,6,FALSE))","v":{"$error":"#N/A"}},{"$f":"IF('ORDER FRAMES'!$B$100=\"X40\",VLOOKUP('ORDER FRAMES'!$Q$100,Scharnieren!$C$16:$J$20,6,FALSE),VLOOKUP('ORDER FRAMES'!$Q$100,Scharnieren!$C$7:$M$11,6,FALSE))","v":{"$error":"#N/A"}}]
[null,"Nee",1,"A24.0","A24.1","A24.2","X4030.W","X4030.G","X4030.B","TE340.0","TE340.1","TE340.2","A30.0","A30.2",null,null,null,null,null,null,{"$f":"IF('ORDER FRAMES'!$B$21=\"X40\",VLOOKUP('ORDER FRAMES'!$Q$21,Scharnieren!$C$16:$J$20,7,FALSE),VLOOKUP('ORDER FRAMES'!$Q$21,Scharnieren!$C$7:$N$11,7,FALSE))","v":"X4030.B"},{"$f":"IF('ORDER FRAMES'!$B$22=\"X40\",VLOOKUP('ORDER FRAMES'!$Q$22,Scharnieren!$C$16:$J$20,7,FALSE),VLOOKUP('ORDER FRAMES'!$Q$22,Scharnieren!$C$7:$N$11,7,FALSE))","v":"X4030.B"},{"$f":"IF('ORDER FRAMES'!$B$23=\"X40\",VLOOKUP('ORDER FRAMES'!$Q$23,Scharnieren!$C$16:$J$20,7,FALSE),VLOOKUP('ORDER FRAMES'!$Q$23,Scharnieren!$C$7:$N$11,7,FALSE))","v":{"$error":"#N/A"}},{"$f":"IF('ORDER FRAMES'!$B$24=\"X40\",VLOOKUP('ORDER FRAMES'!$Q$24,Scharnieren!$C$16:$J$20,7,FALSE),VLOOKUP('ORDER FRAMES'!$Q$24,Scharnieren!$C$7:$N$11,7,FALSE))","v":{"$error":"#N/A"}},{"$f":"IF('ORDER FRAMES'!$B$25=\"X40\",VLOOKUP('ORDER FRAMES'!$Q$25,Scharnieren!$C$16:$J$20,7,FALSE),VLOOKUP('ORDER FRAMES'!$Q$25,Scharnieren!$C$7:$N$11,7,FALSE))","v":{"$error":"#N/A"}},{"$f":"IF('ORDER FRAMES'!$B$26=\"X40\",VLOOKUP('ORDER FRAMES'!$Q$26,Scharnieren!$C$16:$J$20,7,FALSE),VLOOKUP('ORDER FRAMES'!$Q$26,Scharnieren!$C$7:$N$11,7,FALSE))","v":{"$error":"#N/A"}},{"$f":"IF('ORDER FRAMES'!$B$27=\"X40\",VLOOKUP('ORDER FRAMES'!$Q$27,Scharnieren!$C$16:$J$20,7,FALSE),VLOOKUP('ORDER FRAMES'!$Q$27,Scharnieren!$C$7:$N$11,7,FALSE))","v":{"$error":"#N/A"}},{"$f":"IF('ORDER FRAMES'!$B$28=\"X40\",VLOOKUP('ORDER FRAMES'!$Q$28,Scharnieren!$C$16:$J$20,7,FALSE),VLOOKUP('ORDER FRAMES'!$Q$28,Scharnieren!$C$7:$N$11,7,FALSE))","v":{"$error":"#N/A"}},{"$f":"IF('ORDER FRAMES'!$B$29=\"X40\",VLOOKUP('ORDER FRAMES'!$Q$29,Scharnieren!$C$16:$J$20,7,FALSE),VLOOKUP('ORDER FRAMES'!$Q$29,Scharnieren!$C$7:$M$11,7,FALSE))","v":{"$error":"#N/A"}},{"$f":"IF('ORDER FRAMES'!$B$30=\"X40\",VLOOKUP('ORDER FRAMES'!$Q$30,Scharnieren!$C$16:$J$20,7,FALSE),VLOOKUP('ORDER FRAMES'!$Q$30,Scharnieren!$C$7:$M$11,7,FALSE))","v":{"$error":"#N/A"}},{"$f":"IF('ORDER FRAMES'!$B$31=\"X40\",VLOOKUP('ORDER FRAMES'!$Q$31,Scharnieren!$C$16:$J$20,7,FALSE),VLOOKUP('ORDER FRAMES'!$Q$31,Scharnieren!$C$7:$M$11,7,FALSE))","v":{"$error":"#N/A"}},{"$f":"IF('ORDER FRAMES'!$B$32=\"X40\",VLOOKUP('ORDER FRAMES'!$Q$32,Scharnieren!$C$16:$J$20,7,FALSE),VLOOKUP('ORDER FRAMES'!$Q$32,Scharnieren!$C$7:$M$11,7,FALSE))","v":{"$error":"#N/A"}},{"$f":"IF('ORDER FRAMES'!$B$33=\"X40\",VLOOKUP('ORDER FRAMES'!$Q$33,Scharnieren!$C$16:$J$20,7,FALSE),VLOOKUP('ORDER FRAMES'!$Q$33,Scharnieren!$C$7:$M$11,7,FALSE))","v":{"$error":"#N/A"}},{"$f":"IF('ORDER FRAMES'!$B$34=\"X40\",VLOOKUP('ORDER FRAMES'!$Q$34,Scharnieren!$C$16:$J$20,7,FALSE),VLOOKUP('ORDER FRAMES'!$Q$34,Scharnieren!$C$7:$M$11,7,FALSE))","v":{"$error":"#N/A"}},{"$f":"IF('ORDER FRAMES'!$B$35=\"X40\",VLOOKUP('ORDER FRAMES'!$Q$35,Scharnieren!$C$16:$J$20,7,FALSE),VLOOKUP('ORDER FRAMES'!$Q$35,Scharnieren!$C$7:$M$11,7,FALSE))","v":{"$error":"#N/A"}},{"$f":"IF('ORDER FRAMES'!$B$36=\"X40\",VLOOKUP('ORDER FRAMES'!$Q$36,Scharnieren!$C$16:$J$20,7,FALSE),VLOOKUP('ORDER FRAMES'!$Q$36,Scharnieren!$C$7:$M$11,7,FALSE))","v":{"$error":"#N/A"}},{"$f":"IF('ORDER FRAMES'!$B$37=\"X40\",VLOOKUP('ORDER FRAMES'!$Q$37,Scharnieren!$C$16:$J$20,7,FALSE),VLOOKUP('ORDER FRAMES'!$Q$37,Scharnieren!$C$7:$M$11,7,FALSE))","v":{"$error":"#N/A"}},{"$f":"IF('ORDER FRAMES'!$B$38=\"X40\",VLOOKUP('ORDER FRAMES'!$Q$38,Scharnieren!$C$16:$J$20,7,FALSE),VLOOKUP('ORDER FRAMES'!$Q$38,Scharnieren!$C$7:$M$11,7,FALSE))","v":{"$error":"#N/A"}},{"$f":"IF('ORDER FRAMES'!$B$39=\"X40\",VLOOKUP('ORDER FRAMES'!$Q$39,Scharnieren!$C$16:$J$20,7,FALSE),VLOOKUP('ORDER FRAMES'!$Q$39,Scharnieren!$C$7:$M$11,7,FALSE))","v":{"$error":"#N/A"}},{"$f":"IF('ORDER FRAMES'!$B$40=\"X40\",VLOOKUP('ORDER FRAMES'!$Q$40,Scharnieren!$C$16:$J$20,7,FALSE),VLOOKUP('ORDER FRAMES'!$Q$40,Scharnieren!$C$7:$M$11,7,FALSE))","v":{"$error":"#N/A"}},{"$f":"IF('ORDER FRAMES'!$B$41=\"X40\",VLOOKUP('ORDER FRAMES'!$Q$41,Scharnieren!$C$16:$J$20,7,FALSE),VLOOKUP('ORDER FRAMES'!$Q$41,Scharnieren!$C$7:$M$11,7,FALSE))","v":{"$error":"#N/A"}},{"$f":"IF('ORDER FRAMES'!$B$42=\"X40\",VLOOKUP('ORDER FRAMES'!$Q$42,Scharnieren!$C$16:$J$20,7,FALSE),VLOOKUP('ORDER FRAMES'!$Q$42,Scharnieren!$C$7:$M$11,7,FALSE))","v":{"$error":"#N/A"}},{"$f":"IF('ORDER FRAMES'!$B$43=\"X40\",VLOOKUP('ORDER FRAMES'!$Q$43,Scharnieren!$C$16:$J$20,7,FALSE),VLOOKUP('ORDER FRAMES'!$Q$43,Scharnieren!$C$7:$M$11,7,FALSE))","v":{"$error":"#N/A"}},{"$f":"IF('ORDER FRAMES'!$B$44=\"X40\",VLOOKUP('ORDER FRAMES'!$Q$44,Scharnieren!$C$16:$J$20,7,FALSE),VLOOKUP('ORDER FRAMES'!$Q$44,Scharnieren!$C$7:$M$11,7,FALSE))","v":{"$error":"#N/A"}},{"$f":"IF('ORDER FRAMES'!$B$45=\"X40\",VLOOKUP('ORDER FRAMES'!$Q$45,Scharnieren!$C$16:$J$20,7,FALSE),VLOOKUP('ORDER FRAMES'!$Q$45,Scharnieren!$C$7:$M$11,7,FALSE))","v":{"$error":"#N/A"}},{"$f":"IF('ORDER FRAMES'!$B$46=\"X40\",VLOOKUP('ORDER FRAMES'!$Q$46,Scharnieren!$C$16:$J$20,7,FALSE),VLOOKUP('ORDER FRAMES'!$Q$46,Scharnieren!$C$7:$M$11,7,FALSE))","v":{"$error":"#N/A"}},{"$f":"IF('ORDER FRAMES'!$B$47=\"X40\",VLOOKUP('ORDER FRAMES'!$Q$47,Scharnieren!$C$16:$J$20,7,FALSE),VLOOKUP('ORDER FRAMES'!$Q$47,Scharnieren!$C$7:$M$11,7,FALSE))","v":{"$error":"#N/A"}},{"$f":"IF('ORDER FRAMES'!$B$48=\"X40\",VLOOKUP('ORDER FRAMES'!$Q$48,Scharnieren!$C$16:$J$20,7,FALSE),VLOOKUP('ORDER FRAMES'!$Q$48,Scharnieren!$C$7:$M$11,7,FALSE))","v":{"$error":"#N/A"}},{"$f":"IF('ORDER FRAMES'!$B$49=\"X40\",VLOOKUP('ORDER FRAMES'!$Q$49,Scharnieren!$C$16:$J$20,7,FALSE),VLOOKUP('ORDER FRAMES'!$Q$49,Scharnieren!$C$7:$M$11,7,FALSE))","v":{"$error":"#N/A"}},{"$f":"IF('ORDER FRAMES'!$B$50=\"X40\",VLOOKUP('ORDER FRAMES'!$Q$50,Scharnieren!$C$16:$J$20,7,FALSE),VLOOKUP('ORDER FRAMES'!$Q$50,Scharnieren!$C$7:$M$11,7,FALSE))","v":{"$error":"#N/A"}},{"$f":"IF('ORDER FRAMES'!$B$50=\"X40\",VLOOKUP('ORDER FRAMES'!$Q$51,Scharnieren!$C$16:$J$20,7,FALSE),VLOOKUP('ORDER FRAMES'!$Q$51,Scharnieren!$C$7:$M$11,7,FALSE))","v":{"$error":"#N/A"}},{"$f":"IF('ORDER FRAMES'!$B$52=\"X40\",VLOOKUP('ORDER FRAMES'!$Q$52,Scharnieren!$C$16:$J$20,7,FALSE),VLOOKUP('ORDER FRAMES'!$Q$52,Scharnieren!$C$7:$M$11,7,FALSE))","v":{"$error":"#N/A"}},{"$f":"IF('ORDER FRAMES'!$B$53=\"X40\",VLOOKUP('ORDER FRAMES'!$Q$53,Scharnieren!$C$16:$J$20,7,FALSE),VLOOKUP('ORDER FRAMES'!$Q$53,Scharnieren!$C$7:$M$11,7,FALSE))","v":{"$error":"#N/A"}},{"$f":"IF('ORDER FRAMES'!$B$54=\"X40\",VLOOKUP('ORDER FRAMES'!$Q$54,Scharnieren!$C$16:$J$20,7,FALSE),VLOOKUP('ORDER FRAMES'!$Q$54,Scharnieren!$C$7:$M$11,7,FALSE))","v":{"$error":"#N/A"}},{"$f":"IF('ORDER FRAMES'!$B$55=\"X40\",VLOOKUP('ORDER FRAMES'!$Q$55,Scharnieren!$C$16:$J$20,7,FALSE),VLOOKUP('ORDER FRAMES'!$Q$55,Scharnieren!$C$7:$M$11,7,FALSE))","v":{"$error":"#N/A"}},{"$f":"IF('ORDER FRAMES'!$B$56=\"X40\",VLOOKUP('ORDER FRAMES'!$Q$56,Scharnieren!$C$16:$J$20,7,FALSE),VLOOKUP('ORDER FRAMES'!$Q$56,Scharnieren!$C$7:$M$11,7,FALSE))","v":{"$error":"#N/A"}},{"$f":"IF('ORDER FRAMES'!$B$57=\"X40\",VLOOKUP('ORDER FRAMES'!$Q$57,Scharnieren!$C$16:$J$20,7,FALSE),VLOOKUP('ORDER FRAMES'!$Q$57,Scharnieren!$C$7:$M$11,7,FALSE))","v":{"$error":"#N/A"}},{"$f":"IF('ORDER FRAMES'!$B$58=\"X40\",VLOOKUP('ORDER FRAMES'!$Q$58,Scharnieren!$C$16:$J$20,7,FALSE),VLOOKUP('ORDER FRAMES'!$Q$58,Scharnieren!$C$7:$M$11,7,FALSE))","v":{"$error":"#N/A"}},{"$f":"IF('ORDER FRAMES'!$B$59=\"X40\",VLOOKUP('ORDER FRAMES'!$Q$59,Scharnieren!$C$16:$J$20,7,FALSE),VLOOKUP('ORDER FRAMES'!$Q$59,Scharnieren!$C$7:$M$11,7,FALSE))","v":{"$error":"#N/A"}},{"$f":"IF('ORDER FRAMES'!$B$60=\"X40\",VLOOKUP('ORDER FRAMES'!$Q$60,Scharnieren!$C$16:$J$20,7,FALSE),VLOOKUP('ORDER FRAMES'!$Q$60,Scharnieren!$C$7:$M$11,7,FALSE))","v":{"$error":"#N/A"}},{"$f":"IF('ORDER FRAMES'!$B$61=\"X40\",VLOOKUP('ORDER FRAMES'!$Q$61,Scharnieren!$C$16:$J$20,7,FALSE),VLOOKUP('ORDER FRAMES'!$Q$61,Scharnieren!$C$7:$M$11,7,FALSE))","v":{"$error":"#N/A"}},{"$f":"IF('ORDER FRAMES'!$B$62=\"X40\",VLOOKUP('ORDER FRAMES'!$Q$62,Scharnieren!$C$16:$J$20,7,FALSE),VLOOKUP('ORDER FRAMES'!$Q$62,Scharnieren!$C$7:$M$11,7,FALSE))","v":{"$error":"#N/A"}},{"$f":"IF('ORDER FRAMES'!$B$63=\"X40\",VLOOKUP('ORDER FRAMES'!$Q$63,Scharnieren!$C$16:$J$20,7,FALSE),VLOOKUP('ORDER FRAMES'!$Q$63,Scharnieren!$C$7:$M$11,7,FALSE))","v":{"$error":"#N/A"}},{"$f":"IF('ORDER FRAMES'!$B$64=\"X40\",VLOOKUP('ORDER FRAMES'!$Q$64,Scharnieren!$C$16:$J$20,7,FALSE),VLOOKUP('ORDER FRAMES'!$Q$64,Scharnieren!$C$7:$M$11,7,FALSE))","v":{"$error":"#N/A"}},{"$f":"IF('ORDER FRAMES'!$B$65=\"X40\",VLOOKUP('ORDER FRAMES'!$Q$65,Scharnieren!$C$16:$J$20,7,FALSE),VLOOKUP('ORDER FRAMES'!$Q$65,Scharnieren!$C$7:$M$11,7,FALSE))","v":{"$error":"#N/A"}},{"$f":"IF('ORDER FRAMES'!$B$66=\"X40\",VLOOKUP('ORDER FRAMES'!$Q$66,Scharnieren!$C$16:$J$20,7,FALSE),VLOOKUP('ORDER FRAMES'!$Q$66,Scharnieren!$C$7:$M$11,7,FALSE))","v":{"$error":"#N/A"}},{"$f":"IF('ORDER FRAMES'!$B$67=\"X40\",VLOOKUP('ORDER FRAMES'!$Q$67,Scharnieren!$C$16:$J$20,7,FALSE),VLOOKUP('ORDER FRAMES'!$Q$67,Scharnieren!$C$7:$M$11,7,FALSE))","v":{"$error":"#N/A"}},{"$f":"IF('ORDER FRAMES'!$B$68=\"X40\",VLOOKUP('ORDER FRAMES'!$Q$68,Scharnieren!$C$16:$J$20,7,FALSE),VLOOKUP('ORDER FRAMES'!$Q$68,Scharnieren!$C$7:$M$11,7,FALSE))","v":{"$error":"#N/A"}},{"$f":"IF('ORDER FRAMES'!$B$69=\"X40\",VLOOKUP('ORDER FRAMES'!$Q$69,Scharnieren!$C$16:$J$20,7,FALSE),VLOOKUP('ORDER FRAMES'!$Q$69,Scharnieren!$C$7:$M$11,7,FALSE))","v":{"$error":"#N/A"}},{"$f":"IF('ORDER FRAMES'!$B$70=\"X40\",VLOOKUP('ORDER FRAMES'!$Q$70,Scharnieren!$C$16:$J$20,7,FALSE),VLOOKUP('ORDER FRAMES'!$Q$70,Scharnieren!$C$7:$M$11,7,FALSE))","v":{"$error":"#N/A"}},{"$f":"IF('ORDER FRAMES'!$B$71=\"X40\",VLOOKUP('ORDER FRAMES'!$Q$71,Scharnieren!$C$16:$J$20,7,FALSE),VLOOKUP('ORDER FRAMES'!$Q$71,Scharnieren!$C$7:$M$11,7,FALSE))","v":{"$error":"#N/A"}},{"$f":"IF('ORDER FRAMES'!$B$72=\"X40\",VLOOKUP('ORDER FRAMES'!$Q$72,Scharnieren!$C$16:$J$20,7,FALSE),VLOOKUP('ORDER FRAMES'!$Q$72,Scharnieren!$C$7:$M$11,7,FALSE))","v":{"$error":"#N/A"}},{"$f":"IF('ORDER FRAMES'!$B$73=\"X40\",VLOOKUP('ORDER FRAMES'!$Q$73,Scharnieren!$C$16:$J$20,7,FALSE),VLOOKUP('ORDER FRAMES'!$Q$73,Scharnieren!$C$7:$M$11,7,FALSE))","v":{"$error":"#N/A"}},{"$f":"IF('ORDER FRAMES'!$B$74=\"X40\",VLOOKUP('ORDER FRAMES'!$Q$74,Scharnieren!$C$16:$J$20,7,FALSE),VLOOKUP('ORDER FRAMES'!$Q$74,Scharnieren!$C$7:$M$11,7,FALSE))","v":{"$error":"#N/A"}},{"$f":"IF('ORDER FRAMES'!$B$75=\"X40\",VLOOKUP('ORDER FRAMES'!$Q$75,Scharnieren!$C$16:$J$20,7,FALSE),VLOOKUP('ORDER FRAMES'!$Q$75,Scharnieren!$C$7:$M$11,7,FALSE))","v":{"$error":"#N/A"}},{"$f":"IF('ORDER FRAMES'!$B$76=\"X40\",VLOOKUP('ORDER FRAMES'!$Q$76,Scharnieren!$C$16:$J$20,7,FALSE),VLOOKUP('ORDER FRAMES'!$Q$76,Scharnieren!$C$7:$M$11,7,FALSE))","v":{"$error":"#N/A"}},{"$f":"IF('ORDER FRAMES'!$B$77=\"X40\",VLOOKUP('ORDER FRAMES'!$Q$77,Scharnieren!$C$16:$J$20,7,FALSE),VLOOKUP('ORDER FRAMES'!$Q$77,Scharnieren!$C$7:$M$11,7,FALSE))","v":{"$error":"#N/A"}},{"$f":"IF('ORDER FRAMES'!$B$78=\"X40\",VLOOKUP('ORDER FRAMES'!$Q$78,Scharnieren!$C$16:$J$20,7,FALSE),VLOOKUP('ORDER FRAMES'!$Q$78,Scharnieren!$C$7:$M$11,7,FALSE))","v":{"$error":"#N/A"}},{"$f":"IF('ORDER FRAMES'!$B$79=\"X40\",VLOOKUP('ORDER FRAMES'!$Q$79,Scharnieren!$C$16:$J$20,7,FALSE),VLOOKUP('ORDER FRAMES'!$Q$79,Scharnieren!$C$7:$M$11,7,FALSE))","v":{"$error":"#N/A"}},{"$f":"IF('ORDER FRAMES'!$B$80=\"X40\",VLOOKUP('ORDER FRAMES'!$Q$80,Scharnieren!$C$16:$J$20,7,FALSE),VLOOKUP('ORDER FRAMES'!$Q$80,Scharnieren!$C$7:$M$11,7,FALSE))","v":{"$error":"#N/A"}},{"$f":"IF('ORDER FRAMES'!$B$81=\"X40\",VLOOKUP('ORDER FRAMES'!$Q$81,Scharnieren!$C$16:$J$20,7,FALSE),VLOOKUP('ORDER FRAMES'!$Q$81,Scharnieren!$C$7:$M$11,7,FALSE))","v":{"$error":"#N/A"}},{"$f":"IF('ORDER FRAMES'!$B$82=\"X40\",VLOOKUP('ORDER FRAMES'!$Q$82,Scharnieren!$C$16:$J$20,7,FALSE),VLOOKUP('ORDER FRAMES'!$Q$82,Scharnieren!$C$7:$M$11,7,FALSE))","v":{"$error":"#N/A"}},{"$f":"IF('ORDER FRAMES'!$B$83=\"X40\",VLOOKUP('ORDER FRAMES'!$Q$83,Scharnieren!$C$16:$J$20,7,FALSE),VLOOKUP('ORDER FRAMES'!$Q$83,Scharnieren!$C$7:$M$11,7,FALSE))","v":{"$error":"#N/A"}},{"$f":"IF('ORDER FRAMES'!$B$84=\"X40\",VLOOKUP('ORDER FRAMES'!$Q$84,Scharnieren!$C$16:$J$20,7,FALSE),VLOOKUP('ORDER FRAMES'!$Q$84,Scharnieren!$C$7:$M$11,7,FALSE))","v":{"$error":"#N/A"}},{"$f":"IF('ORDER FRAMES'!$B$85=\"X40\",VLOOKUP('ORDER FRAMES'!$Q$85,Scharnieren!$C$16:$J$20,7,FALSE),VLOOKUP('ORDER FRAMES'!$Q$85,Scharnieren!$C$7:$M$11,7,FALSE))","v":{"$error":"#N/A"}},{"$f":"IF('ORDER FRAMES'!$B$86=\"X40\",VLOOKUP('ORDER FRAMES'!$Q$86,Scharnieren!$C$16:$J$20,7,FALSE),VLOOKUP('ORDER FRAMES'!$Q$86,Scharnieren!$C$7:$M$11,7,FALSE))","v":{"$error":"#N/A"}},{"$f":"IF('ORDER FRAMES'!$B$87=\"X40\",VLOOKUP('ORDER FRAMES'!$Q$87,Scharnieren!$C$16:$J$20,7,FALSE),VLOOKUP('ORDER FRAMES'!$Q$87,Scharnieren!$C$7:$M$11,7,FALSE))","v":{"$error":"#N/A"}},{"$f":"IF('ORDER FRAMES'!$B$88=\"X40\",VLOOKUP('ORDER FRAMES'!$Q$88,Scharnieren!$C$16:$J$20,7,FALSE),VLOOKUP('ORDER FRAMES'!$Q$88,Scharnieren!$C$7:$M$11,7,FALSE))","v":{"$error":"#N/A"}},{"$f":"IF('ORDER FRAMES'!$B$89=\"X40\",VLOOKUP('ORDER FRAMES'!$Q$89,Scharnieren!$C$16:$J$20,7,FALSE),VLOOKUP('ORDER FRAMES'!$Q$89,Scharnieren!$C$7:$M$11,7,FALSE))","v":{"$error":"#N/A"}},{"$f":"IF('ORDER FRAMES'!$B$90=\"X40\",VLOOKUP('ORDER FRAMES'!$Q$90,Scharnieren!$C$16:$J$20,7,FALSE),VLOOKUP('ORDER FRAMES'!$Q$90,Scharnieren!$C$7:$M$11,7,FALSE))","v":{"$error":"#N/A"}},{"$f":"IF('ORDER FRAMES'!$B$91=\"X40\",VLOOKUP('ORDER FRAMES'!$Q$91,Scharnieren!$C$16:$J$20,7,FALSE),VLOOKUP('ORDER FRAMES'!$Q$91,Scharnieren!$C$7:$M$11,7,FALSE))","v":{"$error":"#N/A"}},{"$f":"IF('ORDER FRAMES'!$B$92=\"X40\",VLOOKUP('ORDER FRAMES'!$Q$92,Scharnieren!$C$16:$J$20,7,FALSE),VLOOKUP('ORDER FRAMES'!$Q$92,Scharnieren!$C$7:$M$11,7,FALSE))","v":{"$error":"#N/A"}},{"$f":"IF('ORDER FRAMES'!$B$93=\"X40\",VLOOKUP('ORDER FRAMES'!$Q$93,Scharnieren!$C$16:$J$20,7,FALSE),VLOOKUP('ORDER FRAMES'!$Q$93,Scharnieren!$C$7:$M$11,7,FALSE))","v":{"$error":"#N/A"}},{"$f":"IF('ORDER FRAMES'!$B$94=\"X40\",VLOOKUP('ORDER FRAMES'!$Q$94,Scharnieren!$C$16:$J$20,7,FALSE),VLOOKUP('ORDER FRAMES'!$Q$94,Scharnieren!$C$7:$M$11,7,FALSE))","v":{"$error":"#N/A"}},{"$f":"IF('ORDER FRAMES'!$B$95=\"X40\",VLOOKUP('ORDER FRAMES'!$Q$95,Scharnieren!$C$16:$J$20,7,FALSE),VLOOKUP('ORDER FRAMES'!$Q$95,Scharnieren!$C$7:$M$11,7,FALSE))","v":{"$error":"#N/A"}},{"$f":"IF('ORDER FRAMES'!$B$96=\"X40\",VLOOKUP('ORDER FRAMES'!$Q$96,Scharnieren!$C$16:$J$20,7,FALSE),VLOOKUP('ORDER FRAMES'!$Q$96,Scharnieren!$C$7:$M$11,7,FALSE))","v":{"$error":"#N/A"}},{"$f":"IF('ORDER FRAMES'!$B$97=\"X40\",VLOOKUP('ORDER FRAMES'!$Q$97,Scharnieren!$C$16:$J$20,7,FALSE),VLOOKUP('ORDER FRAMES'!$Q$97,Scharnieren!$C$7:$M$11,7,FALSE))","v":{"$error":"#N/A"}},{"$f":"IF('ORDER FRAMES'!$B$98=\"X40\",VLOOKUP('ORDER FRAMES'!$Q$98,Scharnieren!$C$16:$J$20,7,FALSE),VLOOKUP('ORDER FRAMES'!$Q$98,Scharnieren!$C$7:$M$11,7,FALSE))","v":{"$error":"#N/A"}},{"$f":"IF('ORDER FRAMES'!$B$99=\"X40\",VLOOKUP('ORDER FRAMES'!$Q$99,Scharnieren!$C$16:$J$20,7,FALSE),VLOOKUP('ORDER FRAMES'!$Q$99,Scharnieren!$C$7:$M$11,7,FALSE))","v":{"$error":"#N/A"}},{"$f":"IF('ORDER FRAMES'!$B$100=\"X40\",VLOOKUP('ORDER FRAMES'!$Q$100,Scharnieren!$C$16:$J$20,7,FALSE),VLOOKUP('ORDER FRAMES'!$Q$100,Scharnieren!$C$7:$M$11,7,FALSE))","v":{"$error":"#N/A"}}]
[null,"Active stop ",2,"A24.0","A24.1","A24.2","X4030.W","X4030.G","X4030.B","TE340.0","TE340.1","TE340.2","A30.0","A30.2",null,null,null,null,null,null,{"$f":"IF('ORDER FRAMES'!$B$21=\"X40\",VLOOKUP('ORDER FRAMES'!$Q$21,Scharnieren!$C$16:$J$20,8,FALSE),VLOOKUP('ORDER FRAMES'!$Q$21,Scharnieren!$C$7:$N$11,8,FALSE))","v":"TE340.0"},{"$f":"IF('ORDER FRAMES'!$B$22=\"X40\",VLOOKUP('ORDER FRAMES'!$Q$22,Scharnieren!$C$16:$J$20,8,FALSE),VLOOKUP('ORDER FRAMES'!$Q$22,Scharnieren!$C$7:$N$11,8,FALSE))","v":"TE340.0"},{"$f":"IF('ORDER FRAMES'!$B$23=\"X40\",VLOOKUP('ORDER FRAMES'!$Q$23,Scharnieren!$C$16:$J$20,8,FALSE),VLOOKUP('ORDER FRAMES'!$Q$23,Scharnieren!$C$7:$N$11,8,FALSE))","v":{"$error":"#N/A"}},{"$f":"IF('ORDER FRAMES'!$B$24=\"X40\",VLOOKUP('ORDER FRAMES'!$Q$24,Scharnieren!$C$16:$J$20,8,FALSE),VLOOKUP('ORDER FRAMES'!$Q$24,Scharnieren!$C$7:$N$11,8,FALSE))","v":{"$error":"#N/A"}},{"$f":"IF('ORDER FRAMES'!$B$25=\"X40\",VLOOKUP('ORDER FRAMES'!$Q$25,Scharnieren!$C$16:$J$20,8,FALSE),VLOOKUP('ORDER FRAMES'!$Q$25,Scharnieren!$C$7:$N$11,8,FALSE))","v":{"$error":"#N/A"}},{"$f":"IF('ORDER FRAMES'!$B$26=\"X40\",VLOOKUP('ORDER FRAMES'!$Q$26,Scharnieren!$C$16:$J$20,8,FALSE),VLOOKUP('ORDER FRAMES'!$Q$26,Scharnieren!$C$7:$N$11,8,FALSE))","v":{"$error":"#N/A"}},{"$f":"IF('ORDER FRAMES'!$B$27=\"X40\",VLOOKUP('ORDER FRAMES'!$Q$27,Scharnieren!$C$16:$J$20,8,FALSE),VLOOKUP('ORDER FRAMES'!$Q$27,Scharnieren!$C$7:$N$11,8,FALSE))","v":{"$error":"#N/A"}},{"$f":"IF('ORDER FRAMES'!$B$28=\"X40\",VLOOKUP('ORDER FRAMES'!$Q$28,Scharnieren!$C$16:$J$20,8,FALSE),VLOOKUP('ORDER FRAMES'!$Q$28,Scharnieren!$C$7:$N$11,8,FALSE))","v":{"$error":"#N/A"}},{"$f":"IF('ORDER FRAMES'!$B$29=\"X40\",VLOOKUP('ORDER FRAMES'!$Q$29,Scharnieren!$C$16:$J$20,8,FALSE),VLOOKUP('ORDER FRAMES'!$Q$29,Scharnieren!$C$7:$M$11,8,FALSE))","v":{"$error":"#N/A"}},{"$f":"IF('ORDER FRAMES'!$B$30=\"X40\",VLOOKUP('ORDER FRAMES'!$Q$30,Scharnieren!$C$16:$J$20,8,FALSE),VLOOKUP('ORDER FRAMES'!$Q$30,Scharnieren!$C$7:$M$11,8,FALSE))","v":{"$error":"#N/A"}},{"$f":"IF('ORDER FRAMES'!$B$31=\"X40\",VLOOKUP('ORDER FRAMES'!$Q$31,Scharnieren!$C$16:$J$20,8,FALSE),VLOOKUP('ORDER FRAMES'!$Q$31,Scharnieren!$C$7:$M$11,8,FALSE))","v":{"$error":"#N/A"}},{"$f":"IF('ORDER FRAMES'!$B$32=\"X40\",VLOOKUP('ORDER FRAMES'!$Q$32,Scharnieren!$C$16:$J$20,8,FALSE),VLOOKUP('ORDER FRAMES'!$Q$32,Scharnieren!$C$7:$M$11,8,FALSE))","v":{"$error":"#N/A"}},{"$f":"IF('ORDER FRAMES'!$B$33=\"X40\",VLOOKUP('ORDER FRAMES'!$Q$33,Scharnieren!$C$16:$J$20,8,FALSE),VLOOKUP('ORDER FRAMES'!$Q$33,Scharnieren!$C$7:$M$11,8,FALSE))","v":{"$error":"#N/A"}},{"$f":"IF('ORDER FRAMES'!$B$34=\"X40\",VLOOKUP('ORDER FRAMES'!$Q$34,Scharnieren!$C$16:$J$20,8,FALSE),VLOOKUP('ORDER FRAMES'!$Q$34,Scharnieren!$C$7:$M$11,8,FALSE))","v":{"$error":"#N/A"}},{"$f":"IF('ORDER FRAMES'!$B$35=\"X40\",VLOOKUP('ORDER FRAMES'!$Q$35,Scharnieren!$C$16:$J$20,8,FALSE),VLOOKUP('ORDER FRAMES'!$Q$35,Scharnieren!$C$7:$M$11,8,FALSE))","v":{"$error":"#N/A"}},{"$f":"IF('ORDER FRAMES'!$B$36=\"X40\",VLOOKUP('ORDER FRAMES'!$Q$36,Scharnieren!$C$16:$J$20,8,FALSE),VLOOKUP('ORDER FRAMES'!$Q$36,Scharnieren!$C$7:$M$11,8,FALSE))","v":{"$error":"#N/A"}},{"$f":"IF('ORDER FRAMES'!$B$37=\"X40\",VLOOKUP('ORDER FRAMES'!$Q$37,Scharnieren!$C$16:$J$20,8,FALSE),VLOOKUP('ORDER FRAMES'!$Q$37,Scharnieren!$C$7:$M$11,8,FALSE))","v":{"$error":"#N/A"}},{"$f":"IF('ORDER FRAMES'!$B$38=\"X40\",VLOOKUP('ORDER FRAMES'!$Q$38,Scharnieren!$C$16:$J$20,8,FALSE),VLOOKUP('ORDER FRAMES'!$Q$38,Scharnieren!$C$7:$M$11,8,FALSE))","v":{"$error":"#N/A"}},{"$f":"IF('ORDER FRAMES'!$B$39=\"X40\",VLOOKUP('ORDER FRAMES'!$Q$39,Scharnieren!$C$16:$J$20,8,FALSE),VLOOKUP('ORDER FRAMES'!$Q$39,Scharnieren!$C$7:$M$11,8,FALSE))","v":{"$error":"#N/A"}},{"$f":"IF('ORDER FRAMES'!$B$40=\"X40\",VLOOKUP('ORDER FRAMES'!$Q$40,Scharnieren!$C$16:$J$20,8,FALSE),VLOOKUP('ORDER FRAMES'!$Q$40,Scharnieren!$C$7:$M$11,8,FALSE))","v":{"$error":"#N/A"}},{"$f":"IF('ORDER FRAMES'!$B$41=\"X40\",VLOOKUP('ORDER FRAMES'!$Q$41,Scharnieren!$C$16:$J$20,8,FALSE),VLOOKUP('ORDER FRAMES'!$Q$41,Scharnieren!$C$7:$M$11,8,FALSE))","v":{"$error":"#N/A"}},{"$f":"IF('ORDER FRAMES'!$B$42=\"X40\",VLOOKUP('ORDER FRAMES'!$Q$42,Scharnieren!$C$16:$J$20,8,FALSE),VLOOKUP('ORDER FRAMES'!$Q$42,Scharnieren!$C$7:$M$11,8,FALSE))","v":{"$error":"#N/A"}},{"$f":"IF('ORDER FRAMES'!$B$43=\"X40\",VLOOKUP('ORDER FRAMES'!$Q$43,Scharnieren!$C$16:$J$20,8,FALSE),VLOOKUP('ORDER FRAMES'!$Q$43,Scharnieren!$C$7:$M$11,8,FALSE))","v":{"$error":"#N/A"}},{"$f":"IF('ORDER FRAMES'!$B$44=\"X40\",VLOOKUP('ORDER FRAMES'!$Q$44,Scharnieren!$C$16:$J$20,8,FALSE),VLOOKUP('ORDER FRAMES'!$Q$44,Scharnieren!$C$7:$M$11,8,FALSE))","v":{"$error":"#N/A"}},{"$f":"IF('ORDER FRAMES'!$B$45=\"X40\",VLOOKUP('ORDER FRAMES'!$Q$45,Scharnieren!$C$16:$J$20,8,FALSE),VLOOKUP('ORDER FRAMES'!$Q$45,Scharnieren!$C$7:$M$11,8,FALSE))","v":{"$error":"#N/A"}},{"$f":"IF('ORDER FRAMES'!$B$46=\"X40\",VLOOKUP('ORDER FRAMES'!$Q$46,Scharnieren!$C$16:$J$20,8,FALSE),VLOOKUP('ORDER FRAMES'!$Q$46,Scharnieren!$C$7:$M$11,8,FALSE))","v":{"$error":"#N/A"}},{"$f":"IF('ORDER FRAMES'!$B$47=\"X40\",VLOOKUP('ORDER FRAMES'!$Q$47,Scharnieren!$C$16:$J$20,8,FALSE),VLOOKUP('ORDER FRAMES'!$Q$47,Scharnieren!$C$7:$M$11,8,FALSE))","v":{"$error":"#N/A"}},{"$f":"IF('ORDER FRAMES'!$B$48=\"X40\",VLOOKUP('ORDER FRAMES'!$Q$48,Scharnieren!$C$16:$J$20,8,FALSE),VLOOKUP('ORDER FRAMES'!$Q$48,Scharnieren!$C$7:$M$11,8,FALSE))","v":{"$error":"#N/A"}},{"$f":"IF('ORDER FRAMES'!$B$49=\"X40\",VLOOKUP('ORDER FRAMES'!$Q$49,Scharnieren!$C$16:$J$20,8,FALSE),VLOOKUP('ORDER FRAMES'!$Q$49,Scharnieren!$C$7:$M$11,8,FALSE))","v":{"$error":"#N/A"}},{"$f":"IF('ORDER FRAMES'!$B$50=\"X40\",VLOOKUP('ORDER FRAMES'!$Q$50,Scharnieren!$C$16:$J$20,8,FALSE),VLOOKUP('ORDER FRAMES'!$Q$50,Scharnieren!$C$7:$M$11,8,FALSE))","v":{"$error":"#N/A"}},{"$f":"IF('ORDER FRAMES'!$B$51=\"X40\",VLOOKUP('ORDER FRAMES'!$Q$51,Scharnieren!$C$16:$J$20,8,FALSE),VLOOKUP('ORDER FRAMES'!$Q$51,Scharnieren!$C$7:$M$11,8,FALSE))","v":{"$error":"#N/A"}},{"$f":"IF('ORDER FRAMES'!$B$52=\"X40\",VLOOKUP('ORDER FRAMES'!$Q$52,Scharnieren!$C$16:$J$20,8,FALSE),VLOOKUP('ORDER FRAMES'!$Q$52,Scharnieren!$C$7:$M$11,8,FALSE))","v":{"$error":"#N/A"}},{"$f":"IF('ORDER FRAMES'!$B$53=\"X40\",VLOOKUP('ORDER FRAMES'!$Q$53,Scharnieren!$C$16:$J$20,8,FALSE),VLOOKUP('ORDER FRAMES'!$Q$53,Scharnieren!$C$7:$M$11,8,FALSE))","v":{"$error":"#N/A"}},{"$f":"IF('ORDER FRAMES'!$B$54=\"X40\",VLOOKUP('ORDER FRAMES'!$Q$54,Scharnieren!$C$16:$J$20,8,FALSE),VLOOKUP('ORDER FRAMES'!$Q$54,Scharnieren!$C$7:$M$11,8,FALSE))","v":{"$error":"#N/A"}},{"$f":"IF('ORDER FRAMES'!$B$55=\"X40\",VLOOKUP('ORDER FRAMES'!$Q$55,Scharnieren!$C$16:$J$20,8,FALSE),VLOOKUP('ORDER FRAMES'!$Q$55,Scharnieren!$C$7:$M$11,8,FALSE))","v":{"$error":"#N/A"}},{"$f":"IF('ORDER FRAMES'!$B$56=\"X40\",VLOOKUP('ORDER FRAMES'!$Q$56,Scharnieren!$C$16:$J$20,8,FALSE),VLOOKUP('ORDER FRAMES'!$Q$56,Scharnieren!$C$7:$M$11,8,FALSE))","v":{"$error":"#N/A"}},{"$f":"IF('ORDER FRAMES'!$B$57=\"X40\",VLOOKUP('ORDER FRAMES'!$Q$57,Scharnieren!$C$16:$J$20,8,FALSE),VLOOKUP('ORDER FRAMES'!$Q$57,Scharnieren!$C$7:$M$11,8,FALSE))","v":{"$error":"#N/A"}},{"$f":"IF('ORDER FRAMES'!$B$58=\"X40\",VLOOKUP('ORDER FRAMES'!$Q$58,Scharnieren!$C$16:$J$20,8,FALSE),VLOOKUP('ORDER FRAMES'!$Q$58,Scharnieren!$C$7:$M$11,8,FALSE))","v":{"$error":"#N/A"}},{"$f":"IF('ORDER FRAMES'!$B$59=\"X40\",VLOOKUP('ORDER FRAMES'!$Q$59,Scharnieren!$C$16:$J$20,8,FALSE),VLOOKUP('ORDER FRAMES'!$Q$59,Scharnieren!$C$7:$M$11,8,FALSE))","v":{"$error":"#N/A"}},{"$f":"IF('ORDER FRAMES'!$B$60=\"X40\",VLOOKUP('ORDER FRAMES'!$Q$60,Scharnieren!$C$16:$J$20,8,FALSE),VLOOKUP('ORDER FRAMES'!$Q$60,Scharnieren!$C$7:$M$11,8,FALSE))","v":{"$error":"#N/A"}},{"$f":"IF('ORDER FRAMES'!$B$61=\"X40\",VLOOKUP('ORDER FRAMES'!$Q$61,Scharnieren!$C$16:$J$20,8,FALSE),VLOOKUP('ORDER FRAMES'!$Q$61,Scharnieren!$C$7:$M$11,8,FALSE))","v":{"$error":"#N/A"}},{"$f":"IF('ORDER FRAMES'!$B$62=\"X40\",VLOOKUP('ORDER FRAMES'!$Q$62,Scharnieren!$C$16:$J$20,8,FALSE),VLOOKUP('ORDER FRAMES'!$Q$62,Scharnieren!$C$7:$M$11,8,FALSE))","v":{"$error":"#N/A"}},{"$f":"IF('ORDER FRAMES'!$B$63=\"X40\",VLOOKUP('ORDER FRAMES'!$Q$63,Scharnieren!$C$16:$J$20,8,FALSE),VLOOKUP('ORDER FRAMES'!$Q$63,Scharnieren!$C$7:$M$11,8,FALSE))","v":{"$error":"#N/A"}},{"$f":"IF('ORDER FRAMES'!$B$64=\"X40\",VLOOKUP('ORDER FRAMES'!$Q$64,Scharnieren!$C$16:$J$20,8,FALSE),VLOOKUP('ORDER FRAMES'!$Q$64,Scharnieren!$C$7:$M$11,8,FALSE))","v":{"$error":"#N/A"}},{"$f":"IF('ORDER FRAMES'!$B$65=\"X40\",VLOOKUP('ORDER FRAMES'!$Q$65,Scharnieren!$C$16:$J$20,8,FALSE),VLOOKUP('ORDER FRAMES'!$Q$65,Scharnieren!$C$7:$M$11,8,FALSE))","v":{"$error":"#N/A"}},{"$f":"IF('ORDER FRAMES'!$B$66=\"X40\",VLOOKUP('ORDER FRAMES'!$Q$66,Scharnieren!$C$16:$J$20,8,FALSE),VLOOKUP('ORDER FRAMES'!$Q$66,Scharnieren!$C$7:$M$11,8,FALSE))","v":{"$error":"#N/A"}},{"$f":"IF('ORDER FRAMES'!$B$67=\"X40\",VLOOKUP('ORDER FRAMES'!$Q$67,Scharnieren!$C$16:$J$20,8,FALSE),VLOOKUP('ORDER FRAMES'!$Q$67,Scharnieren!$C$7:$M$11,8,FALSE))","v":{"$error":"#N/A"}},{"$f":"IF('ORDER FRAMES'!$B$68=\"X40\",VLOOKUP('ORDER FRAMES'!$Q$68,Scharnieren!$C$16:$J$20,8,FALSE),VLOOKUP('ORDER FRAMES'!$Q$68,Scharnieren!$C$7:$M$11,8,FALSE))","v":{"$error":"#N/A"}},{"$f":"IF('ORDER FRAMES'!$B$69=\"X40\",VLOOKUP('ORDER FRAMES'!$Q$69,Scharnieren!$C$16:$J$20,8,FALSE),VLOOKUP('ORDER FRAMES'!$Q$69,Scharnieren!$C$7:$M$11,8,FALSE))","v":{"$error":"#N/A"}},{"$f":"IF('ORDER FRAMES'!$B$70=\"X40\",VLOOKUP('ORDER FRAMES'!$Q$70,Scharnieren!$C$16:$J$20,8,FALSE),VLOOKUP('ORDER FRAMES'!$Q$70,Scharnieren!$C$7:$M$11,8,FALSE))","v":{"$error":"#N/A"}},{"$f":"IF('ORDER FRAMES'!$B$71=\"X40\",VLOOKUP('ORDER FRAMES'!$Q$71,Scharnieren!$C$16:$J$20,8,FALSE),VLOOKUP('ORDER FRAMES'!$Q$71,Scharnieren!$C$7:$M$11,8,FALSE))","v":{"$error":"#N/A"}},{"$f":"IF('ORDER FRAMES'!$B$72=\"X40\",VLOOKUP('ORDER FRAMES'!$Q$72,Scharnieren!$C$16:$J$20,8,FALSE),VLOOKUP('ORDER FRAMES'!$Q$72,Scharnieren!$C$7:$M$11,8,FALSE))","v":{"$error":"#N/A"}},{"$f":"IF('ORDER FRAMES'!$B$73=\"X40\",VLOOKUP('ORDER FRAMES'!$Q$73,Scharnieren!$C$16:$J$20,8,FALSE),VLOOKUP('ORDER FRAMES'!$Q$73,Scharnieren!$C$7:$M$11,8,FALSE))","v":{"$error":"#N/A"}},{"$f":"IF('ORDER FRAMES'!$B$74=\"X40\",VLOOKUP('ORDER FRAMES'!$Q$74,Scharnieren!$C$16:$J$20,8,FALSE),VLOOKUP('ORDER FRAMES'!$Q$74,Scharnieren!$C$7:$M$11,8,FALSE))","v":{"$error":"#N/A"}},{"$f":"IF('ORDER FRAMES'!$B$75=\"X40\",VLOOKUP('ORDER FRAMES'!$Q$75,Scharnieren!$C$16:$J$20,8,FALSE),VLOOKUP('ORDER FRAMES'!$Q$75,Scharnieren!$C$7:$M$11,8,FALSE))","v":{"$error":"#N/A"}},{"$f":"IF('ORDER FRAMES'!$B$76=\"X40\",VLOOKUP('ORDER FRAMES'!$Q$76,Scharnieren!$C$16:$J$20,8,FALSE),VLOOKUP('ORDER FRAMES'!$Q$76,Scharnieren!$C$7:$M$11,8,FALSE))","v":{"$error":"#N/A"}},{"$f":"IF('ORDER FRAMES'!$B$77=\"X40\",VLOOKUP('ORDER FRAMES'!$Q$77,Scharnieren!$C$16:$J$20,8,FALSE),VLOOKUP('ORDER FRAMES'!$Q$77,Scharnieren!$C$7:$M$11,8,FALSE))","v":{"$error":"#N/A"}},{"$f":"IF('ORDER FRAMES'!$B$78=\"X40\",VLOOKUP('ORDER FRAMES'!$Q$78,Scharnieren!$C$16:$J$20,8,FALSE),VLOOKUP('ORDER FRAMES'!$Q$78,Scharnieren!$C$7:$M$11,8,FALSE))","v":{"$error":"#N/A"}},{"$f":"IF('ORDER FRAMES'!$B$79=\"X40\",VLOOKUP('ORDER FRAMES'!$Q$79,Scharnieren!$C$16:$J$20,8,FALSE),VLOOKUP('ORDER FRAMES'!$Q$79,Scharnieren!$C$7:$M$11,8,FALSE))","v":{"$error":"#N/A"}},{"$f":"IF('ORDER FRAMES'!$B$80=\"X40\",VLOOKUP('ORDER FRAMES'!$Q$80,Scharnieren!$C$16:$J$20,8,FALSE),VLOOKUP('ORDER FRAMES'!$Q$80,Scharnieren!$C$7:$M$11,8,FALSE))","v":{"$error":"#N/A"}},{"$f":"IF('ORDER FRAMES'!$B$81=\"X40\",VLOOKUP('ORDER FRAMES'!$Q$81,Scharnieren!$C$16:$J$20,8,FALSE),VLOOKUP('ORDER FRAMES'!$Q$81,Scharnieren!$C$7:$M$11,8,FALSE))","v":{"$error":"#N/A"}},{"$f":"IF('ORDER FRAMES'!$B$82=\"X40\",VLOOKUP('ORDER FRAMES'!$Q$82,Scharnieren!$C$16:$J$20,8,FALSE),VLOOKUP('ORDER FRAMES'!$Q$82,Scharnieren!$C$7:$M$11,8,FALSE))","v":{"$error":"#N/A"}},{"$f":"IF('ORDER FRAMES'!$B$83=\"X40\",VLOOKUP('ORDER FRAMES'!$Q$83,Scharnieren!$C$16:$J$20,8,FALSE),VLOOKUP('ORDER FRAMES'!$Q$83,Scharnieren!$C$7:$M$11,8,FALSE))","v":{"$error":"#N/A"}},{"$f":"IF('ORDER FRAMES'!$B$84=\"X40\",VLOOKUP('ORDER FRAMES'!$Q$84,Scharnieren!$C$16:$J$20,8,FALSE),VLOOKUP('ORDER FRAMES'!$Q$84,Scharnieren!$C$7:$M$11,8,FALSE))","v":{"$error":"#N/A"}},{"$f":"IF('ORDER FRAMES'!$B$85=\"X40\",VLOOKUP('ORDER FRAMES'!$Q$85,Scharnieren!$C$16:$J$20,8,FALSE),VLOOKUP('ORDER FRAMES'!$Q$85,Scharnieren!$C$7:$M$11,8,FALSE))","v":{"$error":"#N/A"}},{"$f":"IF('ORDER FRAMES'!$B$86=\"X40\",VLOOKUP('ORDER FRAMES'!$Q$86,Scharnieren!$C$16:$J$20,8,FALSE),VLOOKUP('ORDER FRAMES'!$Q$86,Scharnieren!$C$7:$M$11,8,FALSE))","v":{"$error":"#N/A"}},{"$f":"IF('ORDER FRAMES'!$B$87=\"X40\",VLOOKUP('ORDER FRAMES'!$Q$87,Scharnieren!$C$16:$J$20,8,FALSE),VLOOKUP('ORDER FRAMES'!$Q$87,Scharnieren!$C$7:$M$11,8,FALSE))","v":{"$error":"#N/A"}},{"$f":"IF('ORDER FRAMES'!$B$88=\"X40\",VLOOKUP('ORDER FRAMES'!$Q$88,Scharnieren!$C$16:$J$20,8,FALSE),VLOOKUP('ORDER FRAMES'!$Q$88,Scharnieren!$C$7:$M$11,8,FALSE))","v":{"$error":"#N/A"}},{"$f":"IF('ORDER FRAMES'!$B$89=\"X40\",VLOOKUP('ORDER FRAMES'!$Q$89,Scharnieren!$C$16:$J$20,8,FALSE),VLOOKUP('ORDER FRAMES'!$Q$89,Scharnieren!$C$7:$M$11,8,FALSE))","v":{"$error":"#N/A"}},{"$f":"IF('ORDER FRAMES'!$B$90=\"X40\",VLOOKUP('ORDER FRAMES'!$Q$90,Scharnieren!$C$16:$J$20,8,FALSE),VLOOKUP('ORDER FRAMES'!$Q$90,Scharnieren!$C$7:$M$11,8,FALSE))","v":{"$error":"#N/A"}},{"$f":"IF('ORDER FRAMES'!$B$91=\"X40\",VLOOKUP('ORDER FRAMES'!$Q$91,Scharnieren!$C$16:$J$20,8,FALSE),VLOOKUP('ORDER FRAMES'!$Q$91,Scharnieren!$C$7:$M$11,8,FALSE))","v":{"$error":"#N/A"}},{"$f":"IF('ORDER FRAMES'!$B$92=\"X40\",VLOOKUP('ORDER FRAMES'!$Q$92,Scharnieren!$C$16:$J$20,8,FALSE),VLOOKUP('ORDER FRAMES'!$Q$92,Scharnieren!$C$7:$M$11,8,FALSE))","v":{"$error":"#N/A"}},{"$f":"IF('ORDER FRAMES'!$B$93=\"X40\",VLOOKUP('ORDER FRAMES'!$Q$93,Scharnieren!$C$16:$J$20,8,FALSE),VLOOKUP('ORDER FRAMES'!$Q$93,Scharnieren!$C$7:$M$11,8,FALSE))","v":{"$error":"#N/A"}},{"$f":"IF('ORDER FRAMES'!$B$94=\"X40\",VLOOKUP('ORDER FRAMES'!$Q$94,Scharnieren!$C$16:$J$20,8,FALSE),VLOOKUP('ORDER FRAMES'!$Q$94,Scharnieren!$C$7:$M$11,8,FALSE))","v":{"$error":"#N/A"}},{"$f":"IF('ORDER FRAMES'!$B$95=\"X40\",VLOOKUP('ORDER FRAMES'!$Q$95,Scharnieren!$C$16:$J$20,8,FALSE),VLOOKUP('ORDER FRAMES'!$Q$95,Scharnieren!$C$7:$M$11,8,FALSE))","v":{"$error":"#N/A"}},{"$f":"IF('ORDER FRAMES'!$B$96=\"X40\",VLOOKUP('ORDER FRAMES'!$Q$96,Scharnieren!$C$16:$J$20,8,FALSE),VLOOKUP('ORDER FRAMES'!$Q$96,Scharnieren!$C$7:$M$11,8,FALSE))","v":{"$error":"#N/A"}},{"$f":"IF('ORDER FRAMES'!$B$97=\"X40\",VLOOKUP('ORDER FRAMES'!$Q$97,Scharnieren!$C$16:$J$20,8,FALSE),VLOOKUP('ORDER FRAMES'!$Q$97,Scharnieren!$C$7:$M$11,8,FALSE))","v":{"$error":"#N/A"}},{"$f":"IF('ORDER FRAMES'!$B$98=\"X40\",VLOOKUP('ORDER FRAMES'!$Q$98,Scharnieren!$C$16:$J$20,8,FALSE),VLOOKUP('ORDER FRAMES'!$Q$98,Scharnieren!$C$7:$M$11,8,FALSE))","v":{"$error":"#N/A"}},{"$f":"IF('ORDER FRAMES'!$B$99=\"X40\",VLOOKUP('ORDER FRAMES'!$Q$99,Scharnieren!$C$16:$J$20,8,FALSE),VLOOKUP('ORDER FRAMES'!$Q$99,Scharnieren!$C$7:$M$11,8,FALSE))","v":{"$error":"#N/A"}},{"$f":"IF('ORDER FRAMES'!$B$100=\"X40\",VLOOKUP('ORDER FRAMES'!$Q$100,Scharnieren!$C$16:$J$20,8,FALSE),VLOOKUP('ORDER FRAMES'!$Q$100,Scharnieren!$C$7:$M$11,8,FALSE))","v":{"$error":"#N/A"}}]
[null,"Boxer ",3,"A24.0","A24.1","A24.2","X4030.W","X4030.G","X4030.B","TE340.0","TE340.1","TE340.2","A30.0","A30.2",null,null,null,null,null,null,{"$f":"IF('ORDER FRAMES'!$B$21=\"X40\",VLOOKUP('ORDER FRAMES'!$Q$21,Scharnieren!$C$16:$M$20,9,FALSE),VLOOKUP('ORDER FRAMES'!$Q$21,Scharnieren!$C$7:$N$11,9,FALSE))","v":"TE340.1"},{"$f":"IF('ORDER FRAMES'!$B$22=\"X40\",VLOOKUP('ORDER FRAMES'!$Q$22,Scharnieren!$C$16:$M$20,9,FALSE),VLOOKUP('ORDER FRAMES'!$Q$22,Scharnieren!$C$7:$N$11,9,FALSE))","v":"TE340.1"},{"$f":"IF('ORDER FRAMES'!$B$23=\"X40\",VLOOKUP('ORDER FRAMES'!$Q$23,Scharnieren!$C$16:$M$20,9,FALSE),VLOOKUP('ORDER FRAMES'!$Q$23,Scharnieren!$C$7:$N$11,9,FALSE))","v":{"$error":"#N/A"}},{"$f":"IF('ORDER FRAMES'!$B$24=\"X40\",VLOOKUP('ORDER FRAMES'!$Q$24,Scharnieren!$C$16:$M$20,9,FALSE),VLOOKUP('ORDER FRAMES'!$Q$24,Scharnieren!$C$7:$N$11,9,FALSE))","v":{"$error":"#N/A"}},{"$f":"IF('ORDER FRAMES'!$B$25=\"X40\",VLOOKUP('ORDER FRAMES'!$Q$25,Scharnieren!$C$16:$M$20,9,FALSE),VLOOKUP('ORDER FRAMES'!$Q$25,Scharnieren!$C$7:$N$11,9,FALSE))","v":{"$error":"#N/A"}},{"$f":"IF('ORDER FRAMES'!$B$26=\"X40\",VLOOKUP('ORDER FRAMES'!$Q$26,Scharnieren!$C$16:$M$20,9,FALSE),VLOOKUP('ORDER FRAMES'!$Q$26,Scharnieren!$C$7:$N$11,9,FALSE))","v":{"$error":"#N/A"}},{"$f":"IF('ORDER FRAMES'!$B$27=\"X40\",VLOOKUP('ORDER FRAMES'!$Q$27,Scharnieren!$C$16:$M$20,9,FALSE),VLOOKUP('ORDER FRAMES'!$Q$27,Scharnieren!$C$7:$N$11,9,FALSE))","v":{"$error":"#N/A"}},{"$f":"IF('ORDER FRAMES'!$B$28=\"X40\",VLOOKUP('ORDER FRAMES'!$Q$28,Scharnieren!$C$16:$M$20,9,FALSE),VLOOKUP('ORDER FRAMES'!$Q$28,Scharnieren!$C$7:$N$11,9,FALSE))","v":{"$error":"#N/A"}},{"$f":"IF('ORDER FRAMES'!$B$29=\"X40\",VLOOKUP('ORDER FRAMES'!$Q$29,Scharnieren!$C$16:$M$20,9,FALSE),VLOOKUP('ORDER FRAMES'!$Q$29,Scharnieren!$C$7:$M$11,9,FALSE))","v":{"$error":"#N/A"}},{"$f":"IF('ORDER FRAMES'!$B$30=\"X40\",VLOOKUP('ORDER FRAMES'!$Q$30,Scharnieren!$C$16:$M$20,9,FALSE),VLOOKUP('ORDER FRAMES'!$Q$30,Scharnieren!$C$7:$M$11,9,FALSE))","v":{"$error":"#N/A"}},{"$f":"IF('ORDER FRAMES'!$B$31=\"X40\",VLOOKUP('ORDER FRAMES'!$Q$31,Scharnieren!$C$16:$M$20,9,FALSE),VLOOKUP('ORDER FRAMES'!$Q$31,Scharnieren!$C$7:$M$11,9,FALSE))","v":{"$error":"#N/A"}},{"$f":"IF('ORDER FRAMES'!$B$32=\"X40\",VLOOKUP('ORDER FRAMES'!$Q$32,Scharnieren!$C$16:$M$20,9,FALSE),VLOOKUP('ORDER FRAMES'!$Q$32,Scharnieren!$C$7:$M$11,9,FALSE))","v":{"$error":"#N/A"}},{"$f":"IF('ORDER FRAMES'!$B$33=\"X40\",VLOOKUP('ORDER FRAMES'!$Q$33,Scharnieren!$C$16:$M$20,9,FALSE),VLOOKUP('ORDER FRAMES'!$Q$33,Scharnieren!$C$7:$M$11,9,FALSE))","v":{"$error":"#N/A"}},{"$f":"IF('ORDER FRAMES'!$B$34=\"X40\",VLOOKUP('ORDER FRAMES'!$Q$34,Scharnieren!$C$16:$M$20,9,FALSE),VLOOKUP('ORDER FRAMES'!$Q$34,Scharnieren!$C$7:$M$11,9,FALSE))","v":{"$error":"#N/A"}},{"$f":"IF('ORDER FRAMES'!$B$35=\"X40\",VLOOKUP('ORDER FRAMES'!$Q$35,Scharnieren!$C$16:$M$20,9,FALSE),VLOOKUP('ORDER FRAMES'!$Q$35,Scharnieren!$C$7:$M$11,9,FALSE))","v":{"$error":"#N/A"}},{"$f":"IF('ORDER FRAMES'!$B$36=\"X40\",VLOOKUP('ORDER FRAMES'!$Q$36,Scharnieren!$C$16:$M$20,9,FALSE),VLOOKUP('ORDER FRAMES'!$Q$36,Scharnieren!$C$7:$M$11,9,FALSE))","v":{"$error":"#N/A"}},{"$f":"IF('ORDER FRAMES'!$B$37=\"X40\",VLOOKUP('ORDER FRAMES'!$Q$37,Scharnieren!$C$16:$M$20,9,FALSE),VLOOKUP('ORDER FRAMES'!$Q$37,Scharnieren!$C$7:$M$11,9,FALSE))","v":{"$error":"#N/A"}},{"$f":"IF('ORDER FRAMES'!$B$38=\"X40\",VLOOKUP('ORDER FRAMES'!$Q$38,Scharnieren!$C$16:$M$20,9,FALSE),VLOOKUP('ORDER FRAMES'!$Q$38,Scharnieren!$C$7:$M$11,9,FALSE))","v":{"$error":"#N/A"}},{"$f":"IF('ORDER FRAMES'!$B$39=\"X40\",VLOOKUP('ORDER FRAMES'!$Q$39,Scharnieren!$C$16:$M$20,9,FALSE),VLOOKUP('ORDER FRAMES'!$Q$39,Scharnieren!$C$7:$M$11,9,FALSE))","v":{"$error":"#N/A"}},{"$f":"IF('ORDER FRAMES'!$B$40=\"X40\",VLOOKUP('ORDER FRAMES'!$Q$40,Scharnieren!$C$16:$M$20,9,FALSE),VLOOKUP('ORDER FRAMES'!$Q$40,Scharnieren!$C$7:$M$11,9,FALSE))","v":{"$error":"#N/A"}},{"$f":"IF('ORDER FRAMES'!$B$41=\"X40\",VLOOKUP('ORDER FRAMES'!$Q$41,Scharnieren!$C$16:$M$20,9,FALSE),VLOOKUP('ORDER FRAMES'!$Q$41,Scharnieren!$C$7:$M$11,9,FALSE))","v":{"$error":"#N/A"}},{"$f":"IF('ORDER FRAMES'!$B$42=\"X40\",VLOOKUP('ORDER FRAMES'!$Q$42,Scharnieren!$C$16:$M$20,9,FALSE),VLOOKUP('ORDER FRAMES'!$Q$42,Scharnieren!$C$7:$M$11,9,FALSE))","v":{"$error":"#N/A"}},{"$f":"IF('ORDER FRAMES'!$B$43=\"X40\",VLOOKUP('ORDER FRAMES'!$Q$43,Scharnieren!$C$16:$M$20,9,FALSE),VLOOKUP('ORDER FRAMES'!$Q$43,Scharnieren!$C$7:$M$11,9,FALSE))","v":{"$error":"#N/A"}},{"$f":"IF('ORDER FRAMES'!$B$44=\"X40\",VLOOKUP('ORDER FRAMES'!$Q$44,Scharnieren!$C$16:$M$20,9,FALSE),VLOOKUP('ORDER FRAMES'!$Q$44,Scharnieren!$C$7:$M$11,9,FALSE))","v":{"$error":"#N/A"}},{"$f":"IF('ORDER FRAMES'!$B$45=\"X40\",VLOOKUP('ORDER FRAMES'!$Q$45,Scharnieren!$C$16:$M$20,9,FALSE),VLOOKUP('ORDER FRAMES'!$Q$45,Scharnieren!$C$7:$M$11,9,FALSE))","v":{"$error":"#N/A"}},{"$f":"IF('ORDER FRAMES'!$B$46=\"X40\",VLOOKUP('ORDER FRAMES'!$Q$46,Scharnieren!$C$16:$M$20,9,FALSE),VLOOKUP('ORDER FRAMES'!$Q$46,Scharnieren!$C$7:$M$11,9,FALSE))","v":{"$error":"#N/A"}},{"$f":"IF('ORDER FRAMES'!$B$47=\"X40\",VLOOKUP('ORDER FRAMES'!$Q$47,Scharnieren!$C$16:$M$20,9,FALSE),VLOOKUP('ORDER FRAMES'!$Q$47,Scharnieren!$C$7:$M$11,9,FALSE))","v":{"$error":"#N/A"}},{"$f":"IF('ORDER FRAMES'!$B$48=\"X40\",VLOOKUP('ORDER FRAMES'!$Q$48,Scharnieren!$C$16:$M$20,9,FALSE),VLOOKUP('ORDER FRAMES'!$Q$48,Scharnieren!$C$7:$M$11,9,FALSE))","v":{"$error":"#N/A"}},{"$f":"IF('ORDER FRAMES'!$B$49=\"X40\",VLOOKUP('ORDER FRAMES'!$Q$49,Scharnieren!$C$16:$M$20,9,FALSE),VLOOKUP('ORDER FRAMES'!$Q$49,Scharnieren!$C$7:$M$11,9,FALSE))","v":{"$error":"#N/A"}},{"$f":"IF('ORDER FRAMES'!$B$50=\"X40\",VLOOKUP('ORDER FRAMES'!$Q$50,Scharnieren!$C$16:$M$20,9,FALSE),VLOOKUP('ORDER FRAMES'!$Q$50,Scharnieren!$C$7:$M$11,9,FALSE))","v":{"$error":"#N/A"}},{"$f":"IF('ORDER FRAMES'!$B$51=\"X40\",VLOOKUP('ORDER FRAMES'!$Q$51,Scharnieren!$C$16:$M$20,9,FALSE),VLOOKUP('ORDER FRAMES'!$Q$51,Scharnieren!$C$7:$M$11,9,FALSE))","v":{"$error":"#N/A"}},{"$f":"IF('ORDER FRAMES'!$B$52=\"X40\",VLOOKUP('ORDER FRAMES'!$Q$52,Scharnieren!$C$16:$M$20,9,FALSE),VLOOKUP('ORDER FRAMES'!$Q$52,Scharnieren!$C$7:$M$11,9,FALSE))","v":{"$error":"#N/A"}},{"$f":"IF('ORDER FRAMES'!$B$53=\"X40\",VLOOKUP('ORDER FRAMES'!$Q$53,Scharnieren!$C$16:$M$20,9,FALSE),VLOOKUP('ORDER FRAMES'!$Q$53,Scharnieren!$C$7:$M$11,9,FALSE))","v":{"$error":"#N/A"}},{"$f":"IF('ORDER FRAMES'!$B$54=\"X40\",VLOOKUP('ORDER FRAMES'!$Q$54,Scharnieren!$C$16:$M$20,9,FALSE),VLOOKUP('ORDER FRAMES'!$Q$54,Scharnieren!$C$7:$M$11,9,FALSE))","v":{"$error":"#N/A"}},{"$f":"IF('ORDER FRAMES'!$B$55=\"X40\",VLOOKUP('ORDER FRAMES'!$Q$55,Scharnieren!$C$16:$M$20,9,FALSE),VLOOKUP('ORDER FRAMES'!$Q$55,Scharnieren!$C$7:$M$11,9,FALSE))","v":{"$error":"#N/A"}},{"$f":"IF('ORDER FRAMES'!$B$56=\"X40\",VLOOKUP('ORDER FRAMES'!$Q$56,Scharnieren!$C$16:$M$20,9,FALSE),VLOOKUP('ORDER FRAMES'!$Q$56,Scharnieren!$C$7:$M$11,9,FALSE))","v":{"$error":"#N/A"}},{"$f":"IF('ORDER FRAMES'!$B$57=\"X40\",VLOOKUP('ORDER FRAMES'!$Q$57,Scharnieren!$C$16:$M$20,9,FALSE),VLOOKUP('ORDER FRAMES'!$Q$57,Scharnieren!$C$7:$M$11,9,FALSE))","v":{"$error":"#N/A"}},{"$f":"IF('ORDER FRAMES'!$B$58=\"X40\",VLOOKUP('ORDER FRAMES'!$Q$58,Scharnieren!$C$16:$M$20,9,FALSE),VLOOKUP('ORDER FRAMES'!$Q$58,Scharnieren!$C$7:$M$11,9,FALSE))","v":{"$error":"#N/A"}},{"$f":"IF('ORDER FRAMES'!$B$59=\"X40\",VLOOKUP('ORDER FRAMES'!$Q$59,Scharnieren!$C$16:$M$20,9,FALSE),VLOOKUP('ORDER FRAMES'!$Q$59,Scharnieren!$C$7:$M$11,9,FALSE))","v":{"$error":"#N/A"}},{"$f":"IF('ORDER FRAMES'!$B$60=\"X40\",VLOOKUP('ORDER FRAMES'!$Q$60,Scharnieren!$C$16:$M$20,9,FALSE),VLOOKUP('ORDER FRAMES'!$Q$60,Scharnieren!$C$7:$M$11,9,FALSE))","v":{"$error":"#N/A"}},{"$f":"IF('ORDER FRAMES'!$B$61=\"X40\",VLOOKUP('ORDER FRAMES'!$Q$61,Scharnieren!$C$16:$M$20,9,FALSE),VLOOKUP('ORDER FRAMES'!$Q$61,Scharnieren!$C$7:$M$11,9,FALSE))","v":{"$error":"#N/A"}},{"$f":"IF('ORDER FRAMES'!$B$62=\"X40\",VLOOKUP('ORDER FRAMES'!$Q$62,Scharnieren!$C$16:$M$20,9,FALSE),VLOOKUP('ORDER FRAMES'!$Q$62,Scharnieren!$C$7:$M$11,9,FALSE))","v":{"$error":"#N/A"}},{"$f":"IF('ORDER FRAMES'!$B$63=\"X40\",VLOOKUP('ORDER FRAMES'!$Q$63,Scharnieren!$C$16:$M$20,9,FALSE),VLOOKUP('ORDER FRAMES'!$Q$63,Scharnieren!$C$7:$M$11,9,FALSE))","v":{"$error":"#N/A"}},{"$f":"IF('ORDER FRAMES'!$B$64=\"X40\",VLOOKUP('ORDER FRAMES'!$Q$64,Scharnieren!$C$16:$M$20,9,FALSE),VLOOKUP('ORDER FRAMES'!$Q$64,Scharnieren!$C$7:$M$11,9,FALSE))","v":{"$error":"#N/A"}},{"$f":"IF('ORDER FRAMES'!$B$65=\"X40\",VLOOKUP('ORDER FRAMES'!$Q$65,Scharnieren!$C$16:$M$20,9,FALSE),VLOOKUP('ORDER FRAMES'!$Q$65,Scharnieren!$C$7:$M$11,9,FALSE))","v":{"$error":"#N/A"}},{"$f":"IF('ORDER FRAMES'!$B$66=\"X40\",VLOOKUP('ORDER FRAMES'!$Q$66,Scharnieren!$C$16:$M$20,9,FALSE),VLOOKUP('ORDER FRAMES'!$Q$66,Scharnieren!$C$7:$M$11,9,FALSE))","v":{"$error":"#N/A"}},{"$f":"IF('ORDER FRAMES'!$B$67=\"X40\",VLOOKUP('ORDER FRAMES'!$Q$67,Scharnieren!$C$16:$M$20,9,FALSE),VLOOKUP('ORDER FRAMES'!$Q$67,Scharnieren!$C$7:$M$11,9,FALSE))","v":{"$error":"#N/A"}},{"$f":"IF('ORDER FRAMES'!$B$68=\"X40\",VLOOKUP('ORDER FRAMES'!$Q$68,Scharnieren!$C$16:$M$20,9,FALSE),VLOOKUP('ORDER FRAMES'!$Q$68,Scharnieren!$C$7:$M$11,9,FALSE))","v":{"$error":"#N/A"}},{"$f":"IF('ORDER FRAMES'!$B$69=\"X40\",VLOOKUP('ORDER FRAMES'!$Q$69,Scharnieren!$C$16:$M$20,9,FALSE),VLOOKUP('ORDER FRAMES'!$Q$69,Scharnieren!$C$7:$M$11,9,FALSE))","v":{"$error":"#N/A"}},{"$f":"IF('ORDER FRAMES'!$B$70=\"X40\",VLOOKUP('ORDER FRAMES'!$Q$70,Scharnieren!$C$16:$M$20,9,FALSE),VLOOKUP('ORDER FRAMES'!$Q$70,Scharnieren!$C$7:$M$11,9,FALSE))","v":{"$error":"#N/A"}},{"$f":"IF('ORDER FRAMES'!$B$71=\"X40\",VLOOKUP('ORDER FRAMES'!$Q$71,Scharnieren!$C$16:$M$20,9,FALSE),VLOOKUP('ORDER FRAMES'!$Q$71,Scharnieren!$C$7:$M$11,9,FALSE))","v":{"$error":"#N/A"}},{"$f":"IF('ORDER FRAMES'!$B$72=\"X40\",VLOOKUP('ORDER FRAMES'!$Q$72,Scharnieren!$C$16:$M$20,9,FALSE),VLOOKUP('ORDER FRAMES'!$Q$72,Scharnieren!$C$7:$M$11,9,FALSE))","v":{"$error":"#N/A"}},{"$f":"IF('ORDER FRAMES'!$B$73=\"X40\",VLOOKUP('ORDER FRAMES'!$Q$73,Scharnieren!$C$16:$M$20,9,FALSE),VLOOKUP('ORDER FRAMES'!$Q$73,Scharnieren!$C$7:$M$11,9,FALSE))","v":{"$error":"#N/A"}},{"$f":"IF('ORDER FRAMES'!$B$74=\"X40\",VLOOKUP('ORDER FRAMES'!$Q$74,Scharnieren!$C$16:$M$20,9,FALSE),VLOOKUP('ORDER FRAMES'!$Q$74,Scharnieren!$C$7:$M$11,9,FALSE))","v":{"$error":"#N/A"}},{"$f":"IF('ORDER FRAMES'!$B$75=\"X40\",VLOOKUP('ORDER FRAMES'!$Q$75,Scharnieren!$C$16:$M$20,9,FALSE),VLOOKUP('ORDER FRAMES'!$Q$75,Scharnieren!$C$7:$M$11,9,FALSE))","v":{"$error":"#N/A"}},{"$f":"IF('ORDER FRAMES'!$B$76=\"X40\",VLOOKUP('ORDER FRAMES'!$Q$76,Scharnieren!$C$16:$M$20,9,FALSE),VLOOKUP('ORDER FRAMES'!$Q$76,Scharnieren!$C$7:$M$11,9,FALSE))","v":{"$error":"#N/A"}},{"$f":"IF('ORDER FRAMES'!$B$77=\"X40\",VLOOKUP('ORDER FRAMES'!$Q$77,Scharnieren!$C$16:$M$20,9,FALSE),VLOOKUP('ORDER FRAMES'!$Q$77,Scharnieren!$C$7:$M$11,9,FALSE))","v":{"$error":"#N/A"}},{"$f":"IF('ORDER FRAMES'!$B$78=\"X40\",VLOOKUP('ORDER FRAMES'!$Q$78,Scharnieren!$C$16:$M$20,9,FALSE),VLOOKUP('ORDER FRAMES'!$Q$78,Scharnieren!$C$7:$M$11,9,FALSE))","v":{"$error":"#N/A"}},{"$f":"IF('ORDER FRAMES'!$B$79=\"X40\",VLOOKUP('ORDER FRAMES'!$Q$79,Scharnieren!$C$16:$M$20,9,FALSE),VLOOKUP('ORDER FRAMES'!$Q$79,Scharnieren!$C$7:$M$11,9,FALSE))","v":{"$error":"#N/A"}},{"$f":"IF('ORDER FRAMES'!$B$80=\"X40\",VLOOKUP('ORDER FRAMES'!$Q$80,Scharnieren!$C$16:$M$20,9,FALSE),VLOOKUP('ORDER FRAMES'!$Q$80,Scharnieren!$C$7:$M$11,9,FALSE))","v":{"$error":"#N/A"}},{"$f":"IF('ORDER FRAMES'!$B$81=\"X40\",VLOOKUP('ORDER FRAMES'!$Q$81,Scharnieren!$C$16:$M$20,9,FALSE),VLOOKUP('ORDER FRAMES'!$Q$81,Scharnieren!$C$7:$M$11,9,FALSE))","v":{"$error":"#N/A"}},{"$f":"IF('ORDER FRAMES'!$B$82=\"X40\",VLOOKUP('ORDER FRAMES'!$Q$82,Scharnieren!$C$16:$M$20,9,FALSE),VLOOKUP('ORDER FRAMES'!$Q$82,Scharnieren!$C$7:$M$11,9,FALSE))","v":{"$error":"#N/A"}},{"$f":"IF('ORDER FRAMES'!$B$83=\"X40\",VLOOKUP('ORDER FRAMES'!$Q$83,Scharnieren!$C$16:$M$20,9,FALSE),VLOOKUP('ORDER FRAMES'!$Q$83,Scharnieren!$C$7:$M$11,9,FALSE))","v":{"$error":"#N/A"}},{"$f":"IF('ORDER FRAMES'!$B$84=\"X40\",VLOOKUP('ORDER FRAMES'!$Q$84,Scharnieren!$C$16:$M$20,9,FALSE),VLOOKUP('ORDER FRAMES'!$Q$84,Scharnieren!$C$7:$M$11,9,FALSE))","v":{"$error":"#N/A"}},{"$f":"IF('ORDER FRAMES'!$B$85=\"X40\",VLOOKUP('ORDER FRAMES'!$Q$85,Scharnieren!$C$16:$M$20,9,FALSE),VLOOKUP('ORDER FRAMES'!$Q$85,Scharnieren!$C$7:$M$11,9,FALSE))","v":{"$error":"#N/A"}},{"$f":"IF('ORDER FRAMES'!$B$86=\"X40\",VLOOKUP('ORDER FRAMES'!$Q$86,Scharnieren!$C$16:$M$20,9,FALSE),VLOOKUP('ORDER FRAMES'!$Q$86,Scharnieren!$C$7:$M$11,9,FALSE))","v":{"$error":"#N/A"}},{"$f":"IF('ORDER FRAMES'!$B$87=\"X40\",VLOOKUP('ORDER FRAMES'!$Q$87,Scharnieren!$C$16:$M$20,9,FALSE),VLOOKUP('ORDER FRAMES'!$Q$87,Scharnieren!$C$7:$M$11,9,FALSE))","v":{"$error":"#N/A"}},{"$f":"IF('ORDER FRAMES'!$B$88=\"X40\",VLOOKUP('ORDER FRAMES'!$Q$88,Scharnieren!$C$16:$M$20,9,FALSE),VLOOKUP('ORDER FRAMES'!$Q$88,Scharnieren!$C$7:$M$11,9,FALSE))","v":{"$error":"#N/A"}},{"$f":"IF('ORDER FRAMES'!$B$89=\"X40\",VLOOKUP('ORDER FRAMES'!$Q$89,Scharnieren!$C$16:$M$20,9,FALSE),VLOOKUP('ORDER FRAMES'!$Q$89,Scharnieren!$C$7:$M$11,9,FALSE))","v":{"$error":"#N/A"}},{"$f":"IF('ORDER FRAMES'!$B$90=\"X40\",VLOOKUP('ORDER FRAMES'!$Q$90,Scharnieren!$C$16:$M$20,9,FALSE),VLOOKUP('ORDER FRAMES'!$Q$90,Scharnieren!$C$7:$M$11,9,FALSE))","v":{"$error":"#N/A"}},{"$f":"IF('ORDER FRAMES'!$B$91=\"X40\",VLOOKUP('ORDER FRAMES'!$Q$91,Scharnieren!$C$16:$M$20,9,FALSE),VLOOKUP('ORDER FRAMES'!$Q$91,Scharnieren!$C$7:$M$11,9,FALSE))","v":{"$error":"#N/A"}},{"$f":"IF('ORDER FRAMES'!$B$92=\"X40\",VLOOKUP('ORDER FRAMES'!$Q$92,Scharnieren!$C$16:$M$20,9,FALSE),VLOOKUP('ORDER FRAMES'!$Q$92,Scharnieren!$C$7:$M$11,9,FALSE))","v":{"$error":"#N/A"}},{"$f":"IF('ORDER FRAMES'!$B$93=\"X40\",VLOOKUP('ORDER FRAMES'!$Q$93,Scharnieren!$C$16:$M$20,9,FALSE),VLOOKUP('ORDER FRAMES'!$Q$93,Scharnieren!$C$7:$M$11,9,FALSE))","v":{"$error":"#N/A"}},{"$f":"IF('ORDER FRAMES'!$B$94=\"X40\",VLOOKUP('ORDER FRAMES'!$Q$94,Scharnieren!$C$16:$M$20,9,FALSE),VLOOKUP('ORDER FRAMES'!$Q$94,Scharnieren!$C$7:$M$11,9,FALSE))","v":{"$error":"#N/A"}},{"$f":"IF('ORDER FRAMES'!$B$95=\"X40\",VLOOKUP('ORDER FRAMES'!$Q$95,Scharnieren!$C$16:$M$20,9,FALSE),VLOOKUP('ORDER FRAMES'!$Q$95,Scharnieren!$C$7:$M$11,9,FALSE))","v":{"$error":"#N/A"}},{"$f":"IF('ORDER FRAMES'!$B$96=\"X40\",VLOOKUP('ORDER FRAMES'!$Q$96,Scharnieren!$C$16:$M$20,9,FALSE),VLOOKUP('ORDER FRAMES'!$Q$96,Scharnieren!$C$7:$M$11,9,FALSE))","v":{"$error":"#N/A"}},{"$f":"IF('ORDER FRAMES'!$B$97=\"X40\",VLOOKUP('ORDER FRAMES'!$Q$97,Scharnieren!$C$16:$M$20,9,FALSE),VLOOKUP('ORDER FRAMES'!$Q$97,Scharnieren!$C$7:$M$11,9,FALSE))","v":{"$error":"#N/A"}},{"$f":"IF('ORDER FRAMES'!$B$98=\"X40\",VLOOKUP('ORDER FRAMES'!$Q$98,Scharnieren!$C$16:$M$20,9,FALSE),VLOOKUP('ORDER FRAMES'!$Q$98,Scharnieren!$C$7:$M$11,9,FALSE))","v":{"$error":"#N/A"}},{"$f":"IF('ORDER FRAMES'!$B$99=\"X40\",VLOOKUP('ORDER FRAMES'!$Q$99,Scharnieren!$C$16:$M$20,9,FALSE),VLOOKUP('ORDER FRAMES'!$Q$99,Scharnieren!$C$7:$M$11,9,FALSE))","v":{"$error":"#N/A"}},{"$f":"IF('ORDER FRAMES'!$B$100=\"X40\",VLOOKUP('ORDER FRAMES'!$Q$100,Scharnieren!$C$16:$M$20,9,FALSE),VLOOKUP('ORDER FRAMES'!$Q$100,Scharnieren!$C$7:$M$11,9,FALSE))","v":{"$error":"#N/A"}}]
[null,"ITS ",4,"A24.0","A24.1","A24.2","X4030.W","X4030.G","X4030.B","TE340.0","TE340.1","TE340.2","A30.0","A30.2",null,null,null,null,null,null,{"$f":"IF('ORDER FRAMES'!$B$21=\"X40\",VLOOKUP('ORDER FRAMES'!$Q$21,Scharnieren!$C$16:$M$20,10,FALSE),VLOOKUP('ORDER FRAMES'!$Q$21,Scharnieren!$C$7:$N$11,10,FALSE))","v":"TE340.2"},{"$f":"IF('ORDER FRAMES'!$B$22=\"X40\",VLOOKUP('ORDER FRAMES'!$Q$22,Scharnieren!$C$16:$M$20,10,FALSE),VLOOKUP('ORDER FRAMES'!$Q$22,Scharnieren!$C$7:$N$11,10,FALSE))","v":"TE340.2"},{"$f":"IF('ORDER FRAMES'!$B$23=\"X40\",VLOOKUP('ORDER FRAMES'!$Q$23,Scharnieren!$C$16:$M$20,10,FALSE),VLOOKUP('ORDER FRAMES'!$Q$23,Scharnieren!$C$7:$N$11,10,FALSE))","v":{"$error":"#N/A"}},{"$f":"IF('ORDER FRAMES'!$B$24=\"X40\",VLOOKUP('ORDER FRAMES'!$Q$24,Scharnieren!$C$16:$M$20,10,FALSE),VLOOKUP('ORDER FRAMES'!$Q$24,Scharnieren!$C$7:$N$11,10,FALSE))","v":{"$error":"#N/A"}},{"$f":"IF('ORDER FRAMES'!$B$25=\"X40\",VLOOKUP('ORDER FRAMES'!$Q$25,Scharnieren!$C$16:$M$20,10,FALSE),VLOOKUP('ORDER FRAMES'!$Q$25,Scharnieren!$C$7:$N$11,10,FALSE))","v":{"$error":"#N/A"}},{"$f":"IF('ORDER FRAMES'!$B$26=\"X40\",VLOOKUP('ORDER FRAMES'!$Q$26,Scharnieren!$C$16:$M$20,10,FALSE),VLOOKUP('ORDER FRAMES'!$Q$26,Scharnieren!$C$7:$N$11,10,FALSE))","v":{"$error":"#N/A"}},{"$f":"IF('ORDER FRAMES'!$B$27=\"X40\",VLOOKUP('ORDER FRAMES'!$Q$27,Scharnieren!$C$16:$M$20,10,FALSE),VLOOKUP('ORDER FRAMES'!$Q$27,Scharnieren!$C$7:$N$11,10,FALSE))","v":{"$error":"#N/A"}},{"$f":"IF('ORDER FRAMES'!$B$28=\"X40\",VLOOKUP('ORDER FRAMES'!$Q$28,Scharnieren!$C$16:$M$20,10,FALSE),VLOOKUP('ORDER FRAMES'!$Q$28,Scharnieren!$C$7:$N$11,10,FALSE))","v":{"$error":"#N/A"}},{"$f":"IF('ORDER FRAMES'!$B$29=\"X40\",VLOOKUP('ORDER FRAMES'!$Q$29,Scharnieren!$C$16:$M$20,10,FALSE),VLOOKUP('ORDER FRAMES'!$Q$29,Scharnieren!$C$7:$M$11,10,FALSE))","v":{"$error":"#N/A"}},{"$f":"IF('ORDER FRAMES'!$B$30=\"X40\",VLOOKUP('ORDER FRAMES'!$Q$30,Scharnieren!$C$16:$M$20,10,FALSE),VLOOKUP('ORDER FRAMES'!$Q$30,Scharnieren!$C$7:$M$11,10,FALSE))","v":{"$error":"#N/A"}},{"$f":"IF('ORDER FRAMES'!$B$31=\"X40\",VLOOKUP('ORDER FRAMES'!$Q$31,Scharnieren!$C$16:$M$20,10,FALSE),VLOOKUP('ORDER FRAMES'!$Q$31,Scharnieren!$C$7:$M$11,10,FALSE))","v":{"$error":"#N/A"}},{"$f":"IF('ORDER FRAMES'!$B$32=\"X40\",VLOOKUP('ORDER FRAMES'!$Q$32,Scharnieren!$C$16:$M$20,10,FALSE),VLOOKUP('ORDER FRAMES'!$Q$32,Scharnieren!$C$7:$M$11,10,FALSE))","v":{"$error":"#N/A"}},{"$f":"IF('ORDER FRAMES'!$B$33=\"X40\",VLOOKUP('ORDER FRAMES'!$Q$33,Scharnieren!$C$16:$M$20,10,FALSE),VLOOKUP('ORDER FRAMES'!$Q$33,Scharnieren!$C$7:$M$11,10,FALSE))","v":{"$error":"#N/A"}},{"$f":"IF('ORDER FRAMES'!$B$34=\"X40\",VLOOKUP('ORDER FRAMES'!$Q$34,Scharnieren!$C$16:$M$20,10,FALSE),VLOOKUP('ORDER FRAMES'!$Q$34,Scharnieren!$C$7:$M$11,10,FALSE))","v":{"$error":"#N/A"}},{"$f":"IF('ORDER FRAMES'!$B$35=\"X40\",VLOOKUP('ORDER FRAMES'!$Q$35,Scharnieren!$C$16:$M$20,10,FALSE),VLOOKUP('ORDER FRAMES'!$Q$35,Scharnieren!$C$7:$M$11,10,FALSE))","v":{"$error":"#N/A"}},{"$f":"IF('ORDER FRAMES'!$B$36=\"X40\",VLOOKUP('ORDER FRAMES'!$Q$36,Scharnieren!$C$16:$M$20,10,FALSE),VLOOKUP('ORDER FRAMES'!$Q$36,Scharnieren!$C$7:$M$11,10,FALSE))","v":{"$error":"#N/A"}},{"$f":"IF('ORDER FRAMES'!$B$37=\"X40\",VLOOKUP('ORDER FRAMES'!$Q$37,Scharnieren!$C$16:$M$20,10,FALSE),VLOOKUP('ORDER FRAMES'!$Q$37,Scharnieren!$C$7:$M$11,10,FALSE))","v":{"$error":"#N/A"}},{"$f":"IF('ORDER FRAMES'!$B$38=\"X40\",VLOOKUP('ORDER FRAMES'!$Q$38,Scharnieren!$C$16:$M$20,10,FALSE),VLOOKUP('ORDER FRAMES'!$Q$38,Scharnieren!$C$7:$M$11,10,FALSE))","v":{"$error":"#N/A"}},{"$f":"IF('ORDER FRAMES'!$B$39=\"X40\",VLOOKUP('ORDER FRAMES'!$Q$39,Scharnieren!$C$16:$M$20,10,FALSE),VLOOKUP('ORDER FRAMES'!$Q$39,Scharnieren!$C$7:$M$11,10,FALSE))","v":{"$error":"#N/A"}},{"$f":"IF('ORDER FRAMES'!$B$40=\"X40\",VLOOKUP('ORDER FRAMES'!$Q$40,Scharnieren!$C$16:$M$20,10,FALSE),VLOOKUP('ORDER FRAMES'!$Q$40,Scharnieren!$C$7:$M$11,10,FALSE))","v":{"$error":"#N/A"}},{"$f":"IF('ORDER FRAMES'!$B$41=\"X40\",VLOOKUP('ORDER FRAMES'!$Q$41,Scharnieren!$C$16:$M$20,10,FALSE),VLOOKUP('ORDER FRAMES'!$Q$41,Scharnieren!$C$7:$M$11,10,FALSE))","v":{"$error":"#N/A"}},{"$f":"IF('ORDER FRAMES'!$B$42=\"X40\",VLOOKUP('ORDER FRAMES'!$Q$42,Scharnieren!$C$16:$M$20,10,FALSE),VLOOKUP('ORDER FRAMES'!$Q$42,Scharnieren!$C$7:$M$11,10,FALSE))","v":{"$error":"#N/A"}},{"$f":"IF('ORDER FRAMES'!$B$43=\"X40\",VLOOKUP('ORDER FRAMES'!$Q$43,Scharnieren!$C$16:$M$20,10,FALSE),VLOOKUP('ORDER FRAMES'!$Q$43,Scharnieren!$C$7:$M$11,10,FALSE))","v":{"$error":"#N/A"}},{"$f":"IF('ORDER FRAMES'!$B$44=\"X40\",VLOOKUP('ORDER FRAMES'!$Q$44,Scharnieren!$C$16:$M$20,10,FALSE),VLOOKUP('ORDER FRAMES'!$Q$44,Scharnieren!$C$7:$M$11,10,FALSE))","v":{"$error":"#N/A"}},{"$f":"IF('ORDER FRAMES'!$B$45=\"X40\",VLOOKUP('ORDER FRAMES'!$Q$45,Scharnieren!$C$16:$M$20,10,FALSE),VLOOKUP('ORDER FRAMES'!$Q$45,Scharnieren!$C$7:$M$11,10,FALSE))","v":{"$error":"#N/A"}},{"$f":"IF('ORDER FRAMES'!$B$46=\"X40\",VLOOKUP('ORDER FRAMES'!$Q$46,Scharnieren!$C$16:$M$20,10,FALSE),VLOOKUP('ORDER FRAMES'!$Q$46,Scharnieren!$C$7:$M$11,10,FALSE))","v":{"$error":"#N/A"}},{"$f":"IF('ORDER FRAMES'!$B$47=\"X40\",VLOOKUP('ORDER FRAMES'!$Q$47,Scharnieren!$C$16:$M$20,10,FALSE),VLOOKUP('ORDER FRAMES'!$Q$47,Scharnieren!$C$7:$M$11,10,FALSE))","v":{"$error":"#N/A"}},{"$f":"IF('ORDER FRAMES'!$B$48=\"X40\",VLOOKUP('ORDER FRAMES'!$Q$48,Scharnieren!$C$16:$M$20,10,FALSE),VLOOKUP('ORDER FRAMES'!$Q$48,Scharnieren!$C$7:$M$11,10,FALSE))","v":{"$error":"#N/A"}},{"$f":"IF('ORDER FRAMES'!$B$49=\"X40\",VLOOKUP('ORDER FRAMES'!$Q$49,Scharnieren!$C$16:$M$20,10,FALSE),VLOOKUP('ORDER FRAMES'!$Q$49,Scharnieren!$C$7:$M$11,10,FALSE))","v":{"$error":"#N/A"}},{"$f":"IF('ORDER FRAMES'!$B$50=\"X40\",VLOOKUP('ORDER FRAMES'!$Q$50,Scharnieren!$C$16:$M$20,10,FALSE),VLOOKUP('ORDER FRAMES'!$Q$50,Scharnieren!$C$7:$M$11,10,FALSE))","v":{"$error":"#N/A"}},{"$f":"IF('ORDER FRAMES'!$B$51=\"X40\",VLOOKUP('ORDER FRAMES'!$Q$51,Scharnieren!$C$16:$M$20,10,FALSE),VLOOKUP('ORDER FRAMES'!$Q$51,Scharnieren!$C$7:$M$11,10,FALSE))","v":{"$error":"#N/A"}},{"$f":"IF('ORDER FRAMES'!$B$52=\"X40\",VLOOKUP('ORDER FRAMES'!$Q$52,Scharnieren!$C$16:$M$20,10,FALSE),VLOOKUP('ORDER FRAMES'!$Q$52,Scharnieren!$C$7:$M$11,10,FALSE))","v":{"$error":"#N/A"}},{"$f":"IF('ORDER FRAMES'!$B$53=\"X40\",VLOOKUP('ORDER FRAMES'!$Q$53,Scharnieren!$C$16:$M$20,10,FALSE),VLOOKUP('ORDER FRAMES'!$Q$53,Scharnieren!$C$7:$M$11,10,FALSE))","v":{"$error":"#N/A"}},{"$f":"IF('ORDER FRAMES'!$B$54=\"X40\",VLOOKUP('ORDER FRAMES'!$Q$54,Scharnieren!$C$16:$M$20,10,FALSE),VLOOKUP('ORDER FRAMES'!$Q$54,Scharnieren!$C$7:$M$11,10,FALSE))","v":{"$error":"#N/A"}},{"$f":"IF('ORDER FRAMES'!$B$55=\"X40\",VLOOKUP('ORDER FRAMES'!$Q$55,Scharnieren!$C$16:$M$20,10,FALSE),VLOOKUP('ORDER FRAMES'!$Q$55,Scharnieren!$C$7:$M$11,10,FALSE))","v":{"$error":"#N/A"}},{"$f":"IF('ORDER FRAMES'!$B$56=\"X40\",VLOOKUP('ORDER FRAMES'!$Q$56,Scharnieren!$C$16:$M$20,10,FALSE),VLOOKUP('ORDER FRAMES'!$Q$56,Scharnieren!$C$7:$M$11,10,FALSE))","v":{"$error":"#N/A"}},{"$f":"IF('ORDER FRAMES'!$B$57=\"X40\",VLOOKUP('ORDER FRAMES'!$Q$57,Scharnieren!$C$16:$M$20,10,FALSE),VLOOKUP('ORDER FRAMES'!$Q$57,Scharnieren!$C$7:$M$11,10,FALSE))","v":{"$error":"#N/A"}},{"$f":"IF('ORDER FRAMES'!$B$58=\"X40\",VLOOKUP('ORDER FRAMES'!$Q$58,Scharnieren!$C$16:$M$20,10,FALSE),VLOOKUP('ORDER FRAMES'!$Q$58,Scharnieren!$C$7:$M$11,10,FALSE))","v":{"$error":"#N/A"}},{"$f":"IF('ORDER FRAMES'!$B$59=\"X40\",VLOOKUP('ORDER FRAMES'!$Q$59,Scharnieren!$C$16:$M$20,10,FALSE),VLOOKUP('ORDER FRAMES'!$Q$59,Scharnieren!$C$7:$M$11,10,FALSE))","v":{"$error":"#N/A"}},{"$f":"IF('ORDER FRAMES'!$B$60=\"X40\",VLOOKUP('ORDER FRAMES'!$Q$60,Scharnieren!$C$16:$M$20,10,FALSE),VLOOKUP('ORDER FRAMES'!$Q$60,Scharnieren!$C$7:$M$11,10,FALSE))","v":{"$error":"#N/A"}},{"$f":"IF('ORDER FRAMES'!$B$61=\"X40\",VLOOKUP('ORDER FRAMES'!$Q$61,Scharnieren!$C$16:$M$20,10,FALSE),VLOOKUP('ORDER FRAMES'!$Q$61,Scharnieren!$C$7:$M$11,10,FALSE))","v":{"$error":"#N/A"}},{"$f":"IF('ORDER FRAMES'!$B$62=\"X40\",VLOOKUP('ORDER FRAMES'!$Q$62,Scharnieren!$C$16:$M$20,10,FALSE),VLOOKUP('ORDER FRAMES'!$Q$62,Scharnieren!$C$7:$M$11,10,FALSE))","v":{"$error":"#N/A"}},{"$f":"IF('ORDER FRAMES'!$B$63=\"X40\",VLOOKUP('ORDER FRAMES'!$Q$63,Scharnieren!$C$16:$M$20,10,FALSE),VLOOKUP('ORDER FRAMES'!$Q$63,Scharnieren!$C$7:$M$11,10,FALSE))","v":{"$error":"#N/A"}},{"$f":"IF('ORDER FRAMES'!$B$64=\"X40\",VLOOKUP('ORDER FRAMES'!$Q$64,Scharnieren!$C$16:$M$20,10,FALSE),VLOOKUP('ORDER FRAMES'!$Q$64,Scharnieren!$C$7:$M$11,10,FALSE))","v":{"$error":"#N/A"}},{"$f":"IF('ORDER FRAMES'!$B$65=\"X40\",VLOOKUP('ORDER FRAMES'!$Q$65,Scharnieren!$C$16:$M$20,10,FALSE),VLOOKUP('ORDER FRAMES'!$Q$65,Scharnieren!$C$7:$M$11,10,FALSE))","v":{"$error":"#N/A"}},{"$f":"IF('ORDER FRAMES'!$B$66=\"X40\",VLOOKUP('ORDER FRAMES'!$Q$66,Scharnieren!$C$16:$M$20,10,FALSE),VLOOKUP('ORDER FRAMES'!$Q$66,Scharnieren!$C$7:$M$11,10,FALSE))","v":{"$error":"#N/A"}},{"$f":"IF('ORDER FRAMES'!$B$67=\"X40\",VLOOKUP('ORDER FRAMES'!$Q$67,Scharnieren!$C$16:$M$20,10,FALSE),VLOOKUP('ORDER FRAMES'!$Q$67,Scharnieren!$C$7:$M$11,10,FALSE))","v":{"$error":"#N/A"}},{"$f":"IF('ORDER FRAMES'!$B$68=\"X40\",VLOOKUP('ORDER FRAMES'!$Q$68,Scharnieren!$C$16:$M$20,10,FALSE),VLOOKUP('ORDER FRAMES'!$Q$68,Scharnieren!$C$7:$M$11,10,FALSE))","v":{"$error":"#N/A"}},{"$f":"IF('ORDER FRAMES'!$B$69=\"X40\",VLOOKUP('ORDER FRAMES'!$Q$69,Scharnieren!$C$16:$M$20,10,FALSE),VLOOKUP('ORDER FRAMES'!$Q$69,Scharnieren!$C$7:$M$11,10,FALSE))","v":{"$error":"#N/A"}},{"$f":"IF('ORDER FRAMES'!$B$70=\"X40\",VLOOKUP('ORDER FRAMES'!$Q$70,Scharnieren!$C$16:$M$20,10,FALSE),VLOOKUP('ORDER FRAMES'!$Q$70,Scharnieren!$C$7:$M$11,10,FALSE))","v":{"$error":"#N/A"}},{"$f":"IF('ORDER FRAMES'!$B$71=\"X40\",VLOOKUP('ORDER FRAMES'!$Q$71,Scharnieren!$C$16:$M$20,10,FALSE),VLOOKUP('ORDER FRAMES'!$Q$71,Scharnieren!$C$7:$M$11,10,FALSE))","v":{"$error":"#N/A"}},{"$f":"IF('ORDER FRAMES'!$B$72=\"X40\",VLOOKUP('ORDER FRAMES'!$Q$72,Scharnieren!$C$16:$M$20,10,FALSE),VLOOKUP('ORDER FRAMES'!$Q$72,Scharnieren!$C$7:$M$11,10,FALSE))","v":{"$error":"#N/A"}},{"$f":"IF('ORDER FRAMES'!$B$73=\"X40\",VLOOKUP('ORDER FRAMES'!$Q$73,Scharnieren!$C$16:$M$20,10,FALSE),VLOOKUP('ORDER FRAMES'!$Q$73,Scharnieren!$C$7:$M$11,10,FALSE))","v":{"$error":"#N/A"}},{"$f":"IF('ORDER FRAMES'!$B$74=\"X40\",VLOOKUP('ORDER FRAMES'!$Q$74,Scharnieren!$C$16:$M$20,10,FALSE),VLOOKUP('ORDER FRAMES'!$Q$74,Scharnieren!$C$7:$M$11,10,FALSE))","v":{"$error":"#N/A"}},{"$f":"IF('ORDER FRAMES'!$B$75=\"X40\",VLOOKUP('ORDER FRAMES'!$Q$75,Scharnieren!$C$16:$M$20,10,FALSE),VLOOKUP('ORDER FRAMES'!$Q$75,Scharnieren!$C$7:$M$11,10,FALSE))","v":{"$error":"#N/A"}},{"$f":"IF('ORDER FRAMES'!$B$76=\"X40\",VLOOKUP('ORDER FRAMES'!$Q$76,Scharnieren!$C$16:$M$20,10,FALSE),VLOOKUP('ORDER FRAMES'!$Q$76,Scharnieren!$C$7:$M$11,10,FALSE))","v":{"$error":"#N/A"}},{"$f":"IF('ORDER FRAMES'!$B$77=\"X40\",VLOOKUP('ORDER FRAMES'!$Q$77,Scharnieren!$C$16:$M$20,10,FALSE),VLOOKUP('ORDER FRAMES'!$Q$77,Scharnieren!$C$7:$M$11,10,FALSE))","v":{"$error":"#N/A"}},{"$f":"IF('ORDER FRAMES'!$B$78=\"X40\",VLOOKUP('ORDER FRAMES'!$Q$78,Scharnieren!$C$16:$M$20,10,FALSE),VLOOKUP('ORDER FRAMES'!$Q$78,Scharnieren!$C$7:$M$11,10,FALSE))","v":{"$error":"#N/A"}},{"$f":"IF('ORDER FRAMES'!$B$79=\"X40\",VLOOKUP('ORDER FRAMES'!$Q$79,Scharnieren!$C$16:$M$20,10,FALSE),VLOOKUP('ORDER FRAMES'!$Q$79,Scharnieren!$C$7:$M$11,10,FALSE))","v":{"$error":"#N/A"}},{"$f":"IF('ORDER FRAMES'!$B$80=\"X40\",VLOOKUP('ORDER FRAMES'!$Q$80,Scharnieren!$C$16:$M$20,10,FALSE),VLOOKUP('ORDER FRAMES'!$Q$80,Scharnieren!$C$7:$M$11,10,FALSE))","v":{"$error":"#N/A"}},{"$f":"IF('ORDER FRAMES'!$B$81=\"X40\",VLOOKUP('ORDER FRAMES'!$Q$81,Scharnieren!$C$16:$M$20,10,FALSE),VLOOKUP('ORDER FRAMES'!$Q$81,Scharnieren!$C$7:$M$11,10,FALSE))","v":{"$error":"#N/A"}},{"$f":"IF('ORDER FRAMES'!$B$82=\"X40\",VLOOKUP('ORDER FRAMES'!$Q$82,Scharnieren!$C$16:$M$20,10,FALSE),VLOOKUP('ORDER FRAMES'!$Q$82,Scharnieren!$C$7:$M$11,10,FALSE))","v":{"$error":"#N/A"}},{"$f":"IF('ORDER FRAMES'!$B$83=\"X40\",VLOOKUP('ORDER FRAMES'!$Q$83,Scharnieren!$C$16:$M$20,10,FALSE),VLOOKUP('ORDER FRAMES'!$Q$83,Scharnieren!$C$7:$M$11,10,FALSE))","v":{"$error":"#N/A"}},{"$f":"IF('ORDER FRAMES'!$B$84=\"X40\",VLOOKUP('ORDER FRAMES'!$Q$84,Scharnieren!$C$16:$M$20,10,FALSE),VLOOKUP('ORDER FRAMES'!$Q$84,Scharnieren!$C$7:$M$11,10,FALSE))","v":{"$error":"#N/A"}},{"$f":"IF('ORDER FRAMES'!$B$85=\"X40\",VLOOKUP('ORDER FRAMES'!$Q$85,Scharnieren!$C$16:$M$20,10,FALSE),VLOOKUP('ORDER FRAMES'!$Q$85,Scharnieren!$C$7:$M$11,10,FALSE))","v":{"$error":"#N/A"}},{"$f":"IF('ORDER FRAMES'!$B$86=\"X40\",VLOOKUP('ORDER FRAMES'!$Q$86,Scharnieren!$C$16:$M$20,10,FALSE),VLOOKUP('ORDER FRAMES'!$Q$86,Scharnieren!$C$7:$M$11,10,FALSE))","v":{"$error":"#N/A"}},{"$f":"IF('ORDER FRAMES'!$B$87=\"X40\",VLOOKUP('ORDER FRAMES'!$Q$87,Scharnieren!$C$16:$M$20,10,FALSE),VLOOKUP('ORDER FRAMES'!$Q87,Scharnieren!$C$7:$M$11,10,FALSE))","v":{"$error":"#N/A"}},{"$f":"IF('ORDER FRAMES'!$B$88=\"X40\",VLOOKUP('ORDER FRAMES'!$Q$88,Scharnieren!$C$16:$M$20,10,FALSE),VLOOKUP('ORDER FRAMES'!$Q$88,Scharnieren!$C$7:$M$11,10,FALSE))","v":{"$error":"#N/A"}},{"$f":"IF('ORDER FRAMES'!$B$89=\"X40\",VLOOKUP('ORDER FRAMES'!$Q$89,Scharnieren!$C$16:$M$20,10,FALSE),VLOOKUP('ORDER FRAMES'!$Q$89,Scharnieren!$C$7:$M$11,10,FALSE))","v":{"$error":"#N/A"}},{"$f":"IF('ORDER FRAMES'!$B$90=\"X40\",VLOOKUP('ORDER FRAMES'!$Q$90,Scharnieren!$C$16:$M$20,10,FALSE),VLOOKUP('ORDER FRAMES'!$Q$90,Scharnieren!$C$7:$M$11,10,FALSE))","v":{"$error":"#N/A"}},{"$f":"IF('ORDER FRAMES'!$B$91=\"X40\",VLOOKUP('ORDER FRAMES'!$Q$91,Scharnieren!$C$16:$M$20,10,FALSE),VLOOKUP('ORDER FRAMES'!$Q$91,Scharnieren!$C$7:$M$11,10,FALSE))","v":{"$error":"#N/A"}},{"$f":"IF('ORDER FRAMES'!$B$92=\"X40\",VLOOKUP('ORDER FRAMES'!$Q$92,Scharnieren!$C$16:$M$20,10,FALSE),VLOOKUP('ORDER FRAMES'!$Q$92,Scharnieren!$C$7:$M$11,10,FALSE))","v":{"$error":"#N/A"}},{"$f":"IF('ORDER FRAMES'!$B$93=\"X40\",VLOOKUP('ORDER FRAMES'!$Q$93,Scharnieren!$C$16:$M$20,10,FALSE),VLOOKUP('ORDER FRAMES'!$Q$93,Scharnieren!$C$7:$M$11,10,FALSE))","v":{"$error":"#N/A"}},{"$f":"IF('ORDER FRAMES'!$B$94=\"X40\",VLOOKUP('ORDER FRAMES'!$Q$94,Scharnieren!$C$16:$M$20,10,FALSE),VLOOKUP('ORDER FRAMES'!$Q$94,Scharnieren!$C$7:$M$11,10,FALSE))","v":{"$error":"#N/A"}},{"$f":"IF('ORDER FRAMES'!$B$95=\"X40\",VLOOKUP('ORDER FRAMES'!$Q$95,Scharnieren!$C$16:$M$20,10,FALSE),VLOOKUP('ORDER FRAMES'!$Q$95,Scharnieren!$C$7:$M$11,10,FALSE))","v":{"$error":"#N/A"}},{"$f":"IF('ORDER FRAMES'!$B$96=\"X40\",VLOOKUP('ORDER FRAMES'!$Q$96,Scharnieren!$C$16:$M$20,10,FALSE),VLOOKUP('ORDER FRAMES'!$Q$96,Scharnieren!$C$7:$M$11,10,FALSE))","v":{"$error":"#N/A"}},{"$f":"IF('ORDER FRAMES'!$B$97=\"X40\",VLOOKUP('ORDER FRAMES'!$Q$97,Scharnieren!$C$16:$M$20,10,FALSE),VLOOKUP('ORDER FRAMES'!$Q$97,Scharnieren!$C$7:$M$11,10,FALSE))","v":{"$error":"#N/A"}},{"$f":"IF('ORDER FRAMES'!$B$98=\"X40\",VLOOKUP('ORDER FRAMES'!$Q$98,Scharnieren!$C$16:$M$20,10,FALSE),VLOOKUP('ORDER FRAMES'!$Q$98,Scharnieren!$C$7:$M$11,10,FALSE))","v":{"$error":"#N/A"}},{"$f":"IF('ORDER FRAMES'!$B$99=\"X40\",VLOOKUP('ORDER FRAMES'!$Q$99,Scharnieren!$C$16:$M$20,10,FALSE),VLOOKUP('ORDER FRAMES'!$Q$99,Scharnieren!$C$7:$M$11,10,FALSE))","v":{"$error":"#N/A"}},{"$f":"IF('ORDER FRAMES'!$B$100=\"X40\",VLOOKUP('ORDER FRAMES'!$Q$100,Scharnieren!$C$16:$M$20,10,FALSE),VLOOKUP('ORDER FRAMES'!$Q$100,Scharnieren!$C$7:$M$11,10,FALSE))","v":{"$error":"#N/A"}}]
[null,"X4030-SC",5,"X4030.W","X4030.G","X4030.B",null,null,null,null,null,null,null,null,null,null,null,null,null,null,{"$f":"IF('ORDER FRAMES'!$B$21=\"X40\",VLOOKUP('ORDER FRAMES'!$Q$21,Scharnieren!$C$16:$M$20,11,FALSE),VLOOKUP('ORDER FRAMES'!$Q$21,Scharnieren!$C$7:$N$11,11,FALSE))","v":"A30.0"},{"$f":"IF('ORDER FRAMES'!$B$22=\"X40\",VLOOKUP('ORDER FRAMES'!$Q$22,Scharnieren!$C$16:$M$20,11,FALSE),VLOOKUP('ORDER FRAMES'!$Q$22,Scharnieren!$C$7:$N$11,11,FALSE))","v":"A30.0"},{"$f":"IF('ORDER FRAMES'!$B$23=\"X40\",VLOOKUP('ORDER FRAMES'!$Q$23,Scharnieren!$C$16:$M$20,11,FALSE),VLOOKUP('ORDER FRAMES'!$Q$23,Scharnieren!$C$7:$N$11,11,FALSE))","v":{"$error":"#N/A"}},{"$f":"IF('ORDER FRAMES'!$B$24=\"X40\",VLOOKUP('ORDER FRAMES'!$Q$24,Scharnieren!$C$16:$M$20,11,FALSE),VLOOKUP('ORDER FRAMES'!$Q$24,Scharnieren!$C$7:$N$11,11,FALSE))","v":{"$error":"#N/A"}},{"$f":"IF('ORDER FRAMES'!$B$25=\"X40\",VLOOKUP('ORDER FRAMES'!$Q$25,Scharnieren!$C$16:$M$20,11,FALSE),VLOOKUP('ORDER FRAMES'!$Q$25,Scharnieren!$C$7:$N$11,11,FALSE))","v":{"$error":"#N/A"}},{"$f":"IF('ORDER FRAMES'!$B$26=\"X40\",VLOOKUP('ORDER FRAMES'!$Q$26,Scharnieren!$C$16:$M$20,11,FALSE),VLOOKUP('ORDER FRAMES'!$Q$26,Scharnieren!$C$7:$N$11,11,FALSE))","v":{"$error":"#N/A"}},{"$f":"IF('ORDER FRAMES'!$B$27=\"X40\",VLOOKUP('ORDER FRAMES'!$Q$27,Scharnieren!$C$16:$M$20,11,FALSE),VLOOKUP('ORDER FRAMES'!$Q$27,Scharnieren!$C$7:$N$11,11,FALSE))","v":{"$error":"#N/A"}},{"$f":"IF('ORDER FRAMES'!$B$28=\"X40\",VLOOKUP('ORDER FRAMES'!$Q$28,Scharnieren!$C$16:$M$20,11,FALSE),VLOOKUP('ORDER FRAMES'!$Q$28,Scharnieren!$C$7:$N$11,11,FALSE))","v":{"$error":"#N/A"}},{"$f":"IF('ORDER FRAMES'!$B$29=\"X40\",VLOOKUP('ORDER FRAMES'!$Q$29,Scharnieren!$C$16:$M$20,11,FALSE),VLOOKUP('ORDER FRAMES'!$Q$29,Scharnieren!$C$7:$M$11,11,FALSE))","v":{"$error":"#N/A"}},{"$f":"IF('ORDER FRAMES'!$B$30=\"X40\",VLOOKUP('ORDER FRAMES'!$Q$30,Scharnieren!$C$16:$M$20,11,FALSE),VLOOKUP('ORDER FRAMES'!$Q$30,Scharnieren!$C$7:$M$11,11,FALSE))","v":{"$error":"#N/A"}},{"$f":"IF('ORDER FRAMES'!$B$31=\"X40\",VLOOKUP('ORDER FRAMES'!$Q$31,Scharnieren!$C$16:$M$20,11,FALSE),VLOOKUP('ORDER FRAMES'!$Q$31,Scharnieren!$C$7:$M$11,11,FALSE))","v":{"$error":"#N/A"}},{"$f":"IF('ORDER FRAMES'!$B$32=\"X40\",VLOOKUP('ORDER FRAMES'!$Q$32,Scharnieren!$C$16:$M$20,11,FALSE),VLOOKUP('ORDER FRAMES'!$Q$32,Scharnieren!$C$7:$M$11,11,FALSE))","v":{"$error":"#N/A"}},{"$f":"IF('ORDER FRAMES'!$B$33=\"X40\",VLOOKUP('ORDER FRAMES'!$Q$33,Scharnieren!$C$16:$M$20,11,FALSE),VLOOKUP('ORDER FRAMES'!$Q$33,Scharnieren!$C$7:$M$11,11,FALSE))","v":{"$error":"#N/A"}},{"$f":"IF('ORDER FRAMES'!$B$34=\"X40\",VLOOKUP('ORDER FRAMES'!$Q$34,Scharnieren!$C$16:$M$20,11,FALSE),VLOOKUP('ORDER FRAMES'!$Q$34,Scharnieren!$C$7:$M$11,11,FALSE))","v":{"$error":"#N/A"}},{"$f":"IF('ORDER FRAMES'!$B$35=\"X40\",VLOOKUP('ORDER FRAMES'!$Q$35,Scharnieren!$C$16:$M$20,11,FALSE),VLOOKUP('ORDER FRAMES'!$Q$35,Scharnieren!$C$7:$M$11,11,FALSE))","v":{"$error":"#N/A"}},{"$f":"IF('ORDER FRAMES'!$B$36=\"X40\",VLOOKUP('ORDER FRAMES'!$Q$36,Scharnieren!$C$16:$M$20,11,FALSE),VLOOKUP('ORDER FRAMES'!$Q$36,Scharnieren!$C$7:$M$11,11,FALSE))","v":{"$error":"#N/A"}},{"$f":"IF('ORDER FRAMES'!$B$37=\"X40\",VLOOKUP('ORDER FRAMES'!$Q$37,Scharnieren!$C$16:$M$20,11,FALSE),VLOOKUP('ORDER FRAMES'!$Q$37,Scharnieren!$C$7:$M$11,11,FALSE))","v":{"$error":"#N/A"}},{"$f":"IF('ORDER FRAMES'!$B$38=\"X40\",VLOOKUP('ORDER FRAMES'!$Q$38,Scharnieren!$C$16:$M$20,11,FALSE),VLOOKUP('ORDER FRAMES'!$Q$38,Scharnieren!$C$7:$M$11,11,FALSE))","v":{"$error":"#N/A"}},{"$f":"IF('ORDER FRAMES'!$B$39=\"X40\",VLOOKUP('ORDER FRAMES'!$Q$39,Scharnieren!$C$16:$M$20,11,FALSE),VLOOKUP('ORDER FRAMES'!$Q$39,Scharnieren!$C$7:$M$11,11,FALSE))","v":{"$error":"#N/A"}},{"$f":"IF('ORDER FRAMES'!$B$40=\"X40\",VLOOKUP('ORDER FRAMES'!$Q$40,Scharnieren!$C$16:$M$20,11,FALSE),VLOOKUP('ORDER FRAMES'!$Q$40,Scharnieren!$C$7:$M$11,11,FALSE))","v":{"$error":"#N/A"}},{"$f":"IF('ORDER FRAMES'!$B$41=\"X40\",VLOOKUP('ORDER FRAMES'!$Q$41,Scharnieren!$C$16:$M$20,11,FALSE),VLOOKUP('ORDER FRAMES'!$Q$41,Scharnieren!$C$7:$M$11,11,FALSE))","v":{"$error":"#N/A"}},{"$f":"IF('ORDER FRAMES'!$B$42=\"X40\",VLOOKUP('ORDER FRAMES'!$Q$42,Scharnieren!$C$16:$M$20,11,FALSE),VLOOKUP('ORDER FRAMES'!$Q$42,Scharnieren!$C$7:$M$11,11,FALSE))","v":{"$error":"#N/A"}},{"$f":"IF('ORDER FRAMES'!$B$43=\"X40\",VLOOKUP('ORDER FRAMES'!$Q$43,Scharnieren!$C$16:$M$20,11,FALSE),VLOOKUP('ORDER FRAMES'!$Q$43,Scharnieren!$C$7:$M$11,11,FALSE))","v":{"$error":"#N/A"}},{"$f":"IF('ORDER FRAMES'!$B$44=\"X40\",VLOOKUP('ORDER FRAMES'!$Q$44,Scharnieren!$C$16:$M$20,11,FALSE),VLOOKUP('ORDER FRAMES'!$Q$44,Scharnieren!$C$7:$M$11,11,FALSE))","v":{"$error":"#N/A"}},{"$f":"IF('ORDER FRAMES'!$B$45=\"X40\",VLOOKUP('ORDER FRAMES'!$Q$45,Scharnieren!$C$16:$M$20,11,FALSE),VLOOKUP('ORDER FRAMES'!$Q$45,Scharnieren!$C$7:$M$11,11,FALSE))","v":{"$error":"#N/A"}},{"$f":"IF('ORDER FRAMES'!$B$46=\"X40\",VLOOKUP('ORDER FRAMES'!$Q$46,Scharnieren!$C$16:$M$20,11,FALSE),VLOOKUP('ORDER FRAMES'!$Q$46,Scharnieren!$C$7:$M$11,11,FALSE))","v":{"$error":"#N/A"}},{"$f":"IF('ORDER FRAMES'!$B$47=\"X40\",VLOOKUP('ORDER FRAMES'!$Q$47,Scharnieren!$C$16:$M$20,11,FALSE),VLOOKUP('ORDER FRAMES'!$Q$47,Scharnieren!$C$7:$M$11,11,FALSE))","v":{"$error":"#N/A"}},{"$f":"IF('ORDER FRAMES'!$B$48=\"X40\",VLOOKUP('ORDER FRAMES'!$Q$48,Scharnieren!$C$16:$M$20,11,FALSE),VLOOKUP('ORDER FRAMES'!$Q$48,Scharnieren!$C$7:$M$11,11,FALSE))","v":{"$error":"#N/A"}},{"$f":"IF('ORDER FRAMES'!$B$49=\"X40\",VLOOKUP('ORDER FRAMES'!$Q$49,Scharnieren!$C$16:$M$20,11,FALSE),VLOOKUP('ORDER FRAMES'!$Q$49,Scharnieren!$C$7:$M$11,11,FALSE))","v":{"$error":"#N/A"}},{"$f":"IF('ORDER FRAMES'!$B$50=\"X40\",VLOOKUP('ORDER FRAMES'!$Q$50,Scharnieren!$C$16:$M$20,11,FALSE),VLOOKUP('ORDER FRAMES'!$Q$50,Scharnieren!$C$7:$M$11,11,FALSE))","v":{"$error":"#N/A"}},{"$f":"IF('ORDER FRAMES'!$B$51=\"X40\",VLOOKUP('ORDER FRAMES'!$Q$51,Scharnieren!$C$16:$M$20,11,FALSE),VLOOKUP('ORDER FRAMES'!$Q$51,Scharnieren!$C$7:$M$11,11,FALSE))","v":{"$error":"#N/A"}},{"$f":"IF('ORDER FRAMES'!$B$52=\"X40\",VLOOKUP('ORDER FRAMES'!$Q$52,Scharnieren!$C$16:$M$20,11,FALSE),VLOOKUP('ORDER FRAMES'!$Q$52,Scharnieren!$C$7:$M$11,11,FALSE))","v":{"$error":"#N/A"}},{"$f":"IF('ORDER FRAMES'!$B$53=\"X40\",VLOOKUP('ORDER FRAMES'!$Q$53,Scharnieren!$C$16:$M$20,11,FALSE),VLOOKUP('ORDER FRAMES'!$Q$53,Scharnieren!$C$7:$M$11,11,FALSE))","v":{"$error":"#N/A"}},{"$f":"IF('ORDER FRAMES'!$B$54=\"X40\",VLOOKUP('ORDER FRAMES'!$Q$54,Scharnieren!$C$16:$M$20,11,FALSE),VLOOKUP('ORDER FRAMES'!$Q$54,Scharnieren!$C$7:$M$11,11,FALSE))","v":{"$error":"#N/A"}},{"$f":"IF('ORDER FRAMES'!$B$55=\"X40\",VLOOKUP('ORDER FRAMES'!$Q$55,Scharnieren!$C$16:$M$20,11,FALSE),VLOOKUP('ORDER FRAMES'!$Q$55,Scharnieren!$C$7:$M$11,11,FALSE))","v":{"$error":"#N/A"}},{"$f":"IF('ORDER FRAMES'!$B$56=\"X40\",VLOOKUP('ORDER FRAMES'!$Q$56,Scharnieren!$C$16:$M$20,11,FALSE),VLOOKUP('ORDER FRAMES'!$Q$56,Scharnieren!$C$7:$M$11,11,FALSE))","v":{"$error":"#N/A"}},{"$f":"IF('ORDER FRAMES'!$B$57=\"X40\",VLOOKUP('ORDER FRAMES'!$Q$57,Scharnieren!$C$16:$M$20,11,FALSE),VLOOKUP('ORDER FRAMES'!$Q$57,Scharnieren!$C$7:$M$11,11,FALSE))","v":{"$error":"#N/A"}},{"$f":"IF('ORDER FRAMES'!$B$58=\"X40\",VLOOKUP('ORDER FRAMES'!$Q$58,Scharnieren!$C$16:$M$20,11,FALSE),VLOOKUP('ORDER FRAMES'!$Q$58,Scharnieren!$C$7:$M$11,11,FALSE))","v":{"$error":"#N/A"}},{"$f":"IF('ORDER FRAMES'!$B$59=\"X40\",VLOOKUP('ORDER FRAMES'!$Q$59,Scharnieren!$C$16:$M$20,11,FALSE),VLOOKUP('ORDER FRAMES'!$Q$59,Scharnieren!$C$7:$M$11,11,FALSE))","v":{"$error":"#N/A"}},{"$f":"IF('ORDER FRAMES'!$B$60=\"X40\",VLOOKUP('ORDER FRAMES'!$Q$60,Scharnieren!$C$16:$M$20,11,FALSE),VLOOKUP('ORDER FRAMES'!$Q$60,Scharnieren!$C$7:$M$11,11,FALSE))","v":{"$error":"#N/A"}},{"$f":"IF('ORDER FRAMES'!$B$61=\"X40\",VLOOKUP('ORDER FRAMES'!$Q$61,Scharnieren!$C$16:$M$20,11,FALSE),VLOOKUP('ORDER FRAMES'!$Q$61,Scharnieren!$C$7:$M$11,11,FALSE))","v":{"$error":"#N/A"}},{"$f":"IF('ORDER FRAMES'!$B$62=\"X40\",VLOOKUP('ORDER FRAMES'!$Q$62,Scharnieren!$C$16:$M$20,11,FALSE),VLOOKUP('ORDER FRAMES'!$Q$62,Scharnieren!$C$7:$M$11,11,FALSE))","v":{"$error":"#N/A"}},{"$f":"IF('ORDER FRAMES'!$B$63=\"X40\",VLOOKUP('ORDER FRAMES'!$Q$63,Scharnieren!$C$16:$M$20,11,FALSE),VLOOKUP('ORDER FRAMES'!$Q$63,Scharnieren!$C$7:$M$11,11,FALSE))","v":{"$error":"#N/A"}},{"$f":"IF('ORDER FRAMES'!$B$64=\"X40\",VLOOKUP('ORDER FRAMES'!$Q$64,Scharnieren!$C$16:$M$20,11,FALSE),VLOOKUP('ORDER FRAMES'!$Q$64,Scharnieren!$C$7:$M$11,11,FALSE))","v":{"$error":"#N/A"}},{"$f":"IF('ORDER FRAMES'!$B$65=\"X40\",VLOOKUP('ORDER FRAMES'!$Q$65,Scharnieren!$C$16:$M$20,11,FALSE),VLOOKUP('ORDER FRAMES'!$Q$65,Scharnieren!$C$7:$M$11,11,FALSE))","v":{"$error":"#N/A"}},{"$f":"IF('ORDER FRAMES'!$B$66=\"X40\",VLOOKUP('ORDER FRAMES'!$Q$66,Scharnieren!$C$16:$M$20,11,FALSE),VLOOKUP('ORDER FRAMES'!$Q$66,Scharnieren!$C$7:$M$11,11,FALSE))","v":{"$error":"#N/A"}},{"$f":"IF('ORDER FRAMES'!$B$67=\"X40\",VLOOKUP('ORDER FRAMES'!$Q$67,Scharnieren!$C$16:$M$20,11,FALSE),VLOOKUP('ORDER FRAMES'!$Q$67,Scharnieren!$C$7:$M$11,11,FALSE))","v":{"$error":"#N/A"}},{"$f":"IF('ORDER FRAMES'!$B$68=\"X40\",VLOOKUP('ORDER FRAMES'!$Q$68,Scharnieren!$C$16:$M$20,11,FALSE),VLOOKUP('ORDER FRAMES'!$Q$68,Scharnieren!$C$7:$M$11,11,FALSE))","v":{"$error":"#N/A"}},{"$f":"IF('ORDER FRAMES'!$B$69=\"X40\",VLOOKUP('ORDER FRAMES'!$Q$69,Scharnieren!$C$16:$M$20,11,FALSE),VLOOKUP('ORDER FRAMES'!$Q$69,Scharnieren!$C$7:$M$11,11,FALSE))","v":{"$error":"#N/A"}},{"$f":"IF('ORDER FRAMES'!$B$70=\"X40\",VLOOKUP('ORDER FRAMES'!$Q$70,Scharnieren!$C$16:$M$20,11,FALSE),VLOOKUP('ORDER FRAMES'!$Q$70,Scharnieren!$C$7:$M$11,11,FALSE))","v":{"$error":"#N/A"}},{"$f":"IF('ORDER FRAMES'!$B$71=\"X40\",VLOOKUP('ORDER FRAMES'!$Q$71,Scharnieren!$C$16:$M$20,11,FALSE),VLOOKUP('ORDER FRAMES'!$Q$71,Scharnieren!$C$7:$M$11,11,FALSE))","v":{"$error":"#N/A"}},{"$f":"IF('ORDER FRAMES'!$B$72=\"X40\",VLOOKUP('ORDER FRAMES'!$Q$72,Scharnieren!$C$16:$M$20,11,FALSE),VLOOKUP('ORDER FRAMES'!$Q$72,Scharnieren!$C$7:$M$11,11,FALSE))","v":{"$error":"#N/A"}},{"$f":"IF('ORDER FRAMES'!$B$73=\"X40\",VLOOKUP('ORDER FRAMES'!$Q$73,Scharnieren!$C$16:$M$20,11,FALSE),VLOOKUP('ORDER FRAMES'!$Q$73,Scharnieren!$C$7:$M$11,11,FALSE))","v":{"$error":"#N/A"}},{"$f":"IF('ORDER FRAMES'!$B$74=\"X40\",VLOOKUP('ORDER FRAMES'!$Q$74,Scharnieren!$C$16:$M$20,11,FALSE),VLOOKUP('ORDER FRAMES'!$Q$74,Scharnieren!$C$7:$M$11,11,FALSE))","v":{"$error":"#N/A"}},{"$f":"IF('ORDER FRAMES'!$B$75=\"X40\",VLOOKUP('ORDER FRAMES'!$Q$75,Scharnieren!$C$16:$M$20,11,FALSE),VLOOKUP('ORDER FRAMES'!$Q$75,Scharnieren!$C$7:$M$11,11,FALSE))","v":{"$error":"#N/A"}},{"$f":"IF('ORDER FRAMES'!$B$76=\"X40\",VLOOKUP('ORDER FRAMES'!$Q$76,Scharnieren!$C$16:$M$20,11,FALSE),VLOOKUP('ORDER FRAMES'!$Q$76,Scharnieren!$C$7:$M$11,11,FALSE))","v":{"$error":"#N/A"}},{"$f":"IF('ORDER FRAMES'!$B$77=\"X40\",VLOOKUP('ORDER FRAMES'!$Q$77,Scharnieren!$C$16:$M$20,11,FALSE),VLOOKUP('ORDER FRAMES'!$Q$77,Scharnieren!$C$7:$M$11,11,FALSE))","v":{"$error":"#N/A"}},{"$f":"IF('ORDER FRAMES'!$B$78=\"X40\",VLOOKUP('ORDER FRAMES'!$Q$78,Scharnieren!$C$16:$M$20,11,FALSE),VLOOKUP('ORDER FRAMES'!$Q$78,Scharnieren!$C$7:$M$11,11,FALSE))","v":{"$error":"#N/A"}},{"$f":"IF('ORDER FRAMES'!$B$79=\"X40\",VLOOKUP('ORDER FRAMES'!$Q$79,Scharnieren!$C$16:$M$20,11,FALSE),VLOOKUP('ORDER FRAMES'!$Q$79,Scharnieren!$C$7:$M$11,11,FALSE))","v":{"$error":"#N/A"}},{"$f":"IF('ORDER FRAMES'!$B$80=\"X40\",VLOOKUP('ORDER FRAMES'!$Q$80,Scharnieren!$C$16:$M$20,11,FALSE),VLOOKUP('ORDER FRAMES'!$Q$80,Scharnieren!$C$7:$M$11,11,FALSE))","v":{"$error":"#N/A"}},{"$f":"IF('ORDER FRAMES'!$B$81=\"X40\",VLOOKUP('ORDER FRAMES'!$Q$81,Scharnieren!$C$16:$M$20,11,FALSE),VLOOKUP('ORDER FRAMES'!$Q$81,Scharnieren!$C$7:$M$11,11,FALSE))","v":{"$error":"#N/A"}},{"$f":"IF('ORDER FRAMES'!$B$82=\"X40\",VLOOKUP('ORDER FRAMES'!$Q$82,Scharnieren!$C$16:$M$20,11,FALSE),VLOOKUP('ORDER FRAMES'!$Q$82,Scharnieren!$C$7:$M$11,11,FALSE))","v":{"$error":"#N/A"}},{"$f":"IF('ORDER FRAMES'!$B$83=\"X40\",VLOOKUP('ORDER FRAMES'!$Q$83,Scharnieren!$C$16:$M$20,11,FALSE),VLOOKUP('ORDER FRAMES'!$Q$83,Scharnieren!$C$7:$M$11,11,FALSE))","v":{"$error":"#N/A"}},{"$f":"IF('ORDER FRAMES'!$B$84=\"X40\",VLOOKUP('ORDER FRAMES'!$Q$84,Scharnieren!$C$16:$M$20,11,FALSE),VLOOKUP('ORDER FRAMES'!$Q$84,Scharnieren!$C$7:$M$11,11,FALSE))","v":{"$error":"#N/A"}},{"$f":"IF('ORDER FRAMES'!$B$85=\"X40\",VLOOKUP('ORDER FRAMES'!$Q$85,Scharnieren!$C$16:$M$20,11,FALSE),VLOOKUP('ORDER FRAMES'!$Q$85,Scharnieren!$C$7:$M$11,11,FALSE))","v":{"$error":"#N/A"}},{"$f":"IF('ORDER FRAMES'!$B$86=\"X40\",VLOOKUP('ORDER FRAMES'!$Q$86,Scharnieren!$C$16:$M$20,11,FALSE),VLOOKUP('ORDER FRAMES'!$Q$86,Scharnieren!$C$7:$M$11,11,FALSE))","v":{"$error":"#N/A"}},{"$f":"IF('ORDER FRAMES'!$B$87=\"X40\",VLOOKUP('ORDER FRAMES'!$Q$87,Scharnieren!$C$16:$M$20,11,FALSE),VLOOKUP('ORDER FRAMES'!$Q$87,Scharnieren!$C$7:$M$11,11,FALSE))","v":{"$error":"#N/A"}},{"$f":"IF('ORDER FRAMES'!$B$88=\"X40\",VLOOKUP('ORDER FRAMES'!$Q$88,Scharnieren!$C$16:$M$20,11,FALSE),VLOOKUP('ORDER FRAMES'!$Q$88,Scharnieren!$C$7:$M$11,11,FALSE))","v":{"$error":"#N/A"}},{"$f":"IF('ORDER FRAMES'!$B$89=\"X40\",VLOOKUP('ORDER FRAMES'!$Q$89,Scharnieren!$C$16:$M$20,11,FALSE),VLOOKUP('ORDER FRAMES'!$Q$89,Scharnieren!$C$7:$M$11,11,FALSE))","v":{"$error":"#N/A"}},{"$f":"IF('ORDER FRAMES'!$B$90=\"X40\",VLOOKUP('ORDER FRAMES'!$Q$90,Scharnieren!$C$16:$M$20,11,FALSE),VLOOKUP('ORDER FRAMES'!$Q$90,Scharnieren!$C$7:$M$11,11,FALSE))","v":{"$error":"#N/A"}},{"$f":"IF('ORDER FRAMES'!$B$91=\"X40\",VLOOKUP('ORDER FRAMES'!$Q$91,Scharnieren!$C$16:$M$20,11,FALSE),VLOOKUP('ORDER FRAMES'!$Q$91,Scharnieren!$C$7:$M$11,11,FALSE))","v":{"$error":"#N/A"}},{"$f":"IF('ORDER FRAMES'!$B$92=\"X40\",VLOOKUP('ORDER FRAMES'!$Q$92,Scharnieren!$C$16:$M$20,11,FALSE),VLOOKUP('ORDER FRAMES'!$Q$92,Scharnieren!$C$7:$M$11,11,FALSE))","v":{"$error":"#N/A"}},{"$f":"IF('ORDER FRAMES'!$B$93=\"X40\",VLOOKUP('ORDER FRAMES'!$Q$93,Scharnieren!$C$16:$M$20,11,FALSE),VLOOKUP('ORDER FRAMES'!$Q$93,Scharnieren!$C$7:$M$11,11,FALSE))","v":{"$error":"#N/A"}},{"$f":"IF('ORDER FRAMES'!$B$94=\"X40\",VLOOKUP('ORDER FRAMES'!$Q$94,Scharnieren!$C$16:$M$20,11,FALSE),VLOOKUP('ORDER FRAMES'!$Q$94,Scharnieren!$C$7:$M$11,11,FALSE))","v":{"$error":"#N/A"}},{"$f":"IF('ORDER FRAMES'!$B$95=\"X40\",VLOOKUP('ORDER FRAMES'!$Q$95,Scharnieren!$C$16:$M$20,11,FALSE),VLOOKUP('ORDER FRAMES'!$Q$95,Scharnieren!$C$7:$M$11,11,FALSE))","v":{"$error":"#N/A"}},{"$f":"IF('ORDER FRAMES'!$B$96=\"X40\",VLOOKUP('ORDER FRAMES'!$Q$96,Scharnieren!$C$16:$M$20,11,FALSE),VLOOKUP('ORDER FRAMES'!$Q$96,Scharnieren!$C$7:$M$11,11,FALSE))","v":{"$error":"#N/A"}},{"$f":"IF('ORDER FRAMES'!$B$97=\"X40\",VLOOKUP('ORDER FRAMES'!$Q$97,Scharnieren!$C$16:$M$20,11,FALSE),VLOOKUP('ORDER FRAMES'!$Q$97,Scharnieren!$C$7:$M$11,11,FALSE))","v":{"$error":"#N/A"}},{"$f":"IF('ORDER FRAMES'!$B$98=\"X40\",VLOOKUP('ORDER FRAMES'!$Q$98,Scharnieren!$C$16:$M$20,11,FALSE),VLOOKUP('ORDER FRAMES'!$Q$98,Scharnieren!$C$7:$M$11,11,FALSE))","v":{"$error":"#N/A"}},{"$f":"IF('ORDER FRAMES'!$B$99=\"X40\",VLOOKUP('ORDER FRAMES'!$Q$99,Scharnieren!$C$16:$M$20,11,FALSE),VLOOKUP('ORDER FRAMES'!$Q$99,Scharnieren!$C$7:$M$11,11,FALSE))","v":{"$error":"#N/A"}},{"$f":"IF('ORDER FRAMES'!$B$100=\"X40\",VLOOKUP('ORDER FRAMES'!$Q$100,Scharnieren!$C$16:$M$20,11,FALSE),VLOOKUP('ORDER FRAMES'!$Q$100,Scharnieren!$C$7:$M$11,11,FALSE))","v":{"$error":"#N/A"}}]
[null,null,null,null,null,null,null,null,null,null,null,null,null,null,null,null,null,null,null,null,{"$f":"IF('ORDER FRAMES'!$B$21=\"X40\",VLOOKUP('ORDER FRAMES'!$Q$21,Scharnieren!$C$16:$M$20,12,FALSE),VLOOKUP('ORDER FRAMES'!$Q$21,Scharnieren!$C$7:$N$11,12,FALSE))","v":"A30.2"},{"$f":"IF('ORDER FRAMES'!$B$22=\"X40\",VLOOKUP('ORDER FRAMES'!$Q$22,Scharnieren!$C$16:$M$20,11,FALSE),VLOOKUP('ORDER FRAMES'!$Q$22,Scharnieren!$C$7:$N$11,12,FALSE))","v":"A30.2"},{"$f":"IF('ORDER FRAMES'!$B$23=\"X40\",VLOOKUP('ORDER FRAMES'!$Q$23,Scharnieren!$C$16:$M$20,11,FALSE),VLOOKUP('ORDER FRAMES'!$Q$23,Scharnieren!$C$7:$N$11,12,FALSE))","v":{"$error":"#N/A"}},{"$f":"IF('ORDER FRAMES'!$B$24=\"X40\",VLOOKUP('ORDER FRAMES'!$Q$24,Scharnieren!$C$16:$M$20,11,FALSE),VLOOKUP('ORDER FRAMES'!$Q$24,Scharnieren!$C$7:$N$11,12,FALSE))","v":{"$error":"#N/A"}},{"$f":"IF('ORDER FRAMES'!$B$25=\"X40\",VLOOKUP('ORDER FRAMES'!$Q$25,Scharnieren!$C$16:$M$20,11,FALSE),VLOOKUP('ORDER FRAMES'!$Q$25,Scharnieren!$C$7:$N$11,12,FALSE))","v":{"$error":"#N/A"}},{"$f":"IF('ORDER FRAMES'!$B$26=\"X40\",VLOOKUP('ORDER FRAMES'!$Q$26,Scharnieren!$C$16:$M$20,11,FALSE),VLOOKUP('ORDER FRAMES'!$Q$26,Scharnieren!$C$7:$N$11,12,FALSE))","v":{"$error":"#N/A"}},{"$f":"IF('ORDER FRAMES'!$B$27=\"X40\",VLOOKUP('ORDER FRAMES'!$Q$27,Scharnieren!$C$16:$M$20,11,FALSE),VLOOKUP('ORDER FRAMES'!$Q$27,Scharnieren!$C$7:$N$11,12,FALSE))","v":{"$error":"#N/A"}},{"$f":"IF('ORDER FRAMES'!$B$28=\"X40\",VLOOKUP('ORDER FRAMES'!$Q$28,Scharnieren!$C$16:$M$20,11,FALSE),VLOOKUP('ORDER FRAMES'!$Q$28,Scharnieren!$C$7:$N$11,12,FALSE))","v":{"$error":"#N/A"}},{"$f":"IF('ORDER FRAMES'!$B$29=\"X40\",VLOOKUP('ORDER FRAMES'!$Q$29,Scharnieren!$C$16:$M$20,11,FALSE),VLOOKUP('ORDER FRAMES'!$Q$29,Scharnieren!$C$7:$N$11,12,FALSE))","v":{"$error":"#N/A"}},{"$f":"IF('ORDER FRAMES'!$B$30=\"X40\",VLOOKUP('ORDER FRAMES'!$Q$30,Scharnieren!$C$16:$M$20,11,FALSE),VLOOKUP('ORDER FRAMES'!$Q$30,Scharnieren!$C$7:$N$11,12,FALSE))","v":{"$error":"#N/A"}},{"$f":"IF('ORDER FRAMES'!$B$31=\"X40\",VLOOKUP('ORDER FRAMES'!$Q$31,Scharnieren!$C$16:$M$20,11,FALSE),VLOOKUP('ORDER FRAMES'!$Q$31,Scharnieren!$C$7:$N$11,12,FALSE))","v":{"$error":"#N/A"}},{"$f":"IF('ORDER FRAMES'!$B$32=\"X40\",VLOOKUP('ORDER FRAMES'!$Q$32,Scharnieren!$C$16:$M$20,11,FALSE),VLOOKUP('ORDER FRAMES'!$Q$32,Scharnieren!$C$7:$N$11,12,FALSE))","v":{"$error":"#N/A"}},{"$f":"IF('ORDER FRAMES'!$B$33=\"X40\",VLOOKUP('ORDER FRAMES'!$Q$33,Scharnieren!$C$16:$M$20,11,FALSE),VLOOKUP('ORDER FRAMES'!$Q$33,Scharnieren!$C$7:$N$11,12,FALSE))","v":{"$error":"#N/A"}},{"$f":"IF('ORDER FRAMES'!$B$34=\"X40\",VLOOKUP('ORDER FRAMES'!$Q$34,Scharnieren!$C$16:$M$20,11,FALSE),VLOOKUP('ORDER FRAMES'!$Q$34,Scharnieren!$C$7:$N$11,12,FALSE))","v":{"$error":"#N/A"}},{"$f":"IF('ORDER FRAMES'!$B$35=\"X40\",VLOOKUP('ORDER FRAMES'!$Q$35,Scharnieren!$C$16:$M$20,11,FALSE),VLOOKUP('ORDER FRAMES'!$Q$35,Scharnieren!$C$7:$N$11,12,FALSE))","v":{"$error":"#N/A"}},{"$f":"IF('ORDER FRAMES'!$B$36=\"X40\",VLOOKUP('ORDER FRAMES'!$Q$36,Scharnieren!$C$16:$M$20,11,FALSE),VLOOKUP('ORDER FRAMES'!$Q$36,Scharnieren!$C$7:$N$11,12,FALSE))","v":{"$error":"#N/A"}},{"$f":"IF('ORDER FRAMES'!$B$37=\"X40\",VLOOKUP('ORDER FRAMES'!$Q$37,Scharnieren!$C$16:$M$20,11,FALSE),VLOOKUP('ORDER FRAMES'!$Q$37,Scharnieren!$C$7:$N$11,12,FALSE))","v":{"$error":"#N/A"}},{"$f":"IF('ORDER FRAMES'!$B$38=\"X40\",VLOOKUP('ORDER FRAMES'!$Q$38,Scharnieren!$C$16:$M$20,11,FALSE),VLOOKUP('ORDER FRAMES'!$Q$38,Scharnieren!$C$7:$N$11,12,FALSE))","v":{"$error":"#N/A"}},{"$f":"IF('ORDER FRAMES'!$B$39=\"X40\",VLOOKUP('ORDER FRAMES'!$Q$39,Scharnieren!$C$16:$M$20,11,FALSE),VLOOKUP('ORDER FRAMES'!$Q$39,Scharnieren!$C$7:$N$11,12,FALSE))","v":{"$error":"#N/A"}},{"$f":"IF('ORDER FRAMES'!$B$40=\"X40\",VLOOKUP('ORDER FRAMES'!$Q$40,Scharnieren!$C$16:$M$20,11,FALSE),VLOOKUP('ORDER FRAMES'!$Q$40,Scharnieren!$C$7:$N$11,12,FALSE))","v":{"$error":"#N/A"}},{"$f":"IF('ORDER FRAMES'!$B$41=\"X40\",VLOOKUP('ORDER FRAMES'!$Q$41,Scharnieren!$C$16:$M$20,11,FALSE),VLOOKUP('ORDER FRAMES'!$Q$41,Scharnieren!$C$7:$N$11,12,FALSE))","v":{"$error":"#N/A"}},{"$f":"IF('ORDER FRAMES'!$B$42=\"X40\",VLOOKUP('ORDER FRAMES'!$Q$42,Scharnieren!$C$16:$M$20,11,FALSE),VLOOKUP('ORDER FRAMES'!$Q$42,Scharnieren!$C$7:$N$11,12,FALSE))","v":{"$error":"#N/A"}},{"$f":"IF('ORDER FRAMES'!$B$43=\"X40\",VLOOKUP('ORDER FRAMES'!$Q$43,Scharnieren!$C$16:$M$20,11,FALSE),VLOOKUP('ORDER FRAMES'!$Q$43,Scharnieren!$C$7:$N$11,12,FALSE))","v":{"$error":"#N/A"}},{"$f":"IF('ORDER FRAMES'!$B$44=\"X40\",VLOOKUP('ORDER FRAMES'!$Q$44,Scharnieren!$C$16:$M$20,11,FALSE),VLOOKUP('ORDER FRAMES'!$Q$44,Scharnieren!$C$7:$N$11,12,FALSE))","v":{"$error":"#N/A"}},{"$f":"IF('ORDER FRAMES'!$B$45=\"X40\",VLOOKUP('ORDER FRAMES'!$Q$45,Scharnieren!$C$16:$M$20,11,FALSE),VLOOKUP('ORDER FRAMES'!$Q$45,Scharnieren!$C$7:$N$11,12,FALSE))","v":{"$error":"#N/A"}},{"$f":"IF('ORDER FRAMES'!$B$46=\"X40\",VLOOKUP('ORDER FRAMES'!$Q$46,Scharnieren!$C$16:$M$20,11,FALSE),VLOOKUP('ORDER FRAMES'!$Q$46,Scharnieren!$C$7:$N$11,12,FALSE))","v":{"$error":"#N/A"}},{"$f":"IF('ORDER FRAMES'!$B$47=\"X40\",VLOOKUP('ORDER FRAMES'!$Q$47,Scharnieren!$C$16:$M$20,11,FALSE),VLOOKUP('ORDER FRAMES'!$Q$47,Scharnieren!$C$7:$N$11,12,FALSE))","v":{"$error":"#N/A"}},{"$f":"IF('ORDER FRAMES'!$B$48=\"X40\",VLOOKUP('ORDER FRAMES'!$Q$48,Scharnieren!$C$16:$M$20,11,FALSE),VLOOKUP('ORDER FRAMES'!$Q$48,Scharnieren!$C$7:$N$11,12,FALSE))","v":{"$error":"#N/A"}},{"$f":"IF('ORDER FRAMES'!$B$49=\"X40\",VLOOKUP('ORDER FRAMES'!$Q$49,Scharnieren!$C$16:$M$20,11,FALSE),VLOOKUP('ORDER FRAMES'!$Q$49,Scharnieren!$C$7:$N$11,12,FALSE))","v":{"$error":"#N/A"}},{"$f":"IF('ORDER FRAMES'!$B$50=\"X40\",VLOOKUP('ORDER FRAMES'!$Q$50,Scharnieren!$C$16:$M$20,11,FALSE),VLOOKUP('ORDER FRAMES'!$Q$50,Scharnieren!$C$7:$N$11,12,FALSE))","v":{"$error":"#N/A"}},{"$f":"IF('ORDER FRAMES'!$B$51=\"X40\",VLOOKUP('ORDER FRAMES'!$Q$51,Scharnieren!$C$16:$M$20,11,FALSE),VLOOKUP('ORDER FRAMES'!$Q$51,Scharnieren!$C$7:$N$11,12,FALSE))","v":{"$error":"#N/A"}},{"$f":"IF('ORDER FRAMES'!$B$52=\"X40\",VLOOKUP('ORDER FRAMES'!$Q$52,Scharnieren!$C$16:$M$20,11,FALSE),VLOOKUP('ORDER FRAMES'!$Q$52,Scharnieren!$C$7:$N$11,12,FALSE))","v":{"$error":"#N/A"}},{"$f":"IF('ORDER FRAMES'!$B$53=\"X40\",VLOOKUP('ORDER FRAMES'!$Q$53,Scharnieren!$C$16:$M$20,11,FALSE),VLOOKUP('ORDER FRAMES'!$Q$53,Scharnieren!$C$7:$N$11,12,FALSE))","v":{"$error":"#N/A"}},{"$f":"IF('ORDER FRAMES'!$B$54=\"X40\",VLOOKUP('ORDER FRAMES'!$Q$54,Scharnieren!$C$16:$M$20,11,FALSE),VLOOKUP('ORDER FRAMES'!$Q$54,Scharnieren!$C$7:$N$11,12,FALSE))","v":{"$error":"#N/A"}},{"$f":"IF('ORDER FRAMES'!$B$55=\"X40\",VLOOKUP('ORDER FRAMES'!$Q$55,Scharnieren!$C$16:$M$20,11,FALSE),VLOOKUP('ORDER FRAMES'!$Q$55,Scharnieren!$C$7:$N$11,12,FALSE))","v":{"$error":"#N/A"}},{"$f":"IF('ORDER FRAMES'!$B$56=\"X40\",VLOOKUP('ORDER FRAMES'!$Q$56,Scharnieren!$C$16:$M$20,11,FALSE),VLOOKUP('ORDER FRAMES'!$Q$56,Scharnieren!$C$7:$N$11,12,FALSE))","v":{"$error":"#N/A"}},{"$f":"IF('ORDER FRAMES'!$B$57=\"X40\",VLOOKUP('ORDER FRAMES'!$Q$57,Scharnieren!$C$16:$M$20,11,FALSE),VLOOKUP('ORDER FRAMES'!$Q$57,Scharnieren!$C$7:$N$11,12,FALSE))","v":{"$error":"#N/A"}},{"$f":"IF('ORDER FRAMES'!$B$58=\"X40\",VLOOKUP('ORDER FRAMES'!$Q$58,Scharnieren!$C$16:$M$20,11,FALSE),VLOOKUP('ORDER FRAMES'!$Q$58,Scharnieren!$C$7:$N$11,12,FALSE))","v":{"$error":"#N/A"}},{"$f":"IF('ORDER FRAMES'!$B$59=\"X40\",VLOOKUP('ORDER FRAMES'!$Q$59,Scharnieren!$C$16:$M$20,11,FALSE),VLOOKUP('ORDER FRAMES'!$Q$59,Scharnieren!$C$7:$N$11,12,FALSE))","v":{"$error":"#N/A"}},{"$f":"IF('ORDER FRAMES'!$B$60=\"X40\",VLOOKUP('ORDER FRAMES'!$Q$60,Scharnieren!$C$16:$M$20,11,FALSE),VLOOKUP('ORDER FRAMES'!$Q$60,Scharnieren!$C$7:$N$11,12,FALSE))","v":{"$error":"#N/A"}},{"$f":"IF('ORDER FRAMES'!$B$61=\"X40\",VLOOKUP('ORDER FRAMES'!$Q$61,Scharnieren!$C$16:$M$20,11,FALSE),VLOOKUP('ORDER FRAMES'!$Q$61,Scharnieren!$C$7:$N$11,12,FALSE))","v":{"$error":"#N/A"}},{"$f":"IF('ORDER FRAMES'!$B$62=\"X40\",VLOOKUP('ORDER FRAMES'!$Q$62,Scharnieren!$C$16:$M$20,11,FALSE),VLOOKUP('ORDER FRAMES'!$Q$62,Scharnieren!$C$7:$N$11,12,FALSE))","v":{"$error":"#N/A"}},{"$f":"IF('ORDER FRAMES'!$B$63=\"X40\",VLOOKUP('ORDER FRAMES'!$Q$63,Scharnieren!$C$16:$M$20,11,FALSE),VLOOKUP('ORDER FRAMES'!$Q$63,Scharnieren!$C$7:$N$11,12,FALSE))","v":{"$error":"#N/A"}},{"$f":"IF('ORDER FRAMES'!$B$64=\"X40\",VLOOKUP('ORDER FRAMES'!$Q$64,Scharnieren!$C$16:$M$20,11,FALSE),VLOOKUP('ORDER FRAMES'!$Q$64,Scharnieren!$C$7:$N$11,12,FALSE))","v":{"$error":"#N/A"}},{"$f":"IF('ORDER FRAMES'!$B$65=\"X40\",VLOOKUP('ORDER FRAMES'!$Q$65,Scharnieren!$C$16:$M$20,11,FALSE),VLOOKUP('ORDER FRAMES'!$Q$65,Scharnieren!$C$7:$N$11,12,FALSE))","v":{"$error":"#N/A"}},{"$f":"IF('ORDER FRAMES'!$B$66=\"X40\",VLOOKUP('ORDER FRAMES'!$Q$66,Scharnieren!$C$16:$M$20,11,FALSE),VLOOKUP('ORDER FRAMES'!$Q$66,Scharnieren!$C$7:$N$11,12,FALSE))","v":{"$error":"#N/A"}},{"$f":"IF('ORDER FRAMES'!$B$67=\"X40\",VLOOKUP('ORDER FRAMES'!$Q$67,Scharnieren!$C$16:$M$20,11,FALSE),VLOOKUP('ORDER FRAMES'!$Q$67,Scharnieren!$C$7:$N$11,12,FALSE))","v":{"$error":"#N/A"}},{"$f":"IF('ORDER FRAMES'!$B$68=\"X40\",VLOOKUP('ORDER FRAMES'!$Q$68,Scharnieren!$C$16:$M$20,11,FALSE),VLOOKUP('ORDER FRAMES'!$Q$68,Scharnieren!$C$7:$N$11,12,FALSE))","v":{"$error":"#N/A"}},{"$f":"IF('ORDER FRAMES'!$B$69=\"X40\",VLOOKUP('ORDER FRAMES'!$Q$69,Scharnieren!$C$16:$M$20,11,FALSE),VLOOKUP('ORDER FRAMES'!$Q$69,Scharnieren!$C$7:$N$11,12,FALSE))","v":{"$error":"#N/A"}},{"$f":"IF('ORDER FRAMES'!$B$70=\"X40\",VLOOKUP('ORDER FRAMES'!$Q$70,Scharnieren!$C$16:$M$20,11,FALSE),VLOOKUP('ORDER FRAMES'!$Q$70,Scharnieren!$C$7:$N$11,12,FALSE))","v":{"$error":"#N/A"}},{"$f":"IF('ORDER FRAMES'!$B$71=\"X40\",VLOOKUP('ORDER FRAMES'!$Q$71,Scharnieren!$C$16:$M$20,11,FALSE),VLOOKUP('ORDER FRAMES'!$Q$71,Scharnieren!$C$7:$N$11,12,FALSE))","v":{"$error":"#N/A"}},{"$f":"IF('ORDER FRAMES'!$B$72=\"X40\",VLOOKUP('ORDER FRAMES'!$Q$72,Scharnieren!$C$16:$M$20,11,FALSE),VLOOKUP('ORDER FRAMES'!$Q$72,Scharnieren!$C$7:$N$11,12,FALSE))","v":{"$error":"#N/A"}},{"$f":"IF('ORDER FRAMES'!$B$73=\"X40\",VLOOKUP('ORDER FRAMES'!$Q$73,Scharnieren!$C$16:$M$20,11,FALSE),VLOOKUP('ORDER FRAMES'!$Q$73,Scharnieren!$C$7:$N$11,12,FALSE))","v":{"$error":"#N/A"}},{"$f":"IF('ORDER FRAMES'!$B$74=\"X40\",VLOOKUP('ORDER FRAMES'!$Q$74,Scharnieren!$C$16:$M$20,11,FALSE),VLOOKUP('ORDER FRAMES'!$Q$74,Scharnieren!$C$7:$N$11,12,FALSE))","v":{"$error":"#N/A"}},{"$f":"IF('ORDER FRAMES'!$B$75=\"X40\",VLOOKUP('ORDER FRAMES'!$Q$75,Scharnieren!$C$16:$M$20,11,FALSE),VLOOKUP('ORDER FRAMES'!$Q$75,Scharnieren!$C$7:$N$11,12,FALSE))","v":{"$error":"#N/A"}},{"$f":"IF('ORDER FRAMES'!$B$76=\"X40\",VLOOKUP('ORDER FRAMES'!$Q$76,Scharnieren!$C$16:$M$20,11,FALSE),VLOOKUP('ORDER FRAMES'!$Q$76,Scharnieren!$C$7:$N$11,12,FALSE))","v":{"$error":"#N/A"}},{"$f":"IF('ORDER FRAMES'!$B$77=\"X40\",VLOOKUP('ORDER FRAMES'!$Q$77,Scharnieren!$C$16:$M$20,11,FALSE),VLOOKUP('ORDER FRAMES'!$Q$77,Scharnieren!$C$7:$N$11,12,FALSE))","v":{"$error":"#N/A"}},{"$f":"IF('ORDER FRAMES'!$B$78=\"X40\",VLOOKUP('ORDER FRAMES'!$Q$78,Scharnieren!$C$16:$M$20,11,FALSE),VLOOKUP('ORDER FRAMES'!$Q$78,Scharnieren!$C$7:$N$11,12,FALSE))","v":{"$error":"#N/A"}},{"$f":"IF('ORDER FRAMES'!$B$79=\"X40\",VLOOKUP('ORDER FRAMES'!$Q$79,Scharnieren!$C$16:$M$20,11,FALSE),VLOOKUP('ORDER FRAMES'!$Q$79,Scharnieren!$C$7:$N$11,12,FALSE))","v":{"$error":"#N/A"}},{"$f":"IF('ORDER FRAMES'!$B$80=\"X40\",VLOOKUP('ORDER FRAMES'!$Q$80,Scharnieren!$C$16:$M$20,11,FALSE),VLOOKUP('ORDER FRAMES'!$Q$80,Scharnieren!$C$7:$N$11,12,FALSE))","v":{"$error":"#N/A"}},{"$f":"IF('ORDER FRAMES'!$B$81=\"X40\",VLOOKUP('ORDER FRAMES'!$Q$81,Scharnieren!$C$16:$M$20,11,FALSE),VLOOKUP('ORDER FRAMES'!$Q$81,Scharnieren!$C$7:$N$11,12,FALSE))","v":{"$error":"#N/A"}},{"$f":"IF('ORDER FRAMES'!$B$82=\"X40\",VLOOKUP('ORDER FRAMES'!$Q$82,Scharnieren!$C$16:$M$20,11,FALSE),VLOOKUP('ORDER FRAMES'!$Q$82,Scharnieren!$C$7:$N$11,12,FALSE))","v":{"$error":"#N/A"}},{"$f":"IF('ORDER FRAMES'!$B$83=\"X40\",VLOOKUP('ORDER FRAMES'!$Q$83,Scharnieren!$C$16:$M$20,11,FALSE),VLOOKUP('ORDER FRAMES'!$Q$83,Scharnieren!$C$7:$N$11,12,FALSE))","v":{"$error":"#N/A"}},{"$f":"IF('ORDER FRAMES'!$B$84=\"X40\",VLOOKUP('ORDER FRAMES'!$Q$84,Scharnieren!$C$16:$M$20,11,FALSE),VLOOKUP('ORDER FRAMES'!$Q$84,Scharnieren!$C$7:$N$11,12,FALSE))","v":{"$error":"#N/A"}},{"$f":"IF('ORDER FRAMES'!$B$85=\"X40\",VLOOKUP('ORDER FRAMES'!$Q$85,Scharnieren!$C$16:$M$20,11,FALSE),VLOOKUP('ORDER FRAMES'!$Q$85,Scharnieren!$C$7:$N$11,12,FALSE))","v":{"$error":"#N/A"}},{"$f":"IF('ORDER FRAMES'!$B$86=\"X40\",VLOOKUP('ORDER FRAMES'!$Q$86,Scharnieren!$C$16:$M$20,11,FALSE),VLOOKUP('ORDER FRAMES'!$Q$86,Scharnieren!$C$7:$N$11,12,FALSE))","v":{"$error":"#N/A"}},{"$f":"IF('ORDER FRAMES'!$B$87=\"X40\",VLOOKUP('ORDER FRAMES'!$Q$87,Scharnieren!$C$16:$M$20,11,FALSE),VLOOKUP('ORDER FRAMES'!$Q$87,Scharnieren!$C$7:$N$11,12,FALSE))","v":{"$error":"#N/A"}},{"$f":"IF('ORDER FRAMES'!$B$88=\"X40\",VLOOKUP('ORDER FRAMES'!$Q$88,Scharnieren!$C$16:$M$20,11,FALSE),VLOOKUP('ORDER FRAMES'!$Q$88,Scharnieren!$C$7:$N$11,12,FALSE))","v":{"$error":"#N/A"}},{"$f":"IF('ORDER FRAMES'!$B$89=\"X40\",VLOOKUP('ORDER FRAMES'!$Q$89,Scharnieren!$C$16:$M$20,11,FALSE),VLOOKUP('ORDER FRAMES'!$Q$89,Scharnieren!$C$7:$N$11,12,FALSE))","v":{"$error":"#N/A"}},{"$f":"IF('ORDER FRAMES'!$B$90=\"X40\",VLOOKUP('ORDER FRAMES'!$Q$90,Scharnieren!$C$16:$M$20,11,FALSE),VLOOKUP('ORDER FRAMES'!$Q$90,Scharnieren!$C$7:$N$11,12,FALSE))","v":{"$error":"#N/A"}},{"$f":"IF('ORDER FRAMES'!$B$91=\"X40\",VLOOKUP('ORDER FRAMES'!$Q$91,Scharnieren!$C$16:$M$20,11,FALSE),VLOOKUP('ORDER FRAMES'!$Q$91,Scharnieren!$C$7:$N$11,12,FALSE))","v":{"$error":"#N/A"}},{"$f":"IF('ORDER FRAMES'!$B$92=\"X40\",VLOOKUP('ORDER FRAMES'!$Q$92,Scharnieren!$C$16:$M$20,11,FALSE),VLOOKUP('ORDER FRAMES'!$Q$92,Scharnieren!$C$7:$N$11,12,FALSE))","v":{"$error":"#N/A"}},{"$f":"IF('ORDER FRAMES'!$B$93=\"X40\",VLOOKUP('ORDER FRAMES'!$Q$93,Scharnieren!$C$16:$M$20,11,FALSE),VLOOKUP('ORDER FRAMES'!$Q$93,Scharnieren!$C$7:$N$11,12,FALSE))","v":{"$error":"#N/A"}},{"$f":"IF('ORDER FRAMES'!$B$94=\"X40\",VLOOKUP('ORDER FRAMES'!$Q$94,Scharnieren!$C$16:$M$20,11,FALSE),VLOOKUP('ORDER FRAMES'!$Q$94,Scharnieren!$C$7:$N$11,12,FALSE))","v":{"$error":"#N/A"}},{"$f":"IF('ORDER FRAMES'!$B$95=\"X40\",VLOOKUP('ORDER FRAMES'!$Q$95,Scharnieren!$C$16:$M$20,11,FALSE),VLOOKUP('ORDER FRAMES'!$Q$95,Scharnieren!$C$7:$N$11,12,FALSE))","v":{"$error":"#N/A"}},{"$f":"IF('ORDER FRAMES'!$B$96=\"X40\",VLOOKUP('ORDER FRAMES'!$Q$96,Scharnieren!$C$16:$M$20,11,FALSE),VLOOKUP('ORDER FRAMES'!$Q$96,Scharnieren!$C$7:$N$11,12,FALSE))","v":{"$error":"#N/A"}},{"$f":"IF('ORDER FRAMES'!$B$97=\"X40\",VLOOKUP('ORDER FRAMES'!$Q$97,Scharnieren!$C$16:$M$20,11,FALSE),VLOOKUP('ORDER FRAMES'!$Q$97,Scharnieren!$C$7:$N$11,12,FALSE))","v":{"$error":"#N/A"}},{"$f":"IF('ORDER FRAMES'!$B$98=\"X40\",VLOOKUP('ORDER FRAMES'!$Q$98,Scharnieren!$C$16:$M$20,11,FALSE),VLOOKUP('ORDER FRAMES'!$Q$98,Scharnieren!$C$7:$N$11,12,FALSE))","v":{"$error":"#N/A"}},{"$f":"IF('ORDER FRAMES'!$B$99=\"X40\",VLOOKUP('ORDER FRAMES'!$Q$99,Scharnieren!$C$16:$M$20,11,FALSE),VLOOKUP('ORDER FRAMES'!$Q$99,Scharnieren!$C$7:$N$11,12,FALSE))","v":{"$error":"#N/A"}},{"$f":"IF('ORDER FRAMES'!$B$100=\"X40\",VLOOKUP('ORDER FRAMES'!$Q$100,Scharnieren!$C$16:$M$20,11,FALSE),VLOOKUP('ORDER FRAMES'!$Q$100,Scharnieren!$C$7:$N$11,12,FALSE))","v":{"$error":"#N/A"}}]
[]
[]
[null,"Bij X40"]
[null,"Nee",1,"A24.0","A24.1","A24.2","X4030.W","X4030.G","X4030.B"]
[null,"Active stop ",2,"A24.0","A24.1","A24.2","X4030.W","X4030.G","X4030.B"]
[null,"Boxer ",3,"A24.0","A24.1","A24.2","X4030.W","X4030.G","X4030.B"]
[null,"ITS ",4,"A24.0","A24.1","A24.2","X4030.W","X4030.G","X4030.B"]
[null,"X4030-SC",5,"X4030.W","X4030.G","X4030.B"]
[]
[]
[]
[null,null,null,null,null,null,null,null,null,null,null,null,null,null,null,null,null,null,null,null,21,22,23,24,25,26,27,28,29,30,31,32,33,34,35,36,37,38,39,40,41,42,43,44,45,46,47,48,49,50,51,52,53,54,55,56,57,58,59,60,61,62,63,64,65,66,67,68,69,70,71,72,73,74,75,76,77,78,79,80,81,82,83,84,85,86,87,88,89,90,91,92,93,94,95,96,97,98,99,100]
[null,"Gewoon ",null,null,null,null,null,null,null,null,null,null,null,null,null,null,null,null,null,null,{"$f":"IF('ORDER FRAMES'!$D$21=\"EI0\",VLOOKUP('ORDER FRAMES'!$D$21,$C$26:$F$26,2,FALSE),VLOOKUP('ORDER FRAMES'!$D$21,$C$29:$F$29,2,FALSE))","v":"EI 1 30"},{"$f":"IF('ORDER FRAMES'!$D$22=\"/\",VLOOKUP('ORDER FRAMES'!$D$22,$C$26:$F$26,2,FALSE),VLOOKUP('ORDER FRAMES'!$D$22,$C$29:$F$29,2,FALSE))","v":{"$error":"#N/A"}},{"$f":"IF('ORDER FRAMES'!$D$23=\"EI0\",VLOOKUP('ORDER FRAMES'!$D$23,$C$26:$F$26,2,FALSE),VLOOKUP('ORDER FRAMES'!$D$23,$C$29:$F$29,2,FALSE))","v":{"$error":"#N/A"}},{"$f":"IF('ORDER FRAMES'!$D$24=\"EI0\",VLOOKUP('ORDER FRAMES'!$D$24,$C$26:$F$26,2,FALSE),VLOOKUP('ORDER FRAMES'!$D$24,$C$29:$F$29,2,FALSE))","v":{"$error":"#N/A"}},{"$f":"IF('ORDER FRAMES'!$D$25=\"EI0\",VLOOKUP('ORDER FRAMES'!$D$25,$C$26:$F$26,2,FALSE),VLOOKUP('ORDER FRAMES'!$D$25,$C$29:$F$29,2,FALSE))","v":{"$error":"#N/A"}},{"$f":"IF('ORDER FRAMES'!$D$26=\"EI0\",VLOOKUP('ORDER FRAMES'!$D$26,$C$26:$F$26,2,FALSE),VLOOKUP('ORDER FRAMES'!$D$26,$C$29:$F$29,2,FALSE))","v":{"$error":"#N/A"}},{"$f":"IF('ORDER FRAMES'!$D$27=\"EI0\",VLOOKUP('ORDER FRAMES'!$D$27,$C$26:$F$26,2,FALSE),VLOOKUP('ORDER FRAMES'!$D$27,$C$29:$F$29,2,FALSE))","v":{"$error":"#N/A"}},{"$f":"IF('ORDER FRAMES'!$D$28=\"EI0\",VLOOKUP('ORDER FRAMES'!$D$28,$C$26:$F$26,2,FALSE),VLOOKUP('ORDER FRAMES'!$D$28,$C$29:$F$29,2,FALSE))","v":{"$error":"#N/A"}},{"$f":"IF('ORDER FRAMES'!$D$29=\"EI0\",VLOOKUP('ORDER FRAMES'!$D$29,$C$26:$F$26,2,FALSE),VLOOKUP('ORDER FRAMES'!$D$29,$C$29:$F$29,2,FALSE))","v":{"$error":"#N/A"}},{"$f":"IF('ORDER FRAMES'!$D$30=\"EI0\",VLOOKUP('ORDER FRAMES'!$D$30,$C$26:$F$26,2,FALSE),VLOOKUP('ORDER FRAMES'!$D$30,$C$29:$F$29,2,FALSE))","v":{"$error":"#N/A"}},{"$f":"IF('ORDER FRAMES'!$D$31=\"EI0\",VLOOKUP('ORDER FRAMES'!$D$31,$C$26:$F$26,2,FALSE),VLOOKUP('ORDER FRAMES'!$D$31,$C$29:$F$29,2,FALSE))","v":{"$error":"#N/A"}},{"$f":"IF('ORDER FRAMES'!$D$32=\"EI0\",VLOOKUP('ORDER FRAMES'!$D$32,$C$26:$F$26,2,FALSE),VLOOKUP('ORDER FRAMES'!$D$32,$C$29:$F$29,2,FALSE))","v":{"$error":"#N/A"}},{"$f":"IF('ORDER FRAMES'!$D$33=\"EI0\",VLOOKUP('ORDER FRAMES'!$D$33,$C$26:$F$26,2,FALSE),VLOOKUP('ORDER FRAMES'!$D$33,$C$29:$F$29,2,FALSE))","v":{"$error":"#N/A"}},{"$f":"IF('ORDER FRAMES'!$D$34=\"EI0\",VLOOKUP('ORDER FRAMES'!$D$34,$C$26:$F$26,2,FALSE),VLOOKUP('ORDER FRAMES'!$D$34,$C$29:$F$29,2,FALSE))","v":{"$error":"#N/A"}},{"$f":"IF('ORDER FRAMES'!$D$35=\"EI0\",VLOOKUP('ORDER FRAMES'!$D$35,$C$26:$F$26,2,FALSE),VLOOKUP('ORDER FRAMES'!$D$35,$C$29:$F$29,2,FALSE))","v":{"$error":"#N/A"}},{"$f":"IF('ORDER FRAMES'!$D$36=\"EI0\",VLOOKUP('ORDER FRAMES'!$D$36,$C$26:$F$26,2,FALSE),VLOOKUP('ORDER FRAMES'!$D$36,$C$29:$F$29,2,FALSE))","v":{"$error":"#N/A"}},{"$f":"IF('ORDER FRAMES'!$D$37=\"EI0\",VLOOKUP('ORDER FRAMES'!$D$37,$C$26:$F$26,2,FALSE),VLOOKUP('ORDER FRAMES'!$D$37,$C$29:$F$29,2,FALSE))","v":{"$error":"#N/A"}},{"$f":"IF('ORDER FRAMES'!$D$38=\"EI0\",VLOOKUP('ORDER FRAMES'!$D$38,$C$26:$F$26,2,FALSE),VLOOKUP('ORDER FRAMES'!$D$38,$C$29:$F$29,2,FALSE))","v":{"$error":"#N/A"}},{"$f":"IF('ORDER FRAMES'!$D$39=\"EI0\",VLOOKUP('ORDER FRAMES'!$D$39,$C$26:$F$26,2,FALSE),VLOOKUP('ORDER FRAMES'!$D$39,$C$29:$F$29,2,FALSE))","v":{"$error":"#N/A"}},{"$f":"IF('ORDER FRAMES'!$D$40=\"EI0\",VLOOKUP('ORDER FRAMES'!$D$40,$C$26:$F$26,2,FALSE),VLOOKUP('ORDER FRAMES'!$D$40,$C$29:$F$29,2,FALSE))","v":{"$error":"#N/A"}},{"$f":"IF('ORDER FRAMES'!$D$41=\"EI0\",VLOOKUP('ORDER FRAMES'!$D$41,$C$26:$F$26,2,FALSE),VLOOKUP('ORDER FRAMES'!$D$41,$C$29:$F$29,2,FALSE))","v":{"$error":"#N/A"}},{"$f":"IF('ORDER FRAMES'!$D$42=\"EI0\",VLOOKUP('ORDER FRAMES'!$D$42,$C$26:$F$26,2,FALSE),VLOOKUP('ORDER FRAMES'!$D$42,$C$29:$F$29,2,FALSE))","v":{"$error":"#N/A"}},{"$f":"IF('ORDER FRAMES'!$D$43=\"EI0\",VLOOKUP('ORDER FRAMES'!$D$43,$C$26:$F$26,2,FALSE),VLOOKUP('ORDER FRAMES'!$D$43,$C$29:$F$29,2,FALSE))","v":{"$error":"#N/A"}},{"$f":"IF('ORDER FRAMES'!$D$44=\"EI0\",VLOOKUP('ORDER FRAMES'!$D$44,$C$26:$F$26,2,FALSE),VLOOKUP('ORDER FRAMES'!$D$44,$C$29:$F$29,2,FALSE))","v":{"$error":"#N/A"}},{"$f":"IF('ORDER FRAMES'!$D$45=\"EI0\",VLOOKUP('ORDER FRAMES'!$D$45,$C$26:$F$26,2,FALSE),VLOOKUP('ORDER FRAMES'!$D$45,$C$29:$F$29,2,FALSE))","v":{"$error":"#N/A"}},{"$f":"IF('ORDER FRAMES'!$D$46=\"EI0\",VLOOKUP('ORDER FRAMES'!$D$46,$C$26:$F$26,2,FALSE),VLOOKUP('ORDER FRAMES'!$D$46,$C$29:$F$29,2,FALSE))","v":{"$error":"#N/A"}},{"$f":"IF('ORDER FRAMES'!$D$47=\"EI0\",VLOOKUP('ORDER FRAMES'!$D$47,$C$26:$F$26,2,FALSE),VLOOKUP('ORDER FRAMES'!$D$47,$C$29:$F$29,2,FALSE))","v":{"$error":"#N/A"}},{"$f":"IF('ORDER FRAMES'!$D$48=\"EI0\",VLOOKUP('ORDER FRAMES'!$D$48,$C$26:$F$26,2,FALSE),VLOOKUP('ORDER FRAMES'!$D$48,$C$29:$F$29,2,FALSE))","v":{"$error":"#N/A"}},{"$f":"IF('ORDER FRAMES'!$D$49=\"EI0\",VLOOKUP('ORDER FRAMES'!$D$49,$C$26:$F$26,2,FALSE),VLOOKUP('ORDER FRAMES'!$D$49,$C$29:$F$29,2,FALSE))","v":{"$error":"#N/A"}},{"$f":"IF('ORDER FRAMES'!$D$50=\"EI0\",VLOOKUP('ORDER FRAMES'!$D$50,$C$26:$F$26,2,FALSE),VLOOKUP('ORDER FRAMES'!$D$50,$C$29:$F$29,2,FALSE))","v":{"$error":"#N/A"}},{"$f":"IF('ORDER FRAMES'!$D$51=\"EI0\",VLOOKUP('ORDER FRAMES'!$D$51,$C$26:$F$26,2,FALSE),VLOOKUP('ORDER FRAMES'!$D$51,$C$29:$F$29,2,FALSE))","v":{"$error":"#N/A"}},{"$f":"IF('ORDER FRAMES'!$D$52=\"EI0\",VLOOKUP('ORDER FRAMES'!$D$52,$C$26:$F$26,2,FALSE),VLOOKUP('ORDER FRAMES'!$D$52,$C$29:$F$29,2,FALSE))","v":{"$error":"#N/A"}},{"$f":"IF('ORDER FRAMES'!$D$53=\"EI0\",VLOOKUP('ORDER FRAMES'!$D$53,$C$26:$F$26,2,FALSE),VLOOKUP('ORDER FRAMES'!$D$53,$C$29:$F$29,2,FALSE))","v":{"$error":"#N/A"}},{"$f":"IF('ORDER FRAMES'!$D$54=\"EI0\",VLOOKUP('ORDER FRAMES'!$D$54,$C$26:$F$26,2,FALSE),VLOOKUP('ORDER FRAMES'!$D$54,$C$29:$F$29,2,FALSE))","v":{"$error":"#N/A"}},{"$f":"IF('ORDER FRAMES'!$D$55=\"EI0\",VLOOKUP('ORDER FRAMES'!$D$55,$C$26:$F$26,2,FALSE),VLOOKUP('ORDER FRAMES'!$D$55,$C$29:$F$29,2,FALSE))","v":{"$error":"#N/A"}},{"$f":"IF('ORDER FRAMES'!$D$56=\"EI0\",VLOOKUP('ORDER FRAMES'!$D$56,$C$26:$F$26,2,FALSE),VLOOKUP('ORDER FRAMES'!$D$56,$C$29:$F$29,2,FALSE))","v":{"$error":"#N/A"}},{"$f":"IF('ORDER FRAMES'!$D$57=\"EI0\",VLOOKUP('ORDER FRAMES'!$D$57,$C$26:$F$26,2,FALSE),VLOOKUP('ORDER FRAMES'!$D$57,$C$29:$F$29,2,FALSE))","v":{"$error":"#N/A"}},{"$f":"IF('ORDER FRAMES'!$D$58=\"EI0\",VLOOKUP('ORDER FRAMES'!$D$58,$C$26:$F$26,2,FALSE),VLOOKUP('ORDER FRAMES'!$D$5,$C$29:$F$29,2,FALSE))","v":{"$error":"#N/A"}},{"$f":"IF('ORDER FRAMES'!$D$59=\"EI0\",VLOOKUP('ORDER FRAMES'!$D$59,$C$26:$F$26,2,FALSE),VLOOKUP('ORDER FRAMES'!$D$59,$C$29:$F$29,2,FALSE))","v":{"$error":"#N/A"}},{"$f":"IF('ORDER FRAMES'!$D$60=\"EI0\",VLOOKUP('ORDER FRAMES'!$D$60,$C$26:$F$26,2,FALSE),VLOOKUP('ORDER FRAMES'!$D$60,$C$29:$F$29,2,FALSE))","v":{"$error":"#N/A"}},{"$f":"IF('ORDER FRAMES'!$D$61=\"EI0\",VLOOKUP('ORDER FRAMES'!$D$61,$C$26:$F$26,2,FALSE),VLOOKUP('ORDER FRAMES'!$D$61,$C$29:$F$29,2,FALSE))","v":{"$error":"#N/A"}},{"$f":"IF('ORDER FRAMES'!$D$62=\"EI0\",VLOOKUP('ORDER FRAMES'!$D$62,$C$26:$F$26,2,FALSE),VLOOKUP('ORDER FRAMES'!$D$62,$C$29:$F$29,2,FALSE))","v":{"$error":"#N/A"}},{"$f":"IF('ORDER FRAMES'!$D$63=\"EI0\",VLOOKUP('ORDER FRAMES'!$D$63,$C$26:$F$26,2,FALSE),VLOOKUP('ORDER FRAMES'!$D$63,$C$29:$F$29,2,FALSE))","v":{"$error":"#N/A"}},{"$f":"IF('ORDER FRAMES'!$D$64=\"EI0\",VLOOKUP('ORDER FRAMES'!$D$64,$C$26:$F$26,2,FALSE),VLOOKUP('ORDER FRAMES'!$D$64,$C$29:$F$29,2,FALSE))","v":{"$error":"#N/A"}},{"$f":"IF('ORDER FRAMES'!$D$65=\"EI0\",VLOOKUP('ORDER FRAMES'!$D$65,$C$26:$F$26,2,FALSE),VLOOKUP('ORDER FRAMES'!$D$65,$C$29:$F$29,2,FALSE))","v":{"$error":"#N/A"}},{"$f":"IF('ORDER FRAMES'!$D$66=\"EI0\",VLOOKUP('ORDER FRAMES'!$D$66,$C$26:$F$26,2,FALSE),VLOOKUP('ORDER FRAMES'!$D$66,$C$29:$F$29,2,FALSE))","v":{"$error":"#N/A"}},{"$f":"IF('ORDER FRAMES'!$D$67=\"EI0\",VLOOKUP('ORDER FRAMES'!$D$67,$C$26:$F$26,2,FALSE),VLOOKUP('ORDER FRAMES'!$D$67,$C$29:$F$29,2,FALSE))","v":{"$error":"#N/A"}},{"$f":"IF('ORDER FRAMES'!$D$68=\"EI0\",VLOOKUP('ORDER FRAMES'!$D$68,$C$26:$F$26,2,FALSE),VLOOKUP('ORDER FRAMES'!$D$68,$C$29:$F$29,2,FALSE))","v":{"$error":"#N/A"}},{"$f":"IF('ORDER FRAMES'!$D$69=\"EI0\",VLOOKUP('ORDER FRAMES'!$D$69,$C$26:$F$26,2,FALSE),VLOOKUP('ORDER FRAMES'!$D$69,$C$29:$F$29,2,FALSE))","v":{"$error":"#N/A"}},{"$f":"IF('ORDER FRAMES'!$D$70=\"EI0\",VLOOKUP('ORDER FRAMES'!$D$70,$C$26:$F$26,2,FALSE),VLOOKUP('ORDER FRAMES'!$D$70,$C$29:$F$29,2,FALSE))","v":{"$error":"#N/A"}},{"$f":"IF('ORDER FRAMES'!$D$71=\"EI0\",VLOOKUP('ORDER FRAMES'!$D$71,$C$26:$F$26,2,FALSE),VLOOKUP('ORDER FRAMES'!$D$71,$C$29:$F$29,2,FALSE))","v":{"$error":"#N/A"}},{"$f":"IF('ORDER FRAMES'!$D$72=\"EI0\",VLOOKUP('ORDER FRAMES'!$D$72,$C$26:$F$26,2,FALSE),VLOOKUP('ORDER FRAMES'!$D$72,$C$29:$F$29,2,FALSE))","v":{"$error":"#N/A"}},{"$f":"IF('ORDER FRAMES'!$D$73=\"EI0\",VLOOKUP('ORDER FRAMES'!$D$73,$C$26:$F$26,2,FALSE),VLOOKUP('ORDER FRAMES'!$D$73,$C$29:$F$29,2,FALSE))","v":{"$error":"#N/A"}},{"$f":"IF('ORDER FRAMES'!$D$74=\"EI0\",VLOOKUP('ORDER FRAMES'!$D$74,$C$26:$F$26,2,FALSE),VLOOKUP('ORDER FRAMES'!$D$74,$C$29:$F$29,2,FALSE))","v":{"$error":"#N/A"}},{"$f":"IF('ORDER FRAMES'!$D$75=\"EI0\",VLOOKUP('ORDER FRAMES'!$D$75,$C$26:$F$26,2,FALSE),VLOOKUP('ORDER FRAMES'!$D$75,$C$29:$F$29,2,FALSE))","v":{"$error":"#N/A"}},{"$f":"IF('ORDER FRAMES'!$D$76=\"EI0\",VLOOKUP('ORDER FRAMES'!$D$76,$C$26:$F$26,2,FALSE),VLOOKUP('ORDER FRAMES'!$D$76,$C$29:$F$29,2,FALSE))","v":{"$error":"#N/A"}},{"$f":"IF('ORDER FRAMES'!$D$77=\"EI0\",VLOOKUP('ORDER FRAMES'!$D$77,$C$26:$F$26,2,FALSE),VLOOKUP('ORDER FRAMES'!$D$77,$C$29:$F$29,2,FALSE))","v":{"$error":"#N/A"}},{"$f":"IF('ORDER FRAMES'!$D$78=\"EI0\",VLOOKUP('ORDER FRAMES'!$D$78,$C$26:$F$26,2,FALSE),VLOOKUP('ORDER FRAMES'!$D$78,$C$29:$F$29,2,FALSE))","v":{"$error":"#N/A"}},{"$f":"IF('ORDER FRAMES'!$D$79=\"EI0\",VLOOKUP('ORDER FRAMES'!$D$79,$C$26:$F$26,2,FALSE),VLOOKUP('ORDER FRAMES'!$D$79,$C$29:$F$29,2,FALSE))","v":{"$error":"#N/A"}},{"$f":"IF('ORDER FRAMES'!$D$80=\"EI0\",VLOOKUP('ORDER FRAMES'!$D$80,$C$26:$F$26,2,FALSE),VLOOKUP('ORDER FRAMES'!$D$80,$C$29:$F$29,2,FALSE))","v":{"$error":"#N/A"}},{"$f":"IF('ORDER FRAMES'!$D$81=\"EI0\",VLOOKUP('ORDER FRAMES'!$D$81,$C$26:$F$26,2,FALSE),VLOOKUP('ORDER FRAMES'!$D$81,$C$29:$F$29,2,FALSE))","v":{"$error":"#N/A"}},{"$f":"IF('ORDER FRAMES'!$D$82=\"EI0\",VLOOKUP('ORDER FRAMES'!$D$82,$C$26:$F$26,2,FALSE),VLOOKUP('ORDER FRAMES'!$D$82,$C$29:$F$29,2,FALSE))","v":{"$error":"#N/A"}},{"$f":"IF('ORDER FRAMES'!$D$83=\"EI0\",VLOOKUP('ORDER FRAMES'!$D$83,$C$26:$F$26,2,FALSE),VLOOKUP('ORDER FRAMES'!$D$83,$C$29:$F$29,2,FALSE))","v":{"$error":"#N/A"}},{"$f":"IF('ORDER FRAMES'!$D$84=\"EI0\",VLOOKUP('ORDER FRAMES'!$D$84,$C$26:$F$26,2,FALSE),VLOOKUP('ORDER FRAMES'!$D$84,$C$29:$F$29,2,FALSE))","v":{"$error":"#N/A"}},{"$f":"IF('ORDER FRAMES'!$D$85=\"EI0\",VLOOKUP('ORDER FRAMES'!$D$85,$C$26:$F$26,2,FALSE),VLOOKUP('ORDER FRAMES'!$D$85,$C$29:$F$29,2,FALSE))","v":{"$error":"#N/A"}},{"$f":"IF('ORDER FRAMES'!$D$86=\"EI0\",VLOOKUP('ORDER FRAMES'!$D$86,$C$26:$F$26,2,FALSE),VLOOKUP('ORDER FRAMES'!$D$86,$C$29:$F$29,2,FALSE))","v":{"$error":"#N/A"}},{"$f":"IF('ORDER FRAMES'!$D$87=\"EI0\",VLOOKUP('ORDER FRAMES'!$D$87,$C$26:$F$26,2,FALSE),VLOOKUP('ORDER FRAMES'!$D$87,$C$29:$F$29,2,FALSE))","v":{"$error":"#N/A"}},{"$f":"IF('ORDER FRAMES'!$D$88=\"EI0\",VLOOKUP('ORDER FRAMES'!$D$88,$C$26:$F$26,2,FALSE),VLOOKUP('ORDER FRAMES'!$D$88,$C$29:$F$29,2,FALSE))","v":{"$error":"#N/A"}},{"$f":"IF('ORDER FRAMES'!$D$89=\"EI0\",VLOOKUP('ORDER FRAMES'!$D$89,$C$26:$F$26,2,FALSE),VLOOKUP('ORDER FRAMES'!$D$89,$C$29:$F$29,2,FALSE))","v":{"$error":"#N/A"}},{"$f":"IF('ORDER FRAMES'!$D$90=\"EI0\",VLOOKUP('ORDER FRAMES'!$D$90,$C$26:$F$26,2,FALSE),VLOOKUP('ORDER FRAMES'!$D$90,$C$29:$F$29,2,FALSE))","v":{"$error":"#N/A"}},{"$f":"IF('ORDER FRAMES'!$D$91=\"EI0\",VLOOKUP('ORDER FRAMES'!$D$91,$C$26:$F$26,2,FALSE),VLOOKUP('ORDER FRAMES'!$D$91,$C$29:$F$29,2,FALSE))","v":{"$error":"#N/A"}},{"$f":"IF('ORDER FRAMES'!$D$92=\"EI0\",VLOOKUP('ORDER FRAMES'!$D$92,$C$26:$F$26,2,FALSE),VLOOKUP('ORDER FRAMES'!$D$92,$C$29:$F$29,2,FALSE))","v":{"$error":"#N/A"}},{"$f":"IF('ORDER FRAMES'!$D$93=\"EI0\",VLOOKUP('ORDER FRAMES'!$D$93,$C$26:$F$26,2,FALSE),VLOOKUP('ORDER FRAMES'!$D$93,$C$29:$F$29,2,FALSE))","v":{"$error":"#N/A"}},{"$f":"IF('ORDER FRAMES'!$D$94=\"EI0\",VLOOKUP('ORDER FRAMES'!$D$94,$C$26:$F$26,2,FALSE),VLOOKUP('ORDER FRAMES'!$D$94,$C$29:$F$29,2,FALSE))","v":{"$error":"#N/A"}},{"$f":"IF('ORDER FRAMES'!$D$95=\"EI0\",VLOOKUP('ORDER FRAMES'!$D$95,$C$26:$F$26,2,FALSE),VLOOKUP('ORDER FRAMES'!$D$95,$C$29:$F$29,2,FALSE))","v":{"$error":"#N/A"}},{"$f":"IF('ORDER FRAMES'!$D$96=\"EI0\",VLOOKUP('ORDER FRAMES'!$D$96,$C$26:$F$26,2,FALSE),VLOOKUP('ORDER FRAMES'!$D$96,$C$29:$F$29,2,FALSE))","v":{"$error":"#N/A"}},{"$f":"IF('ORDER FRAMES'!$D$97=\"EI0\",VLOOKUP('ORDER FRAMES'!$D$97,$C$26:$F$26,2,FALSE),VLOOKUP('ORDER FRAMES'!$D$97,$C$29:$F$29,2,FALSE))","v":{"$error":"#N/A"}},{"$f":"IF('ORDER FRAMES'!$D$98=\"EI0\",VLOOKUP('ORDER FRAMES'!$D$98,$C$26:$F$26,2,FALSE),VLOOKUP('ORDER FRAMES'!$D$98,$C$29:$F$29,2,FALSE))","v":{"$error":"#N/A"}},{"$f":"IF('ORDER FRAMES'!$D$99=\"EI0\",VLOOKUP('ORDER FRAMES'!$D$99,$C$26:$F$26,2,FALSE),VLOOKUP('ORDER FRAMES'!$D$99,$C$29:$F$29,2,FALSE))","v":{"$error":"#N/A"}},{"$f":"IF('ORDER FRAMES'!$D$100=\"EI0\",VLOOKUP('ORDER FRAMES'!$D$100,$C$26:$F$26,2,FALSE),VLOOKUP('ORDER FRAMES'!$D$100,$C$29:$F$29,2,FALSE))","v":{"$error":"#N/A"}}]
[null,null,"EI0","EI 0","-","-",null,null,null,null,null,null,null,null,null,null,null,null,null,null,{"$f":"IF('ORDER FRAMES'!$D$21=\"EI0\",VLOOKUP('ORDER FRAMES'!$D$21,$C$26:$F$26,3,FALSE),VLOOKUP('ORDER FRAMES'!$D$21,$C$29:$F$29,3,FALSE))","v":"EI 1 45"},{"$f":"IF('ORDER FRAMES'!$D$22=\"/\",VLOOKUP('ORDER FRAMES'!$D$22,$C$26:$F$26,3,FALSE),VLOOKUP('ORDER FRAMES'!$D$22,$C$29:$F$29,3,FALSE))","v":{"$error":"#N/A"}},{"$f":"IF('ORDER FRAMES'!$D$23=\"EI0\",VLOOKUP('ORDER FRAMES'!$D$23,$C$26:$F$26,3,FALSE),VLOOKUP('ORDER FRAMES'!$D$23,$C$29:$F$29,3,FALSE))","v":{"$error":"#N/A"}},{"$f":"IF('ORDER FRAMES'!$D$24=\"EI0\",VLOOKUP('ORDER FRAMES'!$D$24,$C$26:$F$26,3,FALSE),VLOOKUP('ORDER FRAMES'!$D$24,$C$29:$F$29,3,FALSE))","v":{"$error":"#N/A"}},{"$f":"IF('ORDER FRAMES'!$D$25=\"EI0\",VLOOKUP('ORDER FRAMES'!$D$25,$C$26:$F$26,3,FALSE),VLOOKUP('ORDER FRAMES'!$D$25,$C$29:$F$29,3,FALSE))","v":{"$error":"#N/A"}},{"$f":"IF('ORDER FRAMES'!$D$26=\"EI0\",VLOOKUP('ORDER FRAMES'!$D$26,$C$26:$F$26,3,FALSE),VLOOKUP('ORDER FRAMES'!$D$26,$C$29:$F$29,3,FALSE))","v":{"$error":"#N/A"}},{"$f":"IF('ORDER FRAMES'!$D$27=\"EI0\",VLOOKUP('ORDER FRAMES'!$D$27,$C$26:$F$26,3,FALSE),VLOOKUP('ORDER FRAMES'!$D$27,$C$29:$F$29,3,FALSE))","v":{"$error":"#N/A"}},{"$f":"IF('ORDER FRAMES'!$D$28=\"EI0\",VLOOKUP('ORDER FRAMES'!$D$28,$C$26:$F$26,3,FALSE),VLOOKUP('ORDER FRAMES'!$D$28,$C$29:$F$29,3,FALSE))","v":{"$error":"#N/A"}},{"$f":"IF('ORDER FRAMES'!$D$29=\"EI0\",VLOOKUP('ORDER FRAMES'!$D$29,$C$26:$F$26,3,FALSE),VLOOKUP('ORDER FRAMES'!$D$29,$C$29:$F$29,3,FALSE))","v":{"$error":"#N/A"}},{"$f":"IF('ORDER FRAMES'!$D$30=\"EI0\",VLOOKUP('ORDER FRAMES'!$D$30,$C$26:$F$26,3,FALSE),VLOOKUP('ORDER FRAMES'!$D$30,$C$29:$F$29,3,FALSE))","v":{"$error":"#N/A"}},{"$f":"IF('ORDER FRAMES'!$D$31=\"EI0\",VLOOKUP('ORDER FRAMES'!$D$31,$C$26:$F$26,3,FALSE),VLOOKUP('ORDER FRAMES'!$D$31,$C$29:$F$29,3,FALSE))","v":{"$error":"#N/A"}},{"$f":"IF('ORDER FRAMES'!$D$32=\"EI0\",VLOOKUP('ORDER FRAMES'!$D$32,$C$26:$F$26,3,FALSE),VLOOKUP('ORDER FRAMES'!$D$32,$C$29:$F$29,3,FALSE))","v":{"$error":"#N/A"}},{"$f":"IF('ORDER FRAMES'!$D$33=\"EI0\",VLOOKUP('ORDER FRAMES'!$D$33,$C$26:$F$26,3,FALSE),VLOOKUP('ORDER FRAMES'!$D$33,$C$29:$F$29,3,FALSE))","v":{"$error":"#N/A"}},{"$f":"IF('ORDER FRAMES'!$D$34=\"EI0\",VLOOKUP('ORDER FRAMES'!$D$34,$C$26:$F$26,3,FALSE),VLOOKUP('ORDER FRAMES'!$D$34,$C$29:$F$29,3,FALSE))","v":{"$error":"#N/A"}},{"$f":"IF('ORDER FRAMES'!$D$35=\"EI0\",VLOOKUP('ORDER FRAMES'!$D$35,$C$26:$F$26,3,FALSE),VLOOKUP('ORDER FRAMES'!$D$35,$C$29:$F$29,3,FALSE))","v":{"$error":"#N/A"}},{"$f":"IF('ORDER FRAMES'!$D$36=\"EI0\",VLOOKUP('ORDER FRAMES'!$D$36,$C$26:$F$26,3,FALSE),VLOOKUP('ORDER FRAMES'!$D$36,$C$29:$F$29,3,FALSE))","v":{"$error":"#N/A"}},{"$f":"IF('ORDER FRAMES'!$D$37=\"EI0\",VLOOKUP('ORDER FRAMES'!$D$37,$C$26:$F$26,3,FALSE),VLOOKUP('ORDER FRAMES'!$D$37,$C$29:$F$29,3,FALSE))","v":{"$error":"#N/A"}},{"$f":"IF('ORDER FRAMES'!$D$38=\"EI0\",VLOOKUP('ORDER FRAMES'!$D$38,$C$26:$F$26,3,FALSE),VLOOKUP('ORDER FRAMES'!$D$38,$C$29:$F$29,3,FALSE))","v":{"$error":"#N/A"}},{"$f":"IF('ORDER FRAMES'!$D$39=\"EI0\",VLOOKUP('ORDER FRAMES'!$D$39,$C$26:$F$26,3,FALSE),VLOOKUP('ORDER FRAMES'!$D$39,$C$29:$F$29,3,FALSE))","v":{"$error":"#N/A"}},{"$f":"IF('ORDER FRAMES'!$D$40=\"EI0\",VLOOKUP('ORDER FRAMES'!$D$40,$C$26:$F$26,3,FALSE),VLOOKUP('ORDER FRAMES'!$D$40,$C$29:$F$29,3,FALSE))","v":{"$error":"#N/A"}},{"$f":"IF('ORDER FRAMES'!$D$41=\"EI0\",VLOOKUP('ORDER FRAMES'!$D$41,$C$26:$F$26,3,FALSE),VLOOKUP('ORDER FRAMES'!$D$41,$C$29:$F$29,3,FALSE))","v":{"$error":"#N/A"}},{"$f":"IF('ORDER FRAMES'!$D$42=\"EI0\",VLOOKUP('ORDER FRAMES'!$D$42,$C$26:$F$26,3,FALSE),VLOOKUP('ORDER FRAMES'!$D$42,$C$29:$F$29,3,FALSE))","v":{"$error":"#N/A"}},{"$f":"IF('ORDER FRAMES'!$D$43=\"EI0\",VLOOKUP('ORDER FRAMES'!$D$43,$C$26:$F$26,3,FALSE),VLOOKUP('ORDER FRAMES'!$D$43,$C$29:$F$29,3,FALSE))","v":{"$error":"#N/A"}},{"$f":"IF('ORDER FRAMES'!$D$44=\"EI0\",VLOOKUP('ORDER FRAMES'!$D$44,$C$26:$F$26,3,FALSE),VLOOKUP('ORDER FRAMES'!$D$44,$C$29:$F$29,3,FALSE))","v":{"$error":"#N/A"}},{"$f":"IF('ORDER FRAMES'!$D$45=\"EI0\",VLOOKUP('ORDER FRAMES'!$D$45,$C$26:$F$26,3,FALSE),VLOOKUP('ORDER FRAMES'!$D$45,$C$29:$F$29,3,FALSE))","v":{"$error":"#N/A"}},{"$f":"IF('ORDER FRAMES'!$D$46=\"EI0\",VLOOKUP('ORDER FRAMES'!$D$46,$C$26:$F$26,3,FALSE),VLOOKUP('ORDER FRAMES'!$D$46,$C$29:$F$29,3,FALSE))","v":{"$error":"#N/A"}},{"$f":"IF('ORDER FRAMES'!$D$47=\"EI0\",VLOOKUP('ORDER FRAMES'!$D$47,$C$26:$F$26,3,FALSE),VLOOKUP('ORDER FRAMES'!$D$47,$C$29:$F$29,3,FALSE))","v":{"$error":"#N/A"}},{"$f":"IF('ORDER FRAMES'!$D$48=\"EI0\",VLOOKUP('ORDER FRAMES'!$D$48,$C$26:$F$26,3,FALSE),VLOOKUP('ORDER FRAMES'!$D$48,$C$29:$F$29,3,FALSE))","v":{"$error":"#N/A"}},{"$f":"IF('ORDER FRAMES'!$D$49=\"EI0\",VLOOKUP('ORDER FRAMES'!$D$49,$C$26:$F$26,3,FALSE),VLOOKUP('ORDER FRAMES'!$D$49,$C$29:$F$29,3,FALSE))","v":{"$error":"#N/A"}},{"$f":"IF('ORDER FRAMES'!$D$50=\"EI0\",VLOOKUP('ORDER FRAMES'!$D$50,$C$26:$F$26,3,FALSE),VLOOKUP('ORDER FRAMES'!$D$50,$C$29:$F$29,3,FALSE))","v":{"$error":"#N/A"}},{"$f":"IF('ORDER FRAMES'!$D$51=\"EI0\",VLOOKUP('ORDER FRAMES'!$D$51,$C$26:$F$26,3,FALSE),VLOOKUP('ORDER FRAMES'!$D$51,$C$29:$F$29,3,FALSE))","v":{"$error":"#N/A"}},{"$f":"IF('ORDER FRAMES'!$D$52=\"EI0\",VLOOKUP('ORDER FRAMES'!$D$52,$C$26:$F$26,3,FALSE),VLOOKUP('ORDER FRAMES'!$D$52,$C$29:$F$29,3,FALSE))","v":{"$error":"#N/A"}},{"$f":"IF('ORDER FRAMES'!$D$53=\"EI0\",VLOOKUP('ORDER FRAMES'!$D$53,$C$26:$F$26,3,FALSE),VLOOKUP('ORDER FRAMES'!$D$53,$C$29:$F$29,3,FALSE))","v":{"$error":"#N/A"}},{"$f":"IF('ORDER FRAMES'!$D$54=\"EI0\",VLOOKUP('ORDER FRAMES'!$D$54,$C$26:$F$26,3,FALSE),VLOOKUP('ORDER FRAMES'!$D$54,$C$29:$F$29,3,FALSE))","v":{"$error":"#N/A"}},{"$f":"IF('ORDER FRAMES'!$D$55=\"EI0\",VLOOKUP('ORDER FRAMES'!$D$55,$C$26:$F$26,3,FALSE),VLOOKUP('ORDER FRAMES'!$D$55,$C$29:$F$29,3,FALSE))","v":{"$error":"#N/A"}},{"$f":"IF('ORDER FRAMES'!$D$56=\"EI0\",VLOOKUP('ORDER FRAMES'!$D$56,$C$26:$F$26,3,FALSE),VLOOKUP('ORDER FRAMES'!$D$56,$C$29:$F$29,3,FALSE))","v":{"$error":"#N/A"}},{"$f":"IF('ORDER FRAMES'!$D$57=\"EI0\",VLOOKUP('ORDER FRAMES'!$D$57,$C$26:$F$26,3,FALSE),VLOOKUP('ORDER FRAMES'!$D$57,$C$29:$F$29,3,FALSE))","v":{"$error":"#N/A"}},{"$f":"IF('ORDER FRAMES'!$D$58=\"EI0\",VLOOKUP('ORDER FRAMES'!$D$58,$C$26:$F$26,3,FALSE),VLOOKUP('ORDER FRAMES'!$D$58,$C$29:$F$29,3,FALSE))","v":{"$error":"#N/A"}},{"$f":"IF('ORDER FRAMES'!$D$59=\"EI0\",VLOOKUP('ORDER FRAMES'!$D$59,$C$26:$F$26,3,FALSE),VLOOKUP('ORDER FRAMES'!$D$59,$C$29:$F$29,3,FALSE))","v":{"$error":"#N/A"}},{"$f":"IF('ORDER FRAMES'!$D$60=\"EI0\",VLOOKUP('ORDER FRAMES'!$D$60,$C$26:$F$26,3,FALSE),VLOOKUP('ORDER FRAMES'!$D$60,$C$29:$F$29,3,FALSE))","v":{"$error":"#N/A"}},{"$f":"IF('ORDER FRAMES'!$D$61=\"EI0\",VLOOKUP('ORDER FRAMES'!$D$61,$C$26:$F$26,3,FALSE),VLOOKUP('ORDER FRAMES'!$D$61,$C$29:$F$29,3,FALSE))","v":{"$error":"#N/A"}},{"$f":"IF('ORDER FRAMES'!$D$62=\"EI0\",VLOOKUP('ORDER FRAMES'!$D$62,$C$26:$F$26,3,FALSE),VLOOKUP('ORDER FRAMES'!$D$62,$C$29:$F$29,3,FALSE))","v":{"$error":"#N/A"}},{"$f":"IF('ORDER FRAMES'!$D$63=\"EI0\",VLOOKUP('ORDER FRAMES'!$D$63,$C$26:$F$26,3,FALSE),VLOOKUP('ORDER FRAMES'!$D$63,$C$29:$F$29,3,FALSE))","v":{"$error":"#N/A"}},{"$f":"IF('ORDER FRAMES'!$D$64=\"EI0\",VLOOKUP('ORDER FRAMES'!$D$64,$C$26:$F$26,3,FALSE),VLOOKUP('ORDER FRAMES'!$D$64,$C$29:$F$29,3,FALSE))","v":{"$error":"#N/A"}},{"$f":"IF('ORDER FRAMES'!$D$65=\"EI0\",VLOOKUP('ORDER FRAMES'!$D$65,$C$26:$F$26,3,FALSE),VLOOKUP('ORDER FRAMES'!$D$65,$C$29:$F$29,3,FALSE))","v":{"$error":"#N/A"}},{"$f":"IF('ORDER FRAMES'!$D$66=\"EI0\",VLOOKUP('ORDER FRAMES'!$D$66,$C$26:$F$26,3,FALSE),VLOOKUP('ORDER FRAMES'!$D$66,$C$29:$F$29,3,FALSE))","v":{"$error":"#N/A"}},{"$f":"IF('ORDER FRAMES'!$D$67=\"EI0\",VLOOKUP('ORDER FRAMES'!$D$67,$C$26:$F$26,3,FALSE),VLOOKUP('ORDER FRAMES'!$D$67,$C$29:$F$29,3,FALSE))","v":{"$error":"#N/A"}},{"$f":"IF('ORDER FRAMES'!$D$68=\"EI0\",VLOOKUP('ORDER FRAMES'!$D$68,$C$26:$F$26,3,FALSE),VLOOKUP('ORDER FRAMES'!$D$68,$C$29:$F$29,3,FALSE))","v":{"$error":"#N/A"}},{"$f":"IF('ORDER FRAMES'!$D$69=\"EI0\",VLOOKUP('ORDER FRAMES'!$D$69,$C$26:$F$26,3,FALSE),VLOOKUP('ORDER FRAMES'!$D$69,$C$29:$F$29,3,FALSE))","v":{"$error":"#N/A"}},{"$f":"IF('ORDER FRAMES'!$D$70=\"EI0\",VLOOKUP('ORDER FRAMES'!$D$70,$C$26:$F$26,3,FALSE),VLOOKUP('ORDER FRAMES'!$D$70,$C$29:$F$29,3,FALSE))","v":{"$error":"#N/A"}},{"$f":"IF('ORDER FRAMES'!$D$71=\"EI0\",VLOOKUP('ORDER FRAMES'!$D$71,$C$26:$F$26,3,FALSE),VLOOKUP('ORDER FRAMES'!$D$71,$C$29:$F$29,3,FALSE))","v":{"$error":"#N/A"}},{"$f":"IF('ORDER FRAMES'!$D$72=\"EI0\",VLOOKUP('ORDER FRAMES'!$D$72,$C$26:$F$26,3,FALSE),VLOOKUP('ORDER FRAMES'!$D$72,$C$29:$F$29,3,FALSE))","v":{"$error":"#N/A"}},{"$f":"IF('ORDER FRAMES'!$D$73=\"EI0\",VLOOKUP('ORDER FRAMES'!$D$73,$C$26:$F$26,3,FALSE),VLOOKUP('ORDER FRAMES'!$D$73,$C$29:$F$29,3,FALSE))","v":{"$error":"#N/A"}},{"$f":"IF('ORDER FRAMES'!$D$74=\"EI0\",VLOOKUP('ORDER FRAMES'!$D$74,$C$26:$F$26,3,FALSE),VLOOKUP('ORDER FRAMES'!$D$74,$C$29:$F$29,3,FALSE))","v":{"$error":"#N/A"}},{"$f":"IF('ORDER FRAMES'!$D$75=\"EI0\",VLOOKUP('ORDER FRAMES'!$D$75,$C$26:$F$26,3,FALSE),VLOOKUP('ORDER FRAMES'!$D$75,$C$29:$F$29,3,FALSE))","v":{"$error":"#N/A"}},{"$f":"IF('ORDER FRAMES'!$D$76=\"EI0\",VLOOKUP('ORDER FRAMES'!$D$76,$C$26:$F$26,3,FALSE),VLOOKUP('ORDER FRAMES'!$D$76,$C$29:$F$29,3,FALSE))","v":{"$error":"#N/A"}},{"$f":"IF('ORDER FRAMES'!$D$77=\"EI0\",VLOOKUP('ORDER FRAMES'!$D$77,$C$26:$F$26,3,FALSE),VLOOKUP('ORDER FRAMES'!$D$77,$C$29:$F$29,3,FALSE))","v":{"$error":"#N/A"}},{"$f":"IF('ORDER FRAMES'!$D$78=\"EI0\",VLOOKUP('ORDER FRAMES'!$D$78,$C$26:$F$26,3,FALSE),VLOOKUP('ORDER FRAMES'!$D$78,$C$29:$F$29,3,FALSE))","v":{"$error":"#N/A"}},{"$f":"IF('ORDER FRAMES'!$D$79=\"EI0\",VLOOKUP('ORDER FRAMES'!$D$79,$C$26:$F$26,3,FALSE),VLOOKUP('ORDER FRAMES'!$D$79,$C$29:$F$29,3,FALSE))","v":{"$error":"#N/A"}},{"$f":"IF('ORDER FRAMES'!$D$80=\"EI0\",VLOOKUP('ORDER FRAMES'!$D$80,$C$26:$F$26,3,FALSE),VLOOKUP('ORDER FRAMES'!$D$80,$C$29:$F$29,3,FALSE))","v":{"$error":"#N/A"}},{"$f":"IF('ORDER FRAMES'!$D$81=\"EI0\",VLOOKUP('ORDER FRAMES'!$D$81,$C$26:$F$26,3,FALSE),VLOOKUP('ORDER FRAMES'!$D$81,$C$29:$F$29,3,FALSE))","v":{"$error":"#N/A"}},{"$f":"IF('ORDER FRAMES'!$D$82=\"EI0\",VLOOKUP('ORDER FRAMES'!$D$82,$C$26:$F$26,3,FALSE),VLOOKUP('ORDER FRAMES'!$D$82,$C$29:$F$29,3,FALSE))","v":{"$error":"#N/A"}},{"$f":"IF('ORDER FRAMES'!$D$83=\"EI0\",VLOOKUP('ORDER FRAMES'!$D$83,$C$26:$F$26,3,FALSE),VLOOKUP('ORDER FRAMES'!$D$83,$C$29:$F$29,3,FALSE))","v":{"$error":"#N/A"}},{"$f":"IF('ORDER FRAMES'!$D$84=\"EI0\",VLOOKUP('ORDER FRAMES'!$D$84,$C$26:$F$26,3,FALSE),VLOOKUP('ORDER FRAMES'!$D$84,$C$29:$F$29,3,FALSE))","v":{"$error":"#N/A"}},{"$f":"IF('ORDER FRAMES'!$D$85=\"EI0\",VLOOKUP('ORDER FRAMES'!$D$85,$C$26:$F$26,3,FALSE),VLOOKUP('ORDER FRAMES'!$D$85,$C$29:$F$29,3,FALSE))","v":{"$error":"#N/A"}},{"$f":"IF('ORDER FRAMES'!$D$86=\"EI0\",VLOOKUP('ORDER FRAMES'!$D$86,$C$26:$F$26,3,FALSE),VLOOKUP('ORDER FRAMES'!$D$86,$C$29:$F$29,3,FALSE))","v":{"$error":"#N/A"}},{"$f":"IF('ORDER FRAMES'!$D$87=\"EI0\",VLOOKUP('ORDER FRAMES'!$D$87,$C$26:$F$26,3,FALSE),VLOOKUP('ORDER FRAMES'!$D$87,$C$29:$F$29,3,FALSE))","v":{"$error":"#N/A"}},{"$f":"IF('ORDER FRAMES'!$D$88=\"EI0\",VLOOKUP('ORDER FRAMES'!$D$88,$C$26:$F$26,3,FALSE),VLOOKUP('ORDER FRAMES'!$D$88,$C$29:$F$29,3,FALSE))","v":{"$error":"#N/A"}},{"$f":"IF('ORDER FRAMES'!$D$89=\"EI0\",VLOOKUP('ORDER FRAMES'!$D$89,$C$26:$F$26,3,FALSE),VLOOKUP('ORDER FRAMES'!$D$89,$C$29:$F$29,3,FALSE))","v":{"$error":"#N/A"}},{"$f":"IF('ORDER FRAMES'!$D$90=\"EI0\",VLOOKUP('ORDER FRAMES'!$D$90,$C$26:$F$26,3,FALSE),VLOOKUP('ORDER FRAMES'!$D$90,$C$29:$F$29,3,FALSE))","v":{"$error":"#N/A"}},{"$f":"IF('ORDER FRAMES'!$D$91=\"EI0\",VLOOKUP('ORDER FRAMES'!$D$91,$C$26:$F$26,3,FALSE),VLOOKUP('ORDER FRAMES'!$D$91,$C$29:$F$29,3,FALSE))","v":{"$error":"#N/A"}},{"$f":"IF('ORDER FRAMES'!$D$92=\"EI0\",VLOOKUP('ORDER FRAMES'!$D$92,$C$26:$F$26,3,FALSE),VLOOKUP('ORDER FRAMES'!$D$92,$C$29:$F$29,3,FALSE))","v":{"$error":"#N/A"}},{"$f":"IF('ORDER FRAMES'!$D$93=\"EI0\",VLOOKUP('ORDER FRAMES'!$D$93,$C$26:$F$26,3,FALSE),VLOOKUP('ORDER FRAMES'!$D$93,$C$29:$F$29,3,FALSE))","v":{"$error":"#N/A"}},{"$f":"IF('ORDER FRAMES'!$D$94=\"EI0\",VLOOKUP('ORDER FRAMES'!$D$94,$C$26:$F$26,3,FALSE),VLOOKUP('ORDER FRAMES'!$D$94,$C$29:$F$29,3,FALSE))","v":{"$error":"#N/A"}},{"$f":"IF('ORDER FRAMES'!$D$95=\"EI0\",VLOOKUP('ORDER FRAMES'!$D$95,$C$26:$F$26,3,FALSE),VLOOKUP('ORDER FRAMES'!$D$95,$C$29:$F$29,3,FALSE))","v":{"$error":"#N/A"}},{"$f":"IF('ORDER FRAMES'!$D$96=\"EI0\",VLOOKUP('ORDER FRAMES'!$D$96,$C$26:$F$26,3,FALSE),VLOOKUP('ORDER FRAMES'!$D$96,$C$29:$F$29,3,FALSE))","v":{"$error":"#N/A"}},{"$f":"IF('ORDER FRAMES'!$D$97=\"EI0\",VLOOKUP('ORDER FRAMES'!$D$97,$C$26:$F$26,3,FALSE),VLOOKUP('ORDER FRAMES'!$D$97,$C$29:$F$29,3,FALSE))","v":{"$error":"#N/A"}},{"$f":"IF('ORDER FRAMES'!$D$98=\"EI0\",VLOOKUP('ORDER FRAMES'!$D$98,$C$26:$F$26,3,FALSE),VLOOKUP('ORDER FRAMES'!$D$98,$C$29:$F$29,3,FALSE))","v":{"$error":"#N/A"}},{"$f":"IF('ORDER FRAMES'!$D$99=\"EI0\",VLOOKUP('ORDER FRAMES'!$D$99,$C$26:$F$26,3,FALSE),VLOOKUP('ORDER FRAMES'!$D$99,$C$29:$F$29,3,FALSE))","v":{"$error":"#N/A"}},{"$f":"IF('ORDER FRAMES'!$D$100=\"EI0\",VLOOKUP('ORDER FRAMES'!$D$100,$C$26:$F$26,3,FALSE),VLOOKUP('ORDER FRAMES'!$D$100,$C$29:$F$29,3,FALSE))","v":{"$error":"#N/A"}}]
[null,null,null,null,null,null,null,null,null,null,null,null,null,null,null,null,null,null,null,null,{"$f":"IF('ORDER FRAMES'!$D$21=\"EI0\",VLOOKUP('ORDER FRAMES'!$D$21,$C$26:$F$26,4,FALSE),VLOOKUP('ORDER FRAMES'!$D$21,$C$29:$F$29,4,FALSE))","v":"EI 2 60"},{"$f":"IF('ORDER FRAMES'!$D$22=\"/\",VLOOKUP('ORDER FRAMES'!$D$22,$C$26:$F$26,4,FALSE),VLOOKUP('ORDER FRAMES'!$D$22,$C$29:$F$29,4,FALSE))","v":{"$error":"#N/A"}},{"$f":"IF('ORDER FRAMES'!$D$23=\"EI0\",VLOOKUP('ORDER FRAMES'!$D$23,$C$26:$F$26,4,FALSE),VLOOKUP('ORDER FRAMES'!$D$23,$C$29:$F$29,4,FALSE))","v":{"$error":"#N/A"}},{"$f":"IF('ORDER FRAMES'!$D$24=\"EI0\",VLOOKUP('ORDER FRAMES'!$D$24,$C$26:$F$26,4,FALSE),VLOOKUP('ORDER FRAMES'!$D$24,$C$29:$F$29,4,FALSE))","v":{"$error":"#N/A"}},{"$f":"IF('ORDER FRAMES'!$D$25=\"EI0\",VLOOKUP('ORDER FRAMES'!$D$25,$C$26:$F$26,4,FALSE),VLOOKUP('ORDER FRAMES'!$D$25,$C$29:$F$29,4,FALSE))","v":{"$error":"#N/A"}},{"$f":"IF('ORDER FRAMES'!$D$26=\"EI0\",VLOOKUP('ORDER FRAMES'!$D$26,$C$26:$F$26,4,FALSE),VLOOKUP('ORDER FRAMES'!$D$26,$C$29:$F$29,4,FALSE))","v":{"$error":"#N/A"}},{"$f":"IF('ORDER FRAMES'!$D$27=\"EI0\",VLOOKUP('ORDER FRAMES'!$D$27,$C$26:$F$26,4,FALSE),VLOOKUP('ORDER FRAMES'!$D$27,$C$29:$F$29,4,FALSE))","v":{"$error":"#N/A"}},{"$f":"IF('ORDER FRAMES'!$D$28=\"EI0\",VLOOKUP('ORDER FRAMES'!$D$28,$C$26:$F$26,4,FALSE),VLOOKUP('ORDER FRAMES'!$D$28,$C$29:$F$29,4,FALSE))","v":{"$error":"#N/A"}},{"$f":"IF('ORDER FRAMES'!$D$29=\"EI0\",VLOOKUP('ORDER FRAMES'!$D$29,$C$26:$F$26,4,FALSE),VLOOKUP('ORDER FRAMES'!$D$29,$C$29:$F$29,4,FALSE))","v":{"$error":"#N/A"}},{"$f":"IF('ORDER FRAMES'!$D$30=\"EI0\",VLOOKUP('ORDER FRAMES'!$D$30,$C$26:$F$26,4,FALSE),VLOOKUP('ORDER FRAMES'!$D$30,$C$29:$F$29,4,FALSE))","v":{"$error":"#N/A"}},{"$f":"IF('ORDER FRAMES'!$D$31=\"EI0\",VLOOKUP('ORDER FRAMES'!$D$31,$C$26:$F$26,4,FALSE),VLOOKUP('ORDER FRAMES'!$D$31,$C$29:$F$29,4,FALSE))","v":{"$error":"#N/A"}},{"$f":"IF('ORDER FRAMES'!$D$32=\"EI0\",VLOOKUP('ORDER FRAMES'!$D$32,$C$26:$F$26,4,FALSE),VLOOKUP('ORDER FRAMES'!$D$32,$C$29:$F$29,4,FALSE))","v":{"$error":"#N/A"}},{"$f":"IF('ORDER FRAMES'!$D$33=\"EI0\",VLOOKUP('ORDER FRAMES'!$D$33,$C$26:$F$26,4,FALSE),VLOOKUP('ORDER FRAMES'!$D$33,$C$29:$F$29,4,FALSE))","v":{"$error":"#N/A"}},{"$f":"IF('ORDER FRAMES'!$D$34=\"EI0\",VLOOKUP('ORDER FRAMES'!$D$34,$C$26:$F$26,4,FALSE),VLOOKUP('ORDER FRAMES'!$D$34,$C$29:$F$29,4,FALSE))","v":{"$error":"#N/A"}},{"$f":"IF('ORDER FRAMES'!$D$35=\"EI0\",VLOOKUP('ORDER FRAMES'!$D$35,$C$26:$F$26,4,FALSE),VLOOKUP('ORDER FRAMES'!$D$35,$C$29:$F$29,4,FALSE))","v":{"$error":"#N/A"}},{"$f":"IF('ORDER FRAMES'!$D$36=\"EI0\",VLOOKUP('ORDER FRAMES'!$D$36,$C$26:$F$26,4,FALSE),VLOOKUP('ORDER FRAMES'!$D$36,$C$29:$F$29,4,FALSE))","v":{"$error":"#N/A"}},{"$f":"IF('ORDER FRAMES'!$D$37=\"EI0\",VLOOKUP('ORDER FRAMES'!$D$37,$C$26:$F$26,4,FALSE),VLOOKUP('ORDER FRAMES'!$D$37,$C$29:$F$29,4,FALSE))","v":{"$error":"#N/A"}},{"$f":"IF('ORDER FRAMES'!$D$38=\"EI0\",VLOOKUP('ORDER FRAMES'!$D$38,$C$26:$F$26,4,FALSE),VLOOKUP('ORDER FRAMES'!$D$38,$C$29:$F$29,4,FALSE))","v":{"$error":"#N/A"}},{"$f":"IF('ORDER FRAMES'!$D$39=\"EI0\",VLOOKUP('ORDER FRAMES'!$D$39,$C$26:$F$26,4,FALSE),VLOOKUP('ORDER FRAMES'!$D$39,$C$29:$F$29,4,FALSE))","v":{"$error":"#N/A"}},{"$f":"IF('ORDER FRAMES'!$D$40=\"EI0\",VLOOKUP('ORDER FRAMES'!$D$40,$C$26:$F$26,4,FALSE),VLOOKUP('ORDER FRAMES'!$D$40,$C$29:$F$29,4,FALSE))","v":{"$error":"#N/A"}},{"$f":"IF('ORDER FRAMES'!$D$41=\"EI0\",VLOOKUP('ORDER FRAMES'!$D$41,$C$26:$F$26,4,FALSE),VLOOKUP('ORDER FRAMES'!$D$41,$C$29:$F$29,4,FALSE))","v":{"$error":"#N/A"}},{"$f":"IF('ORDER FRAMES'!$D$42=\"EI0\",VLOOKUP('ORDER FRAMES'!$D$42,$C$26:$F$26,4,FALSE),VLOOKUP('ORDER FRAMES'!$D$42,$C$29:$F$29,4,FALSE))","v":{"$error":"#N/A"}},{"$f":"IF('ORDER FRAMES'!$D$43=\"EI0\",VLOOKUP('ORDER FRAMES'!$D$43,$C$26:$F$26,4,FALSE),VLOOKUP('ORDER FRAMES'!$D$43,$C$29:$F$29,4,FALSE))","v":{"$error":"#N/A"}},{"$f":"IF('ORDER FRAMES'!$D$44=\"EI0\",VLOOKUP('ORDER FRAMES'!$D$44,$C$26:$F$26,4,FALSE),VLOOKUP('ORDER FRAMES'!$D$44,$C$29:$F$29,4,FALSE))","v":{"$error":"#N/A"}},{"$f":"IF('ORDER FRAMES'!$D$45=\"EI0\",VLOOKUP('ORDER FRAMES'!$D$45,$C$26:$F$26,4,FALSE),VLOOKUP('ORDER FRAMES'!$D$45,$C$29:$F$29,4,FALSE))","v":{"$error":"#N/A"}},{"$f":"IF('ORDER FRAMES'!$D$46=\"EI0\",VLOOKUP('ORDER FRAMES'!$D$46,$C$26:$F$26,4,FALSE),VLOOKUP('ORDER FRAMES'!$D$46,$C$29:$F$29,4,FALSE))","v":{"$error":"#N/A"}},{"$f":"IF('ORDER FRAMES'!$D$47=\"EI0\",VLOOKUP('ORDER FRAMES'!$D$47,$C$26:$F$26,4,FALSE),VLOOKUP('ORDER FRAMES'!$D$47,$C$29:$F$29,4,FALSE))","v":{"$error":"#N/A"}},{"$f":"IF('ORDER FRAMES'!$D$48=\"EI0\",VLOOKUP('ORDER FRAMES'!$D$48,$C$26:$F$26,4,FALSE),VLOOKUP('ORDER FRAMES'!$D$48,$C$29:$F$29,4,FALSE))","v":{"$error":"#N/A"}},{"$f":"IF('ORDER FRAMES'!$D$49=\"EI0\",VLOOKUP('ORDER FRAMES'!$D$49,$C$26:$F$26,4,FALSE),VLOOKUP('ORDER FRAMES'!$D$49,$C$29:$F$29,4,FALSE))","v":{"$error":"#N/A"}},{"$f":"IF('ORDER FRAMES'!$D$50=\"EI0\",VLOOKUP('ORDER FRAMES'!$D$50,$C$26:$F$26,4,FALSE),VLOOKUP('ORDER FRAMES'!$D$50,$C$29:$F$29,4,FALSE))","v":{"$error":"#N/A"}},{"$f":"IF('ORDER FRAMES'!$D$51=\"EI0\",VLOOKUP('ORDER FRAMES'!$D$51,$C$26:$F$26,4,FALSE),VLOOKUP('ORDER FRAMES'!$D$51,$C$29:$F$29,4,FALSE))","v":{"$error":"#N/A"}},{"$f":"IF('ORDER FRAMES'!$D$52=\"EI0\",VLOOKUP('ORDER FRAMES'!$D$52,$C$26:$F$26,4,FALSE),VLOOKUP('ORDER FRAMES'!$D$52,$C$29:$F$29,4,FALSE))","v":{"$error":"#N/A"}},{"$f":"IF('ORDER FRAMES'!$D$53=\"EI0\",VLOOKUP('ORDER FRAMES'!$D$53,$C$26:$F$26,4,FALSE),VLOOKUP('ORDER FRAMES'!$D$53,$C$29:$F$29,4,FALSE))","v":{"$error":"#N/A"}},{"$f":"IF('ORDER FRAMES'!$D$54=\"EI0\",VLOOKUP('ORDER FRAMES'!$D$54,$C$26:$F$26,4,FALSE),VLOOKUP('ORDER FRAMES'!$D$54,$C$29:$F$29,4,FALSE))","v":{"$error":"#N/A"}},{"$f":"IF('ORDER FRAMES'!$D$55=\"EI0\",VLOOKUP('ORDER FRAMES'!$D$55,$C$26:$F$26,4,FALSE),VLOOKUP('ORDER FRAMES'!$D$55,$C$29:$F$29,4,FALSE))","v":{"$error":"#N/A"}},{"$f":"IF('ORDER FRAMES'!$D$56=\"EI0\",VLOOKUP('ORDER FRAMES'!$D$56,$C$26:$F$26,4,FALSE),VLOOKUP('ORDER FRAMES'!$D$56,$C$29:$F$29,4,FALSE))","v":{"$error":"#N/A"}},{"$f":"IF('ORDER FRAMES'!$D$57=\"EI0\",VLOOKUP('ORDER FRAMES'!$D$57,$C$26:$F$26,4,FALSE),VLOOKUP('ORDER FRAMES'!$D$57,$C$29:$F$29,4,FALSE))","v":{"$error":"#N/A"}},{"$f":"IF('ORDER FRAMES'!$D$58=\"EI0\",VLOOKUP('ORDER FRAMES'!$D$58,$C$26:$F$26,4,FALSE),VLOOKUP('ORDER FRAMES'!$D$58,$C$29:$F$29,4,FALSE))","v":{"$error":"#N/A"}},{"$f":"IF('ORDER FRAMES'!$D$59=\"EI0\",VLOOKUP('ORDER FRAMES'!$D$59,$C$26:$F$26,4,FALSE),VLOOKUP('ORDER FRAMES'!$D$59,$C$29:$F$29,4,FALSE))","v":{"$error":"#N/A"}},{"$f":"IF('ORDER FRAMES'!$D$60=\"EI0\",VLOOKUP('ORDER FRAMES'!$D$60,$C$26:$F$26,4,FALSE),VLOOKUP('ORDER FRAMES'!$D$60,$C$29:$F$29,4,FALSE))","v":{"$error":"#N/A"}},{"$f":"IF('ORDER FRAMES'!$D$61=\"EI0\",VLOOKUP('ORDER FRAMES'!$D$61,$C$26:$F$26,4,FALSE),VLOOKUP('ORDER FRAMES'!$D$61,$C$29:$F$29,4,FALSE))","v":{"$error":"#N/A"}},{"$f":"IF('ORDER FRAMES'!$D$62=\"EI0\",VLOOKUP('ORDER FRAMES'!$D$62,$C$26:$F$26,4,FALSE),VLOOKUP('ORDER FRAMES'!$D$62,$C$29:$F$29,4,FALSE))","v":{"$error":"#N/A"}},{"$f":"IF('ORDER FRAMES'!$D$63=\"EI0\",VLOOKUP('ORDER FRAMES'!$D$63,$C$26:$F$26,4,FALSE),VLOOKUP('ORDER FRAMES'!$D$63,$C$29:$F$29,4,FALSE))","v":{"$error":"#N/A"}},{"$f":"IF('ORDER FRAMES'!$D$64=\"EI0\",VLOOKUP('ORDER FRAMES'!$D$64,$C$26:$F$26,4,FALSE),VLOOKUP('ORDER FRAMES'!$D$64,$C$29:$F$29,4,FALSE))","v":{"$error":"#N/A"}},{"$f":"IF('ORDER FRAMES'!$D$65=\"EI0\",VLOOKUP('ORDER FRAMES'!$D$65,$C$26:$F$26,4,FALSE),VLOOKUP('ORDER FRAMES'!$D$65,$C$29:$F$29,4,FALSE))","v":{"$error":"#N/A"}},{"$f":"IF('ORDER FRAMES'!$D$66=\"EI0\",VLOOKUP('ORDER FRAMES'!$D$66,$C$26:$F$26,4,FALSE),VLOOKUP('ORDER FRAMES'!$D$66,$C$29:$F$29,4,FALSE))","v":{"$error":"#N/A"}},{"$f":"IF('ORDER FRAMES'!$D$67=\"EI0\",VLOOKUP('ORDER FRAMES'!$D$67,$C$26:$F$26,4,FALSE),VLOOKUP('ORDER FRAMES'!$D$67,$C$29:$F$29,4,FALSE))","v":{"$error":"#N/A"}},{"$f":"IF('ORDER FRAMES'!$D$68=\"EI0\",VLOOKUP('ORDER FRAMES'!$D$68,$C$26:$F$26,4,FALSE),VLOOKUP('ORDER FRAMES'!$D$68,$C$29:$F$29,4,FALSE))","v":{"$error":"#N/A"}},{"$f":"IF('ORDER FRAMES'!$D$69=\"EI0\",VLOOKUP('ORDER FRAMES'!$D$69,$C$26:$F$26,4,FALSE),VLOOKUP('ORDER FRAMES'!$D$69,$C$29:$F$29,4,FALSE))","v":{"$error":"#N/A"}},{"$f":"IF('ORDER FRAMES'!$D$70=\"EI0\",VLOOKUP('ORDER FRAMES'!$D$70,$C$26:$F$26,4,FALSE),VLOOKUP('ORDER FRAMES'!$D$70,$C$29:$F$29,4,FALSE))","v":{"$error":"#N/A"}},{"$f":"IF('ORDER FRAMES'!$D$71=\"EI0\",VLOOKUP('ORDER FRAMES'!$D$71,$C$26:$F$26,4,FALSE),VLOOKUP('ORDER FRAMES'!$D$71,$C$29:$F$29,4,FALSE))","v":{"$error":"#N/A"}},{"$f":"IF('ORDER FRAMES'!$D$72=\"EI0\",VLOOKUP('ORDER FRAMES'!$D$72,$C$26:$F$26,4,FALSE),VLOOKUP('ORDER FRAMES'!$D$72,$C$29:$F$29,4,FALSE))","v":{"$error":"#N/A"}},{"$f":"IF('ORDER FRAMES'!$D$73=\"EI0\",VLOOKUP('ORDER FRAMES'!$D$73,$C$26:$F$26,4,FALSE),VLOOKUP('ORDER FRAMES'!$D$73,$C$29:$F$29,4,FALSE))","v":{"$error":"#N/A"}},{"$f":"IF('ORDER FRAMES'!$D$74=\"EI0\",VLOOKUP('ORDER FRAMES'!$D$74,$C$26:$F$26,4,FALSE),VLOOKUP('ORDER FRAMES'!$D$74,$C$29:$F$29,4,FALSE))","v":{"$error":"#N/A"}},{"$f":"IF('ORDER FRAMES'!$D$75=\"EI0\",VLOOKUP('ORDER FRAMES'!$D$75,$C$26:$F$26,4,FALSE),VLOOKUP('ORDER FRAMES'!$D$75,$C$29:$F$29,4,FALSE))","v":{"$error":"#N/A"}},{"$f":"IF('ORDER FRAMES'!$D$76=\"EI0\",VLOOKUP('ORDER FRAMES'!$D$76,$C$26:$F$26,4,FALSE),VLOOKUP('ORDER FRAMES'!$D$76,$C$29:$F$29,4,FALSE))","v":{"$error":"#N/A"}},{"$f":"IF('ORDER FRAMES'!$D$77=\"EI0\",VLOOKUP('ORDER FRAMES'!$D$77,$C$26:$F$26,4,FALSE),VLOOKUP('ORDER FRAMES'!$D$77,$C$29:$F$29,4,FALSE))","v":{"$error":"#N/A"}},{"$f":"IF('ORDER FRAMES'!$D$78=\"EI0\",VLOOKUP('ORDER FRAMES'!$D$78,$C$26:$F$26,4,FALSE),VLOOKUP('ORDER FRAMES'!$D$78,$C$29:$F$29,4,FALSE))","v":{"$error":"#N/A"}},{"$f":"IF('ORDER FRAMES'!$D$79=\"EI0\",VLOOKUP('ORDER FRAMES'!$D$79,$C$26:$F$26,4,FALSE),VLOOKUP('ORDER FRAMES'!$D$79,$C$29:$F$29,4,FALSE))","v":{"$error":"#N/A"}},{"$f":"IF('ORDER FRAMES'!$D$80=\"EI0\",VLOOKUP('ORDER FRAMES'!$D$80,$C$26:$F$26,4,FALSE),VLOOKUP('ORDER FRAMES'!$D$80,$C$29:$F$29,4,FALSE))","v":{"$error":"#N/A"}},{"$f":"IF('ORDER FRAMES'!$D$81=\"EI0\",VLOOKUP('ORDER FRAMES'!$D$81,$C$26:$F$26,4,FALSE),VLOOKUP('ORDER FRAMES'!$D$81,$C$29:$F$29,4,FALSE))","v":{"$error":"#N/A"}},{"$f":"IF('ORDER FRAMES'!$D$82=\"EI0\",VLOOKUP('ORDER FRAMES'!$D$82,$C$26:$F$26,4,FALSE),VLOOKUP('ORDER FRAMES'!$D$82,$C$29:$F$29,4,FALSE))","v":{"$error":"#N/A"}},{"$f":"IF('ORDER FRAMES'!$D$83=\"EI0\",VLOOKUP('ORDER FRAMES'!$D$83,$C$26:$F$26,4,FALSE),VLOOKUP('ORDER FRAMES'!$D$83,$C$29:$F$29,4,FALSE))","v":{"$error":"#N/A"}},{"$f":"IF('ORDER FRAMES'!$D$84=\"EI0\",VLOOKUP('ORDER FRAMES'!$D$84,$C$26:$F$26,4,FALSE),VLOOKUP('ORDER FRAMES'!$D$84,$C$29:$F$29,4,FALSE))","v":{"$error":"#N/A"}},{"$f":"IF('ORDER FRAMES'!$D$85=\"EI0\",VLOOKUP('ORDER FRAMES'!$D$85,$C$26:$F$26,4,FALSE),VLOOKUP('ORDER FRAMES'!$D$85,$C$29:$F$29,4,FALSE))","v":{"$error":"#N/A"}},{"$f":"IF('ORDER FRAMES'!$D$86=\"EI0\",VLOOKUP('ORDER FRAMES'!$D$86,$C$26:$F$26,4,FALSE),VLOOKUP('ORDER FRAMES'!$D$86,$C$29:$F$29,4,FALSE))","v":{"$error":"#N/A"}},{"$f":"IF('ORDER FRAMES'!$D$87=\"EI0\",VLOOKUP('ORDER FRAMES'!$D$87,$C$26:$F$26,4,FALSE),VLOOKUP('ORDER FRAMES'!$D$87,$C$29:$F$29,4,FALSE))","v":{"$error":"#N/A"}},{"$f":"IF('ORDER FRAMES'!$D$88=\"EI0\",VLOOKUP('ORDER FRAMES'!$D$88,$C$26:$F$26,4,FALSE),VLOOKUP('ORDER FRAMES'!$D$88,$C$29:$F$29,4,FALSE))","v":{"$error":"#N/A"}},{"$f":"IF('ORDER FRAMES'!$D$89=\"EI0\",VLOOKUP('ORDER FRAMES'!$D$89,$C$26:$F$26,4,FALSE),VLOOKUP('ORDER FRAMES'!$D$89,$C$29:$F$29,4,FALSE))","v":{"$error":"#N/A"}},{"$f":"IF('ORDER FRAMES'!$D$90=\"EI0\",VLOOKUP('ORDER FRAMES'!$D$90,$C$26:$F$26,4,FALSE),VLOOKUP('ORDER FRAMES'!$D$90,$C$29:$F$29,4,FALSE))","v":{"$error":"#N/A"}},{"$f":"IF('ORDER FRAMES'!$D$91=\"EI0\",VLOOKUP('ORDER FRAMES'!$D$91,$C$26:$F$26,4,FALSE),VLOOKUP('ORDER FRAMES'!$D$91,$C$29:$F$29,4,FALSE))","v":{"$error":"#N/A"}},{"$f":"IF('ORDER FRAMES'!$D$92=\"EI0\",VLOOKUP('ORDER FRAMES'!$D$92,$C$26:$F$26,4,FALSE),VLOOKUP('ORDER FRAMES'!$D$92,$C$29:$F$29,4,FALSE))","v":{"$error":"#N/A"}},{"$f":"IF('ORDER FRAMES'!$D$93=\"EI0\",VLOOKUP('ORDER FRAMES'!$D$93,$C$26:$F$26,4,FALSE),VLOOKUP('ORDER FRAMES'!$D$93,$C$29:$F$29,4,FALSE))","v":{"$error":"#N/A"}},{"$f":"IF('ORDER FRAMES'!$D$94=\"EI0\",VLOOKUP('ORDER FRAMES'!$D$94,$C$26:$F$26,4,FALSE),VLOOKUP('ORDER FRAMES'!$D$94,$C$29:$F$29,4,FALSE))","v":{"$error":"#N/A"}},{"$f":"IF('ORDER FRAMES'!$D$95=\"EI0\",VLOOKUP('ORDER FRAMES'!$D$95,$C$26:$F$26,4,FALSE),VLOOKUP('ORDER FRAMES'!$D$95,$C$29:$F$29,4,FALSE))","v":{"$error":"#N/A"}},{"$f":"IF('ORDER FRAMES'!$D$96=\"EI0\",VLOOKUP('ORDER FRAMES'!$D$96,$C$26:$F$26,4,FALSE),VLOOKUP('ORDER FRAMES'!$D$96,$C$29:$F$29,4,FALSE))","v":{"$error":"#N/A"}},{"$f":"IF('ORDER FRAMES'!$D$97=\"EI0\",VLOOKUP('ORDER FRAMES'!$D$97,$C$26:$F$26,4,FALSE),VLOOKUP('ORDER FRAMES'!$D$97,$C$29:$F$29,4,FALSE))","v":{"$error":"#N/A"}},{"$f":"IF('ORDER FRAMES'!$D$98=\"EI0\",VLOOKUP('ORDER FRAMES'!$D$98,$C$26:$F$26,4,FALSE),VLOOKUP('ORDER FRAMES'!$D$98,$C$29:$F$29,4,FALSE))","v":{"$error":"#N/A"}},{"$f":"IF('ORDER FRAMES'!$D$99=\"EI0\",VLOOKUP('ORDER FRAMES'!$D$99,$C$26:$F$26,4,FALSE),VLOOKUP('ORDER FRAMES'!$D$99,$C$29:$F$29,4,FALSE))","v":{"$error":"#N/A"}},{"$f":"IF('ORDER FRAMES'!$D$100=\"EI0\",VLOOKUP('ORDER FRAMES'!$D$100,$C$26:$F$26,4,FALSE),VLOOKUP('ORDER FRAMES'!$D$100,$C$29:$F$29,4,FALSE))","v":{"$error":"#N/A"}}]
[null,"Brand"]
[null,null,"EI-","EI 1 30","EI 1 45","EI 2 60"]
[]
[]
[]
[]
[]
[null,"Brand"]
[null,"X1","EI0","-",null,null,null,null,null,null,null,null,null,null,null,null,null,null,null,null,21,22,23,24,25,26,27,28,29,30,31,32,33,34,35,36,37,38,39,40,41,42,43,44,45,46,47,48,49,50,51,52,53,54,55,56,57,58,59,60,61,62,63,64,65,66,67,68,69,70,71,72,73,74,75,76,77,78,79,80,81,82,83,84,85,86,87,88,89,90,91,92,93,94,95,96,97,98,99,100]
[null,"X240","EI0","EI-",null,null,null,null,null,null,null,null,null,null,null,null,null,null,null,null,{"$f":"IF('ORDER FRAMES'!$B$21=\"\",\"\",VLOOKUP('ORDER FRAMES'!$B$21,$B$36:$D$41,2,FALSE))","v":"EI0"},{"$f":"IF('ORDER FRAMES'!$B$22=\"\",\"\",VLOOKUP('ORDER FRAMES'!$B$22,$B$36:$D$41,2,FALSE))","v":"EI0"},{"$f":"IF('ORDER FRAMES'!$B$23=\"\",\"\",VLOOKUP('ORDER FRAMES'!$B$23,$B$36:$D$41,2,FALSE))","v":""},{"$f":"IF('ORDER FRAMES'!$B$24=\"\",\"\",VLOOKUP('ORDER FRAMES'!$B$24,$B$36:$D$41,2,FALSE))","v":""},{"$f":"IF('ORDER FRAMES'!$B$25=\"\",\"\",VLOOKUP('ORDER FRAMES'!$B$25,$B$36:$D$41,2,FALSE))","v":""},{"$f":"IF('ORDER FRAMES'!$B$26=\"\",\"\",VLOOKUP('ORDER FRAMES'!$B$26,$B$36:$D$41,2,FALSE))","v":""},{"$f":"IF('ORDER FRAMES'!$B$27=\"\",\"\",VLOOKUP('ORDER FRAMES'!$B$27,$B$36:$D$41,2,FALSE))","v":""},{"$f":"IF('ORDER FRAMES'!$B$28=\"\",\"\",VLOOKUP('ORDER FRAMES'!$B$28,$B$36:$D$41,2,FALSE))","v":""},{"$f":"IF('ORDER FRAMES'!$B$29=\"\",\"\",VLOOKUP('ORDER FRAMES'!$B$29,$B$36:$D$41,2,FALSE))","v":""},{"$f":"IF('ORDER FRAMES'!$B$30=\"\",\"\",VLOOKUP('ORDER FRAMES'!$B$30,$B$36:$D$41,2,FALSE))","v":""},{"$f":"IF('ORDER FRAMES'!$B$31=\"\",\"\",VLOOKUP('ORDER FRAMES'!$B$31,$B$36:$D$41,2,FALSE))","v":""},{"$f":"IF('ORDER FRAMES'!$B$32=\"\",\"\",VLOOKUP('ORDER FRAMES'!$B$32,$B$36:$D$41,2,FALSE))","v":""},{"$f":"IF('ORDER FRAMES'!$B$33=\"\",\"\",VLOOKUP('ORDER FRAMES'!$B$33,$B$36:$D$41,2,FALSE))","v":""},{"$f":"IF('ORDER FRAMES'!$B$34=\"\",\"\",VLOOKUP('ORDER FRAMES'!$B$34,$B$36:$D$41,2,FALSE))","v":""},{"$f":"IF('ORDER FRAMES'!$B$35=\"\",\"\",VLOOKUP('ORDER FRAMES'!$B$35,$B$36:$D$41,2,FALSE))","v":""},{"$f":"IF('ORDER FRAMES'!$B$36=\"\",\"\",VLOOKUP('ORDER FRAMES'!$B$36,$B$36:$D$41,2,FALSE))","v":""},{"$f":"IF('ORDER FRAMES'!$B$37=\"\",\"\",VLOOKUP('ORDER FRAMES'!$B$37,$B$36:$D$41,2,FALSE))","v":""},{"$f":"IF('ORDER FRAMES'!$B$38=\"\",\"\",VLOOKUP('ORDER FRAMES'!$B$38,$B$36:$D$41,2,FALSE))","v":""},{"$f":"IF('ORDER FRAMES'!$B$39=\"\",\"\",VLOOKUP('ORDER FRAMES'!$B$39,$B$36:$D$41,2,FALSE))","v":""},{"$f":"IF('ORDER FRAMES'!$B$40=\"\",\"\",VLOOKUP('ORDER FRAMES'!$B$40,$B$36:$D$41,2,FALSE))","v":""},{"$f":"IF('ORDER FRAMES'!$B$41=\"\",\"\",VLOOKUP('ORDER FRAMES'!$B$41,$B$36:$D$41,2,FALSE))","v":""},{"$f":"IF('ORDER FRAMES'!$B$42=\"\",\"\",VLOOKUP('ORDER FRAMES'!$B$42,$B$36:$D$41,2,FALSE))","v":""},{"$f":"IF('ORDER FRAMES'!$B$43=\"\",\"\",VLOOKUP('ORDER FRAMES'!$B$43,$B$36:$D$41,2,FALSE))","v":""},{"$f":"IF('ORDER FRAMES'!$B$44=\"\",\"\",VLOOKUP('ORDER FRAMES'!$B$44,$B$36:$D$41,2,FALSE))","v":""},{"$f":"IF('ORDER FRAMES'!$B$45=\"\",\"\",VLOOKUP('ORDER FRAMES'!$B$45,$B$36:$D$41,2,FALSE))","v":""},{"$f":"IF('ORDER FRAMES'!$B$46=\"\",\"\",VLOOKUP('ORDER FRAMES'!$B$46,$B$36:$D$41,2,FALSE))","v":""},{"$f":"IF('ORDER FRAMES'!$B$47=\"\",\"\",VLOOKUP('ORDER FRAMES'!$B$47,$B$36:$D$41,2,FALSE))","v":""},{"$f":"IF('ORDER FRAMES'!$B$48=\"\",\"\",VLOOKUP('ORDER FRAMES'!$B$48,$B$36:$D$41,2,FALSE))","v":""},{"$f":"IF('ORDER FRAMES'!$B$49=\"\",\"\",VLOOKUP('ORDER FRAMES'!$B$49,$B$36:$D$41,2,FALSE))","v":""},{"$f":"IF('ORDER FRAMES'!$B$50=\"\",\"\",VLOOKUP('ORDER FRAMES'!$B$50,$B$36:$D$41,2,FALSE))","v":""},{"$f":"IF('ORDER FRAMES'!$B$51=\"\",\"\",VLOOKUP('ORDER FRAMES'!$B$51,$B$36:$D$41,2,FALSE))","v":""},{"$f":"IF('ORDER FRAMES'!$B$52=\"\",\"\",VLOOKUP('ORDER FRAMES'!$B$52,$B$36:$D$41,2,FALSE))","v":""},{"$f":"IF('ORDER FRAMES'!$B$53=\"\",\"\",VLOOKUP('ORDER FRAMES'!$B$53,$B$36:$D$41,2,FALSE))","v":""},{"$f":"IF('ORDER FRAMES'!$B$54=\"\",\"\",VLOOKUP('ORDER FRAMES'!$B$54,$B$36:$D$41,2,FALSE))","v":""},{"$f":"IF('ORDER FRAMES'!$B$55=\"\",\"\",VLOOKUP('ORDER FRAMES'!$B$55,$B$36:$D$41,2,FALSE))","v":""},{"$f":"IF('ORDER FRAMES'!$B$56=\"\",\"\",VLOOKUP('ORDER FRAMES'!$B$56,$B$36:$D$41,2,FALSE))","v":""},{"$f":"IF('ORDER FRAMES'!$B$57=\"\",\"\",VLOOKUP('ORDER FRAMES'!$B$57,$B$36:$D$41,2,FALSE))","v":""},{"$f":"IF('ORDER FRAMES'!$B$58=\"\",\"\",VLOOKUP('ORDER FRAMES'!$B$58,$B$36:$D$41,2,FALSE))","v":""},{"$f":"IF('ORDER FRAMES'!$B$59=\"\",\"\",VLOOKUP('ORDER FRAMES'!$B$59,$B$36:$D$41,2,FALSE))","v":""},{"$f":"IF('ORDER FRAMES'!$B$60=\"\",\"\",VLOOKUP('ORDER FRAMES'!$B$60,$B$36:$D$41,2,FALSE))","v":""},{"$f":"IF('ORDER FRAMES'!$B$61=\"\",\"\",VLOOKUP('ORDER FRAMES'!$B$61,$B$36:$D$41,2,FALSE))","v":""},{"$f":"IF('ORDER FRAMES'!$B$62=\"\",\"\",VLOOKUP('ORDER FRAMES'!$B$62,$B$36:$D$41,2,FALSE))","v":""},{"$f":"IF('ORDER FRAMES'!$B$63=\"\",\"\",VLOOKUP('ORDER FRAMES'!$B$63,$B$36:$D$41,2,FALSE))","v":""},{"$f":"IF('ORDER FRAMES'!$B$64=\"\",\"\",VLOOKUP('ORDER FRAMES'!$B$64,$B$36:$D$41,2,FALSE))","v":""},{"$f":"IF('ORDER FRAMES'!$B$65=\"\",\"\",VLOOKUP('ORDER FRAMES'!$B$65,$B$36:$D$41,2,FALSE))","v":""},{"$f":"IF('ORDER FRAMES'!$B$66=\"\",\"\",VLOOKUP('ORDER FRAMES'!$B$66,$B$36:$D$41,2,FALSE))","v":""},{"$f":"IF('ORDER FRAMES'!$B$67=\"\",\"\",VLOOKUP('ORDER FRAMES'!$B$67,$B$36:$D$41,2,FALSE))","v":""},{"$f":"IF('ORDER FRAMES'!$B$68=\"\",\"\",VLOOKUP('ORDER FRAMES'!$B$68,$B$36:$D$41,2,FALSE))","v":""},{"$f":"IF('ORDER FRAMES'!$B$69=\"\",\"\",VLOOKUP('ORDER FRAMES'!$B$69,$B$36:$D$41,2,FALSE))","v":""},{"$f":"IF('ORDER FRAMES'!$B$70=\"\",\"\",VLOOKUP('ORDER FRAMES'!$B$70,$B$36:$D$41,2,FALSE))","v":""},{"$f":"IF('ORDER FRAMES'!$B$71=\"\",\"\",VLOOKUP('ORDER FRAMES'!$B$71,$B$36:$D$41,2,FALSE))","v":""},{"$f":"IF('ORDER FRAMES'!$B$72=\"\",\"\",VLOOKUP('ORDER FRAMES'!$B$72,$B$36:$D$41,2,FALSE))","v":""},{"$f":"IF('ORDER FRAMES'!$B$73=\"\",\"\",VLOOKUP('ORDER FRAMES'!$B$73,$B$36:$D$41,2,FALSE))","v":""},{"$f":"IF('ORDER FRAMES'!$B$74=\"\",\"\",VLOOKUP('ORDER FRAMES'!$B$74,$B$36:$D$41,2,FALSE))","v":""},{"$f":"IF('ORDER FRAMES'!$B$75=\"\",\"\",VLOOKUP('ORDER FRAMES'!$B$75,$B$36:$D$41,2,FALSE))","v":""},{"$f":"IF('ORDER FRAMES'!$B$76=\"\",\"\",VLOOKUP('ORDER FRAMES'!$B$76,$B$36:$D$41,2,FALSE))","v":""},{"$f":"IF('ORDER FRAMES'!$B$77=\"\",\"\",VLOOKUP('ORDER FRAMES'!$B$77,$B$36:$D$41,2,FALSE))","v":""},{"$f":"IF('ORDER FRAMES'!$B$78=\"\",\"\",VLOOKUP('ORDER FRAMES'!$B$78,$B$36:$D$41,2,FALSE))","v":""},{"$f":"IF('ORDER FRAMES'!$B$79=\"\",\"\",VLOOKUP('ORDER FRAMES'!$B$79,$B$36:$D$41,2,FALSE))","v":""},{"$f":"IF('ORDER FRAMES'!$B$80=\"\",\"\",VLOOKUP('ORDER FRAMES'!$B$80,$B$36:$D$41,2,FALSE))","v":""},{"$f":"IF('ORDER FRAMES'!$B$81=\"\",\"\",VLOOKUP('ORDER FRAMES'!$B$81,$B$36:$D$41,2,FALSE))","v":""},{"$f":"IF('ORDER FRAMES'!$B$82=\"\",\"\",VLOOKUP('ORDER FRAMES'!$B$82,$B$36:$D$41,2,FALSE))","v":""},{"$f":"IF('ORDER FRAMES'!$B$83=\"\",\"\",VLOOKUP('ORDER FRAMES'!$B$83,$B$36:$D$41,2,FALSE))","v":""},{"$f":"IF('ORDER FRAMES'!$B$84=\"\",\"\",VLOOKUP('ORDER FRAMES'!$B$84,$B$36:$D$41,2,FALSE))","v":""},{"$f":"IF('ORDER FRAMES'!$B$85=\"\",\"\",VLOOKUP('ORDER FRAMES'!$B$85,$B$36:$D$41,2,FALSE))","v":""},{"$f":"IF('ORDER FRAMES'!$B$86=\"\",\"\",VLOOKUP('ORDER FRAMES'!$B$86,$B$36:$D$41,2,FALSE))","v":""},{"$f":"IF('ORDER FRAMES'!$B$87=\"\",\"\",VLOOKUP('ORDER FRAMES'!$B$87,$B$36:$D$41,2,FALSE))","v":""},{"$f":"IF('ORDER FRAMES'!$B$88=\"\",\"\",VLOOKUP('ORDER FRAMES'!$B$88,$B$36:$D$41,2,FALSE))","v":""},{"$f":"IF('ORDER FRAMES'!$B$89=\"\",\"\",VLOOKUP('ORDER FRAMES'!$B$89,$B$36:$D$41,2,FALSE))","v":""},{"$f":"IF('ORDER FRAMES'!$B$90=\"\",\"\",VLOOKUP('ORDER FRAMES'!$B$90,$B$36:$D$41,2,FALSE))","v":""},{"$f":"IF('ORDER FRAMES'!$B$91=\"\",\"\",VLOOKUP('ORDER FRAMES'!$B$91,$B$36:$D$41,2,FALSE))","v":""},{"$f":"IF('ORDER FRAMES'!$B$92=\"\",\"\",VLOOKUP('ORDER FRAMES'!$B$92,$B$36:$D$41,2,FALSE))","v":""},{"$f":"IF('ORDER FRAMES'!$B$93=\"\",\"\",VLOOKUP('ORDER FRAMES'!$B$93,$B$36:$D$41,2,FALSE))","v":""},{"$f":"IF('ORDER FRAMES'!$B$94=\"\",\"\",VLOOKUP('ORDER FRAMES'!$B$94,$B$36:$D$41,2,FALSE))","v":""},{"$f":"IF('ORDER FRAMES'!$B$95=\"\",\"\",VLOOKUP('ORDER FRAMES'!$B$95,$B$36:$D$41,2,FALSE))","v":""},{"$f":"IF('ORDER FRAMES'!$B$96=\"\",\"\",VLOOKUP('ORDER FRAMES'!$B$96,$B$36:$D$41,2,FALSE))","v":""},{"$f":"IF('ORDER FRAMES'!$B$97=\"\",\"\",VLOOKUP('ORDER FRAMES'!$B$97,$B$36:$D$41,2,FALSE))","v":""},{"$f":"IF('ORDER FRAMES'!$B$98=\"\",\"\",VLOOKUP('ORDER FRAMES'!$B$98,$B$36:$D$41,2,FALSE))","v":""},{"$f":"IF('ORDER FRAMES'!$B$99=\"\",\"\",VLOOKUP('ORDER FRAMES'!$B$99,$B$36:$D$41,2,FALSE))","v":""},{"$f":"IF('ORDER FRAMES'!$B$100=\"\",\"\",VLOOKUP('ORDER FRAMES'!$B$100,$B$36:$D$41,2,FALSE))","v":""}]
[null,"X245","EI0","EI-",null,null,null,null,null,null,null,null,null,null,null,null,null,null,null,null,{"$f":"IF('ORDER FRAMES'!$B$21=\"\",\"\",VLOOKUP('ORDER FRAMES'!$B$21,$B$36:$D$41,3,FALSE))","v":"EI-"},{"$f":"IF('ORDER FRAMES'!$B$22=\"\",\"\",VLOOKUP('ORDER FRAMES'!$B$22,$B$36:$D$41,3,FALSE))","v":"-"},{"$f":"IF('ORDER FRAMES'!$B$23=\"\",\"\",VLOOKUP('ORDER FRAMES'!$B$23,$B$36:$D$41,3,FALSE))","v":""},{"$f":"IF('ORDER FRAMES'!$B$24=\"\",\"\",VLOOKUP('ORDER FRAMES'!$B$24,$B$36:$D$41,3,FALSE))","v":""},{"$f":"IF('ORDER FRAMES'!$B$25=\"\",\"\",VLOOKUP('ORDER FRAMES'!$B$25,$B$36:$D$41,3,FALSE))","v":""},{"$f":"IF('ORDER FRAMES'!$B$26=\"\",\"\",VLOOKUP('ORDER FRAMES'!$B$26,$B$36:$D$41,3,FALSE))","v":""},{"$f":"IF('ORDER FRAMES'!$B$27=\"\",\"\",VLOOKUP('ORDER FRAMES'!$B$27,$B$36:$D$41,3,FALSE))","v":""},{"$f":"IF('ORDER FRAMES'!$B$28=\"\",\"\",VLOOKUP('ORDER FRAMES'!$B$28,$B$36:$D$41,3,FALSE))","v":""},{"$f":"IF('ORDER FRAMES'!$B$29=\"\",\"\",VLOOKUP('ORDER FRAMES'!$B$29,$B$36:$D$41,3,FALSE))","v":""},{"$f":"IF('ORDER FRAMES'!$B$30=\"\",\"\",VLOOKUP('ORDER FRAMES'!$B$30,$B$36:$D$41,3,FALSE))","v":""},{"$f":"IF('ORDER FRAMES'!$B$31=\"\",\"\",VLOOKUP('ORDER FRAMES'!$B$31,$B$36:$D$41,3,FALSE))","v":""},{"$f":"IF('ORDER FRAMES'!$B$32=\"\",\"\",VLOOKUP('ORDER FRAMES'!$B$32,$B$36:$D$41,3,FALSE))","v":""},{"$f":"IF('ORDER FRAMES'!$B$33=\"\",\"\",VLOOKUP('ORDER FRAMES'!$B$33,$B$36:$D$41,3,FALSE))","v":""},{"$f":"IF('ORDER FRAMES'!$B$34=\"\",\"\",VLOOKUP('ORDER FRAMES'!$B$34,$B$36:$D$41,3,FALSE))","v":""},{"$f":"IF('ORDER FRAMES'!$B$35=\"\",\"\",VLOOKUP('ORDER FRAMES'!$B$35,$B$36:$D$41,3,FALSE))","v":""},{"$f":"IF('ORDER FRAMES'!$B$36=\"\",\"\",VLOOKUP('ORDER FRAMES'!$B$36,$B$36:$D$41,3,FALSE))","v":""},{"$f":"IF('ORDER FRAMES'!$B$37=\"\",\"\",VLOOKUP('ORDER FRAMES'!$B$37,$B$36:$D$41,3,FALSE))","v":""},{"$f":"IF('ORDER FRAMES'!$B$38=\"\",\"\",VLOOKUP('ORDER FRAMES'!$B$38,$B$36:$D$41,3,FALSE))","v":""},{"$f":"IF('ORDER FRAMES'!$B$39=\"\",\"\",VLOOKUP('ORDER FRAMES'!$B$39,$B$36:$D$41,3,FALSE))","v":""},{"$f":"IF('ORDER FRAMES'!$B$40=\"\",\"\",VLOOKUP('ORDER FRAMES'!$B$40,$B$36:$D$41,3,FALSE))","v":""},{"$f":"IF('ORDER FRAMES'!$B$41=\"\",\"\",VLOOKUP('ORDER FRAMES'!$B$41,$B$36:$D$41,3,FALSE))","v":""},{"$f":"IF('ORDER FRAMES'!$B$42=\"\",\"\",VLOOKUP('ORDER FRAMES'!$B$42,$B$36:$D$41,3,FALSE))","v":""},{"$f":"IF('ORDER FRAMES'!$B$43=\"\",\"\",VLOOKUP('ORDER FRAMES'!$B$43,$B$36:$D$41,3,FALSE))","v":""},{"$f":"IF('ORDER FRAMES'!$B$44=\"\",\"\",VLOOKUP('ORDER FRAMES'!$B$44,$B$36:$D$41,3,FALSE))","v":""},{"$f":"IF('ORDER FRAMES'!$B$45=\"\",\"\",VLOOKUP('ORDER FRAMES'!$B$45,$B$36:$D$41,3,FALSE))","v":""},{"$f":"IF('ORDER FRAMES'!$B$46=\"\",\"\",VLOOKUP('ORDER FRAMES'!$B$46,$B$36:$D$41,3,FALSE))","v":""},{"$f":"IF('ORDER FRAMES'!$B$47=\"\",\"\",VLOOKUP('ORDER FRAMES'!$B$47,$B$36:$D$41,3,FALSE))","v":""},{"$f":"IF('ORDER FRAMES'!$B$48=\"\",\"\",VLOOKUP('ORDER FRAMES'!$B$48,$B$36:$D$41,3,FALSE))","v":""},{"$f":"IF('ORDER FRAMES'!$B$49=\"\",\"\",VLOOKUP('ORDER FRAMES'!$B$49,$B$36:$D$41,3,FALSE))","v":""},{"$f":"IF('ORDER FRAMES'!$B$50=\"\",\"\",VLOOKUP('ORDER FRAMES'!$B$50,$B$36:$D$41,3,FALSE))","v":""},{"$f":"IF('ORDER FRAMES'!$B$51=\"\",\"\",VLOOKUP('ORDER FRAMES'!$B$51,$B$36:$D$41,3,FALSE))","v":""},{"$f":"IF('ORDER FRAMES'!$B$52=\"\",\"\",VLOOKUP('ORDER FRAMES'!$B$52,$B$36:$D$41,3,FALSE))","v":""},{"$f":"IF('ORDER FRAMES'!$B$53=\"\",\"\",VLOOKUP('ORDER FRAMES'!$B$53,$B$36:$D$41,3,FALSE))","v":""},{"$f":"IF('ORDER FRAMES'!$B$54=\"\",\"\",VLOOKUP('ORDER FRAMES'!$B$54,$B$36:$D$41,3,FALSE))","v":""},{"$f":"IF('ORDER FRAMES'!$B$55=\"\",\"\",VLOOKUP('ORDER FRAMES'!$B$55,$B$36:$D$41,3,FALSE))","v":""},{"$f":"IF('ORDER FRAMES'!$B$56=\"\",\"\",VLOOKUP('ORDER FRAMES'!$B$56,$B$36:$D$41,3,FALSE))","v":""},{"$f":"IF('ORDER FRAMES'!$B$57=\"\",\"\",VLOOKUP('ORDER FRAMES'!$B$57,$B$36:$D$41,3,FALSE))","v":""},{"$f":"IF('ORDER FRAMES'!$B$58=\"\",\"\",VLOOKUP('ORDER FRAMES'!$B$58,$B$36:$D$41,3,FALSE))","v":""},{"$f":"IF('ORDER FRAMES'!$B$59=\"\",\"\",VLOOKUP('ORDER FRAMES'!$B$59,$B$36:$D$41,3,FALSE))","v":""},{"$f":"IF('ORDER FRAMES'!$B$60=\"\",\"\",VLOOKUP('ORDER FRAMES'!$B$60,$B$36:$D$41,3,FALSE))","v":""},{"$f":"IF('ORDER FRAMES'!$B$61=\"\",\"\",VLOOKUP('ORDER FRAMES'!$B$61,$B$36:$D$41,3,FALSE))","v":""},{"$f":"IF('ORDER FRAMES'!$B$62=\"\",\"\",VLOOKUP('ORDER FRAMES'!$B$62,$B$36:$D$41,3,FALSE))","v":""},{"$f":"IF('ORDER FRAMES'!$B$63=\"\",\"\",VLOOKUP('ORDER FRAMES'!$B$63,$B$36:$D$41,3,FALSE))","v":""},{"$f":"IF('ORDER FRAMES'!$B$64=\"\",\"\",VLOOKUP('ORDER FRAMES'!$B$64,$B$36:$D$41,3,FALSE))","v":""},{"$f":"IF('ORDER FRAMES'!$B$65=\"\",\"\",VLOOKUP('ORDER FRAMES'!$B$65,$B$36:$D$41,3,FALSE))","v":""},{"$f":"IF('ORDER FRAMES'!$B$66=\"\",\"\",VLOOKUP('ORDER FRAMES'!$B$66,$B$36:$D$41,3,FALSE))","v":""},{"$f":"IF('ORDER FRAMES'!$B$67=\"\",\"\",VLOOKUP('ORDER FRAMES'!$B$67,$B$36:$D$41,3,FALSE))","v":""},{"$f":"IF('ORDER FRAMES'!$B$68=\"\",\"\",VLOOKUP('ORDER FRAMES'!$B$68,$B$36:$D$41,3,FALSE))","v":""},{"$f":"IF('ORDER FRAMES'!$B$69=\"\",\"\",VLOOKUP('ORDER FRAMES'!$B$69,$B$36:$D$41,3,FALSE))","v":""},{"$f":"IF('ORDER FRAMES'!$B$70=\"\",\"\",VLOOKUP('ORDER FRAMES'!$B$70,$B$36:$D$41,3,FALSE))","v":""},{"$f":"IF('ORDER FRAMES'!$B$71=\"\",\"\",VLOOKUP('ORDER FRAMES'!$B$71,$B$36:$D$41,3,FALSE))","v":""},{"$f":"IF('ORDER FRAMES'!$B$72=\"\",\"\",VLOOKUP('ORDER FRAMES'!$B$72,$B$36:$D$41,3,FALSE))","v":""},{"$f":"IF('ORDER FRAMES'!$B$73=\"\",\"\",VLOOKUP('ORDER FRAMES'!$B$73,$B$36:$D$41,3,FALSE))","v":""},{"$f":"IF('ORDER FRAMES'!$B$74=\"\",\"\",VLOOKUP('ORDER FRAMES'!$B$74,$B$36:$D$41,3,FALSE))","v":""},{"$f":"IF('ORDER FRAMES'!$B$75=\"\",\"\",VLOOKUP('ORDER FRAMES'!$B$75,$B$36:$D$41,3,FALSE))","v":""},{"$f":"IF('ORDER FRAMES'!$B$76=\"\",\"\",VLOOKUP('ORDER FRAMES'!$B$76,$B$36:$D$41,3,FALSE))","v":""},{"$f":"IF('ORDER FRAMES'!$B$77=\"\",\"\",VLOOKUP('ORDER FRAMES'!$B$77,$B$36:$D$41,3,FALSE))","v":""},{"$f":"IF('ORDER FRAMES'!$B$78=\"\",\"\",VLOOKUP('ORDER FRAMES'!$B$78,$B$36:$D$41,3,FALSE))","v":""},{"$f":"IF('ORDER FRAMES'!$B$79=\"\",\"\",VLOOKUP('ORDER FRAMES'!$B$79,$B$36:$D$41,3,FALSE))","v":""},{"$f":"IF('ORDER FRAMES'!$B$80=\"\",\"\",VLOOKUP('ORDER FRAMES'!$B$80,$B$36:$D$41,3,FALSE))","v":""},{"$f":"IF('ORDER FRAMES'!$B$81=\"\",\"\",VLOOKUP('ORDER FRAMES'!$B$81,$B$36:$D$41,3,FALSE))","v":""},{"$f":"IF('ORDER FRAMES'!$B$82=\"\",\"\",VLOOKUP('ORDER FRAMES'!$B$82,$B$36:$D$41,3,FALSE))","v":""},{"$f":"IF('ORDER FRAMES'!$B$83=\"\",\"\",VLOOKUP('ORDER FRAMES'!$B$83,$B$36:$D$41,3,FALSE))","v":""},{"$f":"IF('ORDER FRAMES'!$B$84=\"\",\"\",VLOOKUP('ORDER FRAMES'!$B$84,$B$36:$D$41,3,FALSE))","v":""},{"$f":"IF('ORDER FRAMES'!$B$85=\"\",\"\",VLOOKUP('ORDER FRAMES'!$B$85,$B$36:$D$41,3,FALSE))","v":""},{"$f":"IF('ORDER FRAMES'!$B$86=\"\",\"\",VLOOKUP('ORDER FRAMES'!$B$86,$B$36:$D$41,3,FALSE))","v":""},{"$f":"IF('ORDER FRAMES'!$B$87=\"\",\"\",VLOOKUP('ORDER FRAMES'!$B$87,$B$36:$D$41,3,FALSE))","v":""},{"$f":"IF('ORDER FRAMES'!$B$88=\"\",\"\",VLOOKUP('ORDER FRAMES'!$B$88,$B$36:$D$41,3,FALSE))","v":""},{"$f":"IF('ORDER FRAMES'!$B$89=\"\",\"\",VLOOKUP('ORDER FRAMES'!$B$89,$B$36:$D$41,3,FALSE))","v":""},{"$f":"IF('ORDER FRAMES'!$B$90=\"\",\"\",VLOOKUP('ORDER FRAMES'!$B$90,$B$36:$D$41,3,FALSE))","v":""},{"$f":"IF('ORDER FRAMES'!$B$91=\"\",\"\",VLOOKUP('ORDER FRAMES'!$B$91,$B$36:$D$41,3,FALSE))","v":""},{"$f":"IF('ORDER FRAMES'!$B$92=\"\",\"\",VLOOKUP('ORDER FRAMES'!$B$92,$B$36:$D$41,3,FALSE))","v":""},{"$f":"IF('ORDER FRAMES'!$B$93=\"\",\"\",VLOOKUP('ORDER FRAMES'!$B$93,$B$36:$D$41,3,FALSE))","v":""},{"$f":"IF('ORDER FRAMES'!$B$94=\"\",\"\",VLOOKUP('ORDER FRAMES'!$B$94,$B$36:$D$41,3,FALSE))","v":""},{"$f":"IF('ORDER FRAMES'!$B$95=\"\",\"\",VLOOKUP('ORDER FRAMES'!$B$95,$B$36:$D$41,3,FALSE))","v":""},{"$f":"IF('ORDER FRAMES'!$B$96=\"\",\"\",VLOOKUP('ORDER FRAMES'!$B$96,$B$36:$D$41,3,FALSE))","v":""},{"$f":"IF('ORDER FRAMES'!$B$97=\"\",\"\",VLOOKUP('ORDER FRAMES'!$B$97,$B$36:$D$41,3,FALSE))","v":""},{"$f":"IF('ORDER FRAMES'!$B$98=\"\",\"\",VLOOKUP('ORDER FRAMES'!$B$98,$B$36:$D$41,3,FALSE))","v":""},{"$f":"IF('ORDER FRAMES'!$B$99=\"\",\"\",VLOOKUP('ORDER FRAMES'!$B$99,$B$36:$D$41,3,FALSE))","v":""},{"$f":"IF('ORDER FRAMES'!$B$100=\"\",\"\",VLOOKUP('ORDER FRAMES'!$B$100,$B$36:$D$41,3,FALSE))","v":""}]
[null,"X250","EI0","EI-"]
[null,"X40","EI0","-"]
[null,"X45","EI0","-"]
[]
[]
[]
[]
[]
[null,"Trekken/duwen ",null,null,null,null,null,null,null,null,null,null,null,null,null,null,null,null,null,null,21,22,23,24,25,26,27,28,29,30,31,32,33,34,35,36,37,38,39,40,41,42,43,44,45,46,47,48,49,50,51,52,53,54,55,56,57,58,59,60,61,62,63,64,65,66,67,68,69,70,71,72,73,74,75,76,77,78,79,80,81,82,83,84,85,86,87,88,89,90,91,92,93,94,95,96,97,98,99,100]
[null,"X1","TR",null,null,null,null,null,null,null,null,null,null,null,null,null,null,null,null,null,{"$f":"IF('ORDER FRAMES'!$B$21=\"\",\"\",VLOOKUP('ORDER FRAMES'!$B$21,B48:D53,2,FALSE))","v":"TR"},{"$f":"IF('ORDER FRAMES'!$B$22=\"\",\"\",VLOOKUP('ORDER FRAMES'!$B$22,B48:D53,2,FALSE))","v":"TR"},{"$f":"IF('ORDER FRAMES'!$B$23=\"\",\"\",VLOOKUP('ORDER FRAMES'!$B$23,B48:D53,2,FALSE))","v":""},{"$f":"IF('ORDER FRAMES'!$B$24=\"\",\"\",VLOOKUP('ORDER FRAMES'!$B$24,$B$48:$D$53,2,FALSE))","v":""},{"$f":"IF('ORDER FRAMES'!$B$25=\"\",\"\",VLOOKUP('ORDER FRAMES'!$B$25,$B$48:$D$53,2,FALSE))","v":""},{"$f":"IF('ORDER FRAMES'!$B$26=\"\",\"\",VLOOKUP('ORDER FRAMES'!$B$26,$B$48:$D$53,2,FALSE))","v":""},{"$f":"IF('ORDER FRAMES'!$B$27=\"\",\"\",VLOOKUP('ORDER FRAMES'!$B$27,$B$48:$D$53,2,FALSE))","v":""},{"$f":"IF('ORDER FRAMES'!$B$28=\"\",\"\",VLOOKUP('ORDER FRAMES'!$B$28,$B$48:$D$53,2,FALSE))","v":""},{"$f":"IF('ORDER FRAMES'!$B$29=\"\",\"\",VLOOKUP('ORDER FRAMES'!$B$29,$B$48:$D$53,2,FALSE))","v":""},{"$f":"IF('ORDER FRAMES'!$B$30=\"\",\"\",VLOOKUP('ORDER FRAMES'!$B$30,$B$48:$D$53,2,FALSE))","v":""},{"$f":"IF('ORDER FRAMES'!$B$31=\"\",\"\",VLOOKUP('ORDER FRAMES'!$B$31,$B$48:$D$53,2,FALSE))","v":""},{"$f":"IF('ORDER FRAMES'!$B$32=\"\",\"\",VLOOKUP('ORDER FRAMES'!$B$32,$B$48:$D$53,2,FALSE))","v":""},{"$f":"IF('ORDER FRAMES'!$B$33=\"\",\"\",VLOOKUP('ORDER FRAMES'!$B$33,$B$48:$D$528,2,FALSE))","v":""},{"$f":"IF('ORDER FRAMES'!$B$34=\"\",\"\",VLOOKUP('ORDER FRAMES'!$B$34,$B$48:$D$53,2,FALSE))","v":""},{"$f":"IF('ORDER FRAMES'!$B$35=\"\",\"\",VLOOKUP('ORDER FRAMES'!$B$35,$B$48:$D$53,2,FALSE))","v":""},{"$f":"IF('ORDER FRAMES'!$B$36=\"\",\"\",VLOOKUP('ORDER FRAMES'!$B$36,$B$48:$D$53,2,FALSE))","v":""},{"$f":"IF('ORDER FRAMES'!$B$37=\"\",\"\",VLOOKUP('ORDER FRAMES'!$B$37,$B$48:$D$53,2,FALSE))","v":""},{"$f":"IF('ORDER FRAMES'!$B$38=\"\",\"\",VLOOKUP('ORDER FRAMES'!$B$38,$B$48:$D$53,2,FALSE))","v":""},{"$f":"IF('ORDER FRAMES'!$B$39=\"\",\"\",VLOOKUP('ORDER FRAMES'!$B$39,$B$48:$D$53,2,FALSE))","v":""},{"$f":"IF('ORDER FRAMES'!$B$40=\"\",\"\",VLOOKUP('ORDER FRAMES'!$B$40,$B$48:$D$53,2,FALSE))","v":""},{"$f":"IF('ORDER FRAMES'!$B$41=\"\",\"\",VLOOKUP('ORDER FRAMES'!$B$41,$B$48:$D$53,2,FALSE))","v":""},{"$f":"IF('ORDER FRAMES'!$B$42=\"\",\"\",VLOOKUP('ORDER FRAMES'!$B$42,$B$48:$D$53,2,FALSE))","v":""},{"$f":"IF('ORDER FRAMES'!$B$43=\"\",\"\",VLOOKUP('ORDER FRAMES'!$B$43,$B$48:$D$53,2,FALSE))","v":""},{"$f":"IF('ORDER FRAMES'!$B$44=\"\",\"\",VLOOKUP('ORDER FRAMES'!$B$44,$B$48:$D$53,2,FALSE))","v":""},{"$f":"IF('ORDER FRAMES'!$B$45=\"\",\"\",VLOOKUP('ORDER FRAMES'!$B$45,$B$48:$D$53,2,FALSE))","v":""},{"$f":"IF('ORDER FRAMES'!$B$46=\"\",\"\",VLOOKUP('ORDER FRAMES'!$B$46,$B$48:$D$53,2,FALSE))","v":""},{"$f":"IF('ORDER FRAMES'!$B$47=\"\",\"\",VLOOKUP('ORDER FRAMES'!$B$47,$B$48:$D$53,2,FALSE))","v":""},{"$f":"IF('ORDER FRAMES'!$B$48=\"\",\"\",VLOOKUP('ORDER FRAMES'!$B$48,$B$48:$D$53,2,FALSE))","v":""},{"$f":"IF('ORDER FRAMES'!$B$49=\"\",\"\",VLOOKUP('ORDER FRAMES'!$B$49,$B$48:$D$53,2,FALSE))","v":""},{"$f":"IF('ORDER FRAMES'!$B$50=\"\",\"\",VLOOKUP('ORDER FRAMES'!$B$50,$B$48:$D$53,2,FALSE))","v":""},{"$f":"IF('ORDER FRAMES'!$B$51=\"\",\"\",VLOOKUP('ORDER FRAMES'!$B$51,$B$48:$D$53,2,FALSE))","v":""},{"$f":"IF('ORDER FRAMES'!$B$52=\"\",\"\",VLOOKUP('ORDER FRAMES'!$B$52,$B$48:$D$53,2,FALSE))","v":""},{"$f":"IF('ORDER FRAMES'!$B$53=\"\",\"\",VLOOKUP('ORDER FRAMES'!$B$53,$B$48:$D$53,2,FALSE))","v":""},{"$f":"IF('ORDER FRAMES'!$B$54=\"\",\"\",VLOOKUP('ORDER FRAMES'!$B$54,$B$48:$D$53,2,FALSE))","v":""},{"$f":"IF('ORDER FRAMES'!$B$55=\"\",\"\",VLOOKUP('ORDER FRAMES'!$B$55,$B$48:$D$53,2,FALSE))","v":""},{"$f":"IF('ORDER FRAMES'!$B$56=\"\",\"\",VLOOKUP('ORDER FRAMES'!$B$56,$B$48:$D$53,2,FALSE))","v":""},{"$f":"IF('ORDER FRAMES'!$B$57=\"\",\"\",VLOOKUP('ORDER FRAMES'!$B$57,$B$48:$D$53,2,FALSE))","v":""},{"$f":"IF('ORDER FRAMES'!$B$58=\"\",\"\",VLOOKUP('ORDER FRAMES'!$B$58,$B$48:$D$53,2,FALSE))","v":""},{"$f":"IF('ORDER FRAMES'!$B$59=\"\",\"\",VLOOKUP('ORDER FRAMES'!$B$59,$B$48:$D$53,2,FALSE))","v":""},{"$f":"IF('ORDER FRAMES'!$B$60=\"\",\"\",VLOOKUP('ORDER FRAMES'!$B$60,$B$48:$D$53,2,FALSE))","v":""},{"$f":"IF('ORDER FRAMES'!$B$61=\"\",\"\",VLOOKUP('ORDER FRAMES'!$B$61,$B$48:$D$53,2,FALSE))","v":""},{"$f":"IF('ORDER FRAMES'!$B$62=\"\",\"\",VLOOKUP('ORDER FRAMES'!$B$62,$B$48:$D$53,2,FALSE))","v":""},{"$f":"IF('ORDER FRAMES'!$B$63=\"\",\"\",VLOOKUP('ORDER FRAMES'!$B$63,$B$48:$D$53,2,FALSE))","v":""},{"$f":"IF('ORDER FRAMES'!$B$64=\"\",\"\",VLOOKUP('ORDER FRAMES'!$B$64,$B$48:$D$53,2,FALSE))","v":""},{"$f":"IF('ORDER FRAMES'!$B$65=\"\",\"\",VLOOKUP('ORDER FRAMES'!$B$65,$B$48:$D$53,2,FALSE))","v":""},{"$f":"IF('ORDER FRAMES'!$B$66=\"\",\"\",VLOOKUP('ORDER FRAMES'!$B$66,$B$48:$D$53,2,FALSE))","v":""},{"$f":"IF('ORDER FRAMES'!$B$67=\"\",\"\",VLOOKUP('ORDER FRAMES'!$B$67,$B$48:$D$53,2,FALSE))","v":""},{"$f":"IF('ORDER FRAMES'!$B$68=\"\",\"\",VLOOKUP('ORDER FRAMES'!$B$68,$B$48:$D$53,2,FALSE))","v":""},{"$f":"IF('ORDER FRAMES'!$B$69=\"\",\"\",VLOOKUP('ORDER FRAMES'!$B$69,$B$48:$D$53,2,FALSE))","v":""},{"$f":"IF('ORDER FRAMES'!$B$70=\"\",\"\",VLOOKUP('ORDER FRAMES'!$B$70,$B$48:$D$53,2,FALSE))","v":""},{"$f":"IF('ORDER FRAMES'!$B$71=\"\",\"\",VLOOKUP('ORDER FRAMES'!$B$71,$B$48:$D$53,2,FALSE))","v":""},{"$f":"IF('ORDER FRAMES'!$B$72=\"\",\"\",VLOOKUP('ORDER FRAMES'!$B$72,$B$48:$D$53,2,FALSE))","v":""},{"$f":"IF('ORDER FRAMES'!$B$73=\"\",\"\",VLOOKUP('ORDER FRAMES'!$B$73,$B$48:$D$53,2,FALSE))","v":""},{"$f":"IF('ORDER FRAMES'!$B$74=\"\",\"\",VLOOKUP('ORDER FRAMES'!$B$74,$B$48:$D$53,2,FALSE))","v":""},{"$f":"IF('ORDER FRAMES'!$B$75=\"\",\"\",VLOOKUP('ORDER FRAMES'!$B$75,$B$48:$D$53,2,FALSE))","v":""},{"$f":"IF('ORDER FRAMES'!$B$76=\"\",\"\",VLOOKUP('ORDER FRAMES'!$B$76,$B$48:$D$53,2,FALSE))","v":""},{"$f":"IF('ORDER FRAMES'!$B$77=\"\",\"\",VLOOKUP('ORDER FRAMES'!$B$77,$B$48:$D$53,2,FALSE))","v":""},{"$f":"IF('ORDER FRAMES'!$B$78=\"\",\"\",VLOOKUP('ORDER FRAMES'!$B$78,$B$48:$D$53,2,FALSE))","v":""},{"$f":"IF('ORDER FRAMES'!$B$79=\"\",\"\",VLOOKUP('ORDER FRAMES'!$B$79,$B$48:$D$53,2,FALSE))","v":""},{"$f":"IF('ORDER FRAMES'!$B$80=\"\",\"\",VLOOKUP('ORDER FRAMES'!$B$80,$B$48:$D$53,2,FALSE))","v":""},{"$f":"IF('ORDER FRAMES'!$B$81=\"\",\"\",VLOOKUP('ORDER FRAMES'!$B$81,$B$48:$D$53,2,FALSE))","v":""},{"$f":"IF('ORDER FRAMES'!$B$82=\"\",\"\",VLOOKUP('ORDER FRAMES'!$B$82,$B$48:$D$53,2,FALSE))","v":""},{"$f":"IF('ORDER FRAMES'!$B$83=\"\",\"\",VLOOKUP('ORDER FRAMES'!$B$83,$B$48:$D$53,2,FALSE))","v":""},{"$f":"IF('ORDER FRAMES'!$B$84=\"\",\"\",VLOOKUP('ORDER FRAMES'!$B$84,$B$48:$D$53,2,FALSE))","v":""},{"$f":"IF('ORDER FRAMES'!$B$85=\"\",\"\",VLOOKUP('ORDER FRAMES'!$B$85,$B$48:$D$53,2,FALSE))","v":""},{"$f":"IF('ORDER FRAMES'!$B$86=\"\",\"\",VLOOKUP('ORDER FRAMES'!$B$86,$B$48:$D$53,2,FALSE))","v":""},{"$f":"IF('ORDER FRAMES'!$B$87=\"\",\"\",VLOOKUP('ORDER FRAMES'!$B$87,$B$48:$D$53,2,FALSE))","v":""},{"$f":"IF('ORDER FRAMES'!$B$88=\"\",\"\",VLOOKUP('ORDER FRAMES'!$B$88,$B$48:$D$53,2,FALSE))","v":""},{"$f":"IF('ORDER FRAMES'!$B$89=\"\",\"\",VLOOKUP('ORDER FRAMES'!$B$89,$B$48:$D$53,2,FALSE))","v":""},{"$f":"IF('ORDER FRAMES'!$B$90=\"\",\"\",VLOOKUP('ORDER FRAMES'!$B$90,$B$48:$D$53,2,FALSE))","v":""},{"$f":"IF('ORDER FRAMES'!$B$91=\"\",\"\",VLOOKUP('ORDER FRAMES'!$B$91,$B$48:$D$53,2,FALSE))","v":""},{"$f":"IF('ORDER FRAMES'!$B$92=\"\",\"\",VLOOKUP('ORDER FRAMES'!$B$92,$B$48:$D$53,2,FALSE))","v":""},{"$f":"IF('ORDER FRAMES'!$B$93=\"\",\"\",VLOOKUP('ORDER FRAMES'!$B$93,$B$48:$D$53,2,FALSE))","v":""},{"$f":"IF('ORDER FRAMES'!$B$94=\"\",\"\",VLOOKUP('ORDER FRAMES'!$B$94,$B$48:$D$53,2,FALSE))","v":""},{"$f":"IF('ORDER FRAMES'!$B$95=\"\",\"\",VLOOKUP('ORDER FRAMES'!$B$95,$B$48:$D$53,2,FALSE))","v":""},{"$f":"IF('ORDER FRAMES'!$B$96=\"\",\"\",VLOOKUP('ORDER FRAMES'!$B$96,$B$48:$D$53,2,FALSE))","v":""},{"$f":"IF('ORDER FRAMES'!$B$97=\"\",\"\",VLOOKUP('ORDER FRAMES'!$B$97,$B$48:$D$53,2,FALSE))","v":""},{"$f":"IF('ORDER FRAMES'!$B$98=\"\",\"\",VLOOKUP('ORDER FRAMES'!$B$98,$B$48:$D$53,2,FALSE))","v":""},{"$f":"IF('ORDER FRAMES'!$B$99=\"\",\"\",VLOOKUP('ORDER FRAMES'!$B$99,$B$48:$D$53,2,FALSE))","v":""},{"$f":"IF('ORDER FRAMES'!$B$100=\"\",\"\",VLOOKUP('ORDER FRAMES'!$B$100,$B$48:$D$53,2,FALSE))","v":""}]
[null,"X240","TR","DU",null,null,null,null,null,null,null,null,null,null,null,null,null,null,null,null,{"$f":"IF('ORDER FRAMES'!$B$21=\"\",\"\",VLOOKUP('ORDER FRAMES'!$B$21,B48:D53,3,FALSE))","v":"DU"},{"$f":"IF('ORDER FRAMES'!$B$22=\"\",\"\",VLOOKUP('ORDER FRAMES'!$B$22,B48:D53,3,FALSE))","v":0},{"$f":"IF('ORDER FRAMES'!$B$23=\"\",\"\",VLOOKUP('ORDER FRAMES'!$B$23,$B$48:$D$53,3,FALSE))","v":""},{"$f":"IF('ORDER FRAMES'!$B$24=\"\",\"\",VLOOKUP('ORDER FRAMES'!$B$24,$B$48:$D$53,3,FALSE))","v":""},{"$f":"IF('ORDER FRAMES'!$B$25=\"\",\"\",VLOOKUP('ORDER FRAMES'!$B$25,$B$48:$D$53,3,FALSE))","v":""},{"$f":"IF('ORDER FRAMES'!$B$26=\"\",\"\",VLOOKUP('ORDER FRAMES'!$B$26,$B$48:$D$53,3,FALSE))","v":""},{"$f":"IF('ORDER FRAMES'!$B$27=\"\",\"\",VLOOKUP('ORDER FRAMES'!$B$27,$B$48:$D$53,3,FALSE))","v":""},{"$f":"IF('ORDER FRAMES'!$B$28=\"\",\"\",VLOOKUP('ORDER FRAMES'!$B$28,$B$48:$D$53,3,FALSE))","v":""},{"$f":"IF('ORDER FRAMES'!$B$29=\"\",\"\",VLOOKUP('ORDER FRAMES'!$B$29,$B$48:$D$53,3,FALSE))","v":""},{"$f":"IF('ORDER FRAMES'!$B$30=\"\",\"\",VLOOKUP('ORDER FRAMES'!$B$30,$B$48:$D$53,3,FALSE))","v":""},{"$f":"IF('ORDER FRAMES'!$B$31=\"\",\"\",VLOOKUP('ORDER FRAMES'!$B$31,$B$48:$D$53,3,FALSE))","v":""},{"$f":"IF('ORDER FRAMES'!$B$32=\"\",\"\",VLOOKUP('ORDER FRAMES'!$B$32,$B$48:$D$528,3,FALSE))","v":""},{"$f":"IF('ORDER FRAMES'!$B$33=\"\",\"\",VLOOKUP('ORDER FRAMES'!$B$33,$B$48:$D$53,3,FALSE))","v":""},{"$f":"IF('ORDER FRAMES'!$B$34=\"\",\"\",VLOOKUP('ORDER FRAMES'!$B$34,$B$48:$D$53,3,FALSE))","v":""},{"$f":"IF('ORDER FRAMES'!$B$35=\"\",\"\",VLOOKUP('ORDER FRAMES'!$B$35,$B$48:$D$53,3,FALSE))","v":""},{"$f":"IF('ORDER FRAMES'!$B$36=\"\",\"\",VLOOKUP('ORDER FRAMES'!$B$36,$B$48:$D$53,3,FALSE))","v":""},{"$f":"IF('ORDER FRAMES'!$B$37=\"\",\"\",VLOOKUP('ORDER FRAMES'!$B$37,$B$48:$D$53,3,FALSE))","v":""},{"$f":"IF('ORDER FRAMES'!$B$38=\"\",\"\",VLOOKUP('ORDER FRAMES'!$B$38,$B$48:$D$53,3,FALSE))","v":""},{"$f":"IF('ORDER FRAMES'!$B$39=\"\",\"\",VLOOKUP('ORDER FRAMES'!$B$39,$B$48:$D$53,3,FALSE))","v":""},{"$f":"IF('ORDER FRAMES'!$B$40=\"\",\"\",VLOOKUP('ORDER FRAMES'!$B$40,$B$48:$D$53,3,FALSE))","v":""},{"$f":"IF('ORDER FRAMES'!$B$41=\"\",\"\",VLOOKUP('ORDER FRAMES'!$B$41,$B$48:$D$53,3,FALSE))","v":""},{"$f":"IF('ORDER FRAMES'!$B$42=\"\",\"\",VLOOKUP('ORDER FRAMES'!$B$42,$B$48:$D$53,3,FALSE))","v":""},{"$f":"IF('ORDER FRAMES'!$B$43=\"\",\"\",VLOOKUP('ORDER FRAMES'!$B$43,$B$48:$D$53,3,FALSE))","v":""},{"$f":"IF('ORDER FRAMES'!$B$44=\"\",\"\",VLOOKUP('ORDER FRAMES'!$B$44,$B$48:$D$53,3,FALSE))","v":""},{"$f":"IF('ORDER FRAMES'!$B$45=\"\",\"\",VLOOKUP('ORDER FRAMES'!$B$45,$B$48:$D$53,3,FALSE))","v":""},{"$f":"IF('ORDER FRAMES'!$B$46=\"\",\"\",VLOOKUP('ORDER FRAMES'!$B$46,$B$48:$D$53,3,FALSE))","v":""},{"$f":"IF('ORDER FRAMES'!$B$47=\"\",\"\",VLOOKUP('ORDER FRAMES'!$B$47,$B$48:$D$53,3,FALSE))","v":""},{"$f":"IF('ORDER FRAMES'!$B$48=\"\",\"\",VLOOKUP('ORDER FRAMES'!$B$48,$B$48:$D$53,3,FALSE))","v":""},{"$f":"IF('ORDER FRAMES'!$B$49=\"\",\"\",VLOOKUP('ORDER FRAMES'!$B$49,$B$48:$D$53,3,FALSE))","v":""},{"$f":"IF('ORDER FRAMES'!$B$50=\"\",\"\",VLOOKUP('ORDER FRAMES'!$B$50,$B$48:$D$53,3,FALSE))","v":""},{"$f":"IF('ORDER FRAMES'!$B$51=\"\",\"\",VLOOKUP('ORDER FRAMES'!$B$51,$B$48:$D$53,3,FALSE))","v":""},{"$f":"IF('ORDER FRAMES'!$B$52=\"\",\"\",VLOOKUP('ORDER FRAMES'!$B$52,$B$48:$D$53,3,FALSE))","v":""},{"$f":"IF('ORDER FRAMES'!$B$53=\"\",\"\",VLOOKUP('ORDER FRAMES'!$B$53,$B$48:$D$53,3,FALSE))","v":""},{"$f":"IF('ORDER FRAMES'!$B$54=\"\",\"\",VLOOKUP('ORDER FRAMES'!$B$54,$B$48:$D$53,3,FALSE))","v":""},{"$f":"IF('ORDER FRAMES'!$B$55=\"\",\"\",VLOOKUP('ORDER FRAMES'!$B$55,$B$48:$D$53,3,FALSE))","v":""},{"$f":"IF('ORDER FRAMES'!$B$56=\"\",\"\",VLOOKUP('ORDER FRAMES'!$B$56,$B$48:$D$53,3,FALSE))","v":""},{"$f":"IF('ORDER FRAMES'!$B$57=\"\",\"\",VLOOKUP('ORDER FRAMES'!$B$57,$B$48:$D$53,3,FALSE))","v":""},{"$f":"IF('ORDER FRAMES'!$B$58=\"\",\"\",VLOOKUP('ORDER FRAMES'!$B$58,$B$48:$D$53,3,FALSE))","v":""},{"$f":"IF('ORDER FRAMES'!$B$59=\"\",\"\",VLOOKUP('ORDER FRAMES'!$B$59,$B$48:$D$53,3,FALSE))","v":""},{"$f":"IF('ORDER FRAMES'!$B$60=\"\",\"\",VLOOKUP('ORDER FRAMES'!$B$60,$B$48:$D$53,3,FALSE))","v":""},{"$f":"IF('ORDER FRAMES'!$B$61=\"\",\"\",VLOOKUP('ORDER FRAMES'!$B$61,$B$48:$D$53,3,FALSE))","v":""},{"$f":"IF('ORDER FRAMES'!$B$62=\"\",\"\",VLOOKUP('ORDER FRAMES'!$B$62,$B$48:$D$53,3,FALSE))","v":""},{"$f":"IF('ORDER FRAMES'!$B$63=\"\",\"\",VLOOKUP('ORDER FRAMES'!$B$63,$B$48:$D$53,3,FALSE))","v":""},{"$f":"IF('ORDER FRAMES'!$B$64=\"\",\"\",VLOOKUP('ORDER FRAMES'!$B$64,$B$48:$D$53,3,FALSE))","v":""},{"$f":"IF('ORDER FRAMES'!$B$65=\"\",\"\",VLOOKUP('ORDER FRAMES'!$B$65,$B$48:$D$53,3,FALSE))","v":""},{"$f":"IF('ORDER FRAMES'!$B$66=\"\",\"\",VLOOKUP('ORDER FRAMES'!$B$66,$B$48:$D$53,3,FALSE))","v":""},{"$f":"IF('ORDER FRAMES'!$B$67=\"\",\"\",VLOOKUP('ORDER FRAMES'!$B$67,$B$48:$D$53,3,FALSE))","v":""},{"$f":"IF('ORDER FRAMES'!$B$68=\"\",\"\",VLOOKUP('ORDER FRAMES'!$B$68,$B$48:$D$53,3,FALSE))","v":""},{"$f":"IF('ORDER FRAMES'!$B$69=\"\",\"\",VLOOKUP('ORDER FRAMES'!$B$69,$B$48:$D$53,3,FALSE))","v":""},{"$f":"IF('ORDER FRAMES'!$B$70=\"\",\"\",VLOOKUP('ORDER FRAMES'!$B$70,$B$48:$D$53,3,FALSE))","v":""},{"$f":"IF('ORDER FRAMES'!$B$71=\"\",\"\",VLOOKUP('ORDER FRAMES'!$B$71,$B$48:$D$53,3,FALSE))","v":""},{"$f":"IF('ORDER FRAMES'!$B$72=\"\",\"\",VLOOKUP('ORDER FRAMES'!$B$72,$B$48:$D$53,3,FALSE))","v":""},{"$f":"IF('ORDER FRAMES'!$B$73=\"\",\"\",VLOOKUP('ORDER FRAMES'!$B$73,$B$48:$D$53,3,FALSE))","v":""},{"$f":"IF('ORDER FRAMES'!$B$74=\"\",\"\",VLOOKUP('ORDER FRAMES'!$B$74,$B$48:$D$53,3,FALSE))","v":""},{"$f":"IF('ORDER FRAMES'!$B$75=\"\",\"\",VLOOKUP('ORDER FRAMES'!$B$75,$B$48:$D$53,3,FALSE))","v":""},{"$f":"IF('ORDER FRAMES'!$B$76=\"\",\"\",VLOOKUP('ORDER FRAMES'!$B$76,$B$48:$D$53,3,FALSE))","v":""},{"$f":"IF('ORDER FRAMES'!$B$77=\"\",\"\",VLOOKUP('ORDER FRAMES'!$B$77,$B$48:$D$53,3,FALSE))","v":""},{"$f":"IF('ORDER FRAMES'!$B$78=\"\",\"\",VLOOKUP('ORDER FRAMES'!$B$78,$B$48:$D$53,3,FALSE))","v":""},{"$f":"IF('ORDER FRAMES'!$B$79=\"\",\"\",VLOOKUP('ORDER FRAMES'!$B$79,$B$48:$D$53,3,FALSE))","v":""},{"$f":"IF('ORDER FRAMES'!$B$80=\"\",\"\",VLOOKUP('ORDER FRAMES'!$B$80,$B$48:$D$53,3,FALSE))","v":""},{"$f":"IF('ORDER FRAMES'!$B$81=\"\",\"\",VLOOKUP('ORDER FRAMES'!$B$81,$B$48:$D$53,3,FALSE))","v":""},{"$f":"IF('ORDER FRAMES'!$B$82=\"\",\"\",VLOOKUP('ORDER FRAMES'!$B$82,$B$48:$D$53,3,FALSE))","v":""},{"$f":"IF('ORDER FRAMES'!$B$83=\"\",\"\",VLOOKUP('ORDER FRAMES'!$B$83,$B$48:$D$53,3,FALSE))","v":""},{"$f":"IF('ORDER FRAMES'!$B$84=\"\",\"\",VLOOKUP('ORDER FRAMES'!$B$84,$B$48:$D$53,3,FALSE))","v":""},{"$f":"IF('ORDER FRAMES'!$B$85=\"\",\"\",VLOOKUP('ORDER FRAMES'!$B$85,$B$48:$D$53,3,FALSE))","v":""},{"$f":"IF('ORDER FRAMES'!$B$86=\"\",\"\",VLOOKUP('ORDER FRAMES'!$B$86,$B$48:$D$53,3,FALSE))","v":""},{"$f":"IF('ORDER FRAMES'!$B$87=\"\",\"\",VLOOKUP('ORDER FRAMES'!$B$87,$B$48:$D$53,3,FALSE))","v":""},{"$f":"IF('ORDER FRAMES'!$B$88=\"\",\"\",VLOOKUP('ORDER FRAMES'!$B$88,$B$48:$D$53,3,FALSE))","v":""},{"$f":"IF('ORDER FRAMES'!$B$89=\"\",\"\",VLOOKUP('ORDER FRAMES'!$B$89,$B$48:$D$53,3,FALSE))","v":""},{"$f":"IF('ORDER FRAMES'!$B$90=\"\",\"\",VLOOKUP('ORDER FRAMES'!$B$90,$B$48:$D$53,3,FALSE))","v":""},{"$f":"IF('ORDER FRAMES'!$B$91=\"\",\"\",VLOOKUP('ORDER FRAMES'!$B$91,$B$48:$D$53,3,FALSE))","v":""},{"$f":"IF('ORDER FRAMES'!$B$92=\"\",\"\",VLOOKUP('ORDER FRAMES'!$B$92,$B$48:$D$53,3,FALSE))","v":""},{"$f":"IF('ORDER FRAMES'!$B$93=\"\",\"\",VLOOKUP('ORDER FRAMES'!$B$93,$B$48:$D$53,3,FALSE))","v":""},{"$f":"IF('ORDER FRAMES'!$B$94=\"\",\"\",VLOOKUP('ORDER FRAMES'!$B$94,$B$48:$D$53,3,FALSE))","v":""},{"$f":"IF('ORDER FRAMES'!$B$95=\"\",\"\",VLOOKUP('ORDER FRAMES'!$B$95,$B$48:$D$53,3,FALSE))","v":""},{"$f":"IF('ORDER FRAMES'!$B$96=\"\",\"\",VLOOKUP('ORDER FRAMES'!$B$96,$B$48:$D$53,3,FALSE))","v":""},{"$f":"IF('ORDER FRAMES'!$B$97=\"\",\"\",VLOOKUP('ORDER FRAMES'!$B$97,$B$48:$D$53,3,FALSE))","v":""},{"$f":"IF('ORDER FRAMES'!$B$98=\"\",\"\",VLOOKUP('ORDER FRAMES'!$B$98,$B$48:$D$53,3,FALSE))","v":""},{"$f":"IF('ORDER FRAMES'!$B$99=\"\",\"\",VLOOKUP('ORDER FRAMES'!$B$99,$B$48:$D$53,3,FALSE))","v":""},{"$f":"IF('ORDER FRAMES'!$B$100=\"\",\"\",VLOOKUP('ORDER FRAMES'!$B$100,$B$48:$D$53,3,FALSE))","v":""}]
[null,"X245","TR","DU"]
[null,"X250","TR","DU"]
[null,"X40","TR","DU"]
[null,"X45","TR","DU"]
[]
[]
[]
[null,"Zaagwijze",null,null,null,null,null,null,null,null,null,null,null,null,null,null,null,null,null,null,21,22,23,24,25,26,27,28,29,30,31,32,33,34,35,36,37,38,39,40,41,42,43,44,45,46,47,48,49,50,51,52,53,54,55,56,57,58,59,60,61,62,63,64,65,66,67,68,69,70,71,72,73,74,75,76,77,78,79,80,81,82,83,84,85,86,87,88,89,90,91,92,93,94,95,96,97,98,99,100]
[null,"X1",null,"V","C","W","-",null,null,null,null,null,null,null,null,null,null,null,null,null,{"$f":"IF('ORDER FRAMES'!$B$21=\"\",\"\",IF('ORDER FRAMES'!$D$21=\"EI0\",VLOOKUP('ORDER FRAMES'!$B$21,$B$58:$G$63,3,FALSE),VLOOKUP('ORDER FRAMES'!$B$21,$B$65:$G$67,3,FALSE)))","v":"V"},{"$f":"IF('ORDER FRAMES'!$B$22=\"\",\"\",IF('ORDER FRAMES'!$D$22=\"EI0\",VLOOKUP('ORDER FRAMES'!$B$22,$B$58:$G$63,3,FALSE),VLOOKUP('ORDER FRAMES'!$B$22,$B$65:$G$67,3,FALSE)))","v":"V"},{"$f":"IF('ORDER FRAMES'!$B$23=\"\",\"\",IF('ORDER FRAMES'!$D$23=\"EI0\",VLOOKUP('ORDER FRAMES'!$B$23,$B$58:$G$63,3,FALSE),VLOOKUP('ORDER FRAMES'!$B$23,$B$65:$G$67,3,FALSE)))","v":""},{"$f":"IF('ORDER FRAMES'!$B$24=\"\",\"\",IF('ORDER FRAMES'!$D$24=\"EI0\",VLOOKUP('ORDER FRAMES'!$B$24,$B$58:$G$63,3,FALSE),VLOOKUP('ORDER FRAMES'!$B$24,$B$65:$G$67,3,FALSE)))","v":""},{"$f":"IF('ORDER FRAMES'!$B$25=\"\",\"\",IF('ORDER FRAMES'!$D$25=\"EI0\",VLOOKUP('ORDER FRAMES'!$B$25,$B$58:$G$63,3,FALSE),VLOOKUP('ORDER FRAMES'!$B$25,$B$65:$G$67,3,FALSE)))","v":""},{"$f":"IF('ORDER FRAMES'!$B$26=\"\",\"\",IF('ORDER FRAMES'!$D$26=\"EI0\",VLOOKUP('ORDER FRAMES'!$B$26,$B$58:$G$63,3,FALSE),VLOOKUP('ORDER FRAMES'!$B$26,$B$65:$G$67,3,FALSE)))","v":""},{"$f":"IF('ORDER FRAMES'!$B$27=\"\",\"\",IF('ORDER FRAMES'!$D$27=\"EI0\",VLOOKUP('ORDER FRAMES'!$B$27,$B$58:$G$63,3,FALSE),VLOOKUP('ORDER FRAMES'!$B$27,$B$65:$G$67,3,FALSE)))","v":""},{"$f":"IF('ORDER FRAMES'!$B$28=\"\",\"\",IF('ORDER FRAMES'!$D$28=\"EI0\",VLOOKUP('ORDER FRAMES'!$B$28,$B$58:$G$63,3,FALSE),VLOOKUP('ORDER FRAMES'!$B$28,$B$65:$G$67,3,FALSE)))","v":""},{"$f":"IF('ORDER FRAMES'!$B$29=\"\",\"\",IF('ORDER FRAMES'!$D$29=\"EI0\",VLOOKUP('ORDER FRAMES'!$B$29,$B$58:$G$63,3,FALSE),VLOOKUP('ORDER FRAMES'!$B$29,$B$65:$G$67,3,FALSE)))","v":""},{"$f":"IF('ORDER FRAMES'!$B$30=\"\",\"\",IF('ORDER FRAMES'!$D$30=\"EI0\",VLOOKUP('ORDER FRAMES'!$B$30,$B$58:$G$63,3,FALSE),VLOOKUP('ORDER FRAMES'!$B$30,$B$65:$G$67,3,FALSE)))","v":""},{"$f":"IF('ORDER FRAMES'!$B$31=\"\",\"\",IF('ORDER FRAMES'!$D$31=\"EI0\",VLOOKUP('ORDER FRAMES'!$B$31,$B$58:$G$63,3,FALSE),VLOOKUP('ORDER FRAMES'!$B$31,$B$65:$G$67,3,FALSE)))","v":""},{"$f":"IF('ORDER FRAMES'!$B$32=\"\",\"\",IF('ORDER FRAMES'!$D$32=\"EI0\",VLOOKUP('ORDER FRAMES'!$B$32,$B$58:$G$63,3,FALSE),VLOOKUP('ORDER FRAMES'!$B$32,$B$65:$G$67,3,FALSE)))","v":""},{"$f":"IF('ORDER FRAMES'!$B$33=\"\",\"\",IF('ORDER FRAMES'!$D$33=\"EI0\",VLOOKUP('ORDER FRAMES'!$B$33,$B$58:$G$63,3,FALSE),VLOOKUP('ORDER FRAMES'!$B$33,$B$65:$G$67,3,FALSE)))","v":""},{"$f":"IF('ORDER FRAMES'!$B$34=\"\",\"\",IF('ORDER FRAMES'!$D$34=\"EI0\",VLOOKUP('ORDER FRAMES'!$B$34,$B$58:$G$63,3,FALSE),VLOOKUP('ORDER FRAMES'!$B$34,$B$65:$G$67,3,FALSE)))","v":""},{"$f":"IF('ORDER FRAMES'!$B$35=\"\",\"\",IF('ORDER FRAMES'!$D$35=\"EI0\",VLOOKUP('ORDER FRAMES'!$B$35,$B$58:$G$63,3,FALSE),VLOOKUP('ORDER FRAMES'!$B$35,$B$65:$G$67,3,FALSE)))","v":""},{"$f":"IF('ORDER FRAMES'!$B$36=\"\",\"\",IF('ORDER FRAMES'!$D$36=\"EI0\",VLOOKUP('ORDER FRAMES'!$B$36,$B$58:$G$63,3,FALSE),VLOOKUP('ORDER FRAMES'!$B$36,$B$65:$G$67,3,FALSE)))","v":""},{"$f":"IF('ORDER FRAMES'!$B$37=\"\",\"\",IF('ORDER FRAMES'!$D$37=\"EI0\",VLOOKUP('ORDER FRAMES'!$B$37,$B$58:$G$63,3,FALSE),VLOOKUP('ORDER FRAMES'!$B$37,$B$65:$G$67,3,FALSE)))","v":""},{"$f":"IF('ORDER FRAMES'!$B$38=\"\",\"\",IF('ORDER FRAMES'!$D$38=\"EI0\",VLOOKUP('ORDER FRAMES'!$B$38,$B$58:$G$63,3,FALSE),VLOOKUP('ORDER FRAMES'!$B$38,$B$65:$G$67,3,FALSE)))","v":""},{"$f":"IF('ORDER FRAMES'!$B$39=\"\",\"\",IF('ORDER FRAMES'!$D$39=\"EI0\",VLOOKUP('ORDER FRAMES'!$B$39,$B$58:$G$63,3,FALSE),VLOOKUP('ORDER FRAMES'!$B$39,$B$65:$G$67,3,FALSE)))","v":""},{"$f":"IF('ORDER FRAMES'!$B$40=\"\",\"\",IF('ORDER FRAMES'!$D$40=\"EI0\",VLOOKUP('ORDER FRAMES'!$B$40,$B$58:$G$63,3,FALSE),VLOOKUP('ORDER FRAMES'!$B$40,$B$65:$G$67,3,FALSE)))","v":""},{"$f":"IF('ORDER FRAMES'!$B$41=\"\",\"\",IF('ORDER FRAMES'!$D$41=\"EI0\",VLOOKUP('ORDER FRAMES'!$B$41,$B$58:$G$63,3,FALSE),VLOOKUP('ORDER FRAMES'!$B$41,$B$65:$G$67,3,FALSE)))","v":""},{"$f":"IF('ORDER FRAMES'!$B$42=\"\",\"\",IF('ORDER FRAMES'!$D$42=\"EI0\",VLOOKUP('ORDER FRAMES'!$B$42,$B$58:$G$63,3,FALSE),VLOOKUP('ORDER FRAMES'!$B$42,$B$65:$G$67,3,FALSE)))","v":""},{"$f":"IF('ORDER FRAMES'!$B$43=\"\",\"\",IF('ORDER FRAMES'!$D$43=\"EI0\",VLOOKUP('ORDER FRAMES'!$B$43,$B$58:$G$63,3,FALSE),VLOOKUP('ORDER FRAMES'!$B$43,$B$65:$G$67,3,FALSE)))","v":""},{"$f":"IF('ORDER FRAMES'!$B$44=\"\",\"\",IF('ORDER FRAMES'!$D$44=\"EI0\",VLOOKUP('ORDER FRAMES'!$B$44,$B$58:$G$63,3,FALSE),VLOOKUP('ORDER FRAMES'!$B$44,$B$65:$G$67,3,FALSE)))","v":""},{"$f":"IF('ORDER FRAMES'!$B$45=\"\",\"\",IF('ORDER FRAMES'!$D$45=\"EI0\",VLOOKUP('ORDER FRAMES'!$B$45,$B$58:$G$63,3,FALSE),VLOOKUP('ORDER FRAMES'!$B$45,$B$65:$G$67,3,FALSE)))","v":""},{"$f":"IF('ORDER FRAMES'!$B$46=\"\",\"\",IF('ORDER FRAMES'!$D$46=\"EI0\",VLOOKUP('ORDER FRAMES'!$B$46,$B$58:$G$63,3,FALSE),VLOOKUP('ORDER FRAMES'!$B$46,$B$65:$G$67,3,FALSE)))","v":""},{"$f":"IF('ORDER FRAMES'!$B$47=\"\",\"\",IF('ORDER FRAMES'!$D$47=\"EI0\",VLOOKUP('ORDER FRAMES'!$B$47,$B$58:$G$63,3,FALSE),VLOOKUP('ORDER FRAMES'!$B$47,$B$65:$G$67,3,FALSE)))","v":""},{"$f":"IF('ORDER FRAMES'!$B$48=\"\",\"\",IF('ORDER FRAMES'!$D$48=\"EI0\",VLOOKUP('ORDER FRAMES'!$B$48,$B$58:$G$63,3,FALSE),VLOOKUP('ORDER FRAMES'!$B$48,$B$65:$G$67,3,FALSE)))","v":""},{"$f":"IF('ORDER FRAMES'!$B$49=\"\",\"\",IF('ORDER FRAMES'!$D$49=\"EI0\",VLOOKUP('ORDER FRAMES'!$B$49,$B$58:$G$63,3,FALSE),VLOOKUP('ORDER FRAMES'!$B$49,$B$65:$G$67,3,FALSE)))","v":""},{"$f":"IF('ORDER FRAMES'!$B$50=\"\",\"\",IF('ORDER FRAMES'!$D$50=\"EI0\",VLOOKUP('ORDER FRAMES'!$B$50,$B$58:$G$63,3,FALSE),VLOOKUP('ORDER FRAMES'!$B$50,$B$65:$G$67,3,FALSE)))","v":""},{"$f":"IF('ORDER FRAMES'!$B$51=\"\",\"\",IF('ORDER FRAMES'!$D$51=\"EI0\",VLOOKUP('ORDER FRAMES'!$B$51,$B$58:$G$63,3,FALSE),VLOOKUP('ORDER FRAMES'!$B$51,$B$65:$G$67,3,FALSE)))","v":""},{"$f":"IF('ORDER FRAMES'!$B$52=\"\",\"\",IF('ORDER FRAMES'!$D$52=\"EI0\",VLOOKUP('ORDER FRAMES'!$B$52,$B$58:$G$63,3,FALSE),VLOOKUP('ORDER FRAMES'!$B$52,$B$65:$G$67,3,FALSE)))","v":""},{"$f":"IF('ORDER FRAMES'!$B$53=\"\",\"\",IF('ORDER FRAMES'!$D$53=\"EI0\",VLOOKUP('ORDER FRAMES'!$B$53,$B$58:$G$63,3,FALSE),VLOOKUP('ORDER FRAMES'!$B$53,$B$65:$G$67,3,FALSE)))","v":""},{"$f":"IF('ORDER FRAMES'!$B$54=\"\",\"\",IF('ORDER FRAMES'!$D$54=\"EI0\",VLOOKUP('ORDER FRAMES'!$B$54,$B$58:$G$63,3,FALSE),VLOOKUP('ORDER FRAMES'!$B$54,$B$65:$G$67,3,FALSE)))","v":""},{"$f":"IF('ORDER FRAMES'!$B$55=\"\",\"\",IF('ORDER FRAMES'!$D$55=\"EI0\",VLOOKUP('ORDER FRAMES'!$B$55,$B$58:$G$63,3,FALSE),VLOOKUP('ORDER FRAMES'!$B$55,$B$65:$G$67,3,FALSE)))","v":""},{"$f":"IF('ORDER FRAMES'!$B$56=\"\",\"\",IF('ORDER FRAMES'!$D$56=\"EI0\",VLOOKUP('ORDER FRAMES'!$B$56,$B$58:$G$63,3,FALSE),VLOOKUP('ORDER FRAMES'!$B$56,$B$65:$G$67,3,FALSE)))","v":""},{"$f":"IF('ORDER FRAMES'!$B$57=\"\",\"\",IF('ORDER FRAMES'!$D$57=\"EI0\",VLOOKUP('ORDER FRAMES'!$B$57,$B$58:$G$63,3,FALSE),VLOOKUP('ORDER FRAMES'!$B$57,$B$65:$G$67,3,FALSE)))","v":""},{"$f":"IF('ORDER FRAMES'!$B58=\"\",\"\",IF('ORDER FRAMES'!$D$58=\"EI0\",VLOOKUP('ORDER FRAMES'!$B$58,$B$58:$G$63,3,FALSE),VLOOKUP('ORDER FRAMES'!$B$58,$B$65:$G$67,3,FALSE)))","v":""},{"$f":"IF('ORDER FRAMES'!$B$59=\"\",\"\",IF('ORDER FRAMES'!$D$59=\"EI0\",VLOOKUP('ORDER FRAMES'!$B$59,$B$58:$G$63,3,FALSE),VLOOKUP('ORDER FRAMES'!$B$59,$B$65:$G$67,3,FALSE)))","v":""},{"$f":"IF('ORDER FRAMES'!$B$60=\"\",\"\",IF('ORDER FRAMES'!$D$60=\"EI0\",VLOOKUP('ORDER FRAMES'!$B$60,$B$58:$G$63,3,FALSE),VLOOKUP('ORDER FRAMES'!$B$60,$B$65:$G$67,3,FALSE)))","v":""},{"$f":"IF('ORDER FRAMES'!$B$61=\"\",\"\",IF('ORDER FRAMES'!$D$61=\"EI0\",VLOOKUP('ORDER FRAMES'!$B$61,$B$58:$G$63,3,FALSE),VLOOKUP('ORDER FRAMES'!$B$61,$B$65:$G$67,3,FALSE)))","v":""},{"$f":"IF('ORDER FRAMES'!$B$62=\"\",\"\",IF('ORDER FRAMES'!$D$62=\"EI0\",VLOOKUP('ORDER FRAMES'!$B$62,$B$58:$G$63,3,FALSE),VLOOKUP('ORDER FRAMES'!$B$62,$B$65:$G$67,3,FALSE)))","v":""},{"$f":"IF('ORDER FRAMES'!$B$63=\"\",\"\",IF('ORDER FRAMES'!$D$63=\"EI0\",VLOOKUP('ORDER FRAMES'!$B$63,$B$58:$G$63,3,FALSE),VLOOKUP('ORDER FRAMES'!$B$63,$B$65:$G$67,3,FALSE)))","v":""},{"$f":"IF('ORDER FRAMES'!$B$64=\"\",\"\",IF('ORDER FRAMES'!$D$64=\"EI0\",VLOOKUP('ORDER FRAMES'!$B$64,$B$58:$G$63,3,FALSE),VLOOKUP('ORDER FRAMES'!$B$64,$B$65:$G$67,3,FALSE)))","v":""},{"$f":"IF('ORDER FRAMES'!$B$65=\"\",\"\",IF('ORDER FRAMES'!$D$65=\"EI0\",VLOOKUP('ORDER FRAMES'!$B$65,$B$58:$G$63,3,FALSE),VLOOKUP('ORDER FRAMES'!$B$65,$B$65:$G$67,3,FALSE)))","v":""},{"$f":"IF('ORDER FRAMES'!$B$66=\"\",\"\",IF('ORDER FRAMES'!$D$66=\"EI0\",VLOOKUP('ORDER FRAMES'!$B$66,$B$58:$G$63,3,FALSE),VLOOKUP('ORDER FRAMES'!$B$66,$B$65:$G$67,3,FALSE)))","v":""},{"$f":"IF('ORDER FRAMES'!$B$67=\"\",\"\",IF('ORDER FRAMES'!$D$67=\"EI0\",VLOOKUP('ORDER FRAMES'!$B$67,$B$58:$G$63,3,FALSE),VLOOKUP('ORDER FRAMES'!$B$67,$B$65:$G$67,3,FALSE)))","v":""},{"$f":"IF('ORDER FRAMES'!$B$68=\"\",\"\",IF('ORDER FRAMES'!$D$68=\"EI0\",VLOOKUP('ORDER FRAMES'!$B$68,$B$58:$G$63,3,FALSE),VLOOKUP('ORDER FRAMES'!$B$68,$B$65:$G$67,3,FALSE)))","v":""},{"$f":"IF('ORDER FRAMES'!$B$69=\"\",\"\",IF('ORDER FRAMES'!$D$69=\"EI0\",VLOOKUP('ORDER FRAMES'!$B$69,$B$58:$G$63,3,FALSE),VLOOKUP('ORDER FRAMES'!$B$69,$B$65:$G$67,3,FALSE)))","v":""},{"$f":"IF('ORDER FRAMES'!$B$70=\"\",\"\",IF('ORDER FRAMES'!$D$70=\"EI0\",VLOOKUP('ORDER FRAMES'!$B$70,$B$58:$G$63,3,FALSE),VLOOKUP('ORDER FRAMES'!$B$70,$B$65:$G$67,3,FALSE)))","v":""},{"$f":"IF('ORDER FRAMES'!$B$71=\"\",\"\",IF('ORDER FRAMES'!$D$71=\"EI0\",VLOOKUP('ORDER FRAMES'!$B$71,$B$58:$G$63,3,FALSE),VLOOKUP('ORDER FRAMES'!$B$71,$B$65:$G$67,3,FALSE)))","v":""},{"$f":"IF('ORDER FRAMES'!$B$72=\"\",\"\",IF('ORDER FRAMES'!$D$72=\"EI0\",VLOOKUP('ORDER FRAMES'!$B$72,$B$58:$G$63,3,FALSE),VLOOKUP('ORDER FRAMES'!$B$72,$B$65:$G$67,3,FALSE)))","v":""},{"$f":"IF('ORDER FRAMES'!$B$73=\"\",\"\",IF('ORDER FRAMES'!$D$73=\"EI0\",VLOOKUP('ORDER FRAMES'!$B$73,$B$58:$G$63,3,FALSE),VLOOKUP('ORDER FRAMES'!$B$73,$B$65:$G$67,3,FALSE)))","v":""},{"$f":"IF('ORDER FRAMES'!$B$74=\"\",\"\",IF('ORDER FRAMES'!$D$74=\"EI0\",VLOOKUP('ORDER FRAMES'!$B$74,$B$58:$G$63,3,FALSE),VLOOKUP('ORDER FRAMES'!$B$74,$B$65:$G$67,3,FALSE)))","v":""},{"$f":"IF('ORDER FRAMES'!$B$75=\"\",\"\",IF('ORDER FRAMES'!$D$75=\"EI0\",VLOOKUP('ORDER FRAMES'!$B$75,$B$58:$G$63,3,FALSE),VLOOKUP('ORDER FRAMES'!$B$75,$B$65:$G$67,3,FALSE)))","v":""},{"$f":"IF('ORDER FRAMES'!$B$76=\"\",\"\",IF('ORDER FRAMES'!$D$76=\"EI0\",VLOOKUP('ORDER FRAMES'!$B$76,$B$58:$G$63,3,FALSE),VLOOKUP('ORDER FRAMES'!$B$76,$B$65:$G$67,3,FALSE)))","v":""},{"$f":"IF('ORDER FRAMES'!$B$77=\"\",\"\",IF('ORDER FRAMES'!$D$77=\"EI0\",VLOOKUP('ORDER FRAMES'!$B$77,$B$58:$G$63,3,FALSE),VLOOKUP('ORDER FRAMES'!$B$77,$B$65:$G$67,3,FALSE)))","v":""},{"$f":"IF('ORDER FRAMES'!$B$78=\"\",\"\",IF('ORDER FRAMES'!$D$78=\"EI0\",VLOOKUP('ORDER FRAMES'!$B$78,$B$58:$G$63,3,FALSE),VLOOKUP('ORDER FRAMES'!$B$78,$B$65:$G$67,3,FALSE)))","v":""},{"$f":"IF('ORDER FRAMES'!$B$79=\"\",\"\",IF('ORDER FRAMES'!$D$79=\"EI0\",VLOOKUP('ORDER FRAMES'!$B$79,$B$58:$G$63,3,FALSE),VLOOKUP('ORDER FRAMES'!$B$79,$B$65:$G$67,3,FALSE)))","v":""},{"$f":"IF('ORDER FRAMES'!$B$80=\"\",\"\",IF('ORDER FRAMES'!$D$80=\"EI0\",VLOOKUP('ORDER FRAMES'!$B$80,$B$58:$G$63,3,FALSE),VLOOKUP('ORDER FRAMES'!$B$80,$B$65:$G$67,3,FALSE)))","v":""},{"$f":"IF('ORDER FRAMES'!$B$81=\"\",\"\",IF('ORDER FRAMES'!$D$81=\"EI0\",VLOOKUP('ORDER FRAMES'!$B$81,$B$58:$G$63,3,FALSE),VLOOKUP('ORDER FRAMES'!$B$81,$B$65:$G$67,3,FALSE)))","v":""},{"$f":"IF('ORDER FRAMES'!$B$82=\"\",\"\",IF('ORDER FRAMES'!$D$82=\"EI0\",VLOOKUP('ORDER FRAMES'!$B$82,$B$58:$G$63,3,FALSE),VLOOKUP('ORDER FRAMES'!$B$82,$B$65:$G$67,3,FALSE)))","v":""},{"$f":"IF('ORDER FRAMES'!$B$83=\"\",\"\",IF('ORDER FRAMES'!$D$83=\"EI0\",VLOOKUP('ORDER FRAMES'!$B$83,$B$58:$G$63,3,FALSE),VLOOKUP('ORDER FRAMES'!$B$83,$B$65:$G$67,3,FALSE)))","v":""},{"$f":"IF('ORDER FRAMES'!$B$84=\"\",\"\",IF('ORDER FRAMES'!$D$84=\"EI0\",VLOOKUP('ORDER FRAMES'!$B$84,$B$58:$G$63,3,FALSE),VLOOKUP('ORDER FRAMES'!$B$84,$B$65:$G$67,3,FALSE)))","v":""},{"$f":"IF('ORDER FRAMES'!$B$85=\"\",\"\",IF('ORDER FRAMES'!$D$85=\"EI0\",VLOOKUP('ORDER FRAMES'!$B$85,$B$58:$G$63,3,FALSE),VLOOKUP('ORDER FRAMES'!$B$85,$B$65:$G$67,3,FALSE)))","v":""},{"$f":"IF('ORDER FRAMES'!$B$86=\"\",\"\",IF('ORDER FRAMES'!$D$86=\"EI0\",VLOOKUP('ORDER FRAMES'!$B$86,$B$58:$G$63,3,FALSE),VLOOKUP('ORDER FRAMES'!$B$86,$B$65:$G$67,3,FALSE)))","v":""},{"$f":"IF('ORDER FRAMES'!$B$87=\"\",\"\",IF('ORDER FRAMES'!$D$87=\"EI0\",VLOOKUP('ORDER FRAMES'!$B$87,$B$58:$G$63,3,FALSE),VLOOKUP('ORDER FRAMES'!$B$87,$B$65:$G$67,3,FALSE)))","v":""},{"$f":"IF('ORDER FRAMES'!$B$88=\"\",\"\",IF('ORDER FRAMES'!$D$88=\"EI0\",VLOOKUP('ORDER FRAMES'!$B$88,$B$58:$G$63,3,FALSE),VLOOKUP('ORDER FRAMES'!$B$88,$B$65:$G$67,3,FALSE)))","v":""},{"$f":"IF('ORDER FRAMES'!$B$89=\"\",\"\",IF('ORDER FRAMES'!$D$89=\"EI0\",VLOOKUP('ORDER FRAMES'!$B$89,$B$58:$G$63,3,FALSE),VLOOKUP('ORDER FRAMES'!$B$89,$B$65:$G$67,3,FALSE)))","v":""},{"$f":"IF('ORDER FRAMES'!$B$90=\"\",\"\",IF('ORDER FRAMES'!$D$90=\"EI0\",VLOOKUP('ORDER FRAMES'!$B$90,$B$58:$G$63,3,FALSE),VLOOKUP('ORDER FRAMES'!$B$90,$B$65:$G$67,3,FALSE)))","v":""},{"$f":"IF('ORDER FRAMES'!$B$91=\"\",\"\",IF('ORDER FRAMES'!$D$91=\"EI0\",VLOOKUP('ORDER FRAMES'!$B$91,$B$58:$G$63,3,FALSE),VLOOKUP('ORDER FRAMES'!$B$91,$B$65:$G$67,3,FALSE)))","v":""},{"$f":"IF('ORDER FRAMES'!$B$92=\"\",\"\",IF('ORDER FRAMES'!$D$92=\"EI0\",VLOOKUP('ORDER FRAMES'!$B$92,$B$58:$G$63,3,FALSE),VLOOKUP('ORDER FRAMES'!$B$92,$B$65:$G$67,3,FALSE)))","v":""},{"$f":"IF('ORDER FRAMES'!$B$92=\"\",\"\",IF('ORDER FRAMES'!$D$92=\"EI0\",VLOOKUP('ORDER FRAMES'!$B$92,$B$58:$G$63,3,FALSE),VLOOKUP('ORDER FRAMES'!$B$92,$B$65:$G$67,3,FALSE)))","v":""},{"$f":"IF('ORDER FRAMES'!$B$94=\"\",\"\",IF('ORDER FRAMES'!$D$94=\"EI0\",VLOOKUP('ORDER FRAMES'!$B$94,$B$58:$G$63,3,FALSE),VLOOKUP('ORDER FRAMES'!$B$94,$B$65:$G$67,3,FALSE)))","v":""},{"$f":"IF('ORDER FRAMES'!$B$95=\"\",\"\",IF('ORDER FRAMES'!$D$95=\"EI0\",VLOOKUP('ORDER FRAMES'!$B$95,$B$58:$G$63,3,FALSE),VLOOKUP('ORDER FRAMES'!$B$95,$B$65:$G$67,3,FALSE)))","v":""},{"$f":"IF('ORDER FRAMES'!$B$96=\"\",\"\",IF('ORDER FRAMES'!$D$96=\"EI0\",VLOOKUP('ORDER FRAMES'!$B$96,$B$58:$G$63,3,FALSE),VLOOKUP('ORDER FRAMES'!$B$96,$B$65:$G$67,3,FALSE)))","v":""},{"$f":"IF('ORDER FRAMES'!$B$97=\"\",\"\",IF('ORDER FRAMES'!$D$97=\"EI0\",VLOOKUP('ORDER FRAMES'!$B$97,$B$58:$G$63,3,FALSE),VLOOKUP('ORDER FRAMES'!$B$97,$B$65:$G$67,3,FALSE)))","v":""},{"$f":"IF('ORDER FRAMES'!$B$98=\"\",\"\",IF('ORDER FRAMES'!$D$98=\"EI0\",VLOOKUP('ORDER FRAMES'!$B$98,$B$58:$G$63,3,FALSE),VLOOKUP('ORDER FRAMES'!$B$98,$B$65:$G$67,3,FALSE)))","v":""},{"$f":"IF('ORDER FRAMES'!$B$99=\"\",\"\",IF('ORDER FRAMES'!$D$99=\"EI0\",VLOOKUP('ORDER FRAMES'!$B$99,$B$58:$G$63,3,FALSE),VLOOKUP('ORDER FRAMES'!$B$99,$B$65:$G$67,3,FALSE)))","v":""},{"$f":"IF('ORDER FRAMES'!$B$100=\"\",\"\",IF('ORDER FRAMES'!$D$100=\"EI0\",VLOOKUP('ORDER FRAMES'!$B$100,$B$58:$G$63,3,FALSE),VLOOKUP('ORDER FRAMES'!$B$100,$B$65:$G$67,3,FALSE)))","v":""}]
[null,"X240",null,"V","C","W","-",null,null,null,null,null,null,null,null,null,null,null,null,null,{"$f":"IF('ORDER FRAMES'!$B$21=\"\",\"\",IF('ORDER FRAMES'!$D$21=\"EI0\",VLOOKUP('ORDER FRAMES'!$B$21,$B$58:$G$63,4,FALSE),VLOOKUP('ORDER FRAMES'!$B$21,$B$65:G67,4,FALSE)))","v":0},{"$f":"IF('ORDER FRAMES'!$B$22=\"\",\"\",IF('ORDER FRAMES'!$D$22=\"EI0\",VLOOKUP('ORDER FRAMES'!$B$22,$B$58:$G$63,4,FALSE),VLOOKUP('ORDER FRAMES'!$B$22,$B$65:H67,4,FALSE)))","v":"C"},{"$f":"IF('ORDER FRAMES'!$B$23=\"\",\"\",IF('ORDER FRAMES'!$D$23=\"EI0\",VLOOKUP('ORDER FRAMES'!$B$23,$B$58:$G$63,4,FALSE),VLOOKUP('ORDER FRAMES'!$B$23,$B$65:I67,4,FALSE)))","v":""},{"$f":"IF('ORDER FRAMES'!$B$24=\"\",\"\",IF('ORDER FRAMES'!$D$24=\"EI0\",VLOOKUP('ORDER FRAMES'!$B$24,$B$58:$G$63,4,FALSE),VLOOKUP('ORDER FRAMES'!$B$24,$B$65:J67,4,FALSE)))","v":""},{"$f":"IF('ORDER FRAMES'!$B$25=\"\",\"\",IF('ORDER FRAMES'!$D$25=\"EI0\",VLOOKUP('ORDER FRAMES'!$B$25,$B$58:$G$63,4,FALSE),VLOOKUP('ORDER FRAMES'!$B$25,$B$65:K67,4,FALSE)))","v":""},{"$f":"IF('ORDER FRAMES'!$B$26=\"\",\"\",IF('ORDER FRAMES'!$D$26=\"EI0\",VLOOKUP('ORDER FRAMES'!$B$26,$B$58:$G$63,4,FALSE),VLOOKUP('ORDER FRAMES'!$B$26,$B$65:L67,4,FALSE)))","v":""},{"$f":"IF('ORDER FRAMES'!$B$27=\"\",\"\",IF('ORDER FRAMES'!$D$27=\"EI0\",VLOOKUP('ORDER FRAMES'!$B$27,$B$58:$G$63,4,FALSE),VLOOKUP('ORDER FRAMES'!$B$27,$B$65:M67,4,FALSE)))","v":""},{"$f":"IF('ORDER FRAMES'!$B$28=\"\",\"\",IF('ORDER FRAMES'!$D$28=\"EI0\",VLOOKUP('ORDER FRAMES'!$B$28,$B$58:$G$63,4,FALSE),VLOOKUP('ORDER FRAMES'!$B$28,$B$65:N67,4,FALSE)))","v":""},{"$f":"IF('ORDER FRAMES'!$B$29=\"\",\"\",IF('ORDER FRAMES'!$D$29=\"EI0\",VLOOKUP('ORDER FRAMES'!$B$29,$B$58:$G$63,4,FALSE),VLOOKUP('ORDER FRAMES'!$B$29,$B$65:O67,4,FALSE)))","v":""},{"$f":"IF('ORDER FRAMES'!$B$30=\"\",\"\",IF('ORDER FRAMES'!$D$30=\"EI0\",VLOOKUP('ORDER FRAMES'!$B$30,$B$58:$G$63,4,FALSE),VLOOKUP('ORDER FRAMES'!$B$30,$B$65:P67,4,FALSE)))","v":""},{"$f":"IF('ORDER FRAMES'!$B$31=\"\",\"\",IF('ORDER FRAMES'!$D$31=\"EI0\",VLOOKUP('ORDER FRAMES'!$B$31,$B$58:$G$63,4,FALSE),VLOOKUP('ORDER FRAMES'!$B$31,$B$65:Q67,4,FALSE)))","v":""},{"$f":"IF('ORDER FRAMES'!$B$32=\"\",\"\",IF('ORDER FRAMES'!$D$32=\"EI0\",VLOOKUP('ORDER FRAMES'!$B$32,$B$58:$G$63,4,FALSE),VLOOKUP('ORDER FRAMES'!$B$32,$B$65:R67,4,FALSE)))","v":""},{"$f":"IF('ORDER FRAMES'!$B$33=\"\",\"\",IF('ORDER FRAMES'!$D$33=\"EI0\",VLOOKUP('ORDER FRAMES'!$B$33,$B$58:$G$63,4,FALSE),VLOOKUP('ORDER FRAMES'!$B$33,$B$65:S67,4,FALSE)))","v":""},{"$f":"IF('ORDER FRAMES'!$B$34=\"\",\"\",IF('ORDER FRAMES'!$D$34=\"EI0\",VLOOKUP('ORDER FRAMES'!$B$34,$B$58:$G$63,4,FALSE),VLOOKUP('ORDER FRAMES'!$B$34,$B$65:T67,4,FALSE)))","v":""},{"$f":"IF('ORDER FRAMES'!$B$35=\"\",\"\",IF('ORDER FRAMES'!$D$35=\"EI0\",VLOOKUP('ORDER FRAMES'!$B$35,$B$58:$G$63,4,FALSE),VLOOKUP('ORDER FRAMES'!$B$35,$B$65:U67,4,FALSE)))","v":""},{"$f":"IF('ORDER FRAMES'!$B$36=\"\",\"\",IF('ORDER FRAMES'!$D$36=\"EI0\",VLOOKUP('ORDER FRAMES'!$B$36,$B$58:$G$63,4,FALSE),VLOOKUP('ORDER FRAMES'!$B$36,$B$65:V67,4,FALSE)))","v":""},{"$f":"IF('ORDER FRAMES'!$B$37=\"\",\"\",IF('ORDER FRAMES'!$D$37=\"EI0\",VLOOKUP('ORDER FRAMES'!$B$37,$B$58:$G$63,4,FALSE),VLOOKUP('ORDER FRAMES'!$B$37,$B$65:W67,4,FALSE)))","v":""},{"$f":"IF('ORDER FRAMES'!$B$38=\"\",\"\",IF('ORDER FRAMES'!$D$38=\"EI0\",VLOOKUP('ORDER FRAMES'!$B$38,$B$58:$G$63,4,FALSE),VLOOKUP('ORDER FRAMES'!$B$38,$B$65:X67,4,FALSE)))","v":""},{"$f":"IF('ORDER FRAMES'!$B$39=\"\",\"\",IF('ORDER FRAMES'!$D$39=\"EI0\",VLOOKUP('ORDER FRAMES'!$B$39,$B$58:$G$63,4,FALSE),VLOOKUP('ORDER FRAMES'!$B$39,$B$65:Y67,4,FALSE)))","v":""},{"$f":"IF('ORDER FRAMES'!$B$40=\"\",\"\",IF('ORDER FRAMES'!$D$40=\"EI0\",VLOOKUP('ORDER FRAMES'!$B$40,$B$58:$G$63,4,FALSE),VLOOKUP('ORDER FRAMES'!$B$40,$B$65:Z67,4,FALSE)))","v":""},{"$f":"IF('ORDER FRAMES'!$B$41=\"\",\"\",IF('ORDER FRAMES'!$D$41=\"EI0\",VLOOKUP('ORDER FRAMES'!$B$41,$B$58:$G$63,4,FALSE),VLOOKUP('ORDER FRAMES'!$B$41,$B$65:AA67,4,FALSE)))","v":""},{"$f":"IF('ORDER FRAMES'!$B$42=\"\",\"\",IF('ORDER FRAMES'!$D$42=\"EI0\",VLOOKUP('ORDER FRAMES'!$B$42,$B$58:$G$63,4,FALSE),VLOOKUP('ORDER FRAMES'!$B$42,$B$65:AB67,4,FALSE)))","v":""},{"$f":"IF('ORDER FRAMES'!$B$43=\"\",\"\",IF('ORDER FRAMES'!$D$43=\"EI0\",VLOOKUP('ORDER FRAMES'!$B$43,$B$58:$G$63,4,FALSE),VLOOKUP('ORDER FRAMES'!$B$43,$B$65:AC67,4,FALSE)))","v":""},{"$f":"IF('ORDER FRAMES'!$B$44=\"\",\"\",IF('ORDER FRAMES'!$D$44=\"EI0\",VLOOKUP('ORDER FRAMES'!$B$44,$B$58:$G$63,4,FALSE),VLOOKUP('ORDER FRAMES'!$B$44,$B$65:AD67,4,FALSE)))","v":""},{"$f":"IF('ORDER FRAMES'!$B$45=\"\",\"\",IF('ORDER FRAMES'!$D$45=\"EI0\",VLOOKUP('ORDER FRAMES'!$B$45,$B$58:$G$63,4,FALSE),VLOOKUP('ORDER FRAMES'!$B$45,$B$65:AE67,4,FALSE)))","v":""},{"$f":"IF('ORDER FRAMES'!$B$46=\"\",\"\",IF('ORDER FRAMES'!$D$46=\"EI0\",VLOOKUP('ORDER FRAMES'!$B$46,$B$58:$G$63,4,FALSE),VLOOKUP('ORDER FRAMES'!$B$46,$B$65:AF67,4,FALSE)))","v":""},{"$f":"IF('ORDER FRAMES'!$B$47=\"\",\"\",IF('ORDER FRAMES'!$D$47=\"EI0\",VLOOKUP('ORDER FRAMES'!$B$47,$B$58:$G$63,4,FALSE),VLOOKUP('ORDER FRAMES'!$B$47,$B$65:AG67,4,FALSE)))","v":""},{"$f":"IF('ORDER FRAMES'!$B$48=\"\",\"\",IF('ORDER FRAMES'!$D$48=\"EI0\",VLOOKUP('ORDER FRAMES'!$B$48,$B$58:$G$63,4,FALSE),VLOOKUP('ORDER FRAMES'!$B$48,$B$65:AH67,4,FALSE)))","v":""},{"$f":"IF('ORDER FRAMES'!$B$49=\"\",\"\",IF('ORDER FRAMES'!$D$49=\"EI0\",VLOOKUP('ORDER FRAMES'!$B$49,$B$58:$G$63,4,FALSE),VLOOKUP('ORDER FRAMES'!$B$49,$B$65:AI67,4,FALSE)))","v":""},{"$f":"IF('ORDER FRAMES'!$B$50=\"\",\"\",IF('ORDER FRAMES'!$D$50=\"EI0\",VLOOKUP('ORDER FRAMES'!$B$50,$B$58:$G$63,4,FALSE),VLOOKUP('ORDER FRAMES'!$B$50,$B$65:AJ67,4,FALSE)))","v":""},{"$f":"IF('ORDER FRAMES'!$B$51=\"\",\"\",IF('ORDER FRAMES'!$D$51=\"EI0\",VLOOKUP('ORDER FRAMES'!$B$51,$B$58:$G$63,4,FALSE),VLOOKUP('ORDER FRAMES'!$B$51,$B$65:AK67,4,FALSE)))","v":""},{"$f":"IF('ORDER FRAMES'!$B$52=\"\",\"\",IF('ORDER FRAMES'!$D$52=\"EI0\",VLOOKUP('ORDER FRAMES'!$B$52,$B$58:$G$63,4,FALSE),VLOOKUP('ORDER FRAMES'!$B$52,$B$65:AL67,4,FALSE)))","v":""},{"$f":"IF('ORDER FRAMES'!$B$53=\"\",\"\",IF('ORDER FRAMES'!$D$53=\"EI0\",VLOOKUP('ORDER FRAMES'!$B$53,$B$58:$G$63,4,FALSE),VLOOKUP('ORDER FRAMES'!$B$53,$B$65:AM67,4,FALSE)))","v":""},{"$f":"IF('ORDER FRAMES'!$B$54=\"\",\"\",IF('ORDER FRAMES'!$D$54=\"EI0\",VLOOKUP('ORDER FRAMES'!$B$54,$B$58:$G$63,4,FALSE),VLOOKUP('ORDER FRAMES'!$B$54,$B$65:AN67,4,FALSE)))","v":""},{"$f":"IF('ORDER FRAMES'!$B$55=\"\",\"\",IF('ORDER FRAMES'!$D$55=\"EI0\",VLOOKUP('ORDER FRAMES'!$B$55,$B$58:$G$63,4,FALSE),VLOOKUP('ORDER FRAMES'!$B$55,$B$65:AO67,4,FALSE)))","v":""},{"$f":"IF('ORDER FRAMES'!$B$56=\"\",\"\",IF('ORDER FRAMES'!$D$56=\"EI0\",VLOOKUP('ORDER FRAMES'!$B$56,$B$58:$G$63,4,FALSE),VLOOKUP('ORDER FRAMES'!$B$56,$B$65:AP67,4,FALSE)))","v":""},{"$f":"IF('ORDER FRAMES'!$B$57=\"\",\"\",IF('ORDER FRAMES'!$D$57=\"EI0\",VLOOKUP('ORDER FRAMES'!$B$57,$B$58:$G$63,4,FALSE),VLOOKUP('ORDER FRAMES'!$B$57,$B$65:AQ67,4,FALSE)))","v":""},{"$f":"IF('ORDER FRAMES'!$B$58=\"\",\"\",IF('ORDER FRAMES'!$D$58=\"EI0\",VLOOKUP('ORDER FRAMES'!$B$58,$B$58:$G$63,4,FALSE),VLOOKUP('ORDER FRAMES'!$B$58,$B$65:AR67,4,FALSE)))","v":""},{"$f":"IF('ORDER FRAMES'!$B$59=\"\",\"\",IF('ORDER FRAMES'!$D$59=\"EI0\",VLOOKUP('ORDER FRAMES'!$B$59,$B$58:$G$63,4,FALSE),VLOOKUP('ORDER FRAMES'!$B$59,$B$65:AS67,4,FALSE)))","v":""},{"$f":"IF('ORDER FRAMES'!$B$60=\"\",\"\",IF('ORDER FRAMES'!$D$60=\"EI0\",VLOOKUP('ORDER FRAMES'!$B$60,$B$58:$G$63,4,FALSE),VLOOKUP('ORDER FRAMES'!$B$60,$B$65:AT67,4,FALSE)))","v":""},{"$f":"IF('ORDER FRAMES'!$B$61=\"\",\"\",IF('ORDER FRAMES'!$D$61=\"EI0\",VLOOKUP('ORDER FRAMES'!$B$61,$B$58:$G$63,4,FALSE),VLOOKUP('ORDER FRAMES'!$B$61,$B$65:AU67,4,FALSE)))","v":""},{"$f":"IF('ORDER FRAMES'!$B$62=\"\",\"\",IF('ORDER FRAMES'!$D$62=\"EI0\",VLOOKUP('ORDER FRAMES'!$B$62,$B$58:$G$63,4,FALSE),VLOOKUP('ORDER FRAMES'!$B$62,$B$65:AV67,4,FALSE)))","v":""},{"$f":"IF('ORDER FRAMES'!$B$63=\"\",\"\",IF('ORDER FRAMES'!$D$63=\"EI0\",VLOOKUP('ORDER FRAMES'!$B$63,$B$58:$G$63,4,FALSE),VLOOKUP('ORDER FRAMES'!$B$63,$B$65:AW67,4,FALSE)))","v":""},{"$f":"IF('ORDER FRAMES'!$B$64=\"\",\"\",IF('ORDER FRAMES'!$D$64=\"EI0\",VLOOKUP('ORDER FRAMES'!$B$64,$B$58:$G$63,4,FALSE),VLOOKUP('ORDER FRAMES'!$B$64,$B$65:AX67,4,FALSE)))","v":""},{"$f":"IF('ORDER FRAMES'!$B$65=\"\",\"\",IF('ORDER FRAMES'!$D$65=\"EI0\",VLOOKUP('ORDER FRAMES'!$B$65,$B$58:$G$63,4,FALSE),VLOOKUP('ORDER FRAMES'!$B$65,$B$65:AY67,4,FALSE)))","v":""},{"$f":"IF('ORDER FRAMES'!$B$66=\"\",\"\",IF('ORDER FRAMES'!$D$66=\"EI0\",VLOOKUP('ORDER FRAMES'!$B$66,$B$58:$G$63,4,FALSE),VLOOKUP('ORDER FRAMES'!$B$66,$B$65:AZ67,4,FALSE)))","v":""},{"$f":"IF('ORDER FRAMES'!$B$67=\"\",\"\",IF('ORDER FRAMES'!$D$67=\"EI0\",VLOOKUP('ORDER FRAMES'!$B$67,$B$58:$G$63,4,FALSE),VLOOKUP('ORDER FRAMES'!$B$67,$B$65:BA67,4,FALSE)))","v":""},{"$f":"IF('ORDER FRAMES'!$B$68=\"\",\"\",IF('ORDER FRAMES'!$D$68=\"EI0\",VLOOKUP('ORDER FRAMES'!$B$68,$B$58:$G$63,4,FALSE),VLOOKUP('ORDER FRAMES'!$B$68,$B$65:BB67,4,FALSE)))","v":""},{"$f":"IF('ORDER FRAMES'!$B$69=\"\",\"\",IF('ORDER FRAMES'!$D$69=\"EI0\",VLOOKUP('ORDER FRAMES'!$B$69,$B$58:$G$63,4,FALSE),VLOOKUP('ORDER FRAMES'!$B$69,$B$65:BC67,4,FALSE)))","v":""},{"$f":"IF('ORDER FRAMES'!$B$70=\"\",\"\",IF('ORDER FRAMES'!$D$70=\"EI0\",VLOOKUP('ORDER FRAMES'!$B$70,$B$58:$G$63,4,FALSE),VLOOKUP('ORDER FRAMES'!$B$70,$B$65:BD67,4,FALSE)))","v":""},{"$f":"IF('ORDER FRAMES'!$B$71=\"\",\"\",IF('ORDER FRAMES'!$D$71=\"EI0\",VLOOKUP('ORDER FRAMES'!$B$71,$B$58:$G$63,4,FALSE),VLOOKUP('ORDER FRAMES'!$B$71,$B$65:BE67,4,FALSE)))","v":""},{"$f":"IF('ORDER FRAMES'!$B$72=\"\",\"\",IF('ORDER FRAMES'!$D$72=\"EI0\",VLOOKUP('ORDER FRAMES'!$B$72,$B$58:$G$63,4,FALSE),VLOOKUP('ORDER FRAMES'!$B$72,$B$65:BF67,4,FALSE)))","v":""},{"$f":"IF('ORDER FRAMES'!$B$73=\"\",\"\",IF('ORDER FRAMES'!$D$73=\"EI0\",VLOOKUP('ORDER FRAMES'!$B$73,$B$58:$G$63,4,FALSE),VLOOKUP('ORDER FRAMES'!$B$73,$B$65:BG67,4,FALSE)))","v":""},{"$f":"IF('ORDER FRAMES'!$B$74=\"\",\"\",IF('ORDER FRAMES'!$D$74=\"EI0\",VLOOKUP('ORDER FRAMES'!$B$74,$B$58:$G$63,4,FALSE),VLOOKUP('ORDER FRAMES'!$B$74,$B$65:BH67,4,FALSE)))","v":""},{"$f":"IF('ORDER FRAMES'!$B$75=\"\",\"\",IF('ORDER FRAMES'!$D$75=\"EI0\",VLOOKUP('ORDER FRAMES'!$B$75,$B$58:$G$63,4,FALSE),VLOOKUP('ORDER FRAMES'!$B$75,$B$65:BI67,4,FALSE)))","v":""},{"$f":"IF('ORDER FRAMES'!$B$76=\"\",\"\",IF('ORDER FRAMES'!$D$76=\"EI0\",VLOOKUP('ORDER FRAMES'!$B$76,$B$58:$G$63,4,FALSE),VLOOKUP('ORDER FRAMES'!$B$76,$B$65:BJ67,4,FALSE)))","v":""},{"$f":"IF('ORDER FRAMES'!$B$77=\"\",\"\",IF('ORDER FRAMES'!$D$77=\"EI0\",VLOOKUP('ORDER FRAMES'!$B$77,$B$58:$G$63,4,FALSE),VLOOKUP('ORDER FRAMES'!$B$77,$B$65:BK67,4,FALSE)))","v":""},{"$f":"IF('ORDER FRAMES'!$B$78=\"\",\"\",IF('ORDER FRAMES'!$D$78=\"EI0\",VLOOKUP('ORDER FRAMES'!$B$78,$B$58:$G$63,4,FALSE),VLOOKUP('ORDER FRAMES'!$B$78,$B$65:BL67,4,FALSE)))","v":""},{"$f":"IF('ORDER FRAMES'!$B$79=\"\",\"\",IF('ORDER FRAMES'!$D$79=\"EI0\",VLOOKUP('ORDER FRAMES'!$B$79,$B$58:$G$63,4,FALSE),VLOOKUP('ORDER FRAMES'!$B$79,$B$65:BM67,4,FALSE)))","v":""},{"$f":"IF('ORDER FRAMES'!$B$80=\"\",\"\",IF('ORDER FRAMES'!$D$80=\"EI0\",VLOOKUP('ORDER FRAMES'!$B$80,$B$58:$G$63,4,FALSE),VLOOKUP('ORDER FRAMES'!$B$80,$B$65:BN67,4,FALSE)))","v":""},{"$f":"IF('ORDER FRAMES'!$B$81=\"\",\"\",IF('ORDER FRAMES'!$D$81=\"EI0\",VLOOKUP('ORDER FRAMES'!$B$81,$B$58:$G$63,4,FALSE),VLOOKUP('ORDER FRAMES'!$B$81,$B$65:BO67,4,FALSE)))","v":""},{"$f":"IF('ORDER FRAMES'!$B$82=\"\",\"\",IF('ORDER FRAMES'!$D$82=\"EI0\",VLOOKUP('ORDER FRAMES'!$B$82,$B$58:$G$63,4,FALSE),VLOOKUP('ORDER FRAMES'!$B$82,$B$65:BP67,4,FALSE)))","v":""},{"$f":"IF('ORDER FRAMES'!$B$83=\"\",\"\",IF('ORDER FRAMES'!$D$83=\"EI0\",VLOOKUP('ORDER FRAMES'!$B$83,$B$58:$G$63,4,FALSE),VLOOKUP('ORDER FRAMES'!$B$83,$B$65:BQ67,4,FALSE)))","v":""},{"$f":"IF('ORDER FRAMES'!$B$84=\"\",\"\",IF('ORDER FRAMES'!$D$84=\"EI0\",VLOOKUP('ORDER FRAMES'!$B$84,$B$58:$G$63,4,FALSE),VLOOKUP('ORDER FRAMES'!$B$84,$B$65:BR67,4,FALSE)))","v":""},{"$f":"IF('ORDER FRAMES'!$B$85=\"\",\"\",IF('ORDER FRAMES'!$D$85=\"EI0\",VLOOKUP('ORDER FRAMES'!$B$85,$B$58:$G$63,4,FALSE),VLOOKUP('ORDER FRAMES'!$B$85,$B$65:BS67,4,FALSE)))","v":""},{"$f":"IF('ORDER FRAMES'!$B$86=\"\",\"\",IF('ORDER FRAMES'!$D$86=\"EI0\",VLOOKUP('ORDER FRAMES'!$B$86,$B$58:$G$63,4,FALSE),VLOOKUP('ORDER FRAMES'!$B$86,$B$65:BT67,4,FALSE)))","v":""},{"$f":"IF('ORDER FRAMES'!$B$87=\"\",\"\",IF('ORDER FRAMES'!$D$87=\"EI0\",VLOOKUP('ORDER FRAMES'!$B$87,$B$58:$G$63,4,FALSE),VLOOKUP('ORDER FRAMES'!$B$87,$B$65:BU67,4,FALSE)))","v":""},{"$f":"IF('ORDER FRAMES'!$B$88=\"\",\"\",IF('ORDER FRAMES'!$D$88=\"EI0\",VLOOKUP('ORDER FRAMES'!$B$88,$B$58:$G$63,4,FALSE),VLOOKUP('ORDER FRAMES'!$B$88,$B$65:BV67,4,FALSE)))","v":""},{"$f":"IF('ORDER FRAMES'!$B$89=\"\",\"\",IF('ORDER FRAMES'!$D$89=\"EI0\",VLOOKUP('ORDER FRAMES'!$B$89,$B$58:$G$63,4,FALSE),VLOOKUP('ORDER FRAMES'!$B$89,$B$65:BW67,4,FALSE)))","v":""},{"$f":"IF('ORDER FRAMES'!$B$90=\"\",\"\",IF('ORDER FRAMES'!$D$90=\"EI0\",VLOOKUP('ORDER FRAMES'!$B$90,$B$58:$G$63,4,FALSE),VLOOKUP('ORDER FRAMES'!$B$90,$B$65:BX67,4,FALSE)))","v":""},{"$f":"IF('ORDER FRAMES'!$B$91=\"\",\"\",IF('ORDER FRAMES'!$D$91=\"EI0\",VLOOKUP('ORDER FRAMES'!$B$91,$B$58:$G$63,4,FALSE),VLOOKUP('ORDER FRAMES'!$B$91,$B$65:BY67,4,FALSE)))","v":""},{"$f":"IF('ORDER FRAMES'!$B$92=\"\",\"\",IF('ORDER FRAMES'!$D$92=\"EI0\",VLOOKUP('ORDER FRAMES'!$B$92,$B$58:$G$63,4,FALSE),VLOOKUP('ORDER FRAMES'!$B$92,$B$65:BZ67,4,FALSE)))","v":""},{"$f":"IF('ORDER FRAMES'!$B$92=\"\",\"\",IF('ORDER FRAMES'!$D$92=\"EI0\",VLOOKUP('ORDER FRAMES'!$B$92,$B$58:$G$63,4,FALSE),VLOOKUP('ORDER FRAMES'!$B$92,$B$65:CA67,4,FALSE)))","v":""},{"$f":"IF('ORDER FRAMES'!$B$94=\"\",\"\",IF('ORDER FRAMES'!$D$94=\"EI0\",VLOOKUP('ORDER FRAMES'!$B$94,$B$58:$G$63,4,FALSE),VLOOKUP('ORDER FRAMES'!$B$94,$B$65:CB67,4,FALSE)))","v":""},{"$f":"IF('ORDER FRAMES'!$B$95=\"\",\"\",IF('ORDER FRAMES'!$D$95=\"EI0\",VLOOKUP('ORDER FRAMES'!$B$95,$B$58:$G$63,4,FALSE),VLOOKUP('ORDER FRAMES'!$B$95,$B$65:CC67,4,FALSE)))","v":""},{"$f":"IF('ORDER FRAMES'!$B$96=\"\",\"\",IF('ORDER FRAMES'!$D$96=\"EI0\",VLOOKUP('ORDER FRAMES'!$B$96,$B$58:$G$63,4,FALSE),VLOOKUP('ORDER FRAMES'!$B$96,$B$65:CD67,4,FALSE)))","v":""},{"$f":"IF('ORDER FRAMES'!$B$97=\"\",\"\",IF('ORDER FRAMES'!$D$97=\"EI0\",VLOOKUP('ORDER FRAMES'!$B$97,$B$58:$G$63,4,FALSE),VLOOKUP('ORDER FRAMES'!$B$97,$B$65:CE67,4,FALSE)))","v":""},{"$f":"IF('ORDER FRAMES'!$B$98=\"\",\"\",IF('ORDER FRAMES'!$D$98=\"EI0\",VLOOKUP('ORDER FRAMES'!$B$98,$B$58:$G$63,4,FALSE),VLOOKUP('ORDER FRAMES'!$B$98,$B$65:CF67,4,FALSE)))","v":""},{"$f":"IF('ORDER FRAMES'!$B$99=\"\",\"\",IF('ORDER FRAMES'!$D$99=\"EI0\",VLOOKUP('ORDER FRAMES'!$B$99,$B$58:$G$63,4,FALSE),VLOOKUP('ORDER FRAMES'!$B$99,$B$65:CG67,4,FALSE)))","v":""},{"$f":"IF('ORDER FRAMES'!$B$100=\"\",\"\",IF('ORDER FRAMES'!$D$100=\"EI0\",VLOOKUP('ORDER FRAMES'!$B$100,$B$58:$G$63,4,FALSE),VLOOKUP('ORDER FRAMES'!$B$100,$B$65:CH67,4,FALSE)))","v":""}]
[null,"X245",null,"V","C","W","-",null,null,null,null,null,null,null,null,null,null,null,null,null,{"$f":"IF('ORDER FRAMES'!$B$21=\"\",\"\",IF('ORDER FRAMES'!$D$21=\"EI0\",VLOOKUP('ORDER FRAMES'!$B$21,$B$58:G63,5,FALSE),VLOOKUP('ORDER FRAMES'!$B$21,$B$65:G67,5,FALSE)))","v":"W"},{"$f":"IF('ORDER FRAMES'!$B$22=\"\",\"\",IF('ORDER FRAMES'!$D$22=\"EI0\",VLOOKUP('ORDER FRAMES'!$B$22,$B$58:H63,5,FALSE),VLOOKUP('ORDER FRAMES'!$B$22,$B$65:H67,5,FALSE)))","v":"W"},{"$f":"IF('ORDER FRAMES'!$B$23=\"\",\"\",IF('ORDER FRAMES'!$D$23=\"EI0\",VLOOKUP('ORDER FRAMES'!$B$23,$B$58:I63,5,FALSE),VLOOKUP('ORDER FRAMES'!$B$23,$B$65:I67,5,FALSE)))","v":""},{"$f":"IF('ORDER FRAMES'!$B$24=\"\",\"\",IF('ORDER FRAMES'!$D$24=\"EI0\",VLOOKUP('ORDER FRAMES'!$B$24,$B$58:J63,5,FALSE),VLOOKUP('ORDER FRAMES'!$B$24,$B$65:J67,5,FALSE)))","v":""},{"$f":"IF('ORDER FRAMES'!$B$25=\"\",\"\",IF('ORDER FRAMES'!$D$25=\"EI0\",VLOOKUP('ORDER FRAMES'!$B$25,$B$58:K63,5,FALSE),VLOOKUP('ORDER FRAMES'!$B$25,$B$65:K67,5,FALSE)))","v":""},{"$f":"IF('ORDER FRAMES'!$B$26=\"\",\"\",IF('ORDER FRAMES'!$D$26=\"EI0\",VLOOKUP('ORDER FRAMES'!$B$26,$B$58:L63,5,FALSE),VLOOKUP('ORDER FRAMES'!$B$26,$B$65:L67,5,FALSE)))","v":""},{"$f":"IF('ORDER FRAMES'!$B$27=\"\",\"\",IF('ORDER FRAMES'!$D$27=\"EI0\",VLOOKUP('ORDER FRAMES'!$B$27,$B$58:M63,5,FALSE),VLOOKUP('ORDER FRAMES'!$B$27,$B$65:M67,5,FALSE)))","v":""},{"$f":"IF('ORDER FRAMES'!$B$28=\"\",\"\",IF('ORDER FRAMES'!$D$28=\"EI0\",VLOOKUP('ORDER FRAMES'!$B$28,$B$58:N63,5,FALSE),VLOOKUP('ORDER FRAMES'!$B$28,$B$65:N67,5,FALSE)))","v":""},{"$f":"IF('ORDER FRAMES'!$B$29=\"\",\"\",IF('ORDER FRAMES'!$D$29=\"EI0\",VLOOKUP('ORDER FRAMES'!$B$29,$B$58:O63,5,FALSE),VLOOKUP('ORDER FRAMES'!$B$29,$B$65:O67,5,FALSE)))","v":""},{"$f":"IF('ORDER FRAMES'!$B$30=\"\",\"\",IF('ORDER FRAMES'!$D$30=\"EI0\",VLOOKUP('ORDER FRAMES'!$B$30,$B$58:P63,5,FALSE),VLOOKUP('ORDER FRAMES'!$B$30,$B$65:P67,5,FALSE)))","v":""},{"$f":"IF('ORDER FRAMES'!$B$31=\"\",\"\",IF('ORDER FRAMES'!$D$31=\"EI0\",VLOOKUP('ORDER FRAMES'!$B$31,$B$58:Q63,5,FALSE),VLOOKUP('ORDER FRAMES'!$B$31,$B$65:Q67,5,FALSE)))","v":""},{"$f":"IF('ORDER FRAMES'!$B$32=\"\",\"\",IF('ORDER FRAMES'!$D$32=\"EI0\",VLOOKUP('ORDER FRAMES'!$B$32,$B$58:R63,5,FALSE),VLOOKUP('ORDER FRAMES'!$B$32,$B$65:R67,5,FALSE)))","v":""},{"$f":"IF('ORDER FRAMES'!$B$33=\"\",\"\",IF('ORDER FRAMES'!$D$33=\"EI0\",VLOOKUP('ORDER FRAMES'!$B$33,$B$58:S63,5,FALSE),VLOOKUP('ORDER FRAMES'!$B$33,$B$65:S67,5,FALSE)))","v":""},{"$f":"IF('ORDER FRAMES'!$B$34=\"\",\"\",IF('ORDER FRAMES'!$D$34=\"EI0\",VLOOKUP('ORDER FRAMES'!$B$34,$B$58:T63,5,FALSE),VLOOKUP('ORDER FRAMES'!$B$34,$B$65:T67,5,FALSE)))","v":""},{"$f":"IF('ORDER FRAMES'!$B$35=\"\",\"\",IF('ORDER FRAMES'!$D$35=\"EI0\",VLOOKUP('ORDER FRAMES'!$B$35,$B$58:U63,5,FALSE),VLOOKUP('ORDER FRAMES'!$B$35,$B$65:U67,5,FALSE)))","v":""},{"$f":"IF('ORDER FRAMES'!$B$36=\"\",\"\",IF('ORDER FRAMES'!$D$36=\"EI0\",VLOOKUP('ORDER FRAMES'!$B$36,$B$58:V63,5,FALSE),VLOOKUP('ORDER FRAMES'!$B$36,$B$65:V67,5,FALSE)))","v":""},{"$f":"IF('ORDER FRAMES'!$B$37=\"\",\"\",IF('ORDER FRAMES'!$D$37=\"EI0\",VLOOKUP('ORDER FRAMES'!$B$37,$B$58:W63,5,FALSE),VLOOKUP('ORDER FRAMES'!$B$37,$B$65:W67,5,FALSE)))","v":""},{"$f":"IF('ORDER FRAMES'!$B$38=\"\",\"\",IF('ORDER FRAMES'!$D$38=\"EI0\",VLOOKUP('ORDER FRAMES'!$B$38,$B$58:X63,5,FALSE),VLOOKUP('ORDER FRAMES'!$B$38,$B$65:X67,5,FALSE)))","v":""},{"$f":"IF('ORDER FRAMES'!$B$39=\"\",\"\",IF('ORDER FRAMES'!$D$39=\"EI0\",VLOOKUP('ORDER FRAMES'!$B$39,$B$58:Y63,5,FALSE),VLOOKUP('ORDER FRAMES'!$B$39,$B$65:Y67,5,FALSE)))","v":""},{"$f":"IF('ORDER FRAMES'!$B$40=\"\",\"\",IF('ORDER FRAMES'!$D$40=\"EI0\",VLOOKUP('ORDER FRAMES'!$B$40,$B$58:Z63,5,FALSE),VLOOKUP('ORDER FRAMES'!$B$40,$B$65:Z67,5,FALSE)))","v":""},{"$f":"IF('ORDER FRAMES'!$B$41=\"\",\"\",IF('ORDER FRAMES'!$D$41=\"EI0\",VLOOKUP('ORDER FRAMES'!$B$41,$B$58:AA63,5,FALSE),VLOOKUP('ORDER FRAMES'!$B$41,$B$65:AA67,5,FALSE)))","v":""},{"$f":"IF('ORDER FRAMES'!$B$42=\"\",\"\",IF('ORDER FRAMES'!$D$42=\"EI0\",VLOOKUP('ORDER FRAMES'!$B$42,$B$58:AB63,5,FALSE),VLOOKUP('ORDER FRAMES'!$B$42,$B$65:AB67,5,FALSE)))","v":""},{"$f":"IF('ORDER FRAMES'!$B$43=\"\",\"\",IF('ORDER FRAMES'!$D$43=\"EI0\",VLOOKUP('ORDER FRAMES'!$B$43,$B$58:AC63,5,FALSE),VLOOKUP('ORDER FRAMES'!$B$43,$B$65:AC67,5,FALSE)))","v":""},{"$f":"IF('ORDER FRAMES'!$B$44=\"\",\"\",IF('ORDER FRAMES'!$D$44=\"EI0\",VLOOKUP('ORDER FRAMES'!$B$44,$B$58:AD63,5,FALSE),VLOOKUP('ORDER FRAMES'!$B$44,$B$65:AD67,5,FALSE)))","v":""},{"$f":"IF('ORDER FRAMES'!$B$45=\"\",\"\",IF('ORDER FRAMES'!$D$45=\"EI0\",VLOOKUP('ORDER FRAMES'!$B$45,$B$58:AE63,5,FALSE),VLOOKUP('ORDER FRAMES'!$B$45,$B$65:AE67,5,FALSE)))","v":""},{"$f":"IF('ORDER FRAMES'!$B$46=\"\",\"\",IF('ORDER FRAMES'!$D$46=\"EI0\",VLOOKUP('ORDER FRAMES'!$B$46,$B$58:AF63,5,FALSE),VLOOKUP('ORDER FRAMES'!$B$46,$B$65:AF67,5,FALSE)))","v":""},{"$f":"IF('ORDER FRAMES'!$B$47=\"\",\"\",IF('ORDER FRAMES'!$D$47=\"EI0\",VLOOKUP('ORDER FRAMES'!$B$47,$B$58:AG63,5,FALSE),VLOOKUP('ORDER FRAMES'!$B$47,$B$65:AG67,5,FALSE)))","v":""},{"$f":"IF('ORDER FRAMES'!$B$48=\"\",\"\",IF('ORDER FRAMES'!$D$48=\"EI0\",VLOOKUP('ORDER FRAMES'!$B$48,$B$58:AH63,5,FALSE),VLOOKUP('ORDER FRAMES'!$B$48,$B$65:AH67,5,FALSE)))","v":""},{"$f":"IF('ORDER FRAMES'!$B$49=\"\",\"\",IF('ORDER FRAMES'!$D$49=\"EI0\",VLOOKUP('ORDER FRAMES'!$B$49,$B$58:AI63,5,FALSE),VLOOKUP('ORDER FRAMES'!$B$49,$B$65:AI67,5,FALSE)))","v":""},{"$f":"IF('ORDER FRAMES'!$B$50=\"\",\"\",IF('ORDER FRAMES'!$D$50=\"EI0\",VLOOKUP('ORDER FRAMES'!$B$50,$B$58:AJ63,5,FALSE),VLOOKUP('ORDER FRAMES'!$B$50,$B$65:AJ67,5,FALSE)))","v":""},{"$f":"IF('ORDER FRAMES'!$B$51=\"\",\"\",IF('ORDER FRAMES'!$D$51=\"EI0\",VLOOKUP('ORDER FRAMES'!$B$51,$B$58:AK63,5,FALSE),VLOOKUP('ORDER FRAMES'!$B$51,$B$65:AK67,5,FALSE)))","v":""},{"$f":"IF('ORDER FRAMES'!$B$52=\"\",\"\",IF('ORDER FRAMES'!$D$52=\"EI0\",VLOOKUP('ORDER FRAMES'!$B$52,$B$58:AL63,5,FALSE),VLOOKUP('ORDER FRAMES'!$B$52,$B$65:AL67,5,FALSE)))","v":""},{"$f":"IF('ORDER FRAMES'!$B$53=\"\",\"\",IF('ORDER FRAMES'!$D$53=\"EI0\",VLOOKUP('ORDER FRAMES'!$B$53,$B$58:AM63,5,FALSE),VLOOKUP('ORDER FRAMES'!$B$53,$B$65:AM67,5,FALSE)))","v":""},{"$f":"IF('ORDER FRAMES'!$B$54=\"\",\"\",IF('ORDER FRAMES'!$D$54=\"EI0\",VLOOKUP('ORDER FRAMES'!$B$54,$B$58:AN63,5,FALSE),VLOOKUP('ORDER FRAMES'!$B$54,$B$65:AN67,5,FALSE)))","v":""},{"$f":"IF('ORDER FRAMES'!$B$55=\"\",\"\",IF('ORDER FRAMES'!$D$55=\"EI0\",VLOOKUP('ORDER FRAMES'!$B$55,$B$58:AO63,5,FALSE),VLOOKUP('ORDER FRAMES'!$B$55,$B$65:AO67,5,FALSE)))","v":""},{"$f":"IF('ORDER FRAMES'!$B$56=\"\",\"\",IF('ORDER FRAMES'!$D$56=\"EI0\",VLOOKUP('ORDER FRAMES'!$B$56,$B$58:AP63,5,FALSE),VLOOKUP('ORDER FRAMES'!$B$56,$B$65:AP67,5,FALSE)))","v":""},{"$f":"IF('ORDER FRAMES'!$B$57=\"\",\"\",IF('ORDER FRAMES'!$D$57=\"EI0\",VLOOKUP('ORDER FRAMES'!$B$57,$B$58:AQ63,5,FALSE),VLOOKUP('ORDER FRAMES'!$B$57,$B$65:AQ67,5,FALSE)))","v":""},{"$f":"IF('ORDER FRAMES'!$B$58=\"\",\"\",IF('ORDER FRAMES'!$D$58=\"EI0\",VLOOKUP('ORDER FRAMES'!$B$58,$B$58:AR63,5,FALSE),VLOOKUP('ORDER FRAMES'!$B$58,$B$65:AR67,5,FALSE)))","v":""},{"$f":"IF('ORDER FRAMES'!$B$59=\"\",\"\",IF('ORDER FRAMES'!$D$59=\"EI0\",VLOOKUP('ORDER FRAMES'!$B$59,$B$58:AS63,5,FALSE),VLOOKUP('ORDER FRAMES'!$B$59,$B$65:AS67,5,FALSE)))","v":""},{"$f":"IF('ORDER FRAMES'!$B$60=\"\",\"\",IF('ORDER FRAMES'!$D$60=\"EI0\",VLOOKUP('ORDER FRAMES'!$B$60,$B$58:AT63,5,FALSE),VLOOKUP('ORDER FRAMES'!$B$60,$B$65:AT67,5,FALSE)))","v":""},{"$f":"IF('ORDER FRAMES'!$B$61=\"\",\"\",IF('ORDER FRAMES'!$D$61=\"EI0\",VLOOKUP('ORDER FRAMES'!$B$61,$B$58:AU63,5,FALSE),VLOOKUP('ORDER FRAMES'!$B$61,$B$65:AU67,5,FALSE)))","v":""},{"$f":"IF('ORDER FRAMES'!$B$62=\"\",\"\",IF('ORDER FRAMES'!$D$62=\"EI0\",VLOOKUP('ORDER FRAMES'!$B$62,$B$58:AV63,5,FALSE),VLOOKUP('ORDER FRAMES'!$B$62,$B$65:AV67,5,FALSE)))","v":""},{"$f":"IF('ORDER FRAMES'!$B$63=\"\",\"\",IF('ORDER FRAMES'!$D$63=\"EI0\",VLOOKUP('ORDER FRAMES'!$B$63,$B$58:AW63,5,FALSE),VLOOKUP('ORDER FRAMES'!$B$63,$B$65:AW67,5,FALSE)))","v":""},{"$f":"IF('ORDER FRAMES'!$B$64=\"\",\"\",IF('ORDER FRAMES'!$D$64=\"EI0\",VLOOKUP('ORDER FRAMES'!$B$64,$B$58:AX63,5,FALSE),VLOOKUP('ORDER FRAMES'!$B$64,$B$65:AX67,5,FALSE)))","v":""},{"$f":"IF('ORDER FRAMES'!$B$65=\"\",\"\",IF('ORDER FRAMES'!$D$65=\"EI0\",VLOOKUP('ORDER FRAMES'!$B$65,$B$58:AY63,5,FALSE),VLOOKUP('ORDER FRAMES'!$B$65,$B$65:AY67,5,FALSE)))","v":""},{"$f":"IF('ORDER FRAMES'!$B$66=\"\",\"\",IF('ORDER FRAMES'!$D$66=\"EI0\",VLOOKUP('ORDER FRAMES'!$B$66,$B$58:AZ63,5,FALSE),VLOOKUP('ORDER FRAMES'!$B$66,$B$65:AZ67,5,FALSE)))","v":""},{"$f":"IF('ORDER FRAMES'!$B$67=\"\",\"\",IF('ORDER FRAMES'!$D$67=\"EI0\",VLOOKUP('ORDER FRAMES'!$B$67,$B$58:BA63,5,FALSE),VLOOKUP('ORDER FRAMES'!$B$67,$B$65:BA67,5,FALSE)))","v":""},{"$f":"IF('ORDER FRAMES'!$B$68=\"\",\"\",IF('ORDER FRAMES'!$D$68=\"EI0\",VLOOKUP('ORDER FRAMES'!$B$68,$B$58:BB63,5,FALSE),VLOOKUP('ORDER FRAMES'!$B$68,$B$65:BB67,5,FALSE)))","v":""},{"$f":"IF('ORDER FRAMES'!$B$69=\"\",\"\",IF('ORDER FRAMES'!$D$69=\"EI0\",VLOOKUP('ORDER FRAMES'!$B$69,$B$58:BC63,5,FALSE),VLOOKUP('ORDER FRAMES'!$B$69,$B$65:BC67,5,FALSE)))","v":""},{"$f":"IF('ORDER FRAMES'!$B$70=\"\",\"\",IF('ORDER FRAMES'!$D$70=\"EI0\",VLOOKUP('ORDER FRAMES'!$B$70,$B$58:BD63,5,FALSE),VLOOKUP('ORDER FRAMES'!$B$70,$B$65:BD67,5,FALSE)))","v":""},{"$f":"IF('ORDER FRAMES'!$B$71=\"\",\"\",IF('ORDER FRAMES'!$D$71=\"EI0\",VLOOKUP('ORDER FRAMES'!$B$71,$B$58:BE63,5,FALSE),VLOOKUP('ORDER FRAMES'!$B$71,$B$65:BE67,5,FALSE)))","v":""},{"$f":"IF('ORDER FRAMES'!$B$72=\"\",\"\",IF('ORDER FRAMES'!$D$72=\"EI0\",VLOOKUP('ORDER FRAMES'!$B$72,$B$58:BF63,5,FALSE),VLOOKUP('ORDER FRAMES'!$B$72,$B$65:BF67,5,FALSE)))","v":""},{"$f":"IF('ORDER FRAMES'!$B$73=\"\",\"\",IF('ORDER FRAMES'!$D$73=\"EI0\",VLOOKUP('ORDER FRAMES'!$B$73,$B$58:BG63,5,FALSE),VLOOKUP('ORDER FRAMES'!$B$73,$B$65:BG67,5,FALSE)))","v":""},{"$f":"IF('ORDER FRAMES'!$B$74=\"\",\"\",IF('ORDER FRAMES'!$D$74=\"EI0\",VLOOKUP('ORDER FRAMES'!$B$74,$B$58:BH63,5,FALSE),VLOOKUP('ORDER FRAMES'!$B$74,$B$65:BH67,5,FALSE)))","v":""},{"$f":"IF('ORDER FRAMES'!$B$75=\"\",\"\",IF('ORDER FRAMES'!$D$75=\"EI0\",VLOOKUP('ORDER FRAMES'!$B$75,$B$58:BI63,5,FALSE),VLOOKUP('ORDER FRAMES'!$B$75,$B$65:BI67,5,FALSE)))","v":""},{"$f":"IF('ORDER FRAMES'!$B$76=\"\",\"\",IF('ORDER FRAMES'!$D$76=\"EI0\",VLOOKUP('ORDER FRAMES'!$B$76,$B$58:BJ63,5,FALSE),VLOOKUP('ORDER FRAMES'!$B$76,$B$65:BJ67,5,FALSE)))","v":""},{"$f":"IF('ORDER FRAMES'!$B$77=\"\",\"\",IF('ORDER FRAMES'!$D$77=\"EI0\",VLOOKUP('ORDER FRAMES'!$B$77,$B$58:BK63,5,FALSE),VLOOKUP('ORDER FRAMES'!$B$77,$B$65:BK67,5,FALSE)))","v":""},{"$f":"IF('ORDER FRAMES'!$B$78=\"\",\"\",IF('ORDER FRAMES'!$D$78=\"EI0\",VLOOKUP('ORDER FRAMES'!$B$78,$B$58:BL63,5,FALSE),VLOOKUP('ORDER FRAMES'!$B$78,$B$65:BL67,5,FALSE)))","v":""},{"$f":"IF('ORDER FRAMES'!$B$79=\"\",\"\",IF('ORDER FRAMES'!$D$79=\"EI0\",VLOOKUP('ORDER FRAMES'!$B$79,$B$58:BM63,5,FALSE),VLOOKUP('ORDER FRAMES'!$B$79,$B$65:BM67,5,FALSE)))","v":""},{"$f":"IF('ORDER FRAMES'!$B$80=\"\",\"\",IF('ORDER FRAMES'!$D$80=\"EI0\",VLOOKUP('ORDER FRAMES'!$B$80,$B$58:BN63,5,FALSE),VLOOKUP('ORDER FRAMES'!$B$80,$B$65:BN67,5,FALSE)))","v":""},{"$f":"IF('ORDER FRAMES'!$B$81=\"\",\"\",IF('ORDER FRAMES'!$D$81=\"EI0\",VLOOKUP('ORDER FRAMES'!$B$81,$B$58:BO63,5,FALSE),VLOOKUP('ORDER FRAMES'!$B$81,$B$65:BO67,5,FALSE)))","v":""},{"$f":"IF('ORDER FRAMES'!$B$82=\"\",\"\",IF('ORDER FRAMES'!$D$82=\"EI0\",VLOOKUP('ORDER FRAMES'!$B$82,$B$58:BP63,5,FALSE),VLOOKUP('ORDER FRAMES'!$B$82,$B$65:BP67,5,FALSE)))","v":""},{"$f":"IF('ORDER FRAMES'!$B$83=\"\",\"\",IF('ORDER FRAMES'!$D$83=\"EI0\",VLOOKUP('ORDER FRAMES'!$B$83,$B$58:BQ63,5,FALSE),VLOOKUP('ORDER FRAMES'!$B$83,$B$65:BQ67,5,FALSE)))","v":""},{"$f":"IF('ORDER FRAMES'!$B$84=\"\",\"\",IF('ORDER FRAMES'!$D$84=\"EI0\",VLOOKUP('ORDER FRAMES'!$B$84,$B$58:BR63,5,FALSE),VLOOKUP('ORDER FRAMES'!$B$84,$B$65:BR67,5,FALSE)))","v":""},{"$f":"IF('ORDER FRAMES'!$B$85=\"\",\"\",IF('ORDER FRAMES'!$D$85=\"EI0\",VLOOKUP('ORDER FRAMES'!$B$85,$B$58:BS63,5,FALSE),VLOOKUP('ORDER FRAMES'!$B$85,$B$65:BS67,5,FALSE)))","v":""},{"$f":"IF('ORDER FRAMES'!$B$86=\"\",\"\",IF('ORDER FRAMES'!$D$86=\"EI0\",VLOOKUP('ORDER FRAMES'!$B$86,$B$58:BT63,5,FALSE),VLOOKUP('ORDER FRAMES'!$B$86,$B$65:BT67,5,FALSE)))","v":""},{"$f":"IF('ORDER FRAMES'!$B$87=\"\",\"\",IF('ORDER FRAMES'!$D$87=\"EI0\",VLOOKUP('ORDER FRAMES'!$B$87,$B$58:BU63,5,FALSE),VLOOKUP('ORDER FRAMES'!$B$87,$B$65:BU67,5,FALSE)))","v":""},{"$f":"IF('ORDER FRAMES'!$B$88=\"\",\"\",IF('ORDER FRAMES'!$D$88=\"EI0\",VLOOKUP('ORDER FRAMES'!$B$88,$B$58:BV63,5,FALSE),VLOOKUP('ORDER FRAMES'!$B$88,$B$65:BV67,5,FALSE)))","v":""},{"$f":"IF('ORDER FRAMES'!$B$89=\"\",\"\",IF('ORDER FRAMES'!$D$89=\"EI0\",VLOOKUP('ORDER FRAMES'!$B$89,$B$58:BW63,5,FALSE),VLOOKUP('ORDER FRAMES'!$B$89,$B$65:BW67,5,FALSE)))","v":""},{"$f":"IF('ORDER FRAMES'!$B$90=\"\",\"\",IF('ORDER FRAMES'!$D$90=\"EI0\",VLOOKUP('ORDER FRAMES'!$B$90,$B$58:BX63,5,FALSE),VLOOKUP('ORDER FRAMES'!$B$90,$B$65:BX67,5,FALSE)))","v":""},{"$f":"IF('ORDER FRAMES'!$B$91=\"\",\"\",IF('ORDER FRAMES'!$D$91=\"EI0\",VLOOKUP('ORDER FRAMES'!$B$91,$B$58:BY63,5,FALSE),VLOOKUP('ORDER FRAMES'!$B$91,$B$65:BY67,5,FALSE)))","v":""},{"$f":"IF('ORDER FRAMES'!$B$92=\"\",\"\",IF('ORDER FRAMES'!$D$92=\"EI0\",VLOOKUP('ORDER FRAMES'!$B$92,$B$58:BZ63,5,FALSE),VLOOKUP('ORDER FRAMES'!$B$92,$B$65:BZ67,5,FALSE)))","v":""},{"$f":"IF('ORDER FRAMES'!$B$92=\"\",\"\",IF('ORDER FRAMES'!$D$92=\"EI0\",VLOOKUP('ORDER FRAMES'!$B$92,$B$58:CA63,5,FALSE),VLOOKUP('ORDER FRAMES'!$B$92,$B$65:CA67,5,FALSE)))","v":""},{"$f":"IF('ORDER FRAMES'!$B$94=\"\",\"\",IF('ORDER FRAMES'!$D$94=\"EI0\",VLOOKUP('ORDER FRAMES'!$B$94,$B$58:CB63,5,FALSE),VLOOKUP('ORDER FRAMES'!$B$94,$B$65:CB67,5,FALSE)))","v":""},{"$f":"IF('ORDER FRAMES'!$B$95=\"\",\"\",IF('ORDER FRAMES'!$D$95=\"EI0\",VLOOKUP('ORDER FRAMES'!$B$95,$B$58:CC63,5,FALSE),VLOOKUP('ORDER FRAMES'!$B$95,$B$65:CC67,5,FALSE)))","v":""},{"$f":"IF('ORDER FRAMES'!$B$96=\"\",\"\",IF('ORDER FRAMES'!$D$96=\"EI0\",VLOOKUP('ORDER FRAMES'!$B$96,$B$58:CD63,5,FALSE),VLOOKUP('ORDER FRAMES'!$B$96,$B$65:CD67,5,FALSE)))","v":""},{"$f":"IF('ORDER FRAMES'!$B$97=\"\",\"\",IF('ORDER FRAMES'!$D$97=\"EI0\",VLOOKUP('ORDER FRAMES'!$B$97,$B$58:CE63,5,FALSE),VLOOKUP('ORDER FRAMES'!$B$97,$B$65:CE67,5,FALSE)))","v":""},{"$f":"IF('ORDER FRAMES'!$B$98=\"\",\"\",IF('ORDER FRAMES'!$D$98=\"EI0\",VLOOKUP('ORDER FRAMES'!$B$98,$B$58:CF63,5,FALSE),VLOOKUP('ORDER FRAMES'!$B$98,$B$65:CF67,5,FALSE)))","v":""},{"$f":"IF('ORDER FRAMES'!$B$99=\"\",\"\",IF('ORDER FRAMES'!$D$99=\"EI0\",VLOOKUP('ORDER FRAMES'!$B$99,$B$58:CG63,5,FALSE),VLOOKUP('ORDER FRAMES'!$B$99,$B$65:CG67,5,FALSE)))","v":""},{"$f":"IF('ORDER FRAMES'!$B$100=\"\",\"\",IF('ORDER FRAMES'!$D$100=\"EI0\",VLOOKUP('ORDER FRAMES'!$B$100,$B$58:CH63,5,FALSE),VLOOKUP('ORDER FRAMES'!$B$100,$B$65:CH67,5,FALSE)))","v":""}]
[null,"X250",null,"V","C","W","-",null,null,null,null,null,null,null,null,null,null,null,null,null,{"$f":"IF('ORDER FRAMES'!$B$21=\"\",\"\",IF('ORDER FRAMES'!$D$21=\"EI0\",VLOOKUP('ORDER FRAMES'!$B$21,$B$58:G63,6,FALSE),VLOOKUP('ORDER FRAMES'!$B$21,$B$65:G67,6,FALSE)))","v":0},{"$f":"IF('ORDER FRAMES'!$B$22=\"\",\"\",IF('ORDER FRAMES'!$D$22=\"EI0\",VLOOKUP('ORDER FRAMES'!$B$22,$B$58:H63,6,FALSE),VLOOKUP('ORDER FRAMES'!$B$22,$B$65:H67,6,FALSE)))","v":"-"},{"$f":"IF('ORDER FRAMES'!$B$23=\"\",\"\",IF('ORDER FRAMES'!$D$23=\"EI0\",VLOOKUP('ORDER FRAMES'!$B$23,$B$58:I63,6,FALSE),VLOOKUP('ORDER FRAMES'!$B$23,$B$65:I67,6,FALSE)))","v":""},{"$f":"IF('ORDER FRAMES'!$B$24=\"\",\"\",IF('ORDER FRAMES'!$D$24=\"EI0\",VLOOKUP('ORDER FRAMES'!$B$24,$B$58:J63,6,FALSE),VLOOKUP('ORDER FRAMES'!$B$24,$B$65:J67,6,FALSE)))","v":""},{"$f":"IF('ORDER FRAMES'!$B$25=\"\",\"\",IF('ORDER FRAMES'!$D$25=\"EI0\",VLOOKUP('ORDER FRAMES'!$B$25,$B$58:K63,6,FALSE),VLOOKUP('ORDER FRAMES'!$B$25,$B$65:K67,6,FALSE)))","v":""},{"$f":"IF('ORDER FRAMES'!$B$26=\"\",\"\",IF('ORDER FRAMES'!$D$26=\"EI0\",VLOOKUP('ORDER FRAMES'!$B$26,$B$58:L63,6,FALSE),VLOOKUP('ORDER FRAMES'!$B$26,$B$65:L67,6,FALSE)))","v":""},{"$f":"IF('ORDER FRAMES'!$B$27=\"\",\"\",IF('ORDER FRAMES'!$D$27=\"EI0\",VLOOKUP('ORDER FRAMES'!$B$27,$B$58:M63,6,FALSE),VLOOKUP('ORDER FRAMES'!$B$27,$B$65:M67,6,FALSE)))","v":""},{"$f":"IF('ORDER FRAMES'!$B$28=\"\",\"\",IF('ORDER FRAMES'!$D$28=\"EI0\",VLOOKUP('ORDER FRAMES'!$B$28,$B$58:N63,6,FALSE),VLOOKUP('ORDER FRAMES'!$B$28,$B$65:N67,6,FALSE)))","v":""},{"$f":"IF('ORDER FRAMES'!$B$29=\"\",\"\",IF('ORDER FRAMES'!$D$29=\"EI0\",VLOOKUP('ORDER FRAMES'!$B$29,$B$58:O63,6,FALSE),VLOOKUP('ORDER FRAMES'!$B$29,$B$65:O67,6,FALSE)))","v":""},{"$f":"IF('ORDER FRAMES'!$B$30=\"\",\"\",IF('ORDER FRAMES'!$D$30=\"EI0\",VLOOKUP('ORDER FRAMES'!$B$30,$B$58:P63,6,FALSE),VLOOKUP('ORDER FRAMES'!$B$30,$B$65:P67,6,FALSE)))","v":""},{"$f":"IF('ORDER FRAMES'!$B$31=\"\",\"\",IF('ORDER FRAMES'!$D$31=\"EI0\",VLOOKUP('ORDER FRAMES'!$B$31,$B$58:Q63,6,FALSE),VLOOKUP('ORDER FRAMES'!$B$31,$B$65:Q67,6,FALSE)))","v":""},{"$f":"IF('ORDER FRAMES'!$B$32=\"\",\"\",IF('ORDER FRAMES'!$D$32=\"EI0\",VLOOKUP('ORDER FRAMES'!$B$32,$B$58:R63,6,FALSE),VLOOKUP('ORDER FRAMES'!$B$32,$B$65:R67,6,FALSE)))","v":""},{"$f":"IF('ORDER FRAMES'!$B$33=\"\",\"\",IF('ORDER FRAMES'!$D$33=\"EI0\",VLOOKUP('ORDER FRAMES'!$B$33,$B$58:S63,6,FALSE),VLOOKUP('ORDER FRAMES'!$B$33,$B$65:S67,6,FALSE)))","v":""},{"$f":"IF('ORDER FRAMES'!$B$34=\"\",\"\",IF('ORDER FRAMES'!$D$34=\"EI0\",VLOOKUP('ORDER FRAMES'!$B$34,$B$58:T63,6,FALSE),VLOOKUP('ORDER FRAMES'!$B$34,$B$65:T67,6,FALSE)))","v":""},{"$f":"IF('ORDER FRAMES'!$B$35=\"\",\"\",IF('ORDER FRAMES'!$D$35=\"EI0\",VLOOKUP('ORDER FRAMES'!$B$35,$B$58:U63,6,FALSE),VLOOKUP('ORDER FRAMES'!$B$35,$B$65:U67,6,FALSE)))","v":""},{"$f":"IF('ORDER FRAMES'!$B$36=\"\",\"\",IF('ORDER FRAMES'!$D$36=\"EI0\",VLOOKUP('ORDER FRAMES'!$B$36,$B$58:V63,6,FALSE),VLOOKUP('ORDER FRAMES'!$B$36,$B$65:V67,6,FALSE)))","v":""},{"$f":"IF('ORDER FRAMES'!$B$37=\"\",\"\",IF('ORDER FRAMES'!$D$37=\"EI0\",VLOOKUP('ORDER FRAMES'!$B$37,$B$58:W63,6,FALSE),VLOOKUP('ORDER FRAMES'!$B$37,$B$65:W67,6,FALSE)))","v":""},{"$f":"IF('ORDER FRAMES'!$B$38=\"\",\"\",IF('ORDER FRAMES'!$D$38=\"EI0\",VLOOKUP('ORDER FRAMES'!$B$38,$B$58:X63,6,FALSE),VLOOKUP('ORDER FRAMES'!$B$38,$B$65:X67,6,FALSE)))","v":""},{"$f":"IF('ORDER FRAMES'!$B$39=\"\",\"\",IF('ORDER FRAMES'!$D$39=\"EI0\",VLOOKUP('ORDER FRAMES'!$B$39,$B$58:Y63,6,FALSE),VLOOKUP('ORDER FRAMES'!$B$39,$B$65:Y67,6,FALSE)))","v":""},{"$f":"IF('ORDER FRAMES'!$B$40=\"\",\"\",IF('ORDER FRAMES'!$D$40=\"EI0\",VLOOKUP('ORDER FRAMES'!$B$40,$B$58:Z63,6,FALSE),VLOOKUP('ORDER FRAMES'!$B$40,$B$65:Z67,6,FALSE)))","v":""},{"$f":"IF('ORDER FRAMES'!$B$41=\"\",\"\",IF('ORDER FRAMES'!$D$41=\"EI0\",VLOOKUP('ORDER FRAMES'!$B$41,$B$58:AA63,6,FALSE),VLOOKUP('ORDER FRAMES'!$B$41,$B$65:AA67,6,FALSE)))","v":""},{"$f":"IF('ORDER FRAMES'!$B$42=\"\",\"\",IF('ORDER FRAMES'!$D$42=\"EI0\",VLOOKUP('ORDER FRAMES'!$B$42,$B$58:AB63,6,FALSE),VLOOKUP('ORDER FRAMES'!$B$42,$B$65:AB67,6,FALSE)))","v":""},{"$f":"IF('ORDER FRAMES'!$B$43=\"\",\"\",IF('ORDER FRAMES'!$D$43=\"EI0\",VLOOKUP('ORDER FRAMES'!$B$43,$B$58:AC63,6,FALSE),VLOOKUP('ORDER FRAMES'!$B$43,$B$65:AC67,6,FALSE)))","v":""},{"$f":"IF('ORDER FRAMES'!$B$44=\"\",\"\",IF('ORDER FRAMES'!$D$44=\"EI0\",VLOOKUP('ORDER FRAMES'!$B$44,$B$58:AD63,6,FALSE),VLOOKUP('ORDER FRAMES'!$B$44,$B$65:AD67,6,FALSE)))","v":""},{"$f":"IF('ORDER FRAMES'!$B$45=\"\",\"\",IF('ORDER FRAMES'!$D$45=\"EI0\",VLOOKUP('ORDER FRAMES'!$B$45,$B$58:AE63,6,FALSE),VLOOKUP('ORDER FRAMES'!$B$45,$B$65:AE67,6,FALSE)))","v":""},{"$f":"IF('ORDER FRAMES'!$B$46=\"\",\"\",IF('ORDER FRAMES'!$D$46=\"EI0\",VLOOKUP('ORDER FRAMES'!$B$46,$B$58:AF63,6,FALSE),VLOOKUP('ORDER FRAMES'!$B$46,$B$65:AF67,6,FALSE)))","v":""},{"$f":"IF('ORDER FRAMES'!$B$47=\"\",\"\",IF('ORDER FRAMES'!$D$47=\"EI0\",VLOOKUP('ORDER FRAMES'!$B$47,$B$58:AG63,6,FALSE),VLOOKUP('ORDER FRAMES'!$B$47,$B$65:AG67,6,FALSE)))","v":""},{"$f":"IF('ORDER FRAMES'!$B$48=\"\",\"\",IF('ORDER FRAMES'!$D$48=\"EI0\",VLOOKUP('ORDER FRAMES'!$B$48,$B$58:AH63,6,FALSE),VLOOKUP('ORDER FRAMES'!$B$48,$B$65:AH67,6,FALSE)))","v":""},{"$f":"IF('ORDER FRAMES'!$B$49=\"\",\"\",IF('ORDER FRAMES'!$D$49=\"EI0\",VLOOKUP('ORDER FRAMES'!$B$49,$B$58:AI63,6,FALSE),VLOOKUP('ORDER FRAMES'!$B$49,$B$65:AI67,6,FALSE)))","v":""},{"$f":"IF('ORDER FRAMES'!$B$50=\"\",\"\",IF('ORDER FRAMES'!$D$50=\"EI0\",VLOOKUP('ORDER FRAMES'!$B$50,$B$58:AJ63,6,FALSE),VLOOKUP('ORDER FRAMES'!$B$50,$B$65:AJ67,6,FALSE)))","v":""},{"$f":"IF('ORDER FRAMES'!$B$51=\"\",\"\",IF('ORDER FRAMES'!$D$51=\"EI0\",VLOOKUP('ORDER FRAMES'!$B$51,$B$58:AK63,6,FALSE),VLOOKUP('ORDER FRAMES'!$B$51,$B$65:AK67,6,FALSE)))","v":""},{"$f":"IF('ORDER FRAMES'!$B$52=\"\",\"\",IF('ORDER FRAMES'!$D$52=\"EI0\",VLOOKUP('ORDER FRAMES'!$B$52,$B$58:AL63,6,FALSE),VLOOKUP('ORDER FRAMES'!$B$52,$B$65:AL67,6,FALSE)))","v":""},{"$f":"IF('ORDER FRAMES'!$B$53=\"\",\"\",IF('ORDER FRAMES'!$D$53=\"EI0\",VLOOKUP('ORDER FRAMES'!$B$53,$B$58:AM63,6,FALSE),VLOOKUP('ORDER FRAMES'!$B$53,$B$65:AM67,6,FALSE)))","v":""},{"$f":"IF('ORDER FRAMES'!$B$54=\"\",\"\",IF('ORDER FRAMES'!$D$54=\"EI0\",VLOOKUP('ORDER FRAMES'!$B$54,$B$58:AN63,6,FALSE),VLOOKUP('ORDER FRAMES'!$B$54,$B$65:AN67,6,FALSE)))","v":""},{"$f":"IF('ORDER FRAMES'!$B$55=\"\",\"\",IF('ORDER FRAMES'!$D$55=\"EI0\",VLOOKUP('ORDER FRAMES'!$B$55,$B$58:AO63,6,FALSE),VLOOKUP('ORDER FRAMES'!$B$55,$B$65:AO67,6,FALSE)))","v":""},{"$f":"IF('ORDER FRAMES'!$B$56=\"\",\"\",IF('ORDER FRAMES'!$D$56=\"EI0\",VLOOKUP('ORDER FRAMES'!$B$56,$B$58:AP63,6,FALSE),VLOOKUP('ORDER FRAMES'!$B$56,$B$65:AP67,6,FALSE)))","v":""},{"$f":"IF('ORDER FRAMES'!$B$57=\"\",\"\",IF('ORDER FRAMES'!$D$57=\"EI0\",VLOOKUP('ORDER FRAMES'!$B$57,$B$58:AQ63,6,FALSE),VLOOKUP('ORDER FRAMES'!$B$57,$B$65:AQ67,6,FALSE)))","v":""},{"$f":"IF('ORDER FRAMES'!$B$58=\"\",\"\",IF('ORDER FRAMES'!$D$58=\"EI0\",VLOOKUP('ORDER FRAMES'!$B$58,$B$58:AR63,6,FALSE),VLOOKUP('ORDER FRAMES'!$B$58,$B$65:AR67,6,FALSE)))","v":""},{"$f":"IF('ORDER FRAMES'!$B$59=\"\",\"\",IF('ORDER FRAMES'!$D$59=\"EI0\",VLOOKUP('ORDER FRAMES'!$B$59,$B$58:AS63,6,FALSE),VLOOKUP('ORDER FRAMES'!$B$59,$B$65:AS67,6,FALSE)))","v":""},{"$f":"IF('ORDER FRAMES'!$B$60=\"\",\"\",IF('ORDER FRAMES'!$D$60=\"EI0\",VLOOKUP('ORDER FRAMES'!$B$60,$B$58:AT63,6,FALSE),VLOOKUP('ORDER FRAMES'!$B$60,$B$65:AT67,6,FALSE)))","v":""},{"$f":"IF('ORDER FRAMES'!$B$61=\"\",\"\",IF('ORDER FRAMES'!$D$61=\"EI0\",VLOOKUP('ORDER FRAMES'!$B$61,$B$58:AU63,6,FALSE),VLOOKUP('ORDER FRAMES'!$B$61,$B$65:AU67,6,FALSE)))","v":""},{"$f":"IF('ORDER FRAMES'!$B$62=\"\",\"\",IF('ORDER FRAMES'!$D$62=\"EI0\",VLOOKUP('ORDER FRAMES'!$B$62,$B$58:AV63,6,FALSE),VLOOKUP('ORDER FRAMES'!$B$62,$B$65:AV67,6,FALSE)))","v":""},{"$f":"IF('ORDER FRAMES'!$B$63=\"\",\"\",IF('ORDER FRAMES'!$D$63=\"EI0\",VLOOKUP('ORDER FRAMES'!$B$63,$B$58:AW63,6,FALSE),VLOOKUP('ORDER FRAMES'!$B$63,$B$65:AW67,6,FALSE)))","v":""},{"$f":"IF('ORDER FRAMES'!$B$64=\"\",\"\",IF('ORDER FRAMES'!$D$64=\"EI0\",VLOOKUP('ORDER FRAMES'!$B$64,$B$58:AX63,6,FALSE),VLOOKUP('ORDER FRAMES'!$B$64,$B$65:AX67,6,FALSE)))","v":""},{"$f":"IF('ORDER FRAMES'!$B$65=\"\",\"\",IF('ORDER FRAMES'!$D$65=\"EI0\",VLOOKUP('ORDER FRAMES'!$B$65,$B$58:AY63,6,FALSE),VLOOKUP('ORDER FRAMES'!$B$65,$B$65:AY67,6,FALSE)))","v":""},{"$f":"IF('ORDER FRAMES'!$B$66=\"\",\"\",IF('ORDER FRAMES'!$D$66=\"EI0\",VLOOKUP('ORDER FRAMES'!$B$66,$B$58:AZ63,6,FALSE),VLOOKUP('ORDER FRAMES'!$B$66,$B$65:AZ67,6,FALSE)))","v":""},{"$f":"IF('ORDER FRAMES'!$B$67=\"\",\"\",IF('ORDER FRAMES'!$D$67=\"EI0\",VLOOKUP('ORDER FRAMES'!$B$67,$B$58:BA63,6,FALSE),VLOOKUP('ORDER FRAMES'!$B$67,$B$65:BA67,6,FALSE)))","v":""},{"$f":"IF('ORDER FRAMES'!$B$68=\"\",\"\",IF('ORDER FRAMES'!$D$68=\"EI0\",VLOOKUP('ORDER FRAMES'!$B$68,$B$58:BB63,6,FALSE),VLOOKUP('ORDER FRAMES'!$B$68,$B$65:BB67,6,FALSE)))","v":""},{"$f":"IF('ORDER FRAMES'!$B$69=\"\",\"\",IF('ORDER FRAMES'!$D$69=\"EI0\",VLOOKUP('ORDER FRAMES'!$B$69,$B$58:BC63,6,FALSE),VLOOKUP('ORDER FRAMES'!$B$69,$B$65:BC67,6,FALSE)))","v":""},{"$f":"IF('ORDER FRAMES'!$B$70=\"\",\"\",IF('ORDER FRAMES'!$D$70=\"EI0\",VLOOKUP('ORDER FRAMES'!$B$70,$B$58:BD63,6,FALSE),VLOOKUP('ORDER FRAMES'!$B$70,$B$65:BD67,6,FALSE)))","v":""},{"$f":"IF('ORDER FRAMES'!$B$71=\"\",\"\",IF('ORDER FRAMES'!$D$71=\"EI0\",VLOOKUP('ORDER FRAMES'!$B$71,$B$58:BE63,6,FALSE),VLOOKUP('ORDER FRAMES'!$B$71,$B$65:BE67,6,FALSE)))","v":""},{"$f":"IF('ORDER FRAMES'!$B$72=\"\",\"\",IF('ORDER FRAMES'!$D$72=\"EI0\",VLOOKUP('ORDER FRAMES'!$B$72,$B$58:BF63,6,FALSE),VLOOKUP('ORDER FRAMES'!$B$72,$B$65:BF67,6,FALSE)))","v":""},{"$f":"IF('ORDER FRAMES'!$B$73=\"\",\"\",IF('ORDER FRAMES'!$D$73=\"EI0\",VLOOKUP('ORDER FRAMES'!$B$73,$B$58:BG63,6,FALSE),VLOOKUP('ORDER FRAMES'!$B$73,$B$65:BG67,6,FALSE)))","v":""},{"$f":"IF('ORDER FRAMES'!$B$74=\"\",\"\",IF('ORDER FRAMES'!$D$74=\"EI0\",VLOOKUP('ORDER FRAMES'!$B$74,$B$58:BH63,6,FALSE),VLOOKUP('ORDER FRAMES'!$B$74,$B$65:BH67,6,FALSE)))","v":""},{"$f":"IF('ORDER FRAMES'!$B$75=\"\",\"\",IF('ORDER FRAMES'!$D$75=\"EI0\",VLOOKUP('ORDER FRAMES'!$B$75,$B$58:BI63,6,FALSE),VLOOKUP('ORDER FRAMES'!$B$75,$B$65:BI67,6,FALSE)))","v":""},{"$f":"IF('ORDER FRAMES'!$B$76=\"\",\"\",IF('ORDER FRAMES'!$D$76=\"EI0\",VLOOKUP('ORDER FRAMES'!$B$76,$B$58:BJ63,6,FALSE),VLOOKUP('ORDER FRAMES'!$B$76,$B$65:BJ67,6,FALSE)))","v":""},{"$f":"IF('ORDER FRAMES'!$B$77=\"\",\"\",IF('ORDER FRAMES'!$D$77=\"EI0\",VLOOKUP('ORDER FRAMES'!$B$77,$B$58:BK63,6,FALSE),VLOOKUP('ORDER FRAMES'!$B$77,$B$65:BK67,6,FALSE)))","v":""},{"$f":"IF('ORDER FRAMES'!$B$78=\"\",\"\",IF('ORDER FRAMES'!$D$78=\"EI0\",VLOOKUP('ORDER FRAMES'!$B$78,$B$58:BL63,6,FALSE),VLOOKUP('ORDER FRAMES'!$B$78,$B$65:BL67,6,FALSE)))","v":""},{"$f":"IF('ORDER FRAMES'!$B$79=\"\",\"\",IF('ORDER FRAMES'!$D$79=\"EI0\",VLOOKUP('ORDER FRAMES'!$B$79,$B$58:BM63,6,FALSE),VLOOKUP('ORDER FRAMES'!$B$79,$B$65:BM67,6,FALSE)))","v":""},{"$f":"IF('ORDER FRAMES'!$B$80=\"\",\"\",IF('ORDER FRAMES'!$D$80=\"EI0\",VLOOKUP('ORDER FRAMES'!$B$80,$B$58:BN63,6,FALSE),VLOOKUP('ORDER FRAMES'!$B$80,$B$65:BN67,6,FALSE)))","v":""},{"$f":"IF('ORDER FRAMES'!$B$81=\"\",\"\",IF('ORDER FRAMES'!$D$81=\"EI0\",VLOOKUP('ORDER FRAMES'!$B$81,$B$58:BO63,6,FALSE),VLOOKUP('ORDER FRAMES'!$B$81,$B$65:BO67,6,FALSE)))","v":""},{"$f":"IF('ORDER FRAMES'!$B$82=\"\",\"\",IF('ORDER FRAMES'!$D$82=\"EI0\",VLOOKUP('ORDER FRAMES'!$B$82,$B$58:BP63,6,FALSE),VLOOKUP('ORDER FRAMES'!$B$82,$B$65:BP67,6,FALSE)))","v":""},{"$f":"IF('ORDER FRAMES'!$B$83=\"\",\"\",IF('ORDER FRAMES'!$D$83=\"EI0\",VLOOKUP('ORDER FRAMES'!$B$83,$B$58:BQ63,6,FALSE),VLOOKUP('ORDER FRAMES'!$B$83,$B$65:BQ67,6,FALSE)))","v":""},{"$f":"IF('ORDER FRAMES'!$B$84=\"\",\"\",IF('ORDER FRAMES'!$D$84=\"EI0\",VLOOKUP('ORDER FRAMES'!$B$84,$B$58:BR63,6,FALSE),VLOOKUP('ORDER FRAMES'!$B$84,$B$65:BR67,6,FALSE)))","v":""},{"$f":"IF('ORDER FRAMES'!$B$85=\"\",\"\",IF('ORDER FRAMES'!$D$85=\"EI0\",VLOOKUP('ORDER FRAMES'!$B$85,$B$58:BS63,6,FALSE),VLOOKUP('ORDER FRAMES'!$B$85,$B$65:BS67,6,FALSE)))","v":""},{"$f":"IF('ORDER FRAMES'!$B$86=\"\",\"\",IF('ORDER FRAMES'!$D$86=\"EI0\",VLOOKUP('ORDER FRAMES'!$B$86,$B$58:BT63,6,FALSE),VLOOKUP('ORDER FRAMES'!$B$86,$B$65:BT67,6,FALSE)))","v":""},{"$f":"IF('ORDER FRAMES'!$B$87=\"\",\"\",IF('ORDER FRAMES'!$D$87=\"EI0\",VLOOKUP('ORDER FRAMES'!$B$87,$B$58:BU63,6,FALSE),VLOOKUP('ORDER FRAMES'!$B$87,$B$65:BU67,6,FALSE)))","v":""},{"$f":"IF('ORDER FRAMES'!$B$88=\"\",\"\",IF('ORDER FRAMES'!$D$88=\"EI0\",VLOOKUP('ORDER FRAMES'!$B$88,$B$58:BV63,6,FALSE),VLOOKUP('ORDER FRAMES'!$B$88,$B$65:BV67,6,FALSE)))","v":""},{"$f":"IF('ORDER FRAMES'!$B$89=\"\",\"\",IF('ORDER FRAMES'!$D$89=\"EI0\",VLOOKUP('ORDER FRAMES'!$B$89,$B$58:BW63,6,FALSE),VLOOKUP('ORDER FRAMES'!$B$89,$B$65:BW67,6,FALSE)))","v":""},{"$f":"IF('ORDER FRAMES'!$B$90=\"\",\"\",IF('ORDER FRAMES'!$D$90=\"EI0\",VLOOKUP('ORDER FRAMES'!$B$90,$B$58:BX63,6,FALSE),VLOOKUP('ORDER FRAMES'!$B$90,$B$65:BX67,6,FALSE)))","v":""},{"$f":"IF('ORDER FRAMES'!$B$91=\"\",\"\",IF('ORDER FRAMES'!$D$91=\"EI0\",VLOOKUP('ORDER FRAMES'!$B$91,$B$58:BY63,6,FALSE),VLOOKUP('ORDER FRAMES'!$B$91,$B$65:BY67,6,FALSE)))","v":""},{"$f":"IF('ORDER FRAMES'!$B$92=\"\",\"\",IF('ORDER FRAMES'!$D$92=\"EI0\",VLOOKUP('ORDER FRAMES'!$B$92,$B$58:BZ63,6,FALSE),VLOOKUP('ORDER FRAMES'!$B$92,$B$65:BZ67,6,FALSE)))","v":""},{"$f":"IF('ORDER FRAMES'!$B$92=\"\",\"\",IF('ORDER FRAMES'!$D$92=\"EI0\",VLOOKUP('ORDER FRAMES'!$B$92,$B$58:CA63,6,FALSE),VLOOKUP('ORDER FRAMES'!$B$92,$B$65:CA67,6,FALSE)))","v":""},{"$f":"IF('ORDER FRAMES'!$B$94=\"\",\"\",IF('ORDER FRAMES'!$D$94=\"EI0\",VLOOKUP('ORDER FRAMES'!$B$94,$B$58:CB63,6,FALSE),VLOOKUP('ORDER FRAMES'!$B$94,$B$65:CB67,6,FALSE)))","v":""},{"$f":"IF('ORDER FRAMES'!$B$95=\"\",\"\",IF('ORDER FRAMES'!$D$95=\"EI0\",VLOOKUP('ORDER FRAMES'!$B$95,$B$58:CC63,6,FALSE),VLOOKUP('ORDER FRAMES'!$B$95,$B$65:CC67,6,FALSE)))","v":""},{"$f":"IF('ORDER FRAMES'!$B$96=\"\",\"\",IF('ORDER FRAMES'!$D$96=\"EI0\",VLOOKUP('ORDER FRAMES'!$B$96,$B$58:CD63,6,FALSE),VLOOKUP('ORDER FRAMES'!$B$96,$B$65:CD67,6,FALSE)))","v":""},{"$f":"IF('ORDER FRAMES'!$B$97=\"\",\"\",IF('ORDER FRAMES'!$D$97=\"EI0\",VLOOKUP('ORDER FRAMES'!$B$97,$B$58:CE63,6,FALSE),VLOOKUP('ORDER FRAMES'!$B$97,$B$65:CE67,6,FALSE)))","v":""},{"$f":"IF('ORDER FRAMES'!$B$98=\"\",\"\",IF('ORDER FRAMES'!$D$98=\"EI0\",VLOOKUP('ORDER FRAMES'!$B$98,$B$58:CF63,6,FALSE),VLOOKUP('ORDER FRAMES'!$B$98,$B$65:CF67,6,FALSE)))","v":""},{"$f":"IF('ORDER FRAMES'!$B$99=\"\",\"\",IF('ORDER FRAMES'!$D$99=\"EI0\",VLOOKUP('ORDER FRAMES'!$B$99,$B$58:CG63,6,FALSE),VLOOKUP('ORDER FRAMES'!$B$99,$B$65:CG67,6,FALSE)))","v":""},{"$f":"IF('ORDER FRAMES'!$B$100=\"\",\"\",IF('ORDER FRAMES'!$D$100=\"EI0\",VLOOKUP('ORDER FRAMES'!$B$100,$B$58:CH63,6,FALSE),VLOOKUP('ORDER FRAMES'!$B$100,$B$65:CH67,6,FALSE)))","v":""}]
[null,"X40",null,"V",null,"W","T"]
[null,"X45",null,"V",null,"W","T"]
[]
[null,"X240","EI","V",null,"W"]
[null,"X245","EI","V",null,"W"]
[null,"X250","EI","V",null,"W"]

{"sheet":"DEURDRANGER","index":6,"n_rows":12,"n_cols":95,"rows_kept":12,"cut":false,"hidden":true,"merged":[]}
[]
[null,null,null,null,null,null,null,null,null,null,null,null,null,null,null,21,22,23,24,25,26,27,28,29,30,31,32,33,34,35,36,37,38,39,40,41,42,43,44,45,46,47,48,49,50,51,52,53,54,55,56,57,58,59,60,61,62,63,64,65,66,67,68,69,70,71,72,73,74,75,76,77,78,79,80,81,82,83,84,85,86,87,88,89,90,91,92,93,94,95,96,97,98,99,100]
[null,null,null,null,null,null,null,null,null,null,null,null,null,null,null,{"$f":"IF(OR('ORDER FRAMES'!$B$21=\"X40\",'ORDER FRAMES'!$B$21=\"X45\",'ORDER FRAMES'!$E$21=\"C\"),VLOOKUP('ORDER FRAMES'!$B$21,DEURDRANGER!$C$5:$H$10,2,FALSE),IF('ORDER FRAMES'!$D$21=\"EI-\",VLOOKUP('ORDER FRAMES'!$D$21,DEURDRANGER!$C$4:$H$4,2,FALSE),IF('ORDER FRAMES'!$D$21=\"EI0\",VLOOKUP('ORDER FRAMES'!$D$21,DEURDRANGER!$C$12:$H$12,2,FALSE))))","v":1},{"$f":"IF(OR('ORDER FRAMES'!$B$22=\"X40\",'ORDER FRAMES'!$B$22=\"X45\",'ORDER FRAMES'!$E$22=\"C\"),VLOOKUP('ORDER FRAMES'!$B$22,DEURDRANGER!$C$5:$H$10,2,FALSE),IF('ORDER FRAMES'!$D$22=\"EI-\",VLOOKUP('ORDER FRAMES'!$D$22,DEURDRANGER!$C$4:$H$4,2,FALSE),IF('ORDER FRAMES'!$D$22=\"EI0\",VLOOKUP('ORDER FRAMES'!$D$22,DEURDRANGER!$C$12:$H$12,2,FALSE))))","v":1},{"$f":"IF(OR('ORDER FRAMES'!$B$23=\"X40\",'ORDER FRAMES'!$B$23=\"X45\",'ORDER FRAMES'!$E$23=\"C\"),VLOOKUP('ORDER FRAMES'!$B$23,DEURDRANGER!$C$5:$H$10,2,FALSE),IF('ORDER FRAMES'!$D$23=\"EI-\",VLOOKUP('ORDER FRAMES'!$D$23,DEURDRANGER!$C$4:$H$4,2,FALSE),IF('ORDER FRAMES'!$D$23=\"EI0\",VLOOKUP('ORDER FRAMES'!$D$23,DEURDRANGER!$C$12:$H$12,2,FALSE))))","v":false},{"$f":"IF(OR('ORDER FRAMES'!$B$24=\"X40\",'ORDER FRAMES'!$B$24=\"X45\",'ORDER FRAMES'!$E$24=\"C\"),VLOOKUP('ORDER FRAMES'!$B$24,DEURDRANGER!$C$5:$H$10,2,FALSE),IF('ORDER FRAMES'!$D$24=\"EI-\",VLOOKUP('ORDER FRAMES'!$D$24,DEURDRANGER!$C$4:$H$4,2,FALSE),IF('ORDER FRAMES'!$D$24=\"EI0\",VLOOKUP('ORDER FRAMES'!$D$24,DEURDRANGER!$C$12:$H$12,2,FALSE))))","v":false},{"$f":"IF(OR('ORDER FRAMES'!$B$25=\"X40\",'ORDER FRAMES'!$B$25=\"X45\",'ORDER FRAMES'!$E$25=\"C\"),VLOOKUP('ORDER FRAMES'!$B$25,DEURDRANGER!$C$5:$H$10,2,FALSE),IF('ORDER FRAMES'!$D$25=\"EI-\",VLOOKUP('ORDER FRAMES'!$D$25,DEURDRANGER!$C$4:$H$4,2,FALSE),IF('ORDER FRAMES'!$D$25=\"EI0\",VLOOKUP('ORDER FRAMES'!$D$25,DEURDRANGER!$C$12:$H$12,2,FALSE))))","v":false},{"$f":"IF(OR('ORDER FRAMES'!$B$26=\"X40\",'ORDER FRAMES'!$B$26=\"X45\",'ORDER FRAMES'!$E$26=\"C\"),VLOOKUP('ORDER FRAMES'!$B$26,DEURDRANGER!$C$5:$H$10,2,FALSE),IF('ORDER FRAMES'!$D$26=\"EI-\",VLOOKUP('ORDER FRAMES'!$D$26,DEURDRANGER!$C$4:$H$4,2,FALSE),IF('ORDER FRAMES'!$D$26=\"EI0\",VLOOKUP('ORDER FRAMES'!$D$26,DEURDRANGER!$C$12:$H$12,2,FALSE))))","v":false},{"$f":"IF(OR('ORDER FRAMES'!$B$27=\"X40\",'ORDER FRAMES'!$B$27=\"X45\",'ORDER FRAMES'!$E$27=\"C\"),VLOOKUP('ORDER FRAMES'!$B$27,DEURDRANGER!$C$5:$H$10,2,FALSE),IF('ORDER FRAMES'!$D$27=\"EI-\",VLOOKUP('ORDER FRAMES'!$D$27,DEURDRANGER!$C$4:$H$4,2,FALSE),IF('ORDER FRAMES'!$D$27=\"EI0\",VLOOKUP('ORDER FRAMES'!$D$27,DEURDRANGER!$C$12:$H$12,2,FALSE))))","v":false},{"$f":"IF(OR('ORDER FRAMES'!$B$28=\"X40\",'ORDER FRAMES'!$B$28=\"X45\",'ORDER FRAMES'!$E$28=\"C\"),VLOOKUP('ORDER FRAMES'!$B$28,DEURDRANGER!$C$5:$H$10,2,FALSE),IF('ORDER FRAMES'!$D$28=\"EI-\",VLOOKUP('ORDER FRAMES'!$D$28,DEURDRANGER!$C$4:$H$4,2,FALSE),IF('ORDER FRAMES'!$D$28=\"EI0\",VLOOKUP('ORDER FRAMES'!$D$28,DEURDRANGER!$C$12:$H$12,2,FALSE))))","v":false},{"$f":"IF(OR('ORDER FRAMES'!$B$29=\"X40\",'ORDER FRAMES'!$B$29=\"X45\",'ORDER FRAMES'!$E$29=\"C\"),VLOOKUP('ORDER FRAMES'!$B$29,DEURDRANGER!$C$5:$H$10,2,FALSE),IF('ORDER FRAMES'!$D$29=\"EI-\",VLOOKUP('ORDER FRAMES'!$D$29,DEURDRANGER!$C$4:$H$4,2,FALSE),IF('ORDER FRAMES'!$D$29=\"EI0\",VLOOKUP('ORDER FRAMES'!$D$29,DEURDRANGER!$C$12:$H$12,2,FALSE))))","v":false},{"$f":"IF(OR('ORDER FRAMES'!$B$30=\"X40\",'ORDER FRAMES'!$B$30=\"X45\",'ORDER FRAMES'!$E$30=\"C\"),VLOOKUP('ORDER FRAMES'!$B$30,DEURDRANGER!$C$5:$H$10,2,FALSE),IF('ORDER FRAMES'!$D$30=\"EI-\",VLOOKUP('ORDER FRAMES'!$D$30,DEURDRANGER!$C$4:$H$4,2,FALSE),IF('ORDER FRAMES'!$D$30=\"EI0\",VLOOKUP('ORDER FRAMES'!$D$30,DEURDRANGER!$C$12:$H$12,2,FALSE))))","v":false},{"$f":"IF(OR('ORDER FRAMES'!$B$31=\"X40\",'ORDER FRAMES'!$B$31=\"X45\",'ORDER FRAMES'!$E$31=\"C\"),VLOOKUP('ORDER FRAMES'!$B$31,DEURDRANGER!$C$5:$H$10,2,FALSE),IF('ORDER FRAMES'!$D$31=\"EI-\",VLOOKUP('ORDER FRAMES'!$D$31,DEURDRANGER!$C$4:$H$4,2,FALSE),IF('ORDER FRAMES'!$D$31=\"EI0\",VLOOKUP('ORDER FRAMES'!$D$31,DEURDRANGER!$C$12:$H$12,2,FALSE))))","v":false},{"$f":"IF(OR('ORDER FRAMES'!$B$32=\"X40\",'ORDER FRAMES'!$B$32=\"X45\",'ORDER FRAMES'!$E$32=\"C\"),VLOOKUP('ORDER FRAMES'!$B$32,DEURDRANGER!$C$5:$H$10,2,FALSE),IF('ORDER FRAMES'!$D$32=\"EI-\",VLOOKUP('ORDER FRAMES'!$D$32,DEURDRANGER!$C$4:$H$4,2,FALSE),IF('ORDER FRAMES'!$D$32=\"EI0\",VLOOKUP('ORDER FRAMES'!$D$32,DEURDRANGER!$C$12:$H$12,2,FALSE))))","v":false},{"$f":"IF(OR('ORDER FRAMES'!$B$33=\"X40\",'ORDER FRAMES'!$B$33=\"X45\",'ORDER FRAMES'!$E$33=\"C\"),VLOOKUP('ORDER FRAMES'!$B$33,DEURDRANGER!$C$5:$H$10,2,FALSE),IF('ORDER FRAMES'!$D$33=\"EI-\",VLOOKUP('ORDER FRAMES'!$D$33,DEURDRANGER!$C$4:$H$4,2,FALSE),IF('ORDER FRAMES'!$D$33=\"EI0\",VLOOKUP('ORDER FRAMES'!$D$33,DEURDRANGER!$C$12:$H$12,2,FALSE))))","v":false},{"$f":"IF(OR('ORDER FRAMES'!$B$34=\"X40\",'ORDER FRAMES'!$B$34=\"X45\",'ORDER FRAMES'!$E$34=\"C\"),VLOOKUP('ORDER FRAMES'!$B$34,DEURDRANGER!$C$5:$H$10,2,FALSE),IF('ORDER FRAMES'!$D$34=\"EI-\",VLOOKUP('ORDER FRAMES'!$D$34,DEURDRANGER!$C$4:$H$4,2,FALSE),IF('ORDER FRAMES'!$D$34=\"EI0\",VLOOKUP('ORDER FRAMES'!$D$34,DEURDRANGER!$C$12:$H$12,2,FALSE))))","v":false},{"$f":"IF(OR('ORDER FRAMES'!$B$35=\"X40\",'ORDER FRAMES'!$B$35=\"X45\",'ORDER FRAMES'!$E$35=\"C\"),VLOOKUP('ORDER FRAMES'!$B$35,DEURDRANGER!$C$5:$H$10,2,FALSE),IF('ORDER FRAMES'!$D$35=\"EI-\",VLOOKUP('ORDER FRAMES'!$D$35,DEURDRANGER!$C$4:$H$4,2,FALSE),IF('ORDER FRAMES'!$D$35=\"EI0\",VLOOKUP('ORDER FRAMES'!$D$35,DEURDRANGER!$C$12:$H$12,2,FALSE))))","v":false},{"$f":"IF(OR('ORDER FRAMES'!$B$36=\"X40\",'ORDER FRAMES'!$B$36=\"X45\",'ORDER FRAMES'!$E$36=\"C\"),VLOOKUP('ORDER FRAMES'!$B$36,DEURDRANGER!$C$5:$H$10,2,FALSE),IF('ORDER FRAMES'!$D$36=\"EI-\",VLOOKUP('ORDER FRAMES'!$D$36,DEURDRANGER!$C$4:$H$4,2,FALSE),IF('ORDER FRAMES'!$D$36=\"EI0\",VLOOKUP('ORDER FRAMES'!$D$36,DEURDRANGER!$C$12:$H$12,2,FALSE))))","v":false},{"$f":"IF(OR('ORDER FRAMES'!$B$37=\"X40\",'ORDER FRAMES'!$B$37=\"X45\",'ORDER FRAMES'!$E$37=\"C\"),VLOOKUP('ORDER FRAMES'!$B$37,DEURDRANGER!$C$5:$H$10,2,FALSE),IF('ORDER FRAMES'!$D$37=\"EI-\",VLOOKUP('ORDER FRAMES'!$D$37,DEURDRANGER!$C$4:$H$4,2,FALSE),IF('ORDER FRAMES'!$D$37=\"EI0\",VLOOKUP('ORDER FRAMES'!$D$37,DEURDRANGER!$C$12:$H$12,2,FALSE))))","v":false},{"$f":"IF(OR('ORDER FRAMES'!$B$38=\"X40\",'ORDER FRAMES'!$B$38=\"X45\",'ORDER FRAMES'!$E$38=\"C\"),VLOOKUP('ORDER FRAMES'!$B$38,DEURDRANGER!$C$5:$H$10,2,FALSE),IF('ORDER FRAMES'!$D$38=\"EI-\",VLOOKUP('ORDER FRAMES'!$D$38,DEURDRANGER!$C$4:$H$4,2,FALSE),IF('ORDER FRAMES'!$D$38=\"EI0\",VLOOKUP('ORDER FRAMES'!$D$38,DEURDRANGER!$C$12:$H$12,2,FALSE))))","v":false},{"$f":"IF(OR('ORDER FRAMES'!$B$39=\"X40\",'ORDER FRAMES'!$B$39=\"X45\",'ORDER FRAMES'!$E$39=\"C\"),VLOOKUP('ORDER FRAMES'!$B$39,DEURDRANGER!$C$5:$H$10,2,FALSE),IF('ORDER FRAMES'!$D$39=\"EI-\",VLOOKUP('ORDER FRAMES'!$D$39,DEURDRANGER!$C$4:$H$4,2,FALSE),IF('ORDER FRAMES'!$D$39=\"EI0\",VLOOKUP('ORDER FRAMES'!$D$39,DEURDRANGER!$C$12:$H$12,2,FALSE))))","v":false},{"$f":"IF(OR('ORDER FRAMES'!$B$40=\"X40\",'ORDER FRAMES'!$B$40=\"X45\",'ORDER FRAMES'!$E$40=\"C\"),VLOOKUP('ORDER FRAMES'!$B$40,DEURDRANGER!$C$5:$H$10,2,FALSE),IF('ORDER FRAMES'!$D$40=\"EI-\",VLOOKUP('ORDER FRAMES'!$D$40,DEURDRANGER!$C$4:$H$4,2,FALSE),IF('ORDER FRAMES'!$D$40=\"EI0\",VLOOKUP('ORDER FRAMES'!$D$40,DEURDRANGER!$C$12:$H$12,2,FALSE))))","v":false},{"$f":"IF(OR('ORDER FRAMES'!$B$41=\"X40\",'ORDER FRAMES'!$B$41=\"X45\",'ORDER FRAMES'!$E$41=\"C\"),VLOOKUP('ORDER FRAMES'!$B$41,DEURDRANGER!$C$5:$H$10,2,FALSE),IF('ORDER FRAMES'!$D$41=\"EI-\",VLOOKUP('ORDER FRAMES'!$D$41,DEURDRANGER!$C$4:$H$4,2,FALSE),IF('ORDER FRAMES'!$D$41=\"EI0\",VLOOKUP('ORDER FRAMES'!$D$41,DEURDRANGER!$C$12:$H$12,2,FALSE))))","v":false},{"$f":"IF(OR('ORDER FRAMES'!$B$42=\"X40\",'ORDER FRAMES'!$B$42=\"X45\",'ORDER FRAMES'!$E$42=\"C\"),VLOOKUP('ORDER FRAMES'!$B$42,DEURDRANGER!$C$5:$H$10,2,FALSE),IF('ORDER FRAMES'!$D$42=\"EI-\",VLOOKUP('ORDER FRAMES'!$D$42,DEURDRANGER!$C$4:$H$4,2,FALSE),IF('ORDER FRAMES'!$D$42=\"EI0\",VLOOKUP('ORDER FRAMES'!$D$42,DEURDRANGER!$C$12:$H$12,2,FALSE))))","v":false},{"$f":"IF(OR('ORDER FRAMES'!$B$43=\"X40\",'ORDER FRAMES'!$B$43=\"X45\",'ORDER FRAMES'!$E$43=\"C\"),VLOOKUP('ORDER FRAMES'!$B$43,DEURDRANGER!$C$5:$H$10,2,FALSE),IF('ORDER FRAMES'!$D$43=\"EI-\",VLOOKUP('ORDER FRAMES'!$D$43,DEURDRANGER!$C$4:$H$4,2,FALSE),IF('ORDER FRAMES'!$D$43=\"EI0\",VLOOKUP('ORDER FRAMES'!$D$43,DEURDRANGER!$C$12:$H$12,2,FALSE))))","v":false},{"$f":"IF(OR('ORDER FRAMES'!$B$44=\"X40\",'ORDER FRAMES'!$B$44=\"X45\",'ORDER FRAMES'!$E$44=\"C\"),VLOOKUP('ORDER FRAMES'!$B$44,DEURDRANGER!$C$5:$H$10,2,FALSE),IF('ORDER FRAMES'!$D$44=\"EI-\",VLOOKUP('ORDER FRAMES'!$D$44,DEURDRANGER!$C$4:$H$4,2,FALSE),IF('ORDER FRAMES'!$D$44=\"EI0\",VLOOKUP('ORDER FRAMES'!$D$44,DEURDRANGER!$C$12:$H$12,2,FALSE))))","v":false},{"$f":"IF(OR('ORDER FRAMES'!$B$45=\"X40\",'ORDER FRAMES'!$B$45=\"X45\",'ORDER FRAMES'!$E$45=\"C\"),VLOOKUP('ORDER FRAMES'!$B$45,DEURDRANGER!$C$5:$H$10,2,FALSE),IF('ORDER FRAMES'!$D$45=\"EI-\",VLOOKUP('ORDER FRAMES'!$D$45,DEURDRANGER!$C$4:$H$4,2,FALSE),IF('ORDER FRAMES'!$D$45=\"EI0\",VLOOKUP('ORDER FRAMES'!$D$45,DEURDRANGER!$C$12:$H$12,2,FALSE))))","v":false},{"$f":"IF(OR('ORDER FRAMES'!$B$46=\"X40\",'ORDER FRAMES'!$B$46=\"X45\",'ORDER FRAMES'!$E$46=\"C\"),VLOOKUP('ORDER FRAMES'!$B$46,DEURDRANGER!$C$5:$H$10,2,FALSE),IF('ORDER FRAMES'!$D$46=\"EI-\",VLOOKUP('ORDER FRAMES'!$D$46,DEURDRANGER!$C$4:$H$4,2,FALSE),IF('ORDER FRAMES'!$D$46=\"EI0\",VLOOKUP('ORDER FRAMES'!$D$46,DEURDRANGER!$C$12:$H$12,2,FALSE))))","v":false},{"$f":"IF(OR('ORDER FRAMES'!$B$47=\"X40\",'ORDER FRAMES'!$B$47=\"X45\",'ORDER FRAMES'!$E$47=\"C\"),VLOOKUP('ORDER FRAMES'!$B$47,DEURDRANGER!$C$5:$H$10,2,FALSE),IF('ORDER FRAMES'!$D$47=\"EI-\",VLOOKUP('ORDER FRAMES'!$D$47,DEURDRANGER!$C$4:$H$4,2,FALSE),IF('ORDER FRAMES'!$D$47=\"EI0\",VLOOKUP('ORDER FRAMES'!$D$21,DEURDRANGER!$C$12:$H$12,2,FALSE))))","v":false},{"$f":"IF(OR('ORDER FRAMES'!$B$48=\"X40\",'ORDER FRAMES'!$B$48=\"X45\",'ORDER FRAMES'!$E$48=\"C\"),VLOOKUP('ORDER FRAMES'!$B$48,DEURDRANGER!$C$5:$H$10,2,FALSE),IF('ORDER FRAMES'!$D$48=\"EI-\",VLOOKUP('ORDER FRAMES'!$D$48,DEURDRANGER!$C$4:$H$4,2,FALSE),IF('ORDER FRAMES'!$D$48=\"EI0\",VLOOKUP('ORDER FRAMES'!$D$48,DEURDRANGER!$C$12:$H$12,2,FALSE))))","v":false},{"$f":"IF(OR('ORDER FRAMES'!$B$49=\"X40\",'ORDER FRAMES'!$B$49=\"X45\",'ORDER FRAMES'!$E$49=\"C\"),VLOOKUP('ORDER FRAMES'!$B$49,DEURDRANGER!$C$5:$H$10,2,FALSE),IF('ORDER FRAMES'!$D$49=\"EI-\",VLOOKUP('ORDER FRAMES'!$D$49,DEURDRANGER!$C$4:$H$4,2,FALSE),IF('ORDER FRAMES'!$D$49=\"EI0\",VLOOKUP('ORDER FRAMES'!$D$49,DEURDRANGER!$C$12:$H$12,2,FALSE))))","v":false},{"$f":"IF(OR('ORDER FRAMES'!$B$50=\"X40\",'ORDER FRAMES'!$B$50=\"X45\",'ORDER FRAMES'!$E$50=\"C\"),VLOOKUP('ORDER FRAMES'!$B$50,DEURDRANGER!$C$5:$H$10,2,FALSE),IF('ORDER FRAMES'!$D$50=\"EI-\",VLOOKUP('ORDER FRAMES'!$D$50,DEURDRANGER!$C$4:$H$4,2,FALSE),IF('ORDER FRAMES'!$D$50=\"EI0\",VLOOKUP('ORDER FRAMES'!$D$50,DEURDRANGER!$C$12:$H$12,2,FALSE))))","v":false},{"$f":"IF(OR('ORDER FRAMES'!$B$50=\"X40\",'ORDER FRAMES'!$B$51=\"X45\",'ORDER FRAMES'!$E$51=\"C\"),VLOOKUP('ORDER FRAMES'!$B$51,DEURDRANGER!$C$5:$H$10,2,FALSE),IF('ORDER FRAMES'!$D$51=\"EI-\",VLOOKUP('ORDER FRAMES'!$D$51,DEURDRANGER!$C$4:$H$4,2,FALSE),IF('ORDER FRAMES'!$D$51=\"EI0\",VLOOKUP('ORDER FRAMES'!$D$51,DEURDRANGER!$C$12:$H$12,2,FALSE))))","v":false},{"$f":"IF(OR('ORDER FRAMES'!$B$52=\"X40\",'ORDER FRAMES'!$B$52=\"X45\",'ORDER FRAMES'!$E$52=\"C\"),VLOOKUP('ORDER FRAMES'!$B$52,DEURDRANGER!$C$5:$H$10,2,FALSE),IF('ORDER FRAMES'!$D$52=\"EI-\",VLOOKUP('ORDER FRAMES'!$D$52,DEURDRANGER!$C$4:$H$4,2,FALSE),IF('ORDER FRAMES'!$D$52=\"EI0\",VLOOKUP('ORDER FRAMES'!$D$52,DEURDRANGER!$C$12:$H$12,2,FALSE))))","v":false},{"$f":"IF(OR('ORDER FRAMES'!$B$53=\"X40\",'ORDER FRAMES'!$B$53=\"X45\",'ORDER FRAMES'!$E$53=\"C\"),VLOOKUP('ORDER FRAMES'!$B$53,DEURDRANGER!$C$5:$H$10,2,FALSE),IF('ORDER FRAMES'!$D$53=\"EI-\",VLOOKUP('ORDER FRAMES'!$D$53,DEURDRANGER!$C$4:$H$4,2,FALSE),IF('ORDER FRAMES'!$D$53=\"EI0\",VLOOKUP('ORDER FRAMES'!$D$53,DEURDRANGER!$C$12:$H$12,2,FALSE))))","v":false},{"$f":"IF(OR('ORDER FRAMES'!$B$54=\"X40\",'ORDER FRAMES'!$B$54=\"X45\",'ORDER FRAMES'!$E$54=\"C\"),VLOOKUP('ORDER FRAMES'!$B$54,DEURDRANGER!$C$5:$H$10,2,FALSE),IF('ORDER FRAMES'!$D$54=\"EI-\",VLOOKUP('ORDER FRAMES'!$D$54,DEURDRANGER!$C$4:$H$4,2,FALSE),IF('ORDER FRAMES'!$D$54=\"EI0\",VLOOKUP('ORDER FRAMES'!$D$54,DEURDRANGER!$C$12:$H$12,2,FALSE))))","v":false},{"$f":"IF(OR('ORDER FRAMES'!$B$55=\"X40\",'ORDER FRAMES'!$B$55=\"X45\",'ORDER FRAMES'!$E$55=\"C\"),VLOOKUP('ORDER FRAMES'!$B$55,DEURDRANGER!$C$5:$H$10,2,FALSE),IF('ORDER FRAMES'!$D$55=\"EI-\",VLOOKUP('ORDER FRAMES'!$D$55,DEURDRANGER!$C$4:$H$4,2,FALSE),IF('ORDER FRAMES'!$D$55=\"EI0\",VLOOKUP('ORDER FRAMES'!$D$55,DEURDRANGER!$C$12:$H$12,2,FALSE))))","v":false},{"$f":"IF(OR('ORDER FRAMES'!$B$56=\"X40\",'ORDER FRAMES'!$B$56=\"X45\",'ORDER FRAMES'!$E$56=\"C\"),VLOOKUP('ORDER FRAMES'!$B$56,DEURDRANGER!$C$5:$H$10,2,FALSE),IF('ORDER FRAMES'!$D$56=\"EI-\",VLOOKUP('ORDER FRAMES'!$D$56,DEURDRANGER!$C$4:$H$4,2,FALSE),IF('ORDER FRAMES'!$D$56=\"EI0\",VLOOKUP('ORDER FRAMES'!$D$56,DEURDRANGER!$C$12:$H$12,2,FALSE))))","v":false},{"$f":"IF(OR('ORDER FRAMES'!$B$57=\"X40\",'ORDER FRAMES'!$B$57=\"X45\",'ORDER FRAMES'!$E$57=\"C\"),VLOOKUP('ORDER FRAMES'!$B$57,DEURDRANGER!$C$5:$H$10,2,FALSE),IF('ORDER FRAMES'!$D$57=\"EI-\",VLOOKUP('ORDER FRAMES'!$D$57,DEURDRANGER!$C$4:$H$4,2,FALSE),IF('ORDER FRAMES'!$D$57=\"EI0\",VLOOKUP('ORDER FRAMES'!$D$57,DEURDRANGER!$C$12:$H$12,2,FALSE))))","v":false},{"$f":"IF(OR('ORDER FRAMES'!$B$58=\"X40\",'ORDER FRAMES'!$B$58=\"X45\",'ORDER FRAMES'!$E$58=\"C\"),VLOOKUP('ORDER FRAMES'!$B$58,DEURDRANGER!$C$5:$H$10,2,FALSE),IF('ORDER FRAMES'!$D$58=\"EI-\",VLOOKUP('ORDER FRAMES'!$D$58,DEURDRANGER!$C$4:$H$4,2,FALSE),IF('ORDER FRAMES'!$D$58=\"EI0\",VLOOKUP('ORDER FRAMES'!$D$58,DEURDRANGER!$C$12:$H$12,2,FALSE))))","v":false},{"$f":"IF(OR('ORDER FRAMES'!$B$59=\"X40\",'ORDER FRAMES'!$B$59=\"X45\",'ORDER FRAMES'!$E$59=\"C\"),VLOOKUP('ORDER FRAMES'!$B$59,DEURDRANGER!$C$5:$H$10,2,FALSE),IF('ORDER FRAMES'!$D$59=\"EI-\",VLOOKUP('ORDER FRAMES'!$D$59,DEURDRANGER!$C$4:$H$4,2,FALSE),IF('ORDER FRAMES'!$D$59=\"EI0\",VLOOKUP('ORDER FRAMES'!$D$59,DEURDRANGER!$C$12:$H$12,2,FALSE))))","v":false},{"$f":"IF(OR('ORDER FRAMES'!$B$60=\"X40\",'ORDER FRAMES'!$B$60=\"X45\",'ORDER FRAMES'!$E$60=\"C\"),VLOOKUP('ORDER FRAMES'!$B$60,DEURDRANGER!$C$5:$H$10,2,FALSE),IF('ORDER FRAMES'!$D$60=\"EI-\",VLOOKUP('ORDER FRAMES'!$D$60,DEURDRANGER!$C$4:$H$4,2,FALSE),IF('ORDER FRAMES'!$D$60=\"EI0\",VLOOKUP('ORDER FRAMES'!$D$60,DEURDRANGER!$C$12:$H$12,2,FALSE))))","v":false},{"$f":"IF(OR('ORDER FRAMES'!$B$61=\"X40\",'ORDER FRAMES'!$B$61=\"X45\",'ORDER FRAMES'!$E$61=\"C\"),VLOOKUP('ORDER FRAMES'!$B$61,DEURDRANGER!$C$5:$H$10,2,FALSE),IF('ORDER FRAMES'!$D$61=\"EI-\",VLOOKUP('ORDER FRAMES'!$D$61,DEURDRANGER!$C$4:$H$4,2,FALSE),IF('ORDER FRAMES'!$D$61=\"EI0\",VLOOKUP('ORDER FRAMES'!$D$61,DEURDRANGER!$C$12:$H$12,2,FALSE))))","v":false},{"$f":"IF(OR('ORDER FRAMES'!$B$62=\"X40\",'ORDER FRAMES'!$B$62=\"X45\",'ORDER FRAMES'!$E$62=\"C\"),VLOOKUP('ORDER FRAMES'!$B$62,DEURDRANGER!$C$5:$H$10,2,FALSE),IF('ORDER FRAMES'!$D$62=\"EI-\",VLOOKUP('ORDER FRAMES'!$D$62,DEURDRANGER!$C$4:$H$4,2,FALSE),IF('ORDER FRAMES'!$D$62=\"EI0\",VLOOKUP('ORDER FRAMES'!$D$62,DEURDRANGER!$C$12:$H$12,2,FALSE))))","v":false},{"$f":"IF(OR('ORDER FRAMES'!$B$50=\"X40\",'ORDER FRAMES'!$B$50=\"X45\",'ORDER FRAMES'!$E$63=\"C\"),VLOOKUP('ORDER FRAMES'!$B$50,DEURDRANGER!$C$5:$H$10,2,FALSE),IF('ORDER FRAMES'!$D$50=\"EI-\",VLOOKUP('ORDER FRAMES'!$D$50,DEURDRANGER!$C$4:$H$4,2,FALSE),IF('ORDER FRAMES'!$D$50=\"EI0\",VLOOKUP('ORDER FRAMES'!$D$50,DEURDRANGER!$C$12:$H$12,2,FALSE))))","v":false},{"$f":"IF(OR('ORDER FRAMES'!$B$64=\"X40\",'ORDER FRAMES'!$B$64=\"X45\",'ORDER FRAMES'!$E$64=\"C\"),VLOOKUP('ORDER FRAMES'!$B$64,DEURDRANGER!$C$5:$H$10,2,FALSE),IF('ORDER FRAMES'!$D$64=\"EI-\",VLOOKUP('ORDER FRAMES'!$D$64,DEURDRANGER!$C$4:$H$4,2,FALSE),IF('ORDER FRAMES'!$D$64=\"EI0\",VLOOKUP('ORDER FRAMES'!$D$64,DEURDRANGER!$C$12:$H$12,2,FALSE))))","v":false},{"$f":"IF(OR('ORDER FRAMES'!$B$65=\"X40\",'ORDER FRAMES'!$B$65=\"X45\",'ORDER FRAMES'!$E$65=\"C\"),VLOOKUP('ORDER FRAMES'!$B$65,DEURDRANGER!$C$5:$H$10,2,FALSE),IF('ORDER FRAMES'!$D$65=\"EI-\",VLOOKUP('ORDER FRAMES'!$D$65,DEURDRANGER!$C$4:$H$4,2,FALSE),IF('ORDER FRAMES'!$D$65=\"EI0\",VLOOKUP('ORDER FRAMES'!$D$65,DEURDRANGER!$C$12:$H$12,2,FALSE))))","v":false},{"$f":"IF(OR('ORDER FRAMES'!$B$66=\"X40\",'ORDER FRAMES'!$B$66=\"X45\",'ORDER FRAMES'!$E$66=\"C\"),VLOOKUP('ORDER FRAMES'!$B$66,DEURDRANGER!$C$5:$H$10,2,FALSE),IF('ORDER FRAMES'!$D$66=\"EI-\",VLOOKUP('ORDER FRAMES'!$D$66,DEURDRANGER!$C$4:$H$4,2,FALSE),IF('ORDER FRAMES'!$D$66=\"EI0\",VLOOKUP('ORDER FRAMES'!$D$66,DEURDRANGER!$C$12:$H$12,2,FALSE))))","v":false},{"$f":"IF(OR('ORDER FRAMES'!$B$67=\"X40\",'ORDER FRAMES'!$B$67=\"X45\",'ORDER FRAMES'!$E$67=\"C\"),VLOOKUP('ORDER FRAMES'!$B$67,DEURDRANGER!$C$5:$H$10,2,FALSE),IF('ORDER FRAMES'!$D$67=\"EI-\",VLOOKUP('ORDER FRAMES'!$D$67,DEURDRANGER!$C$4:$H$4,2,FALSE),IF('ORDER FRAMES'!$D$67=\"EI0\",VLOOKUP('ORDER FRAMES'!$D$67,DEURDRANGER!$C$12:$H$12,2,FALSE))))","v":false},{"$f":"IF(OR('ORDER FRAMES'!$B$68=\"X40\",'ORDER FRAMES'!$B$68=\"X45\",'ORDER FRAMES'!$E$68=\"C\"),VLOOKUP('ORDER FRAMES'!$B$68,DEURDRANGER!$C$5:$H$10,2,FALSE),IF('ORDER FRAMES'!$D$68=\"EI-\",VLOOKUP('ORDER FRAMES'!$D$68,DEURDRANGER!$C$4:$H$4,2,FALSE),IF('ORDER FRAMES'!$D$68=\"EI0\",VLOOKUP('ORDER FRAMES'!$D$68,DEURDRANGER!$C$12:$H$12,2,FALSE))))","v":false},{"$f":"IF(OR('ORDER FRAMES'!$B$69=\"X40\",'ORDER FRAMES'!$B$69=\"X45\",'ORDER FRAMES'!$E$69=\"C\"),VLOOKUP('ORDER FRAMES'!$B$69,DEURDRANGER!$C$5:$H$10,2,FALSE),IF('ORDER FRAMES'!$D$69=\"EI-\",VLOOKUP('ORDER FRAMES'!$D$69,DEURDRANGER!$C$4:$H$4,2,FALSE),IF('ORDER FRAMES'!$D$69=\"EI0\",VLOOKUP('ORDER FRAMES'!$D$69,DEURDRANGER!$C$12:$H$12,2,FALSE))))","v":false},{"$f":"IF(OR('ORDER FRAMES'!$B$70=\"X40\",'ORDER FRAMES'!$B$70=\"X45\",'ORDER FRAMES'!$E$70=\"C\"),VLOOKUP('ORDER FRAMES'!$B$70,DEURDRANGER!$C$5:$H$10,2,FALSE),IF('ORDER FRAMES'!$D$70=\"EI-\",VLOOKUP('ORDER FRAMES'!$D$70,DEURDRANGER!$C$4:$H$4,2,FALSE),IF('ORDER FRAMES'!$D$70=\"EI0\",VLOOKUP('ORDER FRAMES'!$D$70,DEURDRANGER!$C$12:$H$12,2,FALSE))))","v":false},{"$f":"IF(OR('ORDER FRAMES'!$B$71=\"X40\",'ORDER FRAMES'!$B$71=\"X45\",'ORDER FRAMES'!$E$71=\"C\"),VLOOKUP('ORDER FRAMES'!$B$71,DEURDRANGER!$C$5:$H$10,2,FALSE),IF('ORDER FRAMES'!$D$71=\"EI-\",VLOOKUP('ORDER FRAMES'!$D$71,DEURDRANGER!$C$4:$H$4,2,FALSE),IF('ORDER FRAMES'!$D$71=\"EI0\",VLOOKUP('ORDER FRAMES'!$D$71,DEURDRANGER!$C$12:$H$12,2,FALSE))))","v":false},{"$f":"IF(OR('ORDER FRAMES'!$B$72=\"X40\",'ORDER FRAMES'!$B$72=\"X45\",'ORDER FRAMES'!$E$72=\"C\"),VLOOKUP('ORDER FRAMES'!$B$72,DEURDRANGER!$C$5:$H$10,2,FALSE),IF('ORDER FRAMES'!$D$72=\"EI-\",VLOOKUP('ORDER FRAMES'!$D$72,DEURDRANGER!$C$4:$H$4,2,FALSE),IF('ORDER FRAMES'!$D$72=\"EI0\",VLOOKUP('ORDER FRAMES'!$D$72,DEURDRANGER!$C$12:$H$12,2,FALSE))))","v":false},{"$f":"IF(OR('ORDER FRAMES'!$B$73=\"X40\",'ORDER FRAMES'!$B$73=\"X45\",'ORDER FRAMES'!$E$73=\"C\"),VLOOKUP('ORDER FRAMES'!$B$73,DEURDRANGER!$C$5:$H$10,2,FALSE),IF('ORDER FRAMES'!$D$73=\"EI-\",VLOOKUP('ORDER FRAMES'!$D$73,DEURDRANGER!$C$4:$H$4,2,FALSE),IF('ORDER FRAMES'!$D$73=\"EI0\",VLOOKUP('ORDER FRAMES'!$D$73,DEURDRANGER!$C$12:$H$12,2,FALSE))))","v":false},{"$f":"IF(OR('ORDER FRAMES'!$B$74=\"X40\",'ORDER FRAMES'!$B$74=\"X45\",'ORDER FRAMES'!$E$74=\"C\"),VLOOKUP('ORDER FRAMES'!$B$74,DEURDRANGER!$C$5:$H$10,2,FALSE),IF('ORDER FRAMES'!$D$74=\"EI-\",VLOOKUP('ORDER FRAMES'!$D$74,DEURDRANGER!$C$4:$H$4,2,FALSE),IF('ORDER FRAMES'!$D$74=\"EI0\",VLOOKUP('ORDER FRAMES'!$D$74,DEURDRANGER!$C$12:$H$12,2,FALSE))))","v":false},{"$f":"IF(OR('ORDER FRAMES'!$B$75=\"X40\",'ORDER FRAMES'!$B$75=\"X45\",'ORDER FRAMES'!$E$75=\"C\"),VLOOKUP('ORDER FRAMES'!$B$75,DEURDRANGER!$C$5:$H$10,2,FALSE),IF('ORDER FRAMES'!$D$75=\"EI-\",VLOOKUP('ORDER FRAMES'!$D$75,DEURDRANGER!$C$4:$H$4,2,FALSE),IF('ORDER FRAMES'!$D$75=\"EI0\",VLOOKUP('ORDER FRAMES'!$D$75,DEURDRANGER!$C$12:$H$12,2,FALSE))))","v":false},{"$f":"IF(OR('ORDER FRAMES'!$B$76=\"X40\",'ORDER FRAMES'!$B$76=\"X45\",'ORDER FRAMES'!$E$76=\"C\"),VLOOKUP('ORDER FRAMES'!$B$76,DEURDRANGER!$C$5:$H$10,2,FALSE),IF('ORDER FRAMES'!$D$76=\"EI-\",VLOOKUP('ORDER FRAMES'!$D$76,DEURDRANGER!$C$4:$H$4,2,FALSE),IF('ORDER FRAMES'!$D$76=\"EI0\",VLOOKUP('ORDER FRAMES'!$D$76,DEURDRANGER!$C$12:$H$12,2,FALSE))))","v":false},{"$f":"IF(OR('ORDER FRAMES'!$B$77=\"X40\",'ORDER FRAMES'!$B$77=\"X45\",'ORDER FRAMES'!$E$77=\"C\"),VLOOKUP('ORDER FRAMES'!$B$77,DEURDRANGER!$C$5:$H$10,2,FALSE),IF('ORDER FRAMES'!$D$77=\"EI-\",VLOOKUP('ORDER FRAMES'!$D$77,DEURDRANGER!$C$4:$H$4,2,FALSE),IF('ORDER FRAMES'!$D$77=\"EI0\",VLOOKUP('ORDER FRAMES'!$D$77,DEURDRANGER!$C$12:$H$12,2,FALSE))))","v":false},{"$f":"IF(OR('ORDER FRAMES'!$B$78=\"X40\",'ORDER FRAMES'!$B$78=\"X45\",'ORDER FRAMES'!$E$78=\"C\"),VLOOKUP('ORDER FRAMES'!$B$78,DEURDRANGER!$C$5:$H$10,2,FALSE),IF('ORDER FRAMES'!$D$78=\"EI-\",VLOOKUP('ORDER FRAMES'!$D$78,DEURDRANGER!$C$4:$H$4,2,FALSE),IF('ORDER FRAMES'!$D$78=\"EI0\",VLOOKUP('ORDER FRAMES'!$D$78,DEURDRANGER!$C$12:$H$12,2,FALSE))))","v":false},{"$f":"IF(OR('ORDER FRAMES'!$B$79=\"X40\",'ORDER FRAMES'!$B$79=\"X45\",'ORDER FRAMES'!$E$79=\"C\"),VLOOKUP('ORDER FRAMES'!$B$79,DEURDRANGER!$C$5:$H$10,2,FALSE),IF('ORDER FRAMES'!$D$79=\"EI-\",VLOOKUP('ORDER FRAMES'!$D$79,DEURDRANGER!$C$4:$H$4,2,FALSE),IF('ORDER FRAMES'!$D$79=\"EI0\",VLOOKUP('ORDER FRAMES'!$D$79,DEURDRANGER!$C$12:$H$12,2,FALSE))))","v":false},{"$f":"IF(OR('ORDER FRAMES'!$B$80=\"X40\",'ORDER FRAMES'!$B$80=\"X45\",'ORDER FRAMES'!$E$80=\"C\"),VLOOKUP('ORDER FRAMES'!$B$80,DEURDRANGER!$C$5:$H$10,2,FALSE),IF('ORDER FRAMES'!$D$80=\"EI-\",VLOOKUP('ORDER FRAMES'!$D$80,DEURDRANGER!$C$4:$H$4,2,FALSE),IF('ORDER FRAMES'!$D$80=\"EI0\",VLOOKUP('ORDER FRAMES'!$D$80,DEURDRANGER!$C$12:$H$12,2,FALSE))))","v":false},{"$f":"IF(OR('ORDER FRAMES'!$B$81=\"X40\",'ORDER FRAMES'!$B$81=\"X45\",'ORDER FRAMES'!$E$81=\"C\"),VLOOKUP('ORDER FRAMES'!$B$81,DEURDRANGER!$C$5:$H$10,2,FALSE),IF('ORDER FRAMES'!$D$81=\"EI-\",VLOOKUP('ORDER FRAMES'!$D$81,DEURDRANGER!$C$4:$H$4,2,FALSE),IF('ORDER FRAMES'!$D$81=\"EI0\",VLOOKUP('ORDER FRAMES'!$D$81,DEURDRANGER!$C$12:$H$12,2,FALSE))))","v":false},{"$f":"IF(OR('ORDER FRAMES'!$B$82=\"X40\",'ORDER FRAMES'!$B$82=\"X45\",'ORDER FRAMES'!$E$82=\"C\"),VLOOKUP('ORDER FRAMES'!$B$82,DEURDRANGER!$C$5:$H$10,2,FALSE),IF('ORDER FRAMES'!$D$82=\"EI-\",VLOOKUP('ORDER FRAMES'!$D$82,DEURDRANGER!$C$4:$H$4,2,FALSE),IF('ORDER FRAMES'!$D$82=\"EI0\",VLOOKUP('ORDER FRAMES'!$D$82,DEURDRANGER!$C$12:$H$12,2,FALSE))))","v":false},{"$f":"IF(OR('ORDER FRAMES'!$B$83=\"X40\",'ORDER FRAMES'!$B$83=\"X45\",'ORDER FRAMES'!$E$83=\"C\"),VLOOKUP('ORDER FRAMES'!$B$83,DEURDRANGER!$C$5:$H$10,2,FALSE),IF('ORDER FRAMES'!$D$83=\"EI-\",VLOOKUP('ORDER FRAMES'!$D$83,DEURDRANGER!$C$4:$H$4,2,FALSE),IF('ORDER FRAMES'!$D$83=\"EI0\",VLOOKUP('ORDER FRAMES'!$D$83,DEURDRANGER!$C$12:$H$12,2,FALSE))))","v":false},{"$f":"IF(OR('ORDER FRAMES'!$B$84=\"X40\",'ORDER FRAMES'!$B$84=\"X45\",'ORDER FRAMES'!$E$84=\"C\"),VLOOKUP('ORDER FRAMES'!$B$84,DEURDRANGER!$C$5:$H$10,2,FALSE),IF('ORDER FRAMES'!$D$84=\"EI-\",VLOOKUP('ORDER FRAMES'!$D$84,DEURDRANGER!$C$4:$H$4,2,FALSE),IF('ORDER FRAMES'!$D$84=\"EI0\",VLOOKUP('ORDER FRAMES'!$D$84,DEURDRANGER!$C$12:$H$12,2,FALSE))))","v":false},{"$f":"IF(OR('ORDER FRAMES'!$B$85=\"X40\",'ORDER FRAMES'!$B$85=\"X45\",'ORDER FRAMES'!$E$85=\"C\"),VLOOKUP('ORDER FRAMES'!$B$85,DEURDRANGER!$C$5:$H$10,2,FALSE),IF('ORDER FRAMES'!$D$85=\"EI-\",VLOOKUP('ORDER FRAMES'!$D$85,DEURDRANGER!$C$4:$H$4,2,FALSE),IF('ORDER FRAMES'!$D$85=\"EI0\",VLOOKUP('ORDER FRAMES'!$D$85,DEURDRANGER!$C$12:$H$12,2,FALSE))))","v":false},{"$f":"IF(OR('ORDER FRAMES'!$B$86=\"X40\",'ORDER FRAMES'!$B$86=\"X45\",'ORDER FRAMES'!$E$86=\"C\"),VLOOKUP('ORDER FRAMES'!$B$86,DEURDRANGER!$C$5:$H$10,2,FALSE),IF('ORDER FRAMES'!$D$86=\"EI-\",VLOOKUP('ORDER FRAMES'!$D$86,DEURDRANGER!$C$4:$H$4,2,FALSE),IF('ORDER FRAMES'!$D$86=\"EI0\",VLOOKUP('ORDER FRAMES'!$D$86,DEURDRANGER!$C$12:$H$12,2,FALSE))))","v":false},{"$f":"IF(OR('ORDER FRAMES'!$B$87=\"X40\",'ORDER FRAMES'!$B$87=\"X45\",'ORDER FRAMES'!$E$87=\"C\"),VLOOKUP('ORDER FRAMES'!$B$87,DEURDRANGER!$C$5:$H$10,2,FALSE),IF('ORDER FRAMES'!$D$87=\"EI-\",VLOOKUP('ORDER FRAMES'!$D$87,DEURDRANGER!$C$4:$H$4,2,FALSE),IF('ORDER FRAMES'!$D$87=\"EI0\",VLOOKUP('ORDER FRAMES'!$D$87,DEURDRANGER!$C$12:$H$12,2,FALSE))))","v":false},{"$f":"IF(OR('ORDER FRAMES'!$B$88=\"X40\",'ORDER FRAMES'!$B$88=\"X45\",'ORDER FRAMES'!$E$88=\"C\"),VLOOKUP('ORDER FRAMES'!$B$88,DEURDRANGER!$C$5:$H$10,2,FALSE),IF('ORDER FRAMES'!$D$88=\"EI-\",VLOOKUP('ORDER FRAMES'!$D$88,DEURDRANGER!$C$4:$H$4,2,FALSE),IF('ORDER FRAMES'!$D$88=\"EI0\",VLOOKUP('ORDER FRAMES'!$D$88,DEURDRANGER!$C$12:$H$12,2,FALSE))))","v":false},{"$f":"IF(OR('ORDER FRAMES'!$B$89=\"X40\",'ORDER FRAMES'!$B$89=\"X45\",'ORDER FRAMES'!$E$89=\"C\"),VLOOKUP('ORDER FRAMES'!$B$89,DEURDRANGER!$C$5:$H$10,2,FALSE),IF('ORDER FRAMES'!$D$89=\"EI-\",VLOOKUP('ORDER FRAMES'!$D$89,DEURDRANGER!$C$4:$H$4,2,FALSE),IF('ORDER FRAMES'!$D$89=\"EI0\",VLOOKUP('ORDER FRAMES'!$D$89,DEURDRANGER!$C$12:$H$12,2,FALSE))))","v":false},{"$f":"IF(OR('ORDER FRAMES'!$B$90=\"X40\",'ORDER FRAMES'!$B$90=\"X45\",'ORDER FRAMES'!$E$90=\"C\"),VLOOKUP('ORDER FRAMES'!$B$90,DEURDRANGER!$C$5:$H$10,2,FALSE),IF('ORDER FRAMES'!$D$90=\"EI-\",VLOOKUP('ORDER FRAMES'!$D$90,DEURDRANGER!$C$4:$H$4,2,FALSE),IF('ORDER FRAMES'!$D$90=\"EI0\",VLOOKUP('ORDER FRAMES'!$D$90,DEURDRANGER!$C$12:$H$12,2,FALSE))))","v":false},{"$f":"IF(OR('ORDER FRAMES'!$B$91=\"X40\",'ORDER FRAMES'!$B$91=\"X45\",'ORDER FRAMES'!$E$91=\"C\"),VLOOKUP('ORDER FRAMES'!$B$91,DEURDRANGER!$C$5:$H$10,2,FALSE),IF('ORDER FRAMES'!$D$91=\"EI-\",VLOOKUP('ORDER FRAMES'!$D$91,DEURDRANGER!$C$4:$H$4,2,FALSE),IF('ORDER FRAMES'!$D$91=\"EI0\",VLOOKUP('ORDER FRAMES'!$D$91,DEURDRANGER!$C$12:$H$12,2,FALSE))))","v":false},{"$f":"IF(OR('ORDER FRAMES'!$B$92=\"X40\",'ORDER FRAMES'!$B$92=\"X45\",'ORDER FRAMES'!$E$92=\"C\"),VLOOKUP('ORDER FRAMES'!$B$92,DEURDRANGER!$C$5:$H$10,2,FALSE),IF('ORDER FRAMES'!$D$92=\"EI-\",VLOOKUP('ORDER FRAMES'!$D$92,DEURDRANGER!$C$4:$H$4,2,FALSE),IF('ORDER FRAMES'!$D$92=\"EI0\",VLOOKUP('ORDER FRAMES'!$D$92,DEURDRANGER!$C$12:$H$12,2,FALSE))))","v":false},{"$f":"IF(OR('ORDER FRAMES'!$B$93=\"X40\",'ORDER FRAMES'!$B$93=\"X45\",'ORDER FRAMES'!$E$93=\"C\"),VLOOKUP('ORDER FRAMES'!$B$93,DEURDRANGER!$C$5:$H$10,2,FALSE),IF('ORDER FRAMES'!$D$93=\"EI-\",VLOOKUP('ORDER FRAMES'!$D$93,DEURDRANGER!$C$4:$H$4,2,FALSE),IF('ORDER FRAMES'!$D$93=\"EI0\",VLOOKUP('ORDER FRAMES'!$D$93,DEURDRANGER!$C$12:$H$12,2,FALSE))))","v":false},{"$f":"IF(OR('ORDER FRAMES'!$B$94=\"X40\",'ORDER FRAMES'!$B$94=\"X45\",'ORDER FRAMES'!$E$94=\"C\"),VLOOKUP('ORDER FRAMES'!$B$94,DEURDRANGER!$C$5:$H$10,2,FALSE),IF('ORDER FRAMES'!$D$94=\"EI-\",VLOOKUP('ORDER FRAMES'!$D$94,DEURDRANGER!$C$4:$H$4,2,FALSE),IF('ORDER FRAMES'!$D$94=\"EI0\",VLOOKUP('ORDER FRAMES'!$D$94,DEURDRANGER!$C$12:$H$12,2,FALSE))))","v":false},{"$f":"IF(OR('ORDER FRAMES'!$B$95=\"X40\",'ORDER FRAMES'!$B$95=\"X45\",'ORDER FRAMES'!$E$95=\"C\"),VLOOKUP('ORDER FRAMES'!$B$95,DEURDRANGER!$C$5:$H$10,2,FALSE),IF('ORDER FRAMES'!$D$95=\"EI-\",VLOOKUP('ORDER FRAMES'!$D$95,DEURDRANGER!$C$4:$H$4,2,FALSE),IF('ORDER FRAMES'!$D$95=\"EI0\",VLOOKUP('ORDER FRAMES'!$D$95,DEURDRANGER!$C$12:$H$12,2,FALSE))))","v":false},{"$f":"IF(OR('ORDER FRAMES'!$B$96=\"X40\",'ORDER FRAMES'!$B$96=\"X45\",'ORDER FRAMES'!$E$96=\"C\"),VLOOKUP('ORDER FRAMES'!$B$96,DEURDRANGER!$C$5:$H$10,2,FALSE),IF('ORDER FRAMES'!$D$96=\"EI-\",VLOOKUP('ORDER FRAMES'!$D$96,DEURDRANGER!$C$4:$H$4,2,FALSE),IF('ORDER FRAMES'!$D$96=\"EI0\",VLOOKUP('ORDER FRAMES'!$D$96,DEURDRANGER!$C$12:$H$12,2,FALSE))))","v":false},{"$f":"IF(OR('ORDER FRAMES'!$B$97=\"X40\",'ORDER FRAMES'!$B$97=\"X45\",'ORDER FRAMES'!$E$97=\"C\"),VLOOKUP('ORDER FRAMES'!$B$97,DEURDRANGER!$C$5:$H$10,2,FALSE),IF('ORDER FRAMES'!$D$97=\"EI-\",VLOOKUP('ORDER FRAMES'!$D$97,DEURDRANGER!$C$4:$H$4,2,FALSE),IF('ORDER FRAMES'!$D$97=\"EI0\",VLOOKUP('ORDER FRAMES'!$D$97,DEURDRANGER!$C$12:$H$12,2,FALSE))))","v":false},{"$f":"IF(OR('ORDER FRAMES'!$B$98=\"X40\",'ORDER FRAMES'!$B$98=\"X45\",'ORDER FRAMES'!$E$98=\"C\"),VLOOKUP('ORDER FRAMES'!$B$98,DEURDRANGER!$C$5:$H$10,2,FALSE),IF('ORDER FRAMES'!$D$98=\"EI-\",VLOOKUP('ORDER FRAMES'!$D$98,DEURDRANGER!$C$4:$H$4,2,FALSE),IF('ORDER FRAMES'!$D$98=\"EI0\",VLOOKUP('ORDER FRAMES'!$D$98,DEURDRANGER!$C$12:$H$12,2,FALSE))))","v":false},{"$f":"IF(OR('ORDER FRAMES'!$B$99=\"X40\",'ORDER FRAMES'!$B$99=\"X45\",'ORDER FRAMES'!$E$99=\"C\"),VLOOKUP('ORDER FRAMES'!$B$99,DEURDRANGER!$C$5:$H$10,2,FALSE),IF('ORDER FRAMES'!$D$99=\"EI-\",VLOOKUP('ORDER FRAMES'!$D$99,DEURDRANGER!$C$4:$H$4,2,FALSE),IF('ORDER FRAMES'!$D$99=\"EI0\",VLOOKUP('ORDER FRAMES'!$D$99,DEURDRANGER!$C$12:$H$12,2,FALSE))))","v":false},{"$f":"IF(OR('ORDER FRAMES'!$B$100=\"X40\",'ORDER FRAMES'!$B$100=\"X45\",'ORDER FRAMES'!$E$100=\"C\"),VLOOKUP('ORDER FRAMES'!$B$100,DEURDRANGER!$C$5:$H$10,2,FALSE),IF('ORDER FRAMES'!$D$100=\"EI-\",VLOOKUP('ORDER FRAMES'!$D$100,DEURDRANGER!$C$4:$H$4,2,FALSE),IF('ORDER FRAMES'!$D$100=\"EI0\",VLOOKUP('ORDER FRAMES'!$D$100,DEURDRANGER!$C$12:$H$12,2,FALSE))))","v":false}]
[null,"Brand ","EI-",1,null,3,4,null,null,null,null,null,null,null,null,{"$f":"IF(OR('ORDER FRAMES'!$B$21=\"X40\",'ORDER FRAMES'!$B$21=\"X45\",'ORDER FRAMES'!$E$21=\"C\"),VLOOKUP('ORDER FRAMES'!$B$21,DEURDRANGER!$C$5:$H$10,3,FALSE),IF('ORDER FRAMES'!$D$21=\"EI-\",VLOOKUP('ORDER FRAMES'!$D$21,DEURDRANGER!$C$4:$H$4,3,FALSE),IF('ORDER FRAMES'!$D$21=\"EI0\",VLOOKUP('ORDER FRAMES'!$D$21,DEURDRANGER!$C$12:$H$12,3,FALSE))))","v":0},{"$f":"IF(OR('ORDER FRAMES'!$B$22=\"X40\",'ORDER FRAMES'!$B$22=\"X45\",'ORDER FRAMES'!$E$22=\"C\"),VLOOKUP('ORDER FRAMES'!$B$22,DEURDRANGER!$C$5:$H$10,3,FALSE),IF('ORDER FRAMES'!$D$22=\"EI-\",VLOOKUP('ORDER FRAMES'!$D$22,DEURDRANGER!$C$4:$H$4,3,FALSE),IF('ORDER FRAMES'!$D$22=\"EI0\",VLOOKUP('ORDER FRAMES'!$D$22,DEURDRANGER!$C$12:$H$12,3,FALSE))))","v":2},{"$f":"IF(OR('ORDER FRAMES'!$B$23=\"X40\",'ORDER FRAMES'!$B$23=\"X45\",'ORDER FRAMES'!$E$23=\"C\"),VLOOKUP('ORDER FRAMES'!$B$23,DEURDRANGER!$C$5:$H$10,3,FALSE),IF('ORDER FRAMES'!$D$23=\"EI-\",VLOOKUP('ORDER FRAMES'!$D$23,DEURDRANGER!$C$4:$H$4,3,FALSE),IF('ORDER FRAMES'!$D$23=\"EI0\",VLOOKUP('ORDER FRAMES'!$D$23,DEURDRANGER!$C$12:$H$12,3,FALSE))))","v":false},{"$f":"IF(OR('ORDER FRAMES'!$B$24=\"X40\",'ORDER FRAMES'!$B$24=\"X45\",'ORDER FRAMES'!$E$24=\"C\"),VLOOKUP('ORDER FRAMES'!$B$24,DEURDRANGER!$C$5:$H$10,3,FALSE),IF('ORDER FRAMES'!$D$24=\"EI-\",VLOOKUP('ORDER FRAMES'!$D$24,DEURDRANGER!$C$4:$H$4,3,FALSE),IF('ORDER FRAMES'!$D$24=\"EI0\",VLOOKUP('ORDER FRAMES'!$D$24,DEURDRANGER!$C$12:$H$12,3,FALSE))))","v":false},{"$f":"IF(OR('ORDER FRAMES'!$B$25=\"X40\",'ORDER FRAMES'!$B$25=\"X45\",'ORDER FRAMES'!$E$25=\"C\"),VLOOKUP('ORDER FRAMES'!$B$25,DEURDRANGER!$C$5:$H$10,3,FALSE),IF('ORDER FRAMES'!$D$25=\"EI-\",VLOOKUP('ORDER FRAMES'!$D$25,DEURDRANGER!$C$4:$H$4,3,FALSE),IF('ORDER FRAMES'!$D$25=\"EI0\",VLOOKUP('ORDER FRAMES'!$D$25,DEURDRANGER!$C$12:$H$12,3,FALSE))))","v":false},{"$f":"IF(OR('ORDER FRAMES'!$B$26=\"X40\",'ORDER FRAMES'!$B$26=\"X45\",'ORDER FRAMES'!$E$26=\"C\"),VLOOKUP('ORDER FRAMES'!$B$26,DEURDRANGER!$C$5:$H$10,3,FALSE),IF('ORDER FRAMES'!$D$26=\"EI-\",VLOOKUP('ORDER FRAMES'!$D$26,DEURDRANGER!$C$4:$H$4,3,FALSE),IF('ORDER FRAMES'!$D$26=\"EI0\",VLOOKUP('ORDER FRAMES'!$D$26,DEURDRANGER!$C$12:$H$12,3,FALSE))))","v":false},{"$f":"IF(OR('ORDER FRAMES'!$B$27=\"X40\",'ORDER FRAMES'!$B$27=\"X45\",'ORDER FRAMES'!$E$27=\"C\"),VLOOKUP('ORDER FRAMES'!$B$27,DEURDRANGER!$C$5:$H$10,3,FALSE),IF('ORDER FRAMES'!$D$27=\"EI-\",VLOOKUP('ORDER FRAMES'!$D$27,DEURDRANGER!$C$4:$H$4,3,FALSE),IF('ORDER FRAMES'!$D$27=\"EI0\",VLOOKUP('ORDER FRAMES'!$D$27,DEURDRANGER!$C$12:$H$12,3,FALSE))))","v":false},{"$f":"IF(OR('ORDER FRAMES'!$B$28=\"X40\",'ORDER FRAMES'!$B$28=\"X45\",'ORDER FRAMES'!$E$28=\"C\"),VLOOKUP('ORDER FRAMES'!$B$28,DEURDRANGER!$C$5:$H$10,3,FALSE),IF('ORDER FRAMES'!$D$28=\"EI-\",VLOOKUP('ORDER FRAMES'!$D$28,DEURDRANGER!$C$4:$H$4,3,FALSE),IF('ORDER FRAMES'!$D$28=\"EI0\",VLOOKUP('ORDER FRAMES'!$D$28,DEURDRANGER!$C$12:$H$12,3,FALSE))))","v":false},{"$f":"IF(OR('ORDER FRAMES'!$B$29=\"X40\",'ORDER FRAMES'!$B$29=\"X45\",'ORDER FRAMES'!$E$29=\"C\"),VLOOKUP('ORDER FRAMES'!$B$29,DEURDRANGER!$C$5:$H$10,3,FALSE),IF('ORDER FRAMES'!$D$29=\"EI-\",VLOOKUP('ORDER FRAMES'!$D$29,DEURDRANGER!$C$4:$H$4,3,FALSE),IF('ORDER FRAMES'!$D$29=\"EI0\",VLOOKUP('ORDER FRAMES'!$D$29,DEURDRANGER!$C$12:$H$12,3,FALSE))))","v":false},{"$f":"IF(OR('ORDER FRAMES'!$B$30=\"X40\",'ORDER FRAMES'!$B$30=\"X45\",'ORDER FRAMES'!$E$30=\"C\"),VLOOKUP('ORDER FRAMES'!$B$30,DEURDRANGER!$C$5:$H$10,3,FALSE),IF('ORDER FRAMES'!$D$30=\"EI-\",VLOOKUP('ORDER FRAMES'!$D$30,DEURDRANGER!$C$4:$H$4,3,FALSE),IF('ORDER FRAMES'!$D$30=\"EI0\",VLOOKUP('ORDER FRAMES'!$D$30,DEURDRANGER!$C$12:$H$12,3,FALSE))))","v":false},{"$f":"IF(OR('ORDER FRAMES'!$B$31=\"X40\",'ORDER FRAMES'!$B$31=\"X45\",'ORDER FRAMES'!$E$31=\"C\"),VLOOKUP('ORDER FRAMES'!$B$31,DEURDRANGER!$C$5:$H$10,3,FALSE),IF('ORDER FRAMES'!$D$31=\"EI-\",VLOOKUP('ORDER FRAMES'!$D$31,DEURDRANGER!$C$4:$H$4,3,FALSE),IF('ORDER FRAMES'!$D$31=\"EI0\",VLOOKUP('ORDER FRAMES'!$D$31,DEURDRANGER!$C$12:$H$12,3,FALSE))))","v":false},{"$f":"IF(OR('ORDER FRAMES'!$B$32=\"X40\",'ORDER FRAMES'!$B$32=\"X45\",'ORDER FRAMES'!$E$32=\"C\"),VLOOKUP('ORDER FRAMES'!$B$32,DEURDRANGER!$C$5:$H$10,3,FALSE),IF('ORDER FRAMES'!$D$32=\"EI-\",VLOOKUP('ORDER FRAMES'!$D$32,DEURDRANGER!$C$4:$H$4,3,FALSE),IF('ORDER FRAMES'!$D$32=\"EI0\",VLOOKUP('ORDER FRAMES'!$D$32,DEURDRANGER!$C$12:$H$12,3,FALSE))))","v":false},{"$f":"IF(OR('ORDER FRAMES'!$B$33=\"X40\",'ORDER FRAMES'!$B$33=\"X45\",'ORDER FRAMES'!$E$33=\"C\"),VLOOKUP('ORDER FRAMES'!$B$33,DEURDRANGER!$C$5:$H$10,3,FALSE),IF('ORDER FRAMES'!$D$33=\"EI-\",VLOOKUP('ORDER FRAMES'!$D$33,DEURDRANGER!$C$4:$H$4,3,FALSE),IF('ORDER FRAMES'!$D$33=\"EI0\",VLOOKUP('ORDER FRAMES'!$D$33,DEURDRANGER!$C$12:$H$12,3,FALSE))))","v":false},{"$f":"IF(OR('ORDER FRAMES'!$B$34=\"X40\",'ORDER FRAMES'!$B$34=\"X45\",'ORDER FRAMES'!$E$34=\"C\"),VLOOKUP('ORDER FRAMES'!$B$34,DEURDRANGER!$C$5:$H$10,3,FALSE),IF('ORDER FRAMES'!$D$34=\"EI-\",VLOOKUP('ORDER FRAMES'!$D$34,DEURDRANGER!$C$4:$H$4,3,FALSE),IF('ORDER FRAMES'!$D$34=\"EI0\",VLOOKUP('ORDER FRAMES'!$D$34,DEURDRANGER!$C$12:$H$12,3,FALSE))))","v":false},{"$f":"IF(OR('ORDER FRAMES'!$B$35=\"X40\",'ORDER FRAMES'!$B$35=\"X45\",'ORDER FRAMES'!$E$35=\"C\"),VLOOKUP('ORDER FRAMES'!$B$35,DEURDRANGER!$C$5:$H$10,3,FALSE),IF('ORDER FRAMES'!$D$35=\"EI-\",VLOOKUP('ORDER FRAMES'!$D$35,DEURDRANGER!$C$4:$H$4,3,FALSE),IF('ORDER FRAMES'!$D$35=\"EI0\",VLOOKUP('ORDER FRAMES'!$D$35,DEURDRANGER!$C$12:$H$12,3,FALSE))))","v":false},{"$f":"IF(OR('ORDER FRAMES'!$B$36=\"X40\",'ORDER FRAMES'!$B$36=\"X45\",'ORDER FRAMES'!$E$36=\"C\"),VLOOKUP('ORDER FRAMES'!$B$36,DEURDRANGER!$C$5:$H$10,3,FALSE),IF('ORDER FRAMES'!$D$36=\"EI-\",VLOOKUP('ORDER FRAMES'!$D$36,DEURDRANGER!$C$4:$H$4,3,FALSE),IF('ORDER FRAMES'!$D$36=\"EI0\",VLOOKUP('ORDER FRAMES'!$D$36,DEURDRANGER!$C$12:$H$12,3,FALSE))))","v":false},{"$f":"IF(OR('ORDER FRAMES'!$B$37=\"X40\",'ORDER FRAMES'!$B$37=\"X45\",'ORDER FRAMES'!$E$37=\"C\"),VLOOKUP('ORDER FRAMES'!$B$37,DEURDRANGER!$C$5:$H$10,3,FALSE),IF('ORDER FRAMES'!$D$37=\"EI-\",VLOOKUP('ORDER FRAMES'!$D$37,DEURDRANGER!$C$4:$H$4,3,FALSE),IF('ORDER FRAMES'!$D$37=\"EI0\",VLOOKUP('ORDER FRAMES'!$D$37,DEURDRANGER!$C$12:$H$12,3,FALSE))))","v":false},{"$f":"IF(OR('ORDER FRAMES'!$B$38=\"X40\",'ORDER FRAMES'!$B$38=\"X45\",'ORDER FRAMES'!$E$38=\"C\"),VLOOKUP('ORDER FRAMES'!$B$38,DEURDRANGER!$C$5:$H$10,3,FALSE),IF('ORDER FRAMES'!$D$38=\"EI-\",VLOOKUP('ORDER FRAMES'!$D$38,DEURDRANGER!$C$4:$H$4,3,FALSE),IF('ORDER FRAMES'!$D$38=\"EI0\",VLOOKUP('ORDER FRAMES'!$D$38,DEURDRANGER!$C$12:$H$12,3,FALSE))))","v":false},{"$f":"IF(OR('ORDER FRAMES'!$B$39=\"X40\",'ORDER FRAMES'!$B$39=\"X45\",'ORDER FRAMES'!$E$39=\"C\"),VLOOKUP('ORDER FRAMES'!$B$39,DEURDRANGER!$C$5:$H$10,3,FALSE),IF('ORDER FRAMES'!$D$39=\"EI-\",VLOOKUP('ORDER FRAMES'!$D$39,DEURDRANGER!$C$4:$H$4,3,FALSE),IF('ORDER FRAMES'!$D$39=\"EI0\",VLOOKUP('ORDER FRAMES'!$D$39,DEURDRANGER!$C$12:$H$12,3,FALSE))))","v":false},{"$f":"IF(OR('ORDER FRAMES'!$B$40=\"X40\",'ORDER FRAMES'!$B$40=\"X45\",'ORDER FRAMES'!$E$40=\"C\"),VLOOKUP('ORDER FRAMES'!$B$40,DEURDRANGER!$C$5:$H$10,3,FALSE),IF('ORDER FRAMES'!$D$40=\"EI-\",VLOOKUP('ORDER FRAMES'!$D$40,DEURDRANGER!$C$4:$H$4,3,FALSE),IF('ORDER FRAMES'!$D$40=\"EI0\",VLOOKUP('ORDER FRAMES'!$D$40,DEURDRANGER!$C$12:$H$12,3,FALSE))))","v":false},{"$f":"IF(OR('ORDER FRAMES'!$B$41=\"X40\",'ORDER FRAMES'!$B$41=\"X45\",'ORDER FRAMES'!$E$41=\"C\"),VLOOKUP('ORDER FRAMES'!$B$41,DEURDRANGER!$C$5:$H$10,3,FALSE),IF('ORDER FRAMES'!$D$41=\"EI-\",VLOOKUP('ORDER FRAMES'!$D$41,DEURDRANGER!$C$4:$H$4,3,FALSE),IF('ORDER FRAMES'!$D$41=\"EI0\",VLOOKUP('ORDER FRAMES'!$D$41,DEURDRANGER!$C$12:$H$12,3,FALSE))))","v":false},{"$f":"IF(OR('ORDER FRAMES'!$B$42=\"X40\",'ORDER FRAMES'!$B$42=\"X45\",'ORDER FRAMES'!$E$42=\"C\"),VLOOKUP('ORDER FRAMES'!$B$42,DEURDRANGER!$C$5:$H$10,3,FALSE),IF('ORDER FRAMES'!$D$42=\"EI-\",VLOOKUP('ORDER FRAMES'!$D$42,DEURDRANGER!$C$4:$H$4,3,FALSE),IF('ORDER FRAMES'!$D$42=\"EI0\",VLOOKUP('ORDER FRAMES'!$D$42,DEURDRANGER!$C$12:$H$12,3,FALSE))))","v":false},{"$f":"IF(OR('ORDER FRAMES'!$B$43=\"X40\",'ORDER FRAMES'!$B$43=\"X45\",'ORDER FRAMES'!$E$43=\"C\"),VLOOKUP('ORDER FRAMES'!$B$43,DEURDRANGER!$C$5:$H$10,3,FALSE),IF('ORDER FRAMES'!$D$43=\"EI-\",VLOOKUP('ORDER FRAMES'!$D$43,DEURDRANGER!$C$4:$H$4,3,FALSE),IF('ORDER FRAMES'!$D$43=\"EI0\",VLOOKUP('ORDER FRAMES'!$D$43,DEURDRANGER!$C$12:$H$12,3,FALSE))))","v":false},{"$f":"IF(OR('ORDER FRAMES'!$B$44=\"X40\",'ORDER FRAMES'!$B$44=\"X45\",'ORDER FRAMES'!$E$44=\"C\"),VLOOKUP('ORDER FRAMES'!$B$44,DEURDRANGER!$C$5:$H$10,3,FALSE),IF('ORDER FRAMES'!$D$44=\"EI-\",VLOOKUP('ORDER FRAMES'!$D$44,DEURDRANGER!$C$4:$H$4,3,FALSE),IF('ORDER FRAMES'!$D$44=\"EI0\",VLOOKUP('ORDER FRAMES'!$D$44,DEURDRANGER!$C$12:$H$12,3,FALSE))))","v":false},{"$f":"IF(OR('ORDER FRAMES'!$B$45=\"X40\",'ORDER FRAMES'!$B$45=\"X45\",'ORDER FRAMES'!$E$45=\"C\"),VLOOKUP('ORDER FRAMES'!$B$45,DEURDRANGER!$C$5:$H$10,3,FALSE),IF('ORDER FRAMES'!$D$45=\"EI-\",VLOOKUP('ORDER FRAMES'!$D$45,DEURDRANGER!$C$4:$H$4,3,FALSE),IF('ORDER FRAMES'!$D$45=\"EI0\",VLOOKUP('ORDER FRAMES'!$D$45,DEURDRANGER!$C$12:$H$12,3,FALSE))))","v":false},{"$f":"IF(OR('ORDER FRAMES'!$B$46=\"X40\",'ORDER FRAMES'!$B$46=\"X45\",'ORDER FRAMES'!$E$46=\"C\"),VLOOKUP('ORDER FRAMES'!$B$46,DEURDRANGER!$C$5:$H$10,3,FALSE),IF('ORDER FRAMES'!$D$46=\"EI-\",VLOOKUP('ORDER FRAMES'!$D$46,DEURDRANGER!$C$4:$H$4,3,FALSE),IF('ORDER FRAMES'!$D$46=\"EI0\",VLOOKUP('ORDER FRAMES'!$D$46,DEURDRANGER!$C$12:$H$12,3,FALSE))))","v":false},{"$f":"IF(OR('ORDER FRAMES'!$B$47=\"X40\",'ORDER FRAMES'!$B$47=\"X45\",'ORDER FRAMES'!$E$47=\"C\"),VLOOKUP('ORDER FRAMES'!$B$47,DEURDRANGER!$C$5:$H$10,3,FALSE),IF('ORDER FRAMES'!$D$47=\"EI-\",VLOOKUP('ORDER FRAMES'!$D$47,DEURDRANGER!$C$4:$H$4,3,FALSE),IF('ORDER FRAMES'!$D$47=\"EI0\",VLOOKUP('ORDER FRAMES'!$D$47,DEURDRANGER!$C$12:$H$12,3,FALSE))))","v":false},{"$f":"IF(OR('ORDER FRAMES'!$B$48=\"X40\",'ORDER FRAMES'!$B$48=\"X45\",'ORDER FRAMES'!$E$48=\"C\"),VLOOKUP('ORDER FRAMES'!$B$48,DEURDRANGER!$C$5:$H$10,3,FALSE),IF('ORDER FRAMES'!$D$48=\"EI-\",VLOOKUP('ORDER FRAMES'!$D$48,DEURDRANGER!$C$4:$H$4,3,FALSE),IF('ORDER FRAMES'!$D$48=\"EI0\",VLOOKUP('ORDER FRAMES'!$D$48,DEURDRANGER!$C$12:$H$12,3,FALSE))))","v":false},{"$f":"IF(OR('ORDER FRAMES'!$B$49=\"X40\",'ORDER FRAMES'!$B$49=\"X45\",'ORDER FRAMES'!$E$49=\"C\"),VLOOKUP('ORDER FRAMES'!$B$49,DEURDRANGER!$C$5:$H$10,3,FALSE),IF('ORDER FRAMES'!$D$49=\"EI-\",VLOOKUP('ORDER FRAMES'!$D$49,DEURDRANGER!$C$4:$H$4,3,FALSE),IF('ORDER FRAMES'!$D$49=\"EI0\",VLOOKUP('ORDER FRAMES'!$D$49,DEURDRANGER!$C$12:$H$12,3,FALSE))))","v":false},{"$f":"IF(OR('ORDER FRAMES'!$B$50=\"X40\",'ORDER FRAMES'!$B$50=\"X45\",'ORDER FRAMES'!$E$50=\"C\"),VLOOKUP('ORDER FRAMES'!$B$50,DEURDRANGER!$C$5:$H$10,3,FALSE),IF('ORDER FRAMES'!$D$50=\"EI-\",VLOOKUP('ORDER FRAMES'!$D$50,DEURDRANGER!$C$4:$H$4,3,FALSE),IF('ORDER FRAMES'!$D$50=\"EI0\",VLOOKUP('ORDER FRAMES'!$D$50,DEURDRANGER!$C$12:$H$12,3,FALSE))))","v":false},{"$f":"IF(OR('ORDER FRAMES'!$B$51=\"X40\",'ORDER FRAMES'!$B$50=\"X45\",'ORDER FRAMES'!$E$51=\"C\"),VLOOKUP('ORDER FRAMES'!$B$51,DEURDRANGER!$C$5:$H$10,3,FALSE),IF('ORDER FRAMES'!$D$51=\"EI-\",VLOOKUP('ORDER FRAMES'!$D$51,DEURDRANGER!$C$4:$H$4,3,FALSE),IF('ORDER FRAMES'!$D$51=\"EI0\",VLOOKUP('ORDER FRAMES'!$D$51,DEURDRANGER!$C$12:$H$12,3,FALSE))))","v":false},{"$f":"IF(OR('ORDER FRAMES'!$B$52=\"X40\",'ORDER FRAMES'!$B$52=\"X45\",'ORDER FRAMES'!$E$52=\"C\"),VLOOKUP('ORDER FRAMES'!$B$52,DEURDRANGER!$C$5:$H$10,3,FALSE),IF('ORDER FRAMES'!$D$52=\"EI-\",VLOOKUP('ORDER FRAMES'!$D$52,DEURDRANGER!$C$4:$H$4,3,FALSE),IF('ORDER FRAMES'!$D$52=\"EI0\",VLOOKUP('ORDER FRAMES'!$D$52,DEURDRANGER!$C$12:$H$12,3,FALSE))))","v":false},{"$f":"IF(OR('ORDER FRAMES'!$B$53=\"X40\",'ORDER FRAMES'!$B$53=\"X45\",'ORDER FRAMES'!$E$53=\"C\"),VLOOKUP('ORDER FRAMES'!$B$53,DEURDRANGER!$C$5:$H$10,3,FALSE),IF('ORDER FRAMES'!$D$53=\"EI-\",VLOOKUP('ORDER FRAMES'!$D$53,DEURDRANGER!$C$4:$H$4,3,FALSE),IF('ORDER FRAMES'!$D$53=\"EI0\",VLOOKUP('ORDER FRAMES'!$D$53,DEURDRANGER!$C$12:$H$12,3,FALSE))))","v":false},{"$f":"IF(OR('ORDER FRAMES'!$B$54=\"X40\",'ORDER FRAMES'!$B$54=\"X45\",'ORDER FRAMES'!$E$54=\"C\"),VLOOKUP('ORDER FRAMES'!$B$54,DEURDRANGER!$C$5:$H$10,3,FALSE),IF('ORDER FRAMES'!$D$54=\"EI-\",VLOOKUP('ORDER FRAMES'!$D$54,DEURDRANGER!$C$4:$H$4,3,FALSE),IF('ORDER FRAMES'!$D$54=\"EI0\",VLOOKUP('ORDER FRAMES'!$D$54,DEURDRANGER!$C$12:$H$12,3,FALSE))))","v":false},{"$f":"IF(OR('ORDER FRAMES'!$B$55=\"X40\",'ORDER FRAMES'!$B$55=\"X45\",'ORDER FRAMES'!$E$55=\"C\"),VLOOKUP('ORDER FRAMES'!$B$55,DEURDRANGER!$C$5:$H$10,3,FALSE),IF('ORDER FRAMES'!$D$55=\"EI-\",VLOOKUP('ORDER FRAMES'!$D$55,DEURDRANGER!$C$4:$H$4,3,FALSE),IF('ORDER FRAMES'!$D$55=\"EI0\",VLOOKUP('ORDER FRAMES'!$D$55,DEURDRANGER!$C$12:$H$12,3,FALSE))))","v":false},{"$f":"IF(OR('ORDER FRAMES'!$B$56=\"X40\",'ORDER FRAMES'!$B$56=\"X45\",'ORDER FRAMES'!$E$56=\"C\"),VLOOKUP('ORDER FRAMES'!$B$56,DEURDRANGER!$C$5:$H$10,3,FALSE),IF('ORDER FRAMES'!$D$56=\"EI-\",VLOOKUP('ORDER FRAMES'!$D$56,DEURDRANGER!$C$4:$H$4,3,FALSE),IF('ORDER FRAMES'!$D$56=\"EI0\",VLOOKUP('ORDER FRAMES'!$D$56,DEURDRANGER!$C$12:$H$12,3,FALSE))))","v":false},{"$f":"IF(OR('ORDER FRAMES'!$B$57=\"X40\",'ORDER FRAMES'!$B$57=\"X45\",'ORDER FRAMES'!$E$57=\"C\"),VLOOKUP('ORDER FRAMES'!$B$57,DEURDRANGER!$C$5:$H$10,3,FALSE),IF('ORDER FRAMES'!$D$57=\"EI-\",VLOOKUP('ORDER FRAMES'!$D$57,DEURDRANGER!$C$4:$H$4,3,FALSE),IF('ORDER FRAMES'!$D$57=\"EI0\",VLOOKUP('ORDER FRAMES'!$D$57,DEURDRANGER!$C$12:$H$12,3,FALSE))))","v":false},{"$f":"IF(OR('ORDER FRAMES'!$B$58=\"X40\",'ORDER FRAMES'!$B$58=\"X45\",'ORDER FRAMES'!$E$58=\"C\"),VLOOKUP('ORDER FRAMES'!$B$58,DEURDRANGER!$C$5:$H$10,3,FALSE),IF('ORDER FRAMES'!$D$58=\"EI-\",VLOOKUP('ORDER FRAMES'!$D$58,DEURDRANGER!$C$4:$H$4,3,FALSE),IF('ORDER FRAMES'!$D$58=\"EI0\",VLOOKUP('ORDER FRAMES'!$D$58,DEURDRANGER!$C$12:$H$12,3,FALSE))))","v":false},{"$f":"IF(OR('ORDER FRAMES'!$B$59=\"X40\",'ORDER FRAMES'!$B$59=\"X45\",'ORDER FRAMES'!$E$59=\"C\"),VLOOKUP('ORDER FRAMES'!$B$59,DEURDRANGER!$C$5:$H$10,3,FALSE),IF('ORDER FRAMES'!$D$59=\"EI-\",VLOOKUP('ORDER FRAMES'!$D$59,DEURDRANGER!$C$4:$H$4,3,FALSE),IF('ORDER FRAMES'!$D$59=\"EI0\",VLOOKUP('ORDER FRAMES'!$D$59,DEURDRANGER!$C$12:$H$12,3,FALSE))))","v":false},{"$f":"IF(OR('ORDER FRAMES'!$B$60=\"X40\",'ORDER FRAMES'!$B$60=\"X45\",'ORDER FRAMES'!$E$60=\"C\"),VLOOKUP('ORDER FRAMES'!$B$60,DEURDRANGER!$C$5:$H$10,3,FALSE),IF('ORDER FRAMES'!$D$60=\"EI-\",VLOOKUP('ORDER FRAMES'!$D$60,DEURDRANGER!$C$4:$H$4,3,FALSE),IF('ORDER FRAMES'!$D$60=\"EI0\",VLOOKUP('ORDER FRAMES'!$D$60,DEURDRANGER!$C$12:$H$12,3,FALSE))))","v":false},{"$f":"IF(OR('ORDER FRAMES'!$B$61=\"X40\",'ORDER FRAMES'!$B$61=\"X45\",'ORDER FRAMES'!$E$61=\"C\"),VLOOKUP('ORDER FRAMES'!$B$61,DEURDRANGER!$C$5:$H$10,3,FALSE),IF('ORDER FRAMES'!$D$61=\"EI-\",VLOOKUP('ORDER FRAMES'!$D$61,DEURDRANGER!$C$4:$H$4,3,FALSE),IF('ORDER FRAMES'!$D$61=\"EI0\",VLOOKUP('ORDER FRAMES'!$D$61,DEURDRANGER!$C$12:$H$12,3,FALSE))))","v":false},{"$f":"IF(OR('ORDER FRAMES'!$B$62=\"X40\",'ORDER FRAMES'!$B$62=\"X45\",'ORDER FRAMES'!$E$62=\"C\"),VLOOKUP('ORDER FRAMES'!$B$62,DEURDRANGER!$C$5:$H$10,3,FALSE),IF('ORDER FRAMES'!$D$62=\"EI-\",VLOOKUP('ORDER FRAMES'!$D$62,DEURDRANGER!$C$4:$H$4,3,FALSE),IF('ORDER FRAMES'!$D$62=\"EI0\",VLOOKUP('ORDER FRAMES'!$D$62,DEURDRANGER!$C$12:$H$12,3,FALSE))))","v":false},{"$f":"IF(OR('ORDER FRAMES'!$B$50=\"X40\",'ORDER FRAMES'!$B$50=\"X45\",'ORDER FRAMES'!$E$63=\"C\"),VLOOKUP('ORDER FRAMES'!$B$50,DEURDRANGER!$C$5:$H$10,3,FALSE),IF('ORDER FRAMES'!$D$50=\"EI-\",VLOOKUP('ORDER FRAMES'!$D$50,DEURDRANGER!$C$4:$H$4,3,FALSE),IF('ORDER FRAMES'!$D$50=\"EI0\",VLOOKUP('ORDER FRAMES'!$D$50,DEURDRANGER!$C$12:$H$12,3,FALSE))))","v":false},{"$f":"IF(OR('ORDER FRAMES'!$B$64=\"X40\",'ORDER FRAMES'!$B$64=\"X45\",'ORDER FRAMES'!$E$64=\"C\"),VLOOKUP('ORDER FRAMES'!$B$64,DEURDRANGER!$C$5:$H$10,3,FALSE),IF('ORDER FRAMES'!$D$64=\"EI-\",VLOOKUP('ORDER FRAMES'!$D$64,DEURDRANGER!$C$4:$H$4,3,FALSE),IF('ORDER FRAMES'!$D$64=\"EI0\",VLOOKUP('ORDER FRAMES'!$D$64,DEURDRANGER!$C$12:$H$12,3,FALSE))))","v":false},{"$f":"IF(OR('ORDER FRAMES'!$B$65=\"X40\",'ORDER FRAMES'!$B$65=\"X45\",'ORDER FRAMES'!$E$65=\"C\"),VLOOKUP('ORDER FRAMES'!$B$65,DEURDRANGER!$C$5:$H$10,3,FALSE),IF('ORDER FRAMES'!$D$65=\"EI-\",VLOOKUP('ORDER FRAMES'!$D$65,DEURDRANGER!$C$4:$H$4,3,FALSE),IF('ORDER FRAMES'!$D$65=\"EI0\",VLOOKUP('ORDER FRAMES'!$D$65,DEURDRANGER!$C$12:$H$12,3,FALSE))))","v":false},{"$f":"IF(OR('ORDER FRAMES'!$B$66=\"X40\",'ORDER FRAMES'!$B$66=\"X45\",'ORDER FRAMES'!$E$66=\"C\"),VLOOKUP('ORDER FRAMES'!$B$66,DEURDRANGER!$C$5:$H$10,3,FALSE),IF('ORDER FRAMES'!$D$66=\"EI-\",VLOOKUP('ORDER FRAMES'!$D$66,DEURDRANGER!$C$4:$H$4,3,FALSE),IF('ORDER FRAMES'!$D$66=\"EI0\",VLOOKUP('ORDER FRAMES'!$D$66,DEURDRANGER!$C$12:$H$12,3,FALSE))))","v":false},{"$f":"IF(OR('ORDER FRAMES'!$B$67=\"X40\",'ORDER FRAMES'!$B$67=\"X45\",'ORDER FRAMES'!$E$67=\"C\"),VLOOKUP('ORDER FRAMES'!$B$67,DEURDRANGER!$C$5:$H$10,3,FALSE),IF('ORDER FRAMES'!$D$67=\"EI-\",VLOOKUP('ORDER FRAMES'!$D$67,DEURDRANGER!$C$4:$H$4,3,FALSE),IF('ORDER FRAMES'!$D$67=\"EI0\",VLOOKUP('ORDER FRAMES'!$D$67,DEURDRANGER!$C$12:$H$12,3,FALSE))))","v":false},{"$f":"IF(OR('ORDER FRAMES'!$B$68=\"X40\",'ORDER FRAMES'!$B$68=\"X45\",'ORDER FRAMES'!$E$68=\"C\"),VLOOKUP('ORDER FRAMES'!$B$68,DEURDRANGER!$C$5:$H$10,3,FALSE),IF('ORDER FRAMES'!$D$68=\"EI-\",VLOOKUP('ORDER FRAMES'!$D$68,DEURDRANGER!$C$4:$H$4,3,FALSE),IF('ORDER FRAMES'!$D$68=\"EI0\",VLOOKUP('ORDER FRAMES'!$D$68,DEURDRANGER!$C$12:$H$12,3,FALSE))))","v":false},{"$f":"IF(OR('ORDER FRAMES'!$B$69=\"X40\",'ORDER FRAMES'!$B$69=\"X45\",'ORDER FRAMES'!$E$69=\"C\"),VLOOKUP('ORDER FRAMES'!$B$69,DEURDRANGER!$C$5:$H$10,3,FALSE),IF('ORDER FRAMES'!$D$69=\"EI-\",VLOOKUP('ORDER FRAMES'!$D$69,DEURDRANGER!$C$4:$H$4,3,FALSE),IF('ORDER FRAMES'!$D$69=\"EI0\",VLOOKUP('ORDER FRAMES'!$D$69,DEURDRANGER!$C$12:$H$12,3,FALSE))))","v":false},{"$f":"IF(OR('ORDER FRAMES'!$B$70=\"X40\",'ORDER FRAMES'!$B$70=\"X45\",'ORDER FRAMES'!$E$70=\"C\"),VLOOKUP('ORDER FRAMES'!$B$70,DEURDRANGER!$C$5:$H$10,3,FALSE),IF('ORDER FRAMES'!$D$70=\"EI-\",VLOOKUP('ORDER FRAMES'!$D$70,DEURDRANGER!$C$4:$H$4,3,FALSE),IF('ORDER FRAMES'!$D$70=\"EI0\",VLOOKUP('ORDER FRAMES'!$D$70,DEURDRANGER!$C$12:$H$12,3,FALSE))))","v":false},{"$f":"IF(OR('ORDER FRAMES'!$B$71=\"X40\",'ORDER FRAMES'!$B$71=\"X45\",'ORDER FRAMES'!$E$71=\"C\"),VLOOKUP('ORDER FRAMES'!$B$71,DEURDRANGER!$C$5:$H$10,3,FALSE),IF('ORDER FRAMES'!$D$71=\"EI-\",VLOOKUP('ORDER FRAMES'!$D$71,DEURDRANGER!$C$4:$H$4,3,FALSE),IF('ORDER FRAMES'!$D$71=\"EI0\",VLOOKUP('ORDER FRAMES'!$D$71,DEURDRANGER!$C$12:$H$12,3,FALSE))))","v":false},{"$f":"IF(OR('ORDER FRAMES'!$B$72=\"X40\",'ORDER FRAMES'!$B$72=\"X45\",'ORDER FRAMES'!$E$72=\"C\"),VLOOKUP('ORDER FRAMES'!$B$72,DEURDRANGER!$C$5:$H$10,3,FALSE),IF('ORDER FRAMES'!$D$72=\"EI-\",VLOOKUP('ORDER FRAMES'!$D$72,DEURDRANGER!$C$4:$H$4,3,FALSE),IF('ORDER FRAMES'!$D$72=\"EI0\",VLOOKUP('ORDER FRAMES'!$D$72,DEURDRANGER!$C$12:$H$12,3,FALSE))))","v":false},{"$f":"IF(OR('ORDER FRAMES'!$B$73=\"X40\",'ORDER FRAMES'!$B$73=\"X45\",'ORDER FRAMES'!$E$73=\"C\"),VLOOKUP('ORDER FRAMES'!$B$73,DEURDRANGER!$C$5:$H$10,3,FALSE),IF('ORDER FRAMES'!$D$73=\"EI-\",VLOOKUP('ORDER FRAMES'!$D$73,DEURDRANGER!$C$4:$H$4,3,FALSE),IF('ORDER FRAMES'!$D$73=\"EI0\",VLOOKUP('ORDER FRAMES'!$D$73,DEURDRANGER!$C$12:$H$12,3,FALSE))))","v":false},{"$f":"IF(OR('ORDER FRAMES'!$B$74=\"X40\",'ORDER FRAMES'!$B$74=\"X45\",'ORDER FRAMES'!$E$74=\"C\"),VLOOKUP('ORDER FRAMES'!$B$74,DEURDRANGER!$C$5:$H$10,3,FALSE),IF('ORDER FRAMES'!$D$74=\"EI-\",VLOOKUP('ORDER FRAMES'!$D$74,DEURDRANGER!$C$4:$H$4,3,FALSE),IF('ORDER FRAMES'!$D$74=\"EI0\",VLOOKUP('ORDER FRAMES'!$D$74,DEURDRANGER!$C$12:$H$12,3,FALSE))))","v":false},{"$f":"IF(OR('ORDER FRAMES'!$B$75=\"X40\",'ORDER FRAMES'!$B$75=\"X45\",'ORDER FRAMES'!$E$75=\"C\"),VLOOKUP('ORDER FRAMES'!$B$75,DEURDRANGER!$C$5:$H$10,3,FALSE),IF('ORDER FRAMES'!$D$75=\"EI-\",VLOOKUP('ORDER FRAMES'!$D$75,DEURDRANGER!$C$4:$H$4,3,FALSE),IF('ORDER FRAMES'!$D$75=\"EI0\",VLOOKUP('ORDER FRAMES'!$D$75,DEURDRANGER!$C$12:$H$12,3,FALSE))))","v":false},{"$f":"IF(OR('ORDER FRAMES'!$B$76=\"X40\",'ORDER FRAMES'!$B$76=\"X45\",'ORDER FRAMES'!$E$76=\"C\"),VLOOKUP('ORDER FRAMES'!$B$76,DEURDRANGER!$C$5:$H$10,3,FALSE),IF('ORDER FRAMES'!$D$76=\"EI-\",VLOOKUP('ORDER FRAMES'!$D$76,DEURDRANGER!$C$4:$H$4,3,FALSE),IF('ORDER FRAMES'!$D$76=\"EI0\",VLOOKUP('ORDER FRAMES'!$D$76,DEURDRANGER!$C$12:$H$12,3,FALSE))))","v":false},{"$f":"IF(OR('ORDER FRAMES'!$B$77=\"X40\",'ORDER FRAMES'!$B$77=\"X45\",'ORDER FRAMES'!$E$77=\"C\"),VLOOKUP('ORDER FRAMES'!$B$77,DEURDRANGER!$C$5:$H$10,3,FALSE),IF('ORDER FRAMES'!$D$77=\"EI-\",VLOOKUP('ORDER FRAMES'!$D$77,DEURDRANGER!$C$4:$H$4,3,FALSE),IF('ORDER FRAMES'!$D$77=\"EI0\",VLOOKUP('ORDER FRAMES'!$D$77,DEURDRANGER!$C$12:$H$12,3,FALSE))))","v":false},{"$f":"IF(OR('ORDER FRAMES'!$B$78=\"X40\",'ORDER FRAMES'!$B$78=\"X45\",'ORDER FRAMES'!$E$78=\"C\"),VLOOKUP('ORDER FRAMES'!$B$78,DEURDRANGER!$C$5:$H$10,3,FALSE),IF('ORDER FRAMES'!$D$78=\"EI-\",VLOOKUP('ORDER FRAMES'!$D$78,DEURDRANGER!$C$4:$H$4,3,FALSE),IF('ORDER FRAMES'!$D$78=\"EI0\",VLOOKUP('ORDER FRAMES'!$D$78,DEURDRANGER!$C$12:$H$12,3,FALSE))))","v":false},{"$f":"IF(OR('ORDER FRAMES'!$B$79=\"X40\",'ORDER FRAMES'!$B$79=\"X45\",'ORDER FRAMES'!$E$79=\"C\"),VLOOKUP('ORDER FRAMES'!$B$79,DEURDRANGER!$C$5:$H$10,3,FALSE),IF('ORDER FRAMES'!$D$79=\"EI-\",VLOOKUP('ORDER FRAMES'!$D$79,DEURDRANGER!$C$4:$H$4,3,FALSE),IF('ORDER FRAMES'!$D$79=\"EI0\",VLOOKUP('ORDER FRAMES'!$D$79,DEURDRANGER!$C$12:$H$12,3,FALSE))))","v":false},{"$f":"IF(OR('ORDER FRAMES'!$B$80=\"X40\",'ORDER FRAMES'!$B$80=\"X45\",'ORDER FRAMES'!$E$80=\"C\"),VLOOKUP('ORDER FRAMES'!$B$80,DEURDRANGER!$C$5:$H$10,3,FALSE),IF('ORDER FRAMES'!$D$80=\"EI-\",VLOOKUP('ORDER FRAMES'!$D$80,DEURDRANGER!$C$4:$H$4,3,FALSE),IF('ORDER FRAMES'!$D$80=\"EI0\",VLOOKUP('ORDER FRAMES'!$D$80,DEURDRANGER!$C$12:$H$12,3,FALSE))))","v":false},{"$f":"IF(OR('ORDER FRAMES'!$B$81=\"X40\",'ORDER FRAMES'!$B$81=\"X45\",'ORDER FRAMES'!$E$81=\"C\"),VLOOKUP('ORDER FRAMES'!$B$81,DEURDRANGER!$C$5:$H$10,3,FALSE),IF('ORDER FRAMES'!$D$81=\"EI-\",VLOOKUP('ORDER FRAMES'!$D$81,DEURDRANGER!$C$4:$H$4,3,FALSE),IF('ORDER FRAMES'!$D$81=\"EI0\",VLOOKUP('ORDER FRAMES'!$D$81,DEURDRANGER!$C$12:$H$12,3,FALSE))))","v":false},{"$f":"IF(OR('ORDER FRAMES'!$B$82=\"X40\",'ORDER FRAMES'!$B$82=\"X45\",'ORDER FRAMES'!$E$82=\"C\"),VLOOKUP('ORDER FRAMES'!$B$82,DEURDRANGER!$C$5:$H$10,3,FALSE),IF('ORDER FRAMES'!$D$82=\"EI-\",VLOOKUP('ORDER FRAMES'!$D$82,DEURDRANGER!$C$4:$H$4,3,FALSE),IF('ORDER FRAMES'!$D$82=\"EI0\",VLOOKUP('ORDER FRAMES'!$D$82,DEURDRANGER!$C$12:$H$12,3,FALSE))))","v":false},{"$f":"IF(OR('ORDER FRAMES'!$B$83=\"X40\",'ORDER FRAMES'!$B$83=\"X45\",'ORDER FRAMES'!$E$83=\"C\"),VLOOKUP('ORDER FRAMES'!$B$83,DEURDRANGER!$C$5:$H$10,3,FALSE),IF('ORDER FRAMES'!$D$83=\"EI-\",VLOOKUP('ORDER FRAMES'!$D$83,DEURDRANGER!$C$4:$H$4,3,FALSE),IF('ORDER FRAMES'!$D$83=\"EI0\",VLOOKUP('ORDER FRAMES'!$D$83,DEURDRANGER!$C$12:$H$12,3,FALSE))))","v":false},{"$f":"IF(OR('ORDER FRAMES'!$B$84=\"X40\",'ORDER FRAMES'!$B$84=\"X45\",'ORDER FRAMES'!$E$84=\"C\"),VLOOKUP('ORDER FRAMES'!$B$84,DEURDRANGER!$C$5:$H$10,3,FALSE),IF('ORDER FRAMES'!$D$84=\"EI-\",VLOOKUP('ORDER FRAMES'!$D$84,DEURDRANGER!$C$4:$H$4,3,FALSE),IF('ORDER FRAMES'!$D$84=\"EI0\",VLOOKUP('ORDER FRAMES'!$D$84,DEURDRANGER!$C$12:$H$12,3,FALSE))))","v":false},{"$f":"IF(OR('ORDER FRAMES'!$B$85=\"X40\",'ORDER FRAMES'!$B$85=\"X45\",'ORDER FRAMES'!$E$85=\"C\"),VLOOKUP('ORDER FRAMES'!$B$85,DEURDRANGER!$C$5:$H$10,3,FALSE),IF('ORDER FRAMES'!$D$85=\"EI-\",VLOOKUP('ORDER FRAMES'!$D$85,DEURDRANGER!$C$4:$H$4,3,FALSE),IF('ORDER FRAMES'!$D$85=\"EI0\",VLOOKUP('ORDER FRAMES'!$D$85,DEURDRANGER!$C$12:$H$12,3,FALSE))))","v":false},{"$f":"IF(OR('ORDER FRAMES'!$B$86=\"X40\",'ORDER FRAMES'!$B$86=\"X45\",'ORDER FRAMES'!$E$86=\"C\"),VLOOKUP('ORDER FRAMES'!$B$86,DEURDRANGER!$C$5:$H$10,3,FALSE),IF('ORDER FRAMES'!$D$86=\"EI-\",VLOOKUP('ORDER FRAMES'!$D$86,DEURDRANGER!$C$4:$H$4,3,FALSE),IF('ORDER FRAMES'!$D$86=\"EI0\",VLOOKUP('ORDER FRAMES'!$D$86,DEURDRANGER!$C$12:$H$12,3,FALSE))))","v":false},{"$f":"IF(OR('ORDER FRAMES'!$B$87=\"X40\",'ORDER FRAMES'!$B$87=\"X45\",'ORDER FRAMES'!$E$87=\"C\"),VLOOKUP('ORDER FRAMES'!$B$87,DEURDRANGER!$C$5:$H$10,3,FALSE),IF('ORDER FRAMES'!$D$87=\"EI-\",VLOOKUP('ORDER FRAMES'!$D$87,DEURDRANGER!$C$4:$H$4,3,FALSE),IF('ORDER FRAMES'!$D$87=\"EI0\",VLOOKUP('ORDER FRAMES'!$D$87,DEURDRANGER!$C$12:$H$12,3,FALSE))))","v":false},{"$f":"IF(OR('ORDER FRAMES'!$B$88=\"X40\",'ORDER FRAMES'!$B$88=\"X45\",'ORDER FRAMES'!$E$88=\"C\"),VLOOKUP('ORDER FRAMES'!$B$88,DEURDRANGER!$C$5:$H$10,3,FALSE),IF('ORDER FRAMES'!$D$88=\"EI-\",VLOOKUP('ORDER FRAMES'!$D$88,DEURDRANGER!$C$4:$H$4,3,FALSE),IF('ORDER FRAMES'!$D$88=\"EI0\",VLOOKUP('ORDER FRAMES'!$D$88,DEURDRANGER!$C$12:$H$12,3,FALSE))))","v":false},{"$f":"IF(OR('ORDER FRAMES'!$B$89=\"X40\",'ORDER FRAMES'!$B$89=\"X45\",'ORDER FRAMES'!$E$89=\"C\"),VLOOKUP('ORDER FRAMES'!$B$89,DEURDRANGER!$C$5:$H$10,3,FALSE),IF('ORDER FRAMES'!$D$89=\"EI-\",VLOOKUP('ORDER FRAMES'!$D$89,DEURDRANGER!$C$4:$H$4,3,FALSE),IF('ORDER FRAMES'!$D$89=\"EI0\",VLOOKUP('ORDER FRAMES'!$D$89,DEURDRANGER!$C$12:$H$12,3,FALSE))))","v":false},{"$f":"IF(OR('ORDER FRAMES'!$B$90=\"X40\",'ORDER FRAMES'!$B$90=\"X45\",'ORDER FRAMES'!$E$90=\"C\"),VLOOKUP('ORDER FRAMES'!$B$90,DEURDRANGER!$C$5:$H$10,3,FALSE),IF('ORDER FRAMES'!$D$90=\"EI-\",VLOOKUP('ORDER FRAMES'!$D$90,DEURDRANGER!$C$4:$H$4,3,FALSE),IF('ORDER FRAMES'!$D$90=\"EI0\",VLOOKUP('ORDER FRAMES'!$D$90,DEURDRANGER!$C$12:$H$12,3,FALSE))))","v":false},{"$f":"IF(OR('ORDER FRAMES'!$B$91=\"X40\",'ORDER FRAMES'!$B$91=\"X45\",'ORDER FRAMES'!$E$91=\"C\"),VLOOKUP('ORDER FRAMES'!$B$91,DEURDRANGER!$C$5:$H$10,3,FALSE),IF('ORDER FRAMES'!$D$91=\"EI-\",VLOOKUP('ORDER FRAMES'!$D$91,DEURDRANGER!$C$4:$H$4,3,FALSE),IF('ORDER FRAMES'!$D$91=\"EI0\",VLOOKUP('ORDER FRAMES'!$D$91,DEURDRANGER!$C$12:$H$12,3,FALSE))))","v":false},{"$f":"IF(OR('ORDER FRAMES'!$B$92=\"X40\",'ORDER FRAMES'!$B$92=\"X45\",'ORDER FRAMES'!$E$92=\"C\"),VLOOKUP('ORDER FRAMES'!$B$92,DEURDRANGER!$C$5:$H$10,3,FALSE),IF('ORDER FRAMES'!$D$92=\"EI-\",VLOOKUP('ORDER FRAMES'!$D$92,DEURDRANGER!$C$4:$H$4,3,FALSE),IF('ORDER FRAMES'!$D$92=\"EI0\",VLOOKUP('ORDER FRAMES'!$D$92,DEURDRANGER!$C$12:$H$12,3,FALSE))))","v":false},{"$f":"IF(OR('ORDER FRAMES'!$B$93=\"X40\",'ORDER FRAMES'!$B$93=\"X45\",'ORDER FRAMES'!$E$93=\"C\"),VLOOKUP('ORDER FRAMES'!$B$93,DEURDRANGER!$C$5:$H$10,3,FALSE),IF('ORDER FRAMES'!$D$93=\"EI-\",VLOOKUP('ORDER FRAMES'!$D$93,DEURDRANGER!$C$4:$H$4,3,FALSE),IF('ORDER FRAMES'!$D$93=\"EI0\",VLOOKUP('ORDER FRAMES'!$D$93,DEURDRANGER!$C$12:$H$12,3,FALSE))))","v":false},{"$f":"IF(OR('ORDER FRAMES'!$B$94=\"X40\",'ORDER FRAMES'!$B$94=\"X45\",'ORDER FRAMES'!$E$94=\"C\"),VLOOKUP('ORDER FRAMES'!$B$94,DEURDRANGER!$C$5:$H$10,3,FALSE),IF('ORDER FRAMES'!$D$94=\"EI-\",VLOOKUP('ORDER FRAMES'!$D$94,DEURDRANGER!$C$4:$H$4,3,FALSE),IF('ORDER FRAMES'!$D$94=\"EI0\",VLOOKUP('ORDER FRAMES'!$D$94,DEURDRANGER!$C$12:$H$12,3,FALSE))))","v":false},{"$f":"IF(OR('ORDER FRAMES'!$B$95=\"X40\",'ORDER FRAMES'!$B$95=\"X45\",'ORDER FRAMES'!$E$95=\"C\"),VLOOKUP('ORDER FRAMES'!$B$95,DEURDRANGER!$C$5:$H$10,3,FALSE),IF('ORDER FRAMES'!$D$95=\"EI-\",VLOOKUP('ORDER FRAMES'!$D$95,DEURDRANGER!$C$4:$H$4,3,FALSE),IF('ORDER FRAMES'!$D$95=\"EI0\",VLOOKUP('ORDER FRAMES'!$D$95,DEURDRANGER!$C$12:$H$12,3,FALSE))))","v":false},{"$f":"IF(OR('ORDER FRAMES'!$B$96=\"X40\",'ORDER FRAMES'!$B$96=\"X45\",'ORDER FRAMES'!$E$96=\"C\"),VLOOKUP('ORDER FRAMES'!$B$96,DEURDRANGER!$C$5:$H$10,3,FALSE),IF('ORDER FRAMES'!$D$96=\"EI-\",VLOOKUP('ORDER FRAMES'!$D$96,DEURDRANGER!$C$4:$H$4,3,FALSE),IF('ORDER FRAMES'!$D$96=\"EI0\",VLOOKUP('ORDER FRAMES'!$D$96,DEURDRANGER!$C$12:$H$12,3,FALSE))))","v":false},{"$f":"IF(OR('ORDER FRAMES'!$B$97=\"X40\",'ORDER FRAMES'!$B$97=\"X45\",'ORDER FRAMES'!$E$97=\"C\"),VLOOKUP('ORDER FRAMES'!$B$97,DEURDRANGER!$C$5:$H$10,3,FALSE),IF('ORDER FRAMES'!$D$97=\"EI-\",VLOOKUP('ORDER FRAMES'!$D$97,DEURDRANGER!$C$4:$H$4,3,FALSE),IF('ORDER FRAMES'!$D$97=\"EI0\",VLOOKUP('ORDER FRAMES'!$D$97,DEURDRANGER!$C$12:$H$12,3,FALSE))))","v":false},{"$f":"IF(OR('ORDER FRAMES'!$B$98=\"X40\",'ORDER FRAMES'!$B$98=\"X45\",'ORDER FRAMES'!$E$98=\"C\"),VLOOKUP('ORDER FRAMES'!$B$98,DEURDRANGER!$C$5:$H$10,3,FALSE),IF('ORDER FRAMES'!$D$98=\"EI-\",VLOOKUP('ORDER FRAMES'!$D$98,DEURDRANGER!$C$4:$H$4,3,FALSE),IF('ORDER FRAMES'!$D$98=\"EI0\",VLOOKUP('ORDER FRAMES'!$D$98,DEURDRANGER!$C$12:$H$12,3,FALSE))))","v":false},{"$f":"IF(OR('ORDER FRAMES'!$B$99=\"X40\",'ORDER FRAMES'!$B$99=\"X45\",'ORDER FRAMES'!$E$99=\"C\"),VLOOKUP('ORDER FRAMES'!$B$99,DEURDRANGER!$C$5:$H$10,3,FALSE),IF('ORDER FRAMES'!$D$99=\"EI-\",VLOOKUP('ORDER FRAMES'!$D$99,DEURDRANGER!$C$4:$H$4,3,FALSE),IF('ORDER FRAMES'!$D$99=\"EI0\",VLOOKUP('ORDER FRAMES'!$D$99,DEURDRANGER!$C$12:$H$12,3,FALSE))))","v":false},{"$f":"IF(OR('ORDER FRAMES'!$B$100=\"X40\",'ORDER FRAMES'!$B$100=\"X45\",'ORDER FRAMES'!$E$100=\"C\"),VLOOKUP('ORDER FRAMES'!$B$100,DEURDRANGER!$C$5:$H$10,3,FALSE),IF('ORDER FRAMES'!$D$100=\"EI-\",VLOOKUP('ORDER FRAMES'!$D$100,DEURDRANGER!$C$4:$H$4,3,FALSE),IF('ORDER FRAMES'!$D$100=\"EI0\",VLOOKUP('ORDER FRAMES'!$D$100,DEURDRANGER!$C$12:$H$12,3,FALSE))))","v":false}]
[null,"X40","X40",1,null,null,null,5,null,null,null,null,null,null,null,{"$f":"IF(OR('ORDER FRAMES'!$B$21=\"X40\",'ORDER FRAMES'!$B$21=\"X45\",'ORDER FRAMES'!$E$21=\"C\"),VLOOKUP('ORDER FRAMES'!$B$21,DEURDRANGER!$C$5:$H$10,4,FALSE),IF('ORDER FRAMES'!$D$21=\"EI-\",VLOOKUP('ORDER FRAMES'!$D$21,DEURDRANGER!$C$4:$H$4,4,FALSE),IF('ORDER FRAMES'!$D$21=\"EI0\",VLOOKUP('ORDER FRAMES'!$D$21,DEURDRANGER!$C$12:$H$12,4,FALSE))))","v":3},{"$f":"IF(OR('ORDER FRAMES'!$B$22=\"X40\",'ORDER FRAMES'!$B$22=\"X45\",'ORDER FRAMES'!$E$22=\"C\"),VLOOKUP('ORDER FRAMES'!$B$22,DEURDRANGER!$C$5:$H$10,4,FALSE),IF('ORDER FRAMES'!$D$22=\"EI-\",VLOOKUP('ORDER FRAMES'!$D$22,DEURDRANGER!$C$4:$H$4,4,FALSE),IF('ORDER FRAMES'!$D$22=\"EI0\",VLOOKUP('ORDER FRAMES'!$D$22,DEURDRANGER!$C$12:$H$12,4,FALSE))))","v":3},{"$f":"IF(OR('ORDER FRAMES'!$B$23=\"X40\",'ORDER FRAMES'!$B$23=\"X45\",'ORDER FRAMES'!$E$23=\"C\"),VLOOKUP('ORDER FRAMES'!$B$23,DEURDRANGER!$C$5:$H$10,4,FALSE),IF('ORDER FRAMES'!$D$23=\"EI-\",VLOOKUP('ORDER FRAMES'!$D$23,DEURDRANGER!$C$4:$H$4,4,FALSE),IF('ORDER FRAMES'!$D$23=\"EI0\",VLOOKUP('ORDER FRAMES'!$D$23,DEURDRANGER!$C$12:$H$12,4,FALSE))))","v":false},{"$f":"IF(OR('ORDER FRAMES'!$B$24=\"X40\",'ORDER FRAMES'!$B$24=\"X45\",'ORDER FRAMES'!$E$24=\"C\"),VLOOKUP('ORDER FRAMES'!$B$24,DEURDRANGER!$C$5:$H$10,4,FALSE),IF('ORDER FRAMES'!$D$24=\"EI-\",VLOOKUP('ORDER FRAMES'!$D$24,DEURDRANGER!$C$4:$H$4,4,FALSE),IF('ORDER FRAMES'!$D$24=\"EI0\",VLOOKUP('ORDER FRAMES'!$D$24,DEURDRANGER!$C$12:$H$12,4,FALSE))))","v":false},{"$f":"IF(OR('ORDER FRAMES'!$B$25=\"X40\",'ORDER FRAMES'!$B$25=\"X45\",'ORDER FRAMES'!$E$25=\"C\"),VLOOKUP('ORDER FRAMES'!$B$25,DEURDRANGER!$C$5:$H$10,4,FALSE),IF('ORDER FRAMES'!$D$25=\"EI-\",VLOOKUP('ORDER FRAMES'!$D$25,DEURDRANGER!$C$4:$H$4,4,FALSE),IF('ORDER FRAMES'!$D$25=\"EI0\",VLOOKUP('ORDER FRAMES'!$D$25,DEURDRANGER!$C$12:$H$12,4,FALSE))))","v":false},{"$f":"IF(OR('ORDER FRAMES'!$B$26=\"X40\",'ORDER FRAMES'!$B$26=\"X45\",'ORDER FRAMES'!$E$26=\"C\"),VLOOKUP('ORDER FRAMES'!$B$26,DEURDRANGER!$C$5:$H$10,4,FALSE),IF('ORDER FRAMES'!$D$26=\"EI-\",VLOOKUP('ORDER FRAMES'!$D$26,DEURDRANGER!$C$4:$H$4,4,FALSE),IF('ORDER FRAMES'!$D$26=\"EI0\",VLOOKUP('ORDER FRAMES'!$D$26,DEURDRANGER!$C$12:$H$12,4,FALSE))))","v":false},{"$f":"IF(OR('ORDER FRAMES'!$B$27=\"X40\",'ORDER FRAMES'!$B$27=\"X45\",'ORDER FRAMES'!$E$27=\"C\"),VLOOKUP('ORDER FRAMES'!$B$27,DEURDRANGER!$C$5:$H$10,4,FALSE),IF('ORDER FRAMES'!$D$27=\"EI-\",VLOOKUP('ORDER FRAMES'!$D$27,DEURDRANGER!$C$4:$H$4,4,FALSE),IF('ORDER FRAMES'!$D$27=\"EI0\",VLOOKUP('ORDER FRAMES'!$D$27,DEURDRANGER!$C$12:$H$12,4,FALSE))))","v":false},{"$f":"IF(OR('ORDER FRAMES'!$B$28=\"X40\",'ORDER FRAMES'!$B$28=\"X45\",'ORDER FRAMES'!$E$28=\"C\"),VLOOKUP('ORDER FRAMES'!$B$28,DEURDRANGER!$C$5:$H$10,4,FALSE),IF('ORDER FRAMES'!$D$28=\"EI-\",VLOOKUP('ORDER FRAMES'!$D$28,DEURDRANGER!$C$4:$H$4,4,FALSE),IF('ORDER FRAMES'!$D$28=\"EI0\",VLOOKUP('ORDER FRAMES'!$D$28,DEURDRANGER!$C$12:$H$12,4,FALSE))))","v":false},{"$f":"IF(OR('ORDER FRAMES'!$B$29=\"X40\",'ORDER FRAMES'!$B$29=\"X45\",'ORDER FRAMES'!$E$29=\"C\"),VLOOKUP('ORDER FRAMES'!$B$29,DEURDRANGER!$C$5:$H$10,4,FALSE),IF('ORDER FRAMES'!$D$29=\"EI-\",VLOOKUP('ORDER FRAMES'!$D$29,DEURDRANGER!$C$4:$H$4,4,FALSE),IF('ORDER FRAMES'!$D$29=\"EI0\",VLOOKUP('ORDER FRAMES'!$D$29,DEURDRANGER!$C$12:$H$12,4,FALSE))))","v":false},{"$f":"IF(OR('ORDER FRAMES'!$B$30=\"X40\",'ORDER FRAMES'!$B$30=\"X45\",'ORDER FRAMES'!$E$30=\"C\"),VLOOKUP('ORDER FRAMES'!$B$30,DEURDRANGER!$C$5:$H$10,4,FALSE),IF('ORDER FRAMES'!$D$30=\"EI-\",VLOOKUP('ORDER FRAMES'!$D$30,DEURDRANGER!$C$4:$H$4,4,FALSE),IF('ORDER FRAMES'!$D$30=\"EI0\",VLOOKUP('ORDER FRAMES'!$D$30,DEURDRANGER!$C$12:$H$12,4,FALSE))))","v":false},{"$f":"IF(OR('ORDER FRAMES'!$B$31=\"X40\",'ORDER FRAMES'!$B$31=\"X45\",'ORDER FRAMES'!$E$31=\"C\"),VLOOKUP('ORDER FRAMES'!$B$31,DEURDRANGER!$C$5:$H$10,4,FALSE),IF('ORDER FRAMES'!$D$31=\"EI-\",VLOOKUP('ORDER FRAMES'!$D$31,DEURDRANGER!$C$4:$H$4,4,FALSE),IF('ORDER FRAMES'!$D$31=\"EI0\",VLOOKUP('ORDER FRAMES'!$D$31,DEURDRANGER!$C$12:$H$12,4,FALSE))))","v":false},{"$f":"IF(OR('ORDER FRAMES'!$B$32=\"X40\",'ORDER FRAMES'!$B$32=\"X45\",'ORDER FRAMES'!$E$32=\"C\"),VLOOKUP('ORDER FRAMES'!$B$32,DEURDRANGER!$C$5:$H$10,4,FALSE),IF('ORDER FRAMES'!$D$32=\"EI-\",VLOOKUP('ORDER FRAMES'!$D$32,DEURDRANGER!$C$4:$H$4,4,FALSE),IF('ORDER FRAMES'!$D$32=\"EI0\",VLOOKUP('ORDER FRAMES'!$D$32,DEURDRANGER!$C$12:$H$12,4,FALSE))))","v":false},{"$f":"IF(OR('ORDER FRAMES'!$B$33=\"X40\",'ORDER FRAMES'!$B$33=\"X45\",'ORDER FRAMES'!$E$33=\"C\"),VLOOKUP('ORDER FRAMES'!$B$33,DEURDRANGER!$C$5:$H$10,4,FALSE),IF('ORDER FRAMES'!$D$33=\"EI-\",VLOOKUP('ORDER FRAMES'!$D$33,DEURDRANGER!$C$4:$H$4,4,FALSE),IF('ORDER FRAMES'!$D$33=\"EI0\",VLOOKUP('ORDER FRAMES'!$D$33,DEURDRANGER!$C$12:$H$12,4,FALSE))))","v":false},{"$f":"IF(OR('ORDER FRAMES'!$B$34=\"X40\",'ORDER FRAMES'!$B$34=\"X45\",'ORDER FRAMES'!$E$34=\"C\"),VLOOKUP('ORDER FRAMES'!$B$34,DEURDRANGER!$C$5:$H$10,4,FALSE),IF('ORDER FRAMES'!$D$34=\"EI-\",VLOOKUP('ORDER FRAMES'!$D$34,DEURDRANGER!$C$4:$H$4,4,FALSE),IF('ORDER FRAMES'!$D$34=\"EI0\",VLOOKUP('ORDER FRAMES'!$D$34,DEURDRANGER!$C$12:$H$12,4,FALSE))))","v":false},{"$f":"IF(OR('ORDER FRAMES'!$B$35=\"X40\",'ORDER FRAMES'!$B$35=\"X45\",'ORDER FRAMES'!$E$35=\"C\"),VLOOKUP('ORDER FRAMES'!$B$35,DEURDRANGER!$C$5:$H$10,4,FALSE),IF('ORDER FRAMES'!$D$35=\"EI-\",VLOOKUP('ORDER FRAMES'!$D$35,DEURDRANGER!$C$4:$H$4,4,FALSE),IF('ORDER FRAMES'!$D$35=\"EI0\",VLOOKUP('ORDER FRAMES'!$D$35,DEURDRANGER!$C$12:$H$12,4,FALSE))))","v":false},{"$f":"IF(OR('ORDER FRAMES'!$B$36=\"X40\",'ORDER FRAMES'!$B$36=\"X45\",'ORDER FRAMES'!$E$36=\"C\"),VLOOKUP('ORDER FRAMES'!$B$36,DEURDRANGER!$C$5:$H$10,4,FALSE),IF('ORDER FRAMES'!$D$36=\"EI-\",VLOOKUP('ORDER FRAMES'!$D$36,DEURDRANGER!$C$4:$H$4,4,FALSE),IF('ORDER FRAMES'!$D$36=\"EI0\",VLOOKUP('ORDER FRAMES'!$D$36,DEURDRANGER!$C$12:$H$12,4,FALSE))))","v":false},{"$f":"IF(OR('ORDER FRAMES'!$B$37=\"X40\",'ORDER FRAMES'!$B$37=\"X45\",'ORDER FRAMES'!$E$37=\"C\"),VLOOKUP('ORDER FRAMES'!$B$37,DEURDRANGER!$C$5:$H$10,4,FALSE),IF('ORDER FRAMES'!$D$37=\"EI-\",VLOOKUP('ORDER FRAMES'!$D$37,DEURDRANGER!$C$4:$H$4,4,FALSE),IF('ORDER FRAMES'!$D$37=\"EI0\",VLOOKUP('ORDER FRAMES'!$D$37,DEURDRANGER!$C$12:$H$12,4,FALSE))))","v":false},{"$f":"IF(OR('ORDER FRAMES'!$B$38=\"X40\",'ORDER FRAMES'!$B$38=\"X45\",'ORDER FRAMES'!$E$38=\"C\"),VLOOKUP('ORDER FRAMES'!$B$38,DEURDRANGER!$C$5:$H$10,4,FALSE),IF('ORDER FRAMES'!$D$38=\"EI-\",VLOOKUP('ORDER FRAMES'!$D$38,DEURDRANGER!$C$4:$H$4,4,FALSE),IF('ORDER FRAMES'!$D$38=\"EI0\",VLOOKUP('ORDER FRAMES'!$D$38,DEURDRANGER!$C$12:$H$12,4,FALSE))))","v":false},{"$f":"IF(OR('ORDER FRAMES'!$B$39=\"X40\",'ORDER FRAMES'!$B$39=\"X45\",'ORDER FRAMES'!$E$39=\"C\"),VLOOKUP('ORDER FRAMES'!$B$39,DEURDRANGER!$C$5:$H$10,4,FALSE),IF('ORDER FRAMES'!$D$39=\"EI-\",VLOOKUP('ORDER FRAMES'!$D$39,DEURDRANGER!$C$4:$H$4,4,FALSE),IF('ORDER FRAMES'!$D$39=\"EI0\",VLOOKUP('ORDER FRAMES'!$D$39,DEURDRANGER!$C$12:$H$12,4,FALSE))))","v":false},{"$f":"IF(OR('ORDER FRAMES'!$B$40=\"X40\",'ORDER FRAMES'!$B$40=\"X45\",'ORDER FRAMES'!$E$40=\"C\"),VLOOKUP('ORDER FRAMES'!$B$40,DEURDRANGER!$C$5:$H$10,4,FALSE),IF('ORDER FRAMES'!$D$40=\"EI-\",VLOOKUP('ORDER FRAMES'!$D$40,DEURDRANGER!$C$4:$H$4,4,FALSE),IF('ORDER FRAMES'!$D$40=\"EI0\",VLOOKUP('ORDER FRAMES'!$D$40,DEURDRANGER!$C$12:$H$12,4,FALSE))))","v":false},{"$f":"IF(OR('ORDER FRAMES'!$B$41=\"X40\",'ORDER FRAMES'!$B$41=\"X45\",'ORDER FRAMES'!$E$41=\"C\"),VLOOKUP('ORDER FRAMES'!$B$41,DEURDRANGER!$C$5:$H$10,4,FALSE),IF('ORDER FRAMES'!$D$41=\"EI-\",VLOOKUP('ORDER FRAMES'!$D$41,DEURDRANGER!$C$4:$H$4,4,FALSE),IF('ORDER FRAMES'!$D$41=\"EI0\",VLOOKUP('ORDER FRAMES'!$D$41,DEURDRANGER!$C$12:$H$12,4,FALSE))))","v":false},{"$f":"IF(OR('ORDER FRAMES'!$B$42=\"X40\",'ORDER FRAMES'!$B$42=\"X45\",'ORDER FRAMES'!$E$42=\"C\"),VLOOKUP('ORDER FRAMES'!$B$42,DEURDRANGER!$C$5:$H$10,4,FALSE),IF('ORDER FRAMES'!$D$42=\"EI-\",VLOOKUP('ORDER FRAMES'!$D$42,DEURDRANGER!$C$4:$H$4,4,FALSE),IF('ORDER FRAMES'!$D$42=\"EI0\",VLOOKUP('ORDER FRAMES'!$D$42,DEURDRANGER!$C$12:$H$12,4,FALSE))))","v":false},{"$f":"IF(OR('ORDER FRAMES'!$B$43=\"X40\",'ORDER FRAMES'!$B$43=\"X45\",'ORDER FRAMES'!$E$43=\"C\"),VLOOKUP('ORDER FRAMES'!$B$43,DEURDRANGER!$C$5:$H$10,4,FALSE),IF('ORDER FRAMES'!$D$43=\"EI-\",VLOOKUP('ORDER FRAMES'!$D$43,DEURDRANGER!$C$4:$H$4,4,FALSE),IF('ORDER FRAMES'!$D$43=\"EI0\",VLOOKUP('ORDER FRAMES'!$D$43,DEURDRANGER!$C$12:$H$12,4,FALSE))))","v":false},{"$f":"IF(OR('ORDER FRAMES'!$B$44=\"X40\",'ORDER FRAMES'!$B$44=\"X45\",'ORDER FRAMES'!$E$44=\"C\"),VLOOKUP('ORDER FRAMES'!$B$44,DEURDRANGER!$C$5:$H$10,4,FALSE),IF('ORDER FRAMES'!$D$44=\"EI-\",VLOOKUP('ORDER FRAMES'!$D$44,DEURDRANGER!$C$4:$H$4,4,FALSE),IF('ORDER FRAMES'!$D$44=\"EI0\",VLOOKUP('ORDER FRAMES'!$D$44,DEURDRANGER!$C$12:$H$12,4,FALSE))))","v":false},{"$f":"IF(OR('ORDER FRAMES'!$B$45=\"X40\",'ORDER FRAMES'!$B$45=\"X45\",'ORDER FRAMES'!$E$45=\"C\"),VLOOKUP('ORDER FRAMES'!$B$45,DEURDRANGER!$C$5:$H$10,4,FALSE),IF('ORDER FRAMES'!$D$45=\"EI-\",VLOOKUP('ORDER FRAMES'!$D$45,DEURDRANGER!$C$4:$H$4,4,FALSE),IF('ORDER FRAMES'!$D$45=\"EI0.\",VLOOKUP('ORDER FRAMES'!$D$45,DEURDRANGER!$C$12:$H$12,4,FALSE))))","v":false},{"$f":"IF(OR('ORDER FRAMES'!$B$46=\"X40\",'ORDER FRAMES'!$B$46=\"X45\",'ORDER FRAMES'!$E$46=\"C\"),VLOOKUP('ORDER FRAMES'!$B$46,DEURDRANGER!$C$5:$H$10,4,FALSE),IF('ORDER FRAMES'!$D$46=\"EI-\",VLOOKUP('ORDER FRAMES'!$D$46,DEURDRANGER!$C$4:$H$4,4,FALSE),IF('ORDER FRAMES'!$D$46=\"EI0\",VLOOKUP('ORDER FRAMES'!$D$46,DEURDRANGER!$C$12:$H$12,4,FALSE))))","v":false},{"$f":"IF(OR('ORDER FRAMES'!$B$47=\"X40\",'ORDER FRAMES'!$B$47=\"X45\",'ORDER FRAMES'!$E$47=\"C\"),VLOOKUP('ORDER FRAMES'!$B$47,DEURDRANGER!$C$5:$H$10,4,FALSE),IF('ORDER FRAMES'!$D$47=\"EI-\",VLOOKUP('ORDER FRAMES'!$D$47,DEURDRANGER!$C$4:$H$4,4,FALSE),IF('ORDER FRAMES'!$D$47=\"EI0\",VLOOKUP('ORDER FRAMES'!$D$47,DEURDRANGER!$C$12:$H$12,4,FALSE))))","v":false},{"$f":"IF(OR('ORDER FRAMES'!$B$48=\"X40\",'ORDER FRAMES'!$B$48=\"X45\",'ORDER FRAMES'!$E$48=\"C\"),VLOOKUP('ORDER FRAMES'!$B$48,DEURDRANGER!$C$5:$H$10,4,FALSE),IF('ORDER FRAMES'!$D$48=\"EI-\",VLOOKUP('ORDER FRAMES'!$D$48,DEURDRANGER!$C$4:$H$4,4,FALSE),IF('ORDER FRAMES'!$D$48=\"EI0\",VLOOKUP('ORDER FRAMES'!$D$48,DEURDRANGER!$C$12:$H$12,4,FALSE))))","v":false},{"$f":"IF(OR('ORDER FRAMES'!$B$49=\"X40\",'ORDER FRAMES'!$B$49=\"X45\",'ORDER FRAMES'!$E$49=\"C\"),VLOOKUP('ORDER FRAMES'!$B$49,DEURDRANGER!$C$5:$H$10,4,FALSE),IF('ORDER FRAMES'!$D$49=\"EI-\",VLOOKUP('ORDER FRAMES'!$D$49,DEURDRANGER!$C$4:$H$4,4,FALSE),IF('ORDER FRAMES'!$D$49=\"EI0\",VLOOKUP('ORDER FRAMES'!$D$49,DEURDRANGER!$C$12:$H$12,4,FALSE))))","v":false},{"$f":"IF(OR('ORDER FRAMES'!$B$50=\"X40\",'ORDER FRAMES'!$B$50=\"X45\",'ORDER FRAMES'!$E$50=\"C\"),VLOOKUP('ORDER FRAMES'!$B$50,DEURDRANGER!$C$5:$H$10,4,FALSE),IF('ORDER FRAMES'!$D$50=\"EI-\",VLOOKUP('ORDER FRAMES'!$D$50,DEURDRANGER!$C$4:$H$4,4,FALSE),IF('ORDER FRAMES'!$D$50=\"EI0\",VLOOKUP('ORDER FRAMES'!$D$50,DEURDRANGER!$C$12:$H$12,4,FALSE))))","v":false},{"$f":"IF(OR('ORDER FRAMES'!$B$51=\"X40\",'ORDER FRAMES'!$B$51=\"X45\",'ORDER FRAMES'!$E$51=\"C\"),VLOOKUP('ORDER FRAMES'!$B$51,DEURDRANGER!$C$5:$H$10,4,FALSE),IF('ORDER FRAMES'!$D$51=\"EI-\",VLOOKUP('ORDER FRAMES'!$D$51,DEURDRANGER!$C$4:$H$4,4,FALSE),IF('ORDER FRAMES'!$D$51=\"EI0\",VLOOKUP('ORDER FRAMES'!$D$51,DEURDRANGER!$C$12:$H$12,4,FALSE))))","v":false},{"$f":"IF(OR('ORDER FRAMES'!$B$52=\"X40\",'ORDER FRAMES'!$B$52=\"X45\",'ORDER FRAMES'!$E$52=\"C\"),VLOOKUP('ORDER FRAMES'!$B$52,DEURDRANGER!$C$5:$H$10,4,FALSE),IF('ORDER FRAMES'!$D$52=\"EI-\",VLOOKUP('ORDER FRAMES'!$D$52,DEURDRANGER!$C$4:$H$4,4,FALSE),IF('ORDER FRAMES'!$D$52=\"EI0\",VLOOKUP('ORDER FRAMES'!$D$52,DEURDRANGER!$C$12:$H$12,4,FALSE))))","v":false},{"$f":"IF(OR('ORDER FRAMES'!$B$53=\"X40\",'ORDER FRAMES'!$B$53=\"X45\",'ORDER FRAMES'!$E$53=\"C\"),VLOOKUP('ORDER FRAMES'!$B$53,DEURDRANGER!$C$5:$H$10,4,FALSE),IF('ORDER FRAMES'!$D$53=\"EI-\",VLOOKUP('ORDER FRAMES'!$D$53,DEURDRANGER!$C$4:$H$4,4,FALSE),IF('ORDER FRAMES'!$D$53=\"EI0\",VLOOKUP('ORDER FRAMES'!$D$53,DEURDRANGER!$C$12:$H$12,4,FALSE))))","v":false},{"$f":"IF(OR('ORDER FRAMES'!$B$54=\"X40\",'ORDER FRAMES'!$B$54=\"X45\",'ORDER FRAMES'!$E$54=\"C\"),VLOOKUP('ORDER FRAMES'!$B$54,DEURDRANGER!$C$5:$H$10,4,FALSE),IF('ORDER FRAMES'!$D$54=\"EI-\",VLOOKUP('ORDER FRAMES'!$D$54,DEURDRANGER!$C$4:$H$4,4,FALSE),IF('ORDER FRAMES'!$D$54=\"EI0\",VLOOKUP('ORDER FRAMES'!$D$54,DEURDRANGER!$C$12:$H$12,4,FALSE))))","v":false},{"$f":"IF(OR('ORDER FRAMES'!$B$55=\"X40\",'ORDER FRAMES'!$B$55=\"X45\",'ORDER FRAMES'!$E$55=\"C\"),VLOOKUP('ORDER FRAMES'!$B$55,DEURDRANGER!$C$5:$H$10,4,FALSE),IF('ORDER FRAMES'!$D$55=\"EI-\",VLOOKUP('ORDER FRAMES'!$D$55,DEURDRANGER!$C$4:$H$4,4,FALSE),IF('ORDER FRAMES'!$D$55=\"EI0\",VLOOKUP('ORDER FRAMES'!$D$55,DEURDRANGER!$C$12:$H$12,4,FALSE))))","v":false},{"$f":"IF(OR('ORDER FRAMES'!$B$56=\"X40\",'ORDER FRAMES'!$B$56=\"X45\",'ORDER FRAMES'!$E$56=\"C\"),VLOOKUP('ORDER FRAMES'!$B$56,DEURDRANGER!$C$5:$H$10,4,FALSE),IF('ORDER FRAMES'!$D$56=\"EI-\",VLOOKUP('ORDER FRAMES'!$D$56,DEURDRANGER!$C$4:$H$4,4,FALSE),IF('ORDER FRAMES'!$D$56=\"EI0\",VLOOKUP('ORDER FRAMES'!$D$56,DEURDRANGER!$C$12:$H$12,4,FALSE))))","v":false},{"$f":"IF(OR('ORDER FRAMES'!$B$57=\"X40\",'ORDER FRAMES'!$B$57=\"X45\",'ORDER FRAMES'!$E$57=\"C\"),VLOOKUP('ORDER FRAMES'!$B$57,DEURDRANGER!$C$5:$H$10,4,FALSE),IF('ORDER FRAMES'!$D$57=\"EI-\",VLOOKUP('ORDER FRAMES'!$D$57,DEURDRANGER!$C$4:$H$4,4,FALSE),IF('ORDER FRAMES'!$D$57=\"EI0\",VLOOKUP('ORDER FRAMES'!$D$57,DEURDRANGER!$C$12:$H$12,4,FALSE))))","v":false},{"$f":"IF(OR('ORDER FRAMES'!$B$58=\"X40\",'ORDER FRAMES'!$B$58=\"X45\",'ORDER FRAMES'!$E$58=\"C\"),VLOOKUP('ORDER FRAMES'!$B$58,DEURDRANGER!$C$5:$H$10,4,FALSE),IF('ORDER FRAMES'!$D$58=\"EI-\",VLOOKUP('ORDER FRAMES'!$D$58,DEURDRANGER!$C$4:$H$4,4,FALSE),IF('ORDER FRAMES'!$D$58=\"EI0\",VLOOKUP('ORDER FRAMES'!$D$58,DEURDRANGER!$C$12:$H$12,4,FALSE))))","v":false},{"$f":"IF(OR('ORDER FRAMES'!$B$59=\"X40\",'ORDER FRAMES'!$B$59=\"X45\",'ORDER FRAMES'!$E$59=\"C\"),VLOOKUP('ORDER FRAMES'!$B$59,DEURDRANGER!$C$5:$H$10,4,FALSE),IF('ORDER FRAMES'!$D$59=\"EI-\",VLOOKUP('ORDER FRAMES'!$D$59,DEURDRANGER!$C$4:$H$4,4,FALSE),IF('ORDER FRAMES'!$D$59=\"EI0\",VLOOKUP('ORDER FRAMES'!$D$59,DEURDRANGER!$C$12:$H$12,4,FALSE))))","v":false},{"$f":"IF(OR('ORDER FRAMES'!$B$60=\"X40\",'ORDER FRAMES'!$B$60=\"X45\",'ORDER FRAMES'!$E$60=\"C\"),VLOOKUP('ORDER FRAMES'!$B$60,DEURDRANGER!$C$5:$H$10,4,FALSE),IF('ORDER FRAMES'!$D$60=\"EI-\",VLOOKUP('ORDER FRAMES'!$D$60,DEURDRANGER!$C$4:$H$4,4,FALSE),IF('ORDER FRAMES'!$D$60=\"EI0\",VLOOKUP('ORDER FRAMES'!$D$60,DEURDRANGER!$C$12:$H$12,4,FALSE))))","v":false},{"$f":"IF(OR('ORDER FRAMES'!$B$61=\"X40\",'ORDER FRAMES'!$B$61=\"X45\",'ORDER FRAMES'!$E$61=\"C\"),VLOOKUP('ORDER FRAMES'!$B$61,DEURDRANGER!$C$5:$H$10,4,FALSE),IF('ORDER FRAMES'!$D$61=\"EI-\",VLOOKUP('ORDER FRAMES'!$D$61,DEURDRANGER!$C$4:$H$4,4,FALSE),IF('ORDER FRAMES'!$D$61=\"EI0\",VLOOKUP('ORDER FRAMES'!$D$61,DEURDRANGER!$C$12:$H$12,4,FALSE))))","v":false},{"$f":"IF(OR('ORDER FRAMES'!$B$62=\"X40\",'ORDER FRAMES'!$B$62=\"X45\",'ORDER FRAMES'!$E$62=\"C\"),VLOOKUP('ORDER FRAMES'!$B$62,DEURDRANGER!$C$5:$H$10,4,FALSE),IF('ORDER FRAMES'!$D$62=\"EI-\",VLOOKUP('ORDER FRAMES'!$D$62,DEURDRANGER!$C$4:$H$4,4,FALSE),IF('ORDER FRAMES'!$D$62=\"EI0\",VLOOKUP('ORDER FRAMES'!$D$62,DEURDRANGER!$C$12:$H$12,4,FALSE))))","v":false},{"$f":"IF(OR('ORDER FRAMES'!$B$50=\"X40\",'ORDER FRAMES'!$B$50=\"X45\",'ORDER FRAMES'!$E$63=\"C\"),VLOOKUP('ORDER FRAMES'!$B$50,DEURDRANGER!$C$5:$H$10,4,FALSE),IF('ORDER FRAMES'!$D$50=\"EI-\",VLOOKUP('ORDER FRAMES'!$D$50,DEURDRANGER!$C$4:$H$4,4,FALSE),IF('ORDER FRAMES'!$D$50=\"EI0\",VLOOKUP('ORDER FRAMES'!$D$50,DEURDRANGER!$C$12:$H$12,4,FALSE))))","v":false},{"$f":"IF(OR('ORDER FRAMES'!$B$64=\"X40\",'ORDER FRAMES'!$B$64=\"X45\",'ORDER FRAMES'!$E$64=\"C\"),VLOOKUP('ORDER FRAMES'!$B$64,DEURDRANGER!$C$5:$H$10,4,FALSE),IF('ORDER FRAMES'!$D$64=\"EI-\",VLOOKUP('ORDER FRAMES'!$D$64,DEURDRANGER!$C$4:$H$4,4,FALSE),IF('ORDER FRAMES'!$D$64=\"EI0\",VLOOKUP('ORDER FRAMES'!$D$64,DEURDRANGER!$C$12:$H$12,4,FALSE))))","v":false},{"$f":"IF(OR('ORDER FRAMES'!$B$65=\"X40\",'ORDER FRAMES'!$B$65=\"X45\",'ORDER FRAMES'!$E$65=\"C\"),VLOOKUP('ORDER FRAMES'!$B$65,DEURDRANGER!$C$5:$H$10,4,FALSE),IF('ORDER FRAMES'!$D$65=\"EI-\",VLOOKUP('ORDER FRAMES'!$D$65,DEURDRANGER!$C$4:$H$4,4,FALSE),IF('ORDER FRAMES'!$D$65=\"EI0\",VLOOKUP('ORDER FRAMES'!$D$65,DEURDRANGER!$C$12:$H$12,4,FALSE))))","v":false},{"$f":"IF(OR('ORDER FRAMES'!$B$66=\"X40\",'ORDER FRAMES'!$B$66=\"X45\",'ORDER FRAMES'!$E$66=\"C\"),VLOOKUP('ORDER FRAMES'!$B$66,DEURDRANGER!$C$5:$H$10,4,FALSE),IF('ORDER FRAMES'!$D$66=\"EI-\",VLOOKUP('ORDER FRAMES'!$D$66,DEURDRANGER!$C$4:$H$4,4,FALSE),IF('ORDER FRAMES'!$D$66=\"EI0\",VLOOKUP('ORDER FRAMES'!$D$66,DEURDRANGER!$C$12:$H$12,4,FALSE))))","v":false},{"$f":"IF(OR('ORDER FRAMES'!$B$67=\"X40\",'ORDER FRAMES'!$B$67=\"X45\",'ORDER FRAMES'!$E$67=\"C\"),VLOOKUP('ORDER FRAMES'!$B$67,DEURDRANGER!$C$5:$H$10,4,FALSE),IF('ORDER FRAMES'!$D$67=\"EI-\",VLOOKUP('ORDER FRAMES'!$D$67,DEURDRANGER!$C$4:$H$4,4,FALSE),IF('ORDER FRAMES'!$D$67=\"EI0\",VLOOKUP('ORDER FRAMES'!$D$67,DEURDRANGER!$C$12:$H$12,4,FALSE))))","v":false},{"$f":"IF(OR('ORDER FRAMES'!$B$68=\"X40\",'ORDER FRAMES'!$B$68=\"X45\",'ORDER FRAMES'!$E$68=\"C\"),VLOOKUP('ORDER FRAMES'!$B$68,DEURDRANGER!$C$5:$H$10,4,FALSE),IF('ORDER FRAMES'!$D$68=\"EI-\",VLOOKUP('ORDER FRAMES'!$D$68,DEURDRANGER!$C$4:$H$4,4,FALSE),IF('ORDER FRAMES'!$D$68=\"EI0\",VLOOKUP('ORDER FRAMES'!$D$68,DEURDRANGER!$C$12:$H$12,4,FALSE))))","v":false},{"$f":"IF(OR('ORDER FRAMES'!$B$69=\"X40\",'ORDER FRAMES'!$B$69=\"X45\",'ORDER FRAMES'!$E$69=\"C\"),VLOOKUP('ORDER FRAMES'!$B$69,DEURDRANGER!$C$5:$H$10,4,FALSE),IF('ORDER FRAMES'!$D$69=\"EI-\",VLOOKUP('ORDER FRAMES'!$D$69,DEURDRANGER!$C$4:$H$4,4,FALSE),IF('ORDER FRAMES'!$D$69=\"EI0\",VLOOKUP('ORDER FRAMES'!$D$69,DEURDRANGER!$C$12:$H$12,4,FALSE))))","v":false},{"$f":"IF(OR('ORDER FRAMES'!$B$70=\"X40\",'ORDER FRAMES'!$B$70=\"X45\",'ORDER FRAMES'!$E$70=\"C\"),VLOOKUP('ORDER FRAMES'!$B$70,DEURDRANGER!$C$5:$H$10,4,FALSE),IF('ORDER FRAMES'!$D$70=\"EI-\",VLOOKUP('ORDER FRAMES'!$D$70,DEURDRANGER!$C$4:$H$4,4,FALSE),IF('ORDER FRAMES'!$D$70=\"EI0\",VLOOKUP('ORDER FRAMES'!$D$70,DEURDRANGER!$C$12:$H$12,4,FALSE))))","v":false},{"$f":"IF(OR('ORDER FRAMES'!$B$71=\"X40\",'ORDER FRAMES'!$B$71=\"X45\",'ORDER FRAMES'!$E$71=\"C\"),VLOOKUP('ORDER FRAMES'!$B$71,DEURDRANGER!$C$5:$H$10,4,FALSE),IF('ORDER FRAMES'!$D$71=\"EI-\",VLOOKUP('ORDER FRAMES'!$D$71,DEURDRANGER!$C$4:$H$4,4,FALSE),IF('ORDER FRAMES'!$D$71=\"EI0\",VLOOKUP('ORDER FRAMES'!$D$71,DEURDRANGER!$C$12:$H$12,4,FALSE))))","v":false},{"$f":"IF(OR('ORDER FRAMES'!$B$72=\"X40\",'ORDER FRAMES'!$B$72=\"X45\",'ORDER FRAMES'!$E$72=\"C\"),VLOOKUP('ORDER FRAMES'!$B$72,DEURDRANGER!$C$5:$H$10,4,FALSE),IF('ORDER FRAMES'!$D$72=\"EI-\",VLOOKUP('ORDER FRAMES'!$D$72,DEURDRANGER!$C$4:$H$4,4,FALSE),IF('ORDER FRAMES'!$D$72=\"EI0\",VLOOKUP('ORDER FRAMES'!$D$72,DEURDRANGER!$C$12:$H$12,4,FALSE))))","v":false},{"$f":"IF(OR('ORDER FRAMES'!$B$73=\"X40\",'ORDER FRAMES'!$B$73=\"X45\",'ORDER FRAMES'!$E$73=\"C\"),VLOOKUP('ORDER FRAMES'!$B$73,DEURDRANGER!$C$5:$H$10,4,FALSE),IF('ORDER FRAMES'!$D$73=\"EI-\",VLOOKUP('ORDER FRAMES'!$D$73,DEURDRANGER!$C$4:$H$4,4,FALSE),IF('ORDER FRAMES'!$D$73=\"EI0\",VLOOKUP('ORDER FRAMES'!$D$73,DEURDRANGER!$C$12:$H$12,4,FALSE))))","v":false},{"$f":"IF(OR('ORDER FRAMES'!$B$74=\"X40\",'ORDER FRAMES'!$B$74=\"X45\",'ORDER FRAMES'!$E$74=\"C\"),VLOOKUP('ORDER FRAMES'!$B$74,DEURDRANGER!$C$5:$H$10,4,FALSE),IF('ORDER FRAMES'!$D$74=\"EI-\",VLOOKUP('ORDER FRAMES'!$D$74,DEURDRANGER!$C$4:$H$4,4,FALSE),IF('ORDER FRAMES'!$D$74=\"EI0\",VLOOKUP('ORDER FRAMES'!$D$74,DEURDRANGER!$C$12:$H$12,4,FALSE))))","v":false},{"$f":"IF(OR('ORDER FRAMES'!$B$75=\"X40\",'ORDER FRAMES'!$B$75=\"X45\",'ORDER FRAMES'!$E$75=\"C\"),VLOOKUP('ORDER FRAMES'!$B$75,DEURDRANGER!$C$5:$H$10,4,FALSE),IF('ORDER FRAMES'!$D$75=\"EI-\",VLOOKUP('ORDER FRAMES'!$D$75,DEURDRANGER!$C$4:$H$4,4,FALSE),IF('ORDER FRAMES'!$D$75=\"EI0\",VLOOKUP('ORDER FRAMES'!$D$75,DEURDRANGER!$C$12:$H$12,4,FALSE))))","v":false},{"$f":"IF(OR('ORDER FRAMES'!$B$76=\"X40\",'ORDER FRAMES'!$B$76=\"X45\",'ORDER FRAMES'!$E$76=\"C\"),VLOOKUP('ORDER FRAMES'!$B$76,DEURDRANGER!$C$5:$H$10,4,FALSE),IF('ORDER FRAMES'!$D$76=\"EI-\",VLOOKUP('ORDER FRAMES'!$D$76,DEURDRANGER!$C$4:$H$4,4,FALSE),IF('ORDER FRAMES'!$D$76=\"EI0\",VLOOKUP('ORDER FRAMES'!$D$76,DEURDRANGER!$C$12:$H$12,4,FALSE))))","v":false},{"$f":"IF(OR('ORDER FRAMES'!$B$77=\"X40\",'ORDER FRAMES'!$B$77=\"X45\",'ORDER FRAMES'!$E$77=\"C\"),VLOOKUP('ORDER FRAMES'!$B$77,DEURDRANGER!$C$5:$H$10,4,FALSE),IF('ORDER FRAMES'!$D$77=\"EI-\",VLOOKUP('ORDER FRAMES'!$D$77,DEURDRANGER!$C$4:$H$4,4,FALSE),IF('ORDER FRAMES'!$D$77=\"EI0\",VLOOKUP('ORDER FRAMES'!$D$77,DEURDRANGER!$C$12:$H$12,4,FALSE))))","v":false},{"$f":"IF(OR('ORDER FRAMES'!$B$78=\"X40\",'ORDER FRAMES'!$B$78=\"X45\",'ORDER FRAMES'!$E$78=\"C\"),VLOOKUP('ORDER FRAMES'!$B$78,DEURDRANGER!$C$5:$H$10,4,FALSE),IF('ORDER FRAMES'!$D$78=\"EI-\",VLOOKUP('ORDER FRAMES'!$D$78,DEURDRANGER!$C$4:$H$4,4,FALSE),IF('ORDER FRAMES'!$D$78=\"EI0\",VLOOKUP('ORDER FRAMES'!$D$78,DEURDRANGER!$C$12:$H$12,4,FALSE))))","v":false},{"$f":"IF(OR('ORDER FRAMES'!$B$79=\"X40\",'ORDER FRAMES'!$B$79=\"X45\",'ORDER FRAMES'!$E$79=\"C\"),VLOOKUP('ORDER FRAMES'!$B$79,DEURDRANGER!$C$5:$H$10,4,FALSE),IF('ORDER FRAMES'!$D$79=\"EI-\",VLOOKUP('ORDER FRAMES'!$D$79,DEURDRANGER!$C$4:$H$4,4,FALSE),IF('ORDER FRAMES'!$D$79=\"EI0\",VLOOKUP('ORDER FRAMES'!$D$79,DEURDRANGER!$C$12:$H$12,4,FALSE))))","v":false},{"$f":"IF(OR('ORDER FRAMES'!$B$80=\"X40\",'ORDER FRAMES'!$B$80=\"X45\",'ORDER FRAMES'!$E$80=\"C\"),VLOOKUP('ORDER FRAMES'!$B$80,DEURDRANGER!$C$5:$H$10,4,FALSE),IF('ORDER FRAMES'!$D$80=\"EI-\",VLOOKUP('ORDER FRAMES'!$D$80,DEURDRANGER!$C$4:$H$4,4,FALSE),IF('ORDER FRAMES'!$D$80=\"EI0\",VLOOKUP('ORDER FRAMES'!$D$80,DEURDRANGER!$C$12:$H$12,4,FALSE))))","v":false},{"$f":"IF(OR('ORDER FRAMES'!$B$81=\"X40\",'ORDER FRAMES'!$B$81=\"X45\",'ORDER FRAMES'!$E$81=\"C\"),VLOOKUP('ORDER FRAMES'!$B$81,DEURDRANGER!$C$5:$H$10,4,FALSE),IF('ORDER FRAMES'!$D$81=\"EI-\",VLOOKUP('ORDER FRAMES'!$D$81,DEURDRANGER!$C$4:$H$4,4,FALSE),IF('ORDER FRAMES'!$D$81=\"EI0\",VLOOKUP('ORDER FRAMES'!$D$81,DEURDRANGER!$C$12:$H$12,4,FALSE))))","v":false},{"$f":"IF(OR('ORDER FRAMES'!$B$82=\"X40\",'ORDER FRAMES'!$B$82=\"X45\",'ORDER FRAMES'!$E$82=\"C\"),VLOOKUP('ORDER FRAMES'!$B$82,DEURDRANGER!$C$5:$H$10,4,FALSE),IF('ORDER FRAMES'!$D$82=\"EI-\",VLOOKUP('ORDER FRAMES'!$D$82,DEURDRANGER!$C$4:$H$4,4,FALSE),IF('ORDER FRAMES'!$D$82=\"EI0\",VLOOKUP('ORDER FRAMES'!$D$82,DEURDRANGER!$C$12:$H$12,4,FALSE))))","v":false},{"$f":"IF(OR('ORDER FRAMES'!$B$83=\"X40\",'ORDER FRAMES'!$B$83=\"X45\",'ORDER FRAMES'!$E$83=\"C\"),VLOOKUP('ORDER FRAMES'!$B$83,DEURDRANGER!$C$5:$H$10,4,FALSE),IF('ORDER FRAMES'!$D$83=\"EI-\",VLOOKUP('ORDER FRAMES'!$D$83,DEURDRANGER!$C$4:$H$4,4,FALSE),IF('ORDER FRAMES'!$D$83=\"EI0\",VLOOKUP('ORDER FRAMES'!$D$83,DEURDRANGER!$C$12:$H$12,4,FALSE))))","v":false},{"$f":"IF(OR('ORDER FRAMES'!$B$84=\"X40\",'ORDER FRAMES'!$B$84=\"X45\",'ORDER FRAMES'!$E$84=\"C\"),VLOOKUP('ORDER FRAMES'!$B$84,DEURDRANGER!$C$5:$H$10,4,FALSE),IF('ORDER FRAMES'!$D$84=\"EI-\",VLOOKUP('ORDER FRAMES'!$D$84,DEURDRANGER!$C$4:$H$4,4,FALSE),IF('ORDER FRAMES'!$D$84=\"EI0\",VLOOKUP('ORDER FRAMES'!$D$84,DEURDRANGER!$C$12:$H$12,4,FALSE))))","v":false},{"$f":"IF(OR('ORDER FRAMES'!$B$85=\"X40\",'ORDER FRAMES'!$B$85=\"X45\",'ORDER FRAMES'!$E$85=\"C\"),VLOOKUP('ORDER FRAMES'!$B$85,DEURDRANGER!$C$5:$H$10,4,FALSE),IF('ORDER FRAMES'!$D$85=\"EI-\",VLOOKUP('ORDER FRAMES'!$D$85,DEURDRANGER!$C$4:$H$4,4,FALSE),IF('ORDER FRAMES'!$D$85=\"EI0\",VLOOKUP('ORDER FRAMES'!$D$85,DEURDRANGER!$C$12:$H$12,4,FALSE))))","v":false},{"$f":"IF(OR('ORDER FRAMES'!$B$86=\"X40\",'ORDER FRAMES'!$B$86=\"X45\",'ORDER FRAMES'!$E$86=\"C\"),VLOOKUP('ORDER FRAMES'!$B$86,DEURDRANGER!$C$5:$H$10,4,FALSE),IF('ORDER FRAMES'!$D$86=\"EI-\",VLOOKUP('ORDER FRAMES'!$D$86,DEURDRANGER!$C$4:$H$4,4,FALSE),IF('ORDER FRAMES'!$D$86=\"EI0\",VLOOKUP('ORDER FRAMES'!$D$86,DEURDRANGER!$C$12:$H$12,4,FALSE))))","v":false},{"$f":"IF(OR('ORDER FRAMES'!$B$87=\"X40\",'ORDER FRAMES'!$B$87=\"X45\",'ORDER FRAMES'!$E$87=\"C\"),VLOOKUP('ORDER FRAMES'!$B$87,DEURDRANGER!$C$5:$H$10,4,FALSE),IF('ORDER FRAMES'!$D$87=\"EI-\",VLOOKUP('ORDER FRAMES'!$D$87,DEURDRANGER!$C$4:$H$4,4,FALSE),IF('ORDER FRAMES'!$D$87=\"EI0\",VLOOKUP('ORDER FRAMES'!$D$87,DEURDRANGER!$C$12:$H$12,4,FALSE))))","v":false},{"$f":"IF(OR('ORDER FRAMES'!$B$88=\"X40\",'ORDER FRAMES'!$B$88=\"X45\",'ORDER FRAMES'!$E$88=\"C\"),VLOOKUP('ORDER FRAMES'!$B$88,DEURDRANGER!$C$5:$H$10,4,FALSE),IF('ORDER FRAMES'!$D$88=\"EI-\",VLOOKUP('ORDER FRAMES'!$D$88,DEURDRANGER!$C$4:$H$4,4,FALSE),IF('ORDER FRAMES'!$D$88=\"EI0\",VLOOKUP('ORDER FRAMES'!$D$88,DEURDRANGER!$C$12:$H$12,4,FALSE))))","v":false},{"$f":"IF(OR('ORDER FRAMES'!$B$89=\"X40\",'ORDER FRAMES'!$B$89=\"X45\",'ORDER FRAMES'!$E$89=\"C\"),VLOOKUP('ORDER FRAMES'!$B$89,DEURDRANGER!$C$5:$H$10,4,FALSE),IF('ORDER FRAMES'!$D$89=\"EI-\",VLOOKUP('ORDER FRAMES'!$D$89,DEURDRANGER!$C$4:$H$4,4,FALSE),IF('ORDER FRAMES'!$D$89=\"EI0\",VLOOKUP('ORDER FRAMES'!$D$89,DEURDRANGER!$C$12:$H$12,4,FALSE))))","v":false},{"$f":"IF(OR('ORDER FRAMES'!$B$90=\"X40\",'ORDER FRAMES'!$B$90=\"X45\",'ORDER FRAMES'!$E$90=\"C\"),VLOOKUP('ORDER FRAMES'!$B$90,DEURDRANGER!$C$5:$H$10,4,FALSE),IF('ORDER FRAMES'!$D$90=\"EI-\",VLOOKUP('ORDER FRAMES'!$D$90,DEURDRANGER!$C$4:$H$4,4,FALSE),IF('ORDER FRAMES'!$D$90=\"EI0\",VLOOKUP('ORDER FRAMES'!$D$90,DEURDRANGER!$C$12:$H$12,4,FALSE))))","v":false},{"$f":"IF(OR('ORDER FRAMES'!$B$91=\"X40\",'ORDER FRAMES'!$B$91=\"X45\",'ORDER FRAMES'!$E$91=\"C\"),VLOOKUP('ORDER FRAMES'!$B$91,DEURDRANGER!$C$5:$H$10,4,FALSE),IF('ORDER FRAMES'!$D$91=\"EI-\",VLOOKUP('ORDER FRAMES'!$D$91,DEURDRANGER!$C$4:$H$4,4,FALSE),IF('ORDER FRAMES'!$D$91=\"EI0\",VLOOKUP('ORDER FRAMES'!$D$91,DEURDRANGER!$C$12:$H$12,4,FALSE))))","v":false},{"$f":"IF(OR('ORDER FRAMES'!$B$92=\"X40\",'ORDER FRAMES'!$B$92=\"X45\",'ORDER FRAMES'!$E$92=\"C\"),VLOOKUP('ORDER FRAMES'!$B$92,DEURDRANGER!$C$5:$H$10,4,FALSE),IF('ORDER FRAMES'!$D$92=\"EI-\",VLOOKUP('ORDER FRAMES'!$D$92,DEURDRANGER!$C$4:$H$4,4,FALSE),IF('ORDER FRAMES'!$D$92=\"EI0\",VLOOKUP('ORDER FRAMES'!$D$92,DEURDRANGER!$C$12:$H$12,4,FALSE))))","v":false},{"$f":"IF(OR('ORDER FRAMES'!$B$93=\"X40\",'ORDER FRAMES'!$B$93=\"X45\",'ORDER FRAMES'!$E$93=\"C\"),VLOOKUP('ORDER FRAMES'!$B$93,DEURDRANGER!$C$5:$H$10,4,FALSE),IF('ORDER FRAMES'!$D$93=\"EI-\",VLOOKUP('ORDER FRAMES'!$D$93,DEURDRANGER!$C$4:$H$4,4,FALSE),IF('ORDER FRAMES'!$D$93=\"EI0\",VLOOKUP('ORDER FRAMES'!$D$93,DEURDRANGER!$C$12:$H$12,4,FALSE))))","v":false},{"$f":"IF(OR('ORDER FRAMES'!$B$94=\"X40\",'ORDER FRAMES'!$B$94=\"X45\",'ORDER FRAMES'!$E$94=\"C\"),VLOOKUP('ORDER FRAMES'!$B$94,DEURDRANGER!$C$5:$H$10,4,FALSE),IF('ORDER FRAMES'!$D$94=\"EI-\",VLOOKUP('ORDER FRAMES'!$D$94,DEURDRANGER!$C$4:$H$4,4,FALSE),IF('ORDER FRAMES'!$D$94=\"EI0\",VLOOKUP('ORDER FRAMES'!$D$94,DEURDRANGER!$C$12:$H$12,4,FALSE))))","v":false},{"$f":"IF(OR('ORDER FRAMES'!$B$95=\"X40\",'ORDER FRAMES'!$B$95=\"X45\",'ORDER FRAMES'!$E$95=\"C\"),VLOOKUP('ORDER FRAMES'!$B$95,DEURDRANGER!$C$5:$H$10,4,FALSE),IF('ORDER FRAMES'!$D$95=\"EI-\",VLOOKUP('ORDER FRAMES'!$D$95,DEURDRANGER!$C$4:$H$4,4,FALSE),IF('ORDER FRAMES'!$D$95=\"EI0\",VLOOKUP('ORDER FRAMES'!$D$95,DEURDRANGER!$C$12:$H$12,4,FALSE))))","v":false},{"$f":"IF(OR('ORDER FRAMES'!$B$96=\"X40\",'ORDER FRAMES'!$B$96=\"X45\",'ORDER FRAMES'!$E$96=\"C\"),VLOOKUP('ORDER FRAMES'!$B$96,DEURDRANGER!$C$5:$H$10,4,FALSE),IF('ORDER FRAMES'!$D$96=\"EI-\",VLOOKUP('ORDER FRAMES'!$D$96,DEURDRANGER!$C$4:$H$4,4,FALSE),IF('ORDER FRAMES'!$D$96=\"EI0\",VLOOKUP('ORDER FRAMES'!$D$96,DEURDRANGER!$C$12:$H$12,4,FALSE))))","v":false},{"$f":"IF(OR('ORDER FRAMES'!$B$97=\"X40\",'ORDER FRAMES'!$B$97=\"X45\",'ORDER FRAMES'!$E$97=\"C\"),VLOOKUP('ORDER FRAMES'!$B$97,DEURDRANGER!$C$5:$H$10,4,FALSE),IF('ORDER FRAMES'!$D$97=\"EI-\",VLOOKUP('ORDER FRAMES'!$D$97,DEURDRANGER!$C$4:$H$4,4,FALSE),IF('ORDER FRAMES'!$D$97=\"EI0\",VLOOKUP('ORDER FRAMES'!$D$97,DEURDRANGER!$C$12:$H$12,4,FALSE))))","v":false},{"$f":"IF(OR('ORDER FRAMES'!$B$98=\"X40\",'ORDER FRAMES'!$B$98=\"X45\",'ORDER FRAMES'!$E$98=\"C\"),VLOOKUP('ORDER FRAMES'!$B$98,DEURDRANGER!$C$5:$H$10,4,FALSE),IF('ORDER FRAMES'!$D$98=\"EI-\",VLOOKUP('ORDER FRAMES'!$D$98,DEURDRANGER!$C$4:$H$4,4,FALSE),IF('ORDER FRAMES'!$D$98=\"EI0\",VLOOKUP('ORDER FRAMES'!$D$98,DEURDRANGER!$C$12:$H$12,4,FALSE))))","v":false},{"$f":"IF(OR('ORDER FRAMES'!$B$99=\"X40\",'ORDER FRAMES'!$B$99=\"X45\",'ORDER FRAMES'!$E$99=\"C\"),VLOOKUP('ORDER FRAMES'!$B$99,DEURDRANGER!$C$5:$H$10,4,FALSE),IF('ORDER FRAMES'!$D$99=\"EI-\",VLOOKUP('ORDER FRAMES'!$D$99,DEURDRANGER!$C$4:$H$4,4,FALSE),IF('ORDER FRAMES'!$D$99=\"EI0\",VLOOKUP('ORDER FRAMES'!$D$99,DEURDRANGER!$C$12:$H$12,4,FALSE))))","v":false},{"$f":"IF(OR('ORDER FRAMES'!$B$100=\"X40\",'ORDER FRAMES'!$B$100=\"X45\",'ORDER FRAMES'!$E$100=\"C\"),VLOOKUP('ORDER FRAMES'!$B$100,DEURDRANGER!$C$5:$H$10,4,FALSE),IF('ORDER FRAMES'!$D$100=\"EI-\",VLOOKUP('ORDER FRAMES'!$D$100,DEURDRANGER!$C$4:$H$4,4,FALSE),IF('ORDER FRAMES'!$D$100=\"EI0\",VLOOKUP('ORDER FRAMES'!$D$100,DEURDRANGER!$C$12:$H$12,4,FALSE))))","v":false}]
[null,"X45","X45",1,null,null,null,5,null,null,null,null,null,null,null,{"$f":"IF(OR('ORDER FRAMES'!$B$21=\"X40\",'ORDER FRAMES'!$B$21=\"X45\",'ORDER FRAMES'!$E$21=\"C\"),VLOOKUP('ORDER FRAMES'!$B$21,DEURDRANGER!$C$5:$H$10,5,FALSE),IF('ORDER FRAMES'!$D$21=\"EI-\",VLOOKUP('ORDER FRAMES'!$D$21,DEURDRANGER!$C$4:$H$4,5,FALSE),IF('ORDER FRAMES'!$D$21=\"EI0\",VLOOKUP('ORDER FRAMES'!$D$21,DEURDRANGER!$C$12:$H$12,5,FALSE))))","v":4},{"$f":"IF(OR('ORDER FRAMES'!$B$22=\"X40\",'ORDER FRAMES'!$B$22=\"X45\",'ORDER FRAMES'!$E$22=\"C\"),VLOOKUP('ORDER FRAMES'!$B$22,DEURDRANGER!$C$5:$H$10,5,FALSE),IF('ORDER FRAMES'!$D$22=\"EI-\",VLOOKUP('ORDER FRAMES'!$D$22,DEURDRANGER!$C$4:$H$4,5,FALSE),IF('ORDER FRAMES'!$D$22=\"EI0\",VLOOKUP('ORDER FRAMES'!$D$22,DEURDRANGER!$C$12:$H$12,5,FALSE))))","v":4},{"$f":"IF(OR('ORDER FRAMES'!$B$23=\"X40\",'ORDER FRAMES'!$B$23=\"X45\",'ORDER FRAMES'!$E$23=\"C\"),VLOOKUP('ORDER FRAMES'!$B$23,DEURDRANGER!$C$5:$H$10,5,FALSE),IF('ORDER FRAMES'!$D$23=\"EI-\",VLOOKUP('ORDER FRAMES'!$D$23,DEURDRANGER!$C$4:$H$4,5,FALSE),IF('ORDER FRAMES'!$D$23=\"EI0\",VLOOKUP('ORDER FRAMES'!$D$23,DEURDRANGER!$C$12:$H$12,5,FALSE))))","v":false},{"$f":"IF(OR('ORDER FRAMES'!$B$24=\"X40\",'ORDER FRAMES'!$B$24=\"X45\",'ORDER FRAMES'!$E$24=\"C\"),VLOOKUP('ORDER FRAMES'!$B$24,DEURDRANGER!$C$5:$H$10,5,FALSE),IF('ORDER FRAMES'!$D$24=\"EI-\",VLOOKUP('ORDER FRAMES'!$D$24,DEURDRANGER!$C$4:$H$4,5,FALSE),IF('ORDER FRAMES'!$D$24=\"EI0\",VLOOKUP('ORDER FRAMES'!$D$24,DEURDRANGER!$C$12:$H$12,5,FALSE))))","v":false},{"$f":"IF(OR('ORDER FRAMES'!$B$25=\"X40\",'ORDER FRAMES'!$B$25=\"X45\",'ORDER FRAMES'!$E$25=\"C\"),VLOOKUP('ORDER FRAMES'!$B$25,DEURDRANGER!$C$5:$H$10,5,FALSE),IF('ORDER FRAMES'!$D$25=\"EI-\",VLOOKUP('ORDER FRAMES'!$D$25,DEURDRANGER!$C$4:$H$4,5,FALSE),IF('ORDER FRAMES'!$D$25=\"EI0\",VLOOKUP('ORDER FRAMES'!$D$25,DEURDRANGER!$C$12:$H$12,5,FALSE))))","v":false},{"$f":"IF(OR('ORDER FRAMES'!$B$26=\"X40\",'ORDER FRAMES'!$B$26=\"X45\",'ORDER FRAMES'!$E$26=\"C\"),VLOOKUP('ORDER FRAMES'!$B$26,DEURDRANGER!$C$5:$H$10,5,FALSE),IF('ORDER FRAMES'!$D$26=\"EI-\",VLOOKUP('ORDER FRAMES'!$D$26,DEURDRANGER!$C$4:$H$4,5,FALSE),IF('ORDER FRAMES'!$D$26=\"EI0\",VLOOKUP('ORDER FRAMES'!$D$26,DEURDRANGER!$C$12:$H$12,5,FALSE))))","v":false},{"$f":"IF(OR('ORDER FRAMES'!$B$27=\"X40\",'ORDER FRAMES'!$B$27=\"X45\",'ORDER FRAMES'!$E$27=\"C\"),VLOOKUP('ORDER FRAMES'!$B$27,DEURDRANGER!$C$5:$H$10,5,FALSE),IF('ORDER FRAMES'!$D$27=\"EI-\",VLOOKUP('ORDER FRAMES'!$D$27,DEURDRANGER!$C$4:$H$4,5,FALSE),IF('ORDER FRAMES'!$D$27=\"EI0\",VLOOKUP('ORDER FRAMES'!$D$27,DEURDRANGER!$C$12:$H$12,5,FALSE))))","v":false},{"$f":"IF(OR('ORDER FRAMES'!$B$28=\"X40\",'ORDER FRAMES'!$B$28=\"X45\",'ORDER FRAMES'!$E$28=\"C\"),VLOOKUP('ORDER FRAMES'!$B$28,DEURDRANGER!$C$5:$H$10,5,FALSE),IF('ORDER FRAMES'!$D$28=\"EI-\",VLOOKUP('ORDER FRAMES'!$D$28,DEURDRANGER!$C$4:$H$4,5,FALSE),IF('ORDER FRAMES'!$D$28=\"EI0\",VLOOKUP('ORDER FRAMES'!$D$28,DEURDRANGER!$C$12:$H$12,5,FALSE))))","v":false},{"$f":"IF(OR('ORDER FRAMES'!$B$29=\"X40\",'ORDER FRAMES'!$B$29=\"X45\",'ORDER FRAMES'!$E$29=\"C\"),VLOOKUP('ORDER FRAMES'!$B$29,DEURDRANGER!$C$5:$H$10,5,FALSE),IF('ORDER FRAMES'!$D$29=\"EI-\",VLOOKUP('ORDER FRAMES'!$D$29,DEURDRANGER!$C$4:$H$4,5,FALSE),IF('ORDER FRAMES'!$D$29=\"EI0\",VLOOKUP('ORDER FRAMES'!$D$29,DEURDRANGER!$C$12:$H$12,5,FALSE))))","v":false},{"$f":"IF(OR('ORDER FRAMES'!$B$30=\"X40\",'ORDER FRAMES'!$B$30=\"X45\",'ORDER FRAMES'!$E$30=\"C\"),VLOOKUP('ORDER FRAMES'!$B$30,DEURDRANGER!$C$5:$H$10,5,FALSE),IF('ORDER FRAMES'!$D$30=\"EI-\",VLOOKUP('ORDER FRAMES'!$D$30,DEURDRANGER!$C$4:$H$4,5,FALSE),IF('ORDER FRAMES'!$D$30=\"EI0\",VLOOKUP('ORDER FRAMES'!$D$30,DEURDRANGER!$C$12:$H$12,5,FALSE))))","v":false},{"$f":"IF(OR('ORDER FRAMES'!$B$31=\"X40\",'ORDER FRAMES'!$B$31=\"X45\",'ORDER FRAMES'!$E$31=\"C\"),VLOOKUP('ORDER FRAMES'!$B$31,DEURDRANGER!$C$5:$H$10,5,FALSE),IF('ORDER FRAMES'!$D$31=\"EI-\",VLOOKUP('ORDER FRAMES'!$D$31,DEURDRANGER!$C$4:$H$4,5,FALSE),IF('ORDER FRAMES'!$D$31=\"EI0\",VLOOKUP('ORDER FRAMES'!$D$31,DEURDRANGER!$C$12:$H$12,5,FALSE))))","v":false},{"$f":"IF(OR('ORDER FRAMES'!$B$32=\"X40\",'ORDER FRAMES'!$B$32=\"X45\",'ORDER FRAMES'!$E$32=\"C\"),VLOOKUP('ORDER FRAMES'!$B$32,DEURDRANGER!$C$5:$H$10,5,FALSE),IF('ORDER FRAMES'!$D$32=\"EI-\",VLOOKUP('ORDER FRAMES'!$D$32,DEURDRANGER!$C$4:$H$4,5,FALSE),IF('ORDER FRAMES'!$D$32=\"EI0\",VLOOKUP('ORDER FRAMES'!$D$32,DEURDRANGER!$C$12:$H$12,5,FALSE))))","v":false},{"$f":"IF(OR('ORDER FRAMES'!$B$33=\"X40\",'ORDER FRAMES'!$B$33=\"X45\",'ORDER FRAMES'!$E$33=\"C\"),VLOOKUP('ORDER FRAMES'!$B$33,DEURDRANGER!$C$5:$H$10,5,FALSE),IF('ORDER FRAMES'!$D$33=\"EI-\",VLOOKUP('ORDER FRAMES'!$D$33,DEURDRANGER!$C$4:$H$4,5,FALSE),IF('ORDER FRAMES'!$D$33=\"EI0\",VLOOKUP('ORDER FRAMES'!$D$33,DEURDRANGER!$C$12:$H$12,5,FALSE))))","v":false},{"$f":"IF(OR('ORDER FRAMES'!$B$34=\"X40\",'ORDER FRAMES'!$B$34=\"X45\",'ORDER FRAMES'!$E$34=\"C\"),VLOOKUP('ORDER FRAMES'!$B$34,DEURDRANGER!$C$5:$H$10,5,FALSE),IF('ORDER FRAMES'!$D$34=\"EI-\",VLOOKUP('ORDER FRAMES'!$D$34,DEURDRANGER!$C$4:$H$4,5,FALSE),IF('ORDER FRAMES'!$D$34=\"EI0\",VLOOKUP('ORDER FRAMES'!$D$34,DEURDRANGER!$C$12:$H$12,5,FALSE))))","v":false},{"$f":"IF(OR('ORDER FRAMES'!$B$35=\"X40\",'ORDER FRAMES'!$B$35=\"X45\",'ORDER FRAMES'!$E$35=\"C\"),VLOOKUP('ORDER FRAMES'!$B$35,DEURDRANGER!$C$5:$H$10,5,FALSE),IF('ORDER FRAMES'!$D$35=\"EI-\",VLOOKUP('ORDER FRAMES'!$D$35,DEURDRANGER!$C$4:$H$4,5,FALSE),IF('ORDER FRAMES'!$D$35=\"EI0\",VLOOKUP('ORDER FRAMES'!$D$35,DEURDRANGER!$C$12:$H$12,5,FALSE))))","v":false},{"$f":"IF(OR('ORDER FRAMES'!$B$36=\"X40\",'ORDER FRAMES'!$B$36=\"X45\",'ORDER FRAMES'!$E$36=\"C\"),VLOOKUP('ORDER FRAMES'!$B$36,DEURDRANGER!$C$5:$H$10,5,FALSE),IF('ORDER FRAMES'!$D$36=\"EI-\",VLOOKUP('ORDER FRAMES'!$D$36,DEURDRANGER!$C$4:$H$4,5,FALSE),IF('ORDER FRAMES'!$D$36=\"EI0\",VLOOKUP('ORDER FRAMES'!$D$36,DEURDRANGER!$C$12:$H$12,5,FALSE))))","v":false},{"$f":"IF(OR('ORDER FRAMES'!$B$37=\"X40\",'ORDER FRAMES'!$B$37=\"X45\",'ORDER FRAMES'!$E$37=\"C\"),VLOOKUP('ORDER FRAMES'!$B$37,DEURDRANGER!$C$5:$H$10,5,FALSE),IF('ORDER FRAMES'!$D$37=\"EI-\",VLOOKUP('ORDER FRAMES'!$D$37,DEURDRANGER!$C$4:$H$4,5,FALSE),IF('ORDER FRAMES'!$D$37=\"EI0\",VLOOKUP('ORDER FRAMES'!$D$37,DEURDRANGER!$C$12:$H$12,5,FALSE))))","v":false},{"$f":"IF(OR('ORDER FRAMES'!$B$38=\"X40\",'ORDER FRAMES'!$B$38=\"X45\",'ORDER FRAMES'!$E$38=\"C\"),VLOOKUP('ORDER FRAMES'!$B$38,DEURDRANGER!$C$5:$H$10,5,FALSE),IF('ORDER FRAMES'!$D$38=\"EI-\",VLOOKUP('ORDER FRAMES'!$D$38,DEURDRANGER!$C$4:$H$4,5,FALSE),IF('ORDER FRAMES'!$D$38=\"EI0\",VLOOKUP('ORDER FRAMES'!$D$38,DEURDRANGER!$C$12:$H$12,5,FALSE))))","v":false},{"$f":"IF(OR('ORDER FRAMES'!$B$39=\"X40\",'ORDER FRAMES'!$B$39=\"X45\",'ORDER FRAMES'!$E$39=\"C\"),VLOOKUP('ORDER FRAMES'!$B$39,DEURDRANGER!$C$5:$H$10,5,FALSE),IF('ORDER FRAMES'!$D$39=\"EI-\",VLOOKUP('ORDER FRAMES'!$D$39,DEURDRANGER!$C$4:$H$4,5,FALSE),IF('ORDER FRAMES'!$D$39=\"EI0\",VLOOKUP('ORDER FRAMES'!$D$39,DEURDRANGER!$C$12:$H$12,5,FALSE))))","v":false},{"$f":"IF(OR('ORDER FRAMES'!$B$40=\"X40\",'ORDER FRAMES'!$B$40=\"X45\",'ORDER FRAMES'!$E$40=\"C\"),VLOOKUP('ORDER FRAMES'!$B$40,DEURDRANGER!$C$5:$H$10,5,FALSE),IF('ORDER FRAMES'!$D$40=\"EI-\",VLOOKUP('ORDER FRAMES'!$D$40,DEURDRANGER!$C$4:$H$4,5,FALSE),IF('ORDER FRAMES'!$D$40=\"EI0\",VLOOKUP('ORDER FRAMES'!$D$40,DEURDRANGER!$C$12:$H$12,5,FALSE))))","v":false},{"$f":"IF(OR('ORDER FRAMES'!$B$41=\"X40\",'ORDER FRAMES'!$B$41=\"X45\",'ORDER FRAMES'!$E$41=\"C\"),VLOOKUP('ORDER FRAMES'!$B$41,DEURDRANGER!$C$5:$H$10,5,FALSE),IF('ORDER FRAMES'!$D$41=\"EI-\",VLOOKUP('ORDER FRAMES'!$D$41,DEURDRANGER!$C$4:$H$4,5,FALSE),IF('ORDER FRAMES'!$D$41=\"EI0\",VLOOKUP('ORDER FRAMES'!$D$41,DEURDRANGER!$C$12:$H$12,5,FALSE))))","v":false},{"$f":"IF(OR('ORDER FRAMES'!$B$42=\"X40\",'ORDER FRAMES'!$B$42=\"X45\",'ORDER FRAMES'!$E$42=\"C\"),VLOOKUP('ORDER FRAMES'!$B$42,DEURDRANGER!$C$5:$H$10,5,FALSE),IF('ORDER FRAMES'!$D$42=\"EI-\",VLOOKUP('ORDER FRAMES'!$D$42,DEURDRANGER!$C$4:$H$4,5,FALSE),IF('ORDER FRAMES'!$D$42=\"EI0\",VLOOKUP('ORDER FRAMES'!$D$42,DEURDRANGER!$C$12:$H$12,5,FALSE))))","v":false},{"$f":"IF(OR('ORDER FRAMES'!$B$43=\"X40\",'ORDER FRAMES'!$B$43=\"X45\",'ORDER FRAMES'!$E$43=\"C\"),VLOOKUP('ORDER FRAMES'!$B$43,DEURDRANGER!$C$5:$H$10,5,FALSE),IF('ORDER FRAMES'!$D$43=\"EI-\",VLOOKUP('ORDER FRAMES'!$D$43,DEURDRANGER!$C$4:$H$4,5,FALSE),IF('ORDER FRAMES'!$D$43=\"EI0\",VLOOKUP('ORDER FRAMES'!$D$43,DEURDRANGER!$C$12:$H$12,5,FALSE))))","v":false},{"$f":"IF(OR('ORDER FRAMES'!$B$44=\"X40\",'ORDER FRAMES'!$B$44=\"X45\",'ORDER FRAMES'!$E$44=\"C\"),VLOOKUP('ORDER FRAMES'!$B$44,DEURDRANGER!$C$5:$H$10,5,FALSE),IF('ORDER FRAMES'!$D$44=\"EI-\",VLOOKUP('ORDER FRAMES'!$D$44,DEURDRANGER!$C$4:$H$4,5,FALSE),IF('ORDER FRAMES'!$D$44=\"EI0\",VLOOKUP('ORDER FRAMES'!$D$44,DEURDRANGER!$C$12:$H$12,5,FALSE))))","v":false},{"$f":"IF(OR('ORDER FRAMES'!$B$45=\"X40\",'ORDER FRAMES'!$B$45=\"X45\",'ORDER FRAMES'!$E$45=\"C\"),VLOOKUP('ORDER FRAMES'!$B$45,DEURDRANGER!$C$5:$H$10,5,FALSE),IF('ORDER FRAMES'!$D$45=\"EI-\",VLOOKUP('ORDER FRAMES'!$D$45,DEURDRANGER!$C$4:$H$4,5,FALSE),IF('ORDER FRAMES'!$D$45=\"EI0\",VLOOKUP('ORDER FRAMES'!$D$45,DEURDRANGER!$C$12:$H$12,5,FALSE))))","v":false},{"$f":"IF(OR('ORDER FRAMES'!$B$46=\"X40\",'ORDER FRAMES'!$B$46=\"X45\",'ORDER FRAMES'!$E$46=\"C\"),VLOOKUP('ORDER FRAMES'!$B$46,DEURDRANGER!$C$5:$H$10,5,FALSE),IF('ORDER FRAMES'!$D$46=\"EI-\",VLOOKUP('ORDER FRAMES'!$D$46,DEURDRANGER!$C$4:$H$4,5,FALSE),IF('ORDER FRAMES'!$D$46=\"EI0\",VLOOKUP('ORDER FRAMES'!$D$46,DEURDRANGER!$C$12:$H$12,5,FALSE))))","v":false},{"$f":"IF(OR('ORDER FRAMES'!$B$47=\"X40\",'ORDER FRAMES'!$B$47=\"X45\",'ORDER FRAMES'!$E$47=\"C\"),VLOOKUP('ORDER FRAMES'!$B$47,DEURDRANGER!$C$5:$H$10,5,FALSE),IF('ORDER FRAMES'!$D$47=\"EI-\",VLOOKUP('ORDER FRAMES'!$D$47,DEURDRANGER!$C$4:$H$4,5,FALSE),IF('ORDER FRAMES'!$D$47=\"EI0\",VLOOKUP('ORDER FRAMES'!$D$47,DEURDRANGER!$C$12:$H$12,5,FALSE))))","v":false},{"$f":"IF(OR('ORDER FRAMES'!$B$48=\"X40\",'ORDER FRAMES'!$B$48=\"X45\",'ORDER FRAMES'!$E$48=\"C\"),VLOOKUP('ORDER FRAMES'!$B$48,DEURDRANGER!$C$5:$H$10,5,FALSE),IF('ORDER FRAMES'!$D$48=\"EI-\",VLOOKUP('ORDER FRAMES'!$D$48,DEURDRANGER!$C$4:$H$4,5,FALSE),IF('ORDER FRAMES'!$D$48=\"EI0\",VLOOKUP('ORDER FRAMES'!$D$48,DEURDRANGER!$C$12:$H$12,5,FALSE))))","v":false},{"$f":"IF(OR('ORDER FRAMES'!$B$49=\"X40\",'ORDER FRAMES'!$B$49=\"X45\",'ORDER FRAMES'!$E$49=\"C\"),VLOOKUP('ORDER FRAMES'!$B$49,DEURDRANGER!$C$5:$H$10,5,FALSE),IF('ORDER FRAMES'!$D$49=\"EI-\",VLOOKUP('ORDER FRAMES'!$D$49,DEURDRANGER!$C$4:$H$4,5,FALSE),IF('ORDER FRAMES'!$D$49=\"EI0\",VLOOKUP('ORDER FRAMES'!$D$49,DEURDRANGER!$C$12:$H$12,5,FALSE))))","v":false},{"$f":"IF(OR('ORDER FRAMES'!$B$50=\"X40\",'ORDER FRAMES'!$B$50=\"X45\",'ORDER FRAMES'!$E$50=\"C\"),VLOOKUP('ORDER FRAMES'!$B$50,DEURDRANGER!$C$5:$H$10,5,FALSE),IF('ORDER FRAMES'!$D$50=\"EI-\",VLOOKUP('ORDER FRAMES'!$D$50,DEURDRANGER!$C$4:$H$4,5,FALSE),IF('ORDER FRAMES'!$D$50=\"EI0\",VLOOKUP('ORDER FRAMES'!$D$50,DEURDRANGER!$C$12:$H$12,5,FALSE))))","v":false},{"$f":"IF(OR('ORDER FRAMES'!$B$51=\"X40\",'ORDER FRAMES'!$B$51=\"X45\",'ORDER FRAMES'!$E$51=\"C\"),VLOOKUP('ORDER FRAMES'!$B$51,DEURDRANGER!$C$5:$H$10,5,FALSE),IF('ORDER FRAMES'!$D$51=\"EI-\",VLOOKUP('ORDER FRAMES'!$D$51,DEURDRANGER!$C$4:$H$4,5,FALSE),IF('ORDER FRAMES'!$D$51=\"EI0\",VLOOKUP('ORDER FRAMES'!$D$51,DEURDRANGER!$C$12:$H$12,5,FALSE))))","v":false},{"$f":"IF(OR('ORDER FRAMES'!$B$52=\"X40\",'ORDER FRAMES'!$B$52=\"X45\",'ORDER FRAMES'!$E$52=\"C\"),VLOOKUP('ORDER FRAMES'!$B$52,DEURDRANGER!$C$5:$H$10,5,FALSE),IF('ORDER FRAMES'!$D$52=\"EI-\",VLOOKUP('ORDER FRAMES'!$D$52,DEURDRANGER!$C$4:$H$4,5,FALSE),IF('ORDER FRAMES'!$D$52=\"EI0\",VLOOKUP('ORDER FRAMES'!$D$52,DEURDRANGER!$C$12:$H$12,5,FALSE))))","v":false},{"$f":"IF(OR('ORDER FRAMES'!$B$53=\"X40\",'ORDER FRAMES'!$B$53=\"X45\",'ORDER FRAMES'!$E$53=\"C\"),VLOOKUP('ORDER FRAMES'!$B$53,DEURDRANGER!$C$5:$H$10,5,FALSE),IF('ORDER FRAMES'!$D$53=\"EI-\",VLOOKUP('ORDER FRAMES'!$D$53,DEURDRANGER!$C$4:$H$4,5,FALSE),IF('ORDER FRAMES'!$D$53=\"EI0\",VLOOKUP('ORDER FRAMES'!$D$53,DEURDRANGER!$C$12:$H$12,5,FALSE))))","v":false},{"$f":"IF(OR('ORDER FRAMES'!$B$54=\"X40\",'ORDER FRAMES'!$B$54=\"X45\",'ORDER FRAMES'!$E$54=\"C\"),VLOOKUP('ORDER FRAMES'!$B$54,DEURDRANGER!$C$5:$H$10,5,FALSE),IF('ORDER FRAMES'!$D$54=\"EI-\",VLOOKUP('ORDER FRAMES'!$D$54,DEURDRANGER!$C$4:$H$4,5,FALSE),IF('ORDER FRAMES'!$D$54=\"EI0\",VLOOKUP('ORDER FRAMES'!$D$54,DEURDRANGER!$C$12:$H$12,5,FALSE))))","v":false},{"$f":"IF(OR('ORDER FRAMES'!$B$55=\"X40\",'ORDER FRAMES'!$B$55=\"X45\",'ORDER FRAMES'!$E$55=\"C\"),VLOOKUP('ORDER FRAMES'!$B$55,DEURDRANGER!$C$5:$H$10,5,FALSE),IF('ORDER FRAMES'!$D$55=\"EI-\",VLOOKUP('ORDER FRAMES'!$D$55,DEURDRANGER!$C$4:$H$4,5,FALSE),IF('ORDER FRAMES'!$D$55=\"EI0\",VLOOKUP('ORDER FRAMES'!$D$55,DEURDRANGER!$C$12:$H$12,5,FALSE))))","v":false},{"$f":"IF(OR('ORDER FRAMES'!$B$56=\"X40\",'ORDER FRAMES'!$B$56=\"X45\",'ORDER FRAMES'!$E$56=\"C\"),VLOOKUP('ORDER FRAMES'!$B$56,DEURDRANGER!$C$5:$H$10,5,FALSE),IF('ORDER FRAMES'!$D$56=\"EI-\",VLOOKUP('ORDER FRAMES'!$D$56,DEURDRANGER!$C$4:$H$4,5,FALSE),IF('ORDER FRAMES'!$D$56=\"EI0\",VLOOKUP('ORDER FRAMES'!$D$56,DEURDRANGER!$C$12:$H$12,5,FALSE))))","v":false},{"$f":"IF(OR('ORDER FRAMES'!$B$57=\"X40\",'ORDER FRAMES'!$B$57=\"X45\",'ORDER FRAMES'!$E$57=\"C\"),VLOOKUP('ORDER FRAMES'!$B$57,DEURDRANGER!$C$5:$H$10,5,FALSE),IF('ORDER FRAMES'!$D$57=\"EI-\",VLOOKUP('ORDER FRAMES'!$D$57,DEURDRANGER!$C$4:$H$4,5,FALSE),IF('ORDER FRAMES'!$D$57=\"EI0\",VLOOKUP('ORDER FRAMES'!$D$57,DEURDRANGER!$C$12:$H$12,5,FALSE))))","v":false},{"$f":"IF(OR('ORDER FRAMES'!$B$58=\"X40\",'ORDER FRAMES'!$B$58=\"X45\",'ORDER FRAMES'!$E$58=\"C\"),VLOOKUP('ORDER FRAMES'!$B$58,DEURDRANGER!$C$5:$H$10,5,FALSE),IF('ORDER FRAMES'!$D$58=\"EI-\",VLOOKUP('ORDER FRAMES'!$D$58,DEURDRANGER!$C$4:$H$4,5,FALSE),IF('ORDER FRAMES'!$D$58=\"EI0\",VLOOKUP('ORDER FRAMES'!$D$58,DEURDRANGER!$C$12:$H$12,5,FALSE))))","v":false},{"$f":"IF(OR('ORDER FRAMES'!$B$59=\"X40\",'ORDER FRAMES'!$B$59=\"X45\",'ORDER FRAMES'!$E$59=\"C\"),VLOOKUP('ORDER FRAMES'!$B$59,DEURDRANGER!$C$5:$H$10,5,FALSE),IF('ORDER FRAMES'!$D$59=\"EI-\",VLOOKUP('ORDER FRAMES'!$D$59,DEURDRANGER!$C$4:$H$4,5,FALSE),IF('ORDER FRAMES'!$D$59=\"EI0\",VLOOKUP('ORDER FRAMES'!$D$59,DEURDRANGER!$C$12:$H$12,5,FALSE))))","v":false},{"$f":"IF(OR('ORDER FRAMES'!$B$60=\"X40\",'ORDER FRAMES'!$B$60=\"X45\",'ORDER FRAMES'!$E$60=\"C\"),VLOOKUP('ORDER FRAMES'!$B$60,DEURDRANGER!$C$5:$H$10,5,FALSE),IF('ORDER FRAMES'!$D$60=\"EI-\",VLOOKUP('ORDER FRAMES'!$D$60,DEURDRANGER!$C$4:$H$4,5,FALSE),IF('ORDER FRAMES'!$D$60=\"EI0\",VLOOKUP('ORDER FRAMES'!$D$60,DEURDRANGER!$C$12:$H$12,5,FALSE))))","v":false},{"$f":"IF(OR('ORDER FRAMES'!$B$61=\"X40\",'ORDER FRAMES'!$B$61=\"X45\",'ORDER FRAMES'!$E$61=\"C\"),VLOOKUP('ORDER FRAMES'!$B$61,DEURDRANGER!$C$5:$H$10,5,FALSE),IF('ORDER FRAMES'!$D$61=\"EI-\",VLOOKUP('ORDER FRAMES'!$D$61,DEURDRANGER!$C$4:$H$4,5,FALSE),IF('ORDER FRAMES'!$D$61=\"EI0\",VLOOKUP('ORDER FRAMES'!$D$61,DEURDRANGER!$C$12:$H$12,5,FALSE))))","v":false},{"$f":"IF(OR('ORDER FRAMES'!$B$62=\"X40\",'ORDER FRAMES'!$B$62=\"X45\",'ORDER FRAMES'!$E$62=\"C\"),VLOOKUP('ORDER FRAMES'!$B$62,DEURDRANGER!$C$5:$H$10,5,FALSE),IF('ORDER FRAMES'!$D$62=\"EI-\",VLOOKUP('ORDER FRAMES'!$D$62,DEURDRANGER!$C$4:$H$4,5,FALSE),IF('ORDER FRAMES'!$D$62=\"EI0\",VLOOKUP('ORDER FRAMES'!$D$62,DEURDRANGER!$C$12:$H$12,5,FALSE))))","v":false},{"$f":"IF(OR('ORDER FRAMES'!$B$50=\"X40\",'ORDER FRAMES'!$B$50=\"X45\",'ORDER FRAMES'!$E$63=\"C\"),VLOOKUP('ORDER FRAMES'!$B$50,DEURDRANGER!$C$5:$H$10,5,FALSE),IF('ORDER FRAMES'!$D$50=\"EI-\",VLOOKUP('ORDER FRAMES'!$D$50,DEURDRANGER!$C$4:$H$4,5,FALSE),IF('ORDER FRAMES'!$D$50=\"EI0\",VLOOKUP('ORDER FRAMES'!$D$50,DEURDRANGER!$C$12:$H$12,5,FALSE))))","v":false},{"$f":"IF(OR('ORDER FRAMES'!$B$64=\"X40\",'ORDER FRAMES'!$B$64=\"X45\",'ORDER FRAMES'!$E$64=\"C\"),VLOOKUP('ORDER FRAMES'!$B$64,DEURDRANGER!$C$5:$H$10,5,FALSE),IF('ORDER FRAMES'!$D$64=\"EI-\",VLOOKUP('ORDER FRAMES'!$D$64,DEURDRANGER!$C$4:$H$4,5,FALSE),IF('ORDER FRAMES'!$D$64=\"EI0\",VLOOKUP('ORDER FRAMES'!$D$64,DEURDRANGER!$C$12:$H$12,5,FALSE))))","v":false},{"$f":"IF(OR('ORDER FRAMES'!$B$65=\"X40\",'ORDER FRAMES'!$B$65=\"X45\",'ORDER FRAMES'!$E$65=\"C\"),VLOOKUP('ORDER FRAMES'!$B$65,DEURDRANGER!$C$5:$H$10,5,FALSE),IF('ORDER FRAMES'!$D$65=\"EI-\",VLOOKUP('ORDER FRAMES'!$D$65,DEURDRANGER!$C$4:$H$4,5,FALSE),IF('ORDER FRAMES'!$D$65=\"EI0\",VLOOKUP('ORDER FRAMES'!$D$65,DEURDRANGER!$C$12:$H$12,5,FALSE))))","v":false},{"$f":"IF(OR('ORDER FRAMES'!$B$66=\"X40\",'ORDER FRAMES'!$B$66=\"X45\",'ORDER FRAMES'!$E$66=\"C\"),VLOOKUP('ORDER FRAMES'!$B$66,DEURDRANGER!$C$5:$H$10,5,FALSE),IF('ORDER FRAMES'!$D$66=\"EI-\",VLOOKUP('ORDER FRAMES'!$D$66,DEURDRANGER!$C$4:$H$4,5,FALSE),IF('ORDER FRAMES'!$D$66=\"EI0\",VLOOKUP('ORDER FRAMES'!$D$66,DEURDRANGER!$C$12:$H$12,5,FALSE))))","v":false},{"$f":"IF(OR('ORDER FRAMES'!$B$67=\"X40\",'ORDER FRAMES'!$B$67=\"X45\",'ORDER FRAMES'!$E$67=\"C\"),VLOOKUP('ORDER FRAMES'!$B$67,DEURDRANGER!$C$5:$H$10,5,FALSE),IF('ORDER FRAMES'!$D$67=\"EI-\",VLOOKUP('ORDER FRAMES'!$D$67,DEURDRANGER!$C$4:$H$4,5,FALSE),IF('ORDER FRAMES'!$D$67=\"EI0\",VLOOKUP('ORDER FRAMES'!$D$67,DEURDRANGER!$C$12:$H$12,5,FALSE))))","v":false},{"$f":"IF(OR('ORDER FRAMES'!$B$68=\"X40\",'ORDER FRAMES'!$B$68=\"X45\",'ORDER FRAMES'!$E$68=\"C\"),VLOOKUP('ORDER FRAMES'!$B$68,DEURDRANGER!$C$5:$H$10,5,FALSE),IF('ORDER FRAMES'!$D$68=\"EI-\",VLOOKUP('ORDER FRAMES'!$D$68,DEURDRANGER!$C$4:$H$4,5,FALSE),IF('ORDER FRAMES'!$D$68=\"EI0\",VLOOKUP('ORDER FRAMES'!$D$68,DEURDRANGER!$C$12:$H$12,5,FALSE))))","v":false},{"$f":"IF(OR('ORDER FRAMES'!$B$69=\"X40\",'ORDER FRAMES'!$B$69=\"X45\",'ORDER FRAMES'!$E$69=\"C\"),VLOOKUP('ORDER FRAMES'!$B$69,DEURDRANGER!$C$5:$H$10,5,FALSE),IF('ORDER FRAMES'!$D$69=\"EI-\",VLOOKUP('ORDER FRAMES'!$D$69,DEURDRANGER!$C$4:$H$4,5,FALSE),IF('ORDER FRAMES'!$D$69=\"EI0\",VLOOKUP('ORDER FRAMES'!$D$69,DEURDRANGER!$C$12:$H$12,5,FALSE))))","v":false},{"$f":"IF(OR('ORDER FRAMES'!$B$70=\"X40\",'ORDER FRAMES'!$B$70=\"X45\",'ORDER FRAMES'!$E$70=\"C\"),VLOOKUP('ORDER FRAMES'!$B$70,DEURDRANGER!$C$5:$H$10,5,FALSE),IF('ORDER FRAMES'!$D$70=\"EI-\",VLOOKUP('ORDER FRAMES'!$D$70,DEURDRANGER!$C$4:$H$4,5,FALSE),IF('ORDER FRAMES'!$D$70=\"EI0\",VLOOKUP('ORDER FRAMES'!$D$70,DEURDRANGER!$C$12:$H$12,5,FALSE))))","v":false},{"$f":"IF(OR('ORDER FRAMES'!$B$71=\"X40\",'ORDER FRAMES'!$B$71=\"X45\",'ORDER FRAMES'!$E$71=\"C\"),VLOOKUP('ORDER FRAMES'!$B$71,DEURDRANGER!$C$5:$H$10,5,FALSE),IF('ORDER FRAMES'!$D$71=\"EI-\",VLOOKUP('ORDER FRAMES'!$D$71,DEURDRANGER!$C$4:$H$4,5,FALSE),IF('ORDER FRAMES'!$D$71=\"EI0\",VLOOKUP('ORDER FRAMES'!$D$71,DEURDRANGER!$C$12:$H$12,5,FALSE))))","v":false},{"$f":"IF(OR('ORDER FRAMES'!$B$72=\"X40\",'ORDER FRAMES'!$B$72=\"X45\",'ORDER FRAMES'!$E$72=\"C\"),VLOOKUP('ORDER FRAMES'!$B$72,DEURDRANGER!$C$5:$H$10,5,FALSE),IF('ORDER FRAMES'!$D$72=\"EI-\",VLOOKUP('ORDER FRAMES'!$D$72,DEURDRANGER!$C$4:$H$4,5,FALSE),IF('ORDER FRAMES'!$D$72=\"EI0.\",VLOOKUP('ORDER FRAMES'!$D$72,DEURDRANGER!$C$12:$H$12,5,FALSE))))","v":false},{"$f":"IF(OR('ORDER FRAMES'!$B$73=\"X40\",'ORDER FRAMES'!$B$73=\"X45\",'ORDER FRAMES'!$E$73=\"C\"),VLOOKUP('ORDER FRAMES'!$B$73,DEURDRANGER!$C$5:$H$10,5,FALSE),IF('ORDER FRAMES'!$D$73=\"EI-\",VLOOKUP('ORDER FRAMES'!$D$73,DEURDRANGER!$C$4:$H$4,5,FALSE),IF('ORDER FRAMES'!$D$73=\"EI0\",VLOOKUP('ORDER FRAMES'!$D$73,DEURDRANGER!$C$12:$H$12,5,FALSE))))","v":false},{"$f":"IF(OR('ORDER FRAMES'!$B$74=\"X40\",'ORDER FRAMES'!$B$74=\"X45\",'ORDER FRAMES'!$E$74=\"C\"),VLOOKUP('ORDER FRAMES'!$B$74,DEURDRANGER!$C$5:$H$10,5,FALSE),IF('ORDER FRAMES'!$D$74=\"EI-\",VLOOKUP('ORDER FRAMES'!$D$74,DEURDRANGER!$C$4:$H$4,5,FALSE),IF('ORDER FRAMES'!$D$74=\"EI0\",VLOOKUP('ORDER FRAMES'!$D$74,DEURDRANGER!$C$12:$H$12,5,FALSE))))","v":false},{"$f":"IF(OR('ORDER FRAMES'!$B$75=\"X40\",'ORDER FRAMES'!$B$75=\"X45\",'ORDER FRAMES'!$E$75=\"C\"),VLOOKUP('ORDER FRAMES'!$B$75,DEURDRANGER!$C$5:$H$10,5,FALSE),IF('ORDER FRAMES'!$D$75=\"EI-\",VLOOKUP('ORDER FRAMES'!$D$75,DEURDRANGER!$C$4:$H$4,5,FALSE),IF('ORDER FRAMES'!$D$75=\"EI0\",VLOOKUP('ORDER FRAMES'!$D$75,DEURDRANGER!$C$12:$H$12,5,FALSE))))","v":false},{"$f":"IF(OR('ORDER FRAMES'!$B$76=\"X40\",'ORDER FRAMES'!$B$76=\"X45\",'ORDER FRAMES'!$E$76=\"C\"),VLOOKUP('ORDER FRAMES'!$B$76,DEURDRANGER!$C$5:$H$10,5,FALSE),IF('ORDER FRAMES'!$D$76=\"EI-\",VLOOKUP('ORDER FRAMES'!$D$76,DEURDRANGER!$C$4:$H$4,5,FALSE),IF('ORDER FRAMES'!$D$76=\"EI0\",VLOOKUP('ORDER FRAMES'!$D$76,DEURDRANGER!$C$12:$H$12,5,FALSE))))","v":false},{"$f":"IF(OR('ORDER FRAMES'!$B$77=\"X40\",'ORDER FRAMES'!$B$77=\"X45\",'ORDER FRAMES'!$E$77=\"C\"),VLOOKUP('ORDER FRAMES'!$B$77,DEURDRANGER!$C$5:$H$10,5,FALSE),IF('ORDER FRAMES'!$D$77=\"EI-\",VLOOKUP('ORDER FRAMES'!$D$77,DEURDRANGER!$C$4:$H$4,5,FALSE),IF('ORDER FRAMES'!$D$77=\"EI0\",VLOOKUP('ORDER FRAMES'!$D$77,DEURDRANGER!$C$12:$H$12,5,FALSE))))","v":false},{"$f":"IF(OR('ORDER FRAMES'!$B$78=\"X40\",'ORDER FRAMES'!$B$78=\"X45\",'ORDER FRAMES'!$E$78=\"C\"),VLOOKUP('ORDER FRAMES'!$B$78,DEURDRANGER!$C$5:$H$10,5,FALSE),IF('ORDER FRAMES'!$D$78=\"EI-\",VLOOKUP('ORDER FRAMES'!$D$78,DEURDRANGER!$C$4:$H$4,5,FALSE),IF('ORDER FRAMES'!$D$78=\"EI0\",VLOOKUP('ORDER FRAMES'!$D$78,DEURDRANGER!$C$12:$H$12,5,FALSE))))","v":false},{"$f":"IF(OR('ORDER FRAMES'!$B$79=\"X40\",'ORDER FRAMES'!$B$79=\"X45\",'ORDER FRAMES'!$E$79=\"C\"),VLOOKUP('ORDER FRAMES'!$B$79,DEURDRANGER!$C$5:$H$10,5,FALSE),IF('ORDER FRAMES'!$D$79=\"EI-\",VLOOKUP('ORDER FRAMES'!$D$79,DEURDRANGER!$C$4:$H$4,5,FALSE),IF('ORDER FRAMES'!$D$79=\"EI0\",VLOOKUP('ORDER FRAMES'!$D$79,DEURDRANGER!$C$12:$H$12,5,FALSE))))","v":false},{"$f":"IF(OR('ORDER FRAMES'!$B$80=\"X40\",'ORDER FRAMES'!$B$80=\"X45\",'ORDER FRAMES'!$E$80=\"C\"),VLOOKUP('ORDER FRAMES'!$B$80,DEURDRANGER!$C$5:$H$10,5,FALSE),IF('ORDER FRAMES'!$D$80=\"EI-\",VLOOKUP('ORDER FRAMES'!$D$80,DEURDRANGER!$C$4:$H$4,5,FALSE),IF('ORDER FRAMES'!$D$80=\"EI0\",VLOOKUP('ORDER FRAMES'!$D$80,DEURDRANGER!$C$12:$H$12,5,FALSE))))","v":false},{"$f":"IF(OR('ORDER FRAMES'!$B$81=\"X40\",'ORDER FRAMES'!$B$81=\"X45\",'ORDER FRAMES'!$E$81=\"C\"),VLOOKUP('ORDER FRAMES'!$B$81,DEURDRANGER!$C$5:$H$10,5,FALSE),IF('ORDER FRAMES'!$D$81=\"EI-\",VLOOKUP('ORDER FRAMES'!$D$81,DEURDRANGER!$C$4:$H$4,5,FALSE),IF('ORDER FRAMES'!$D$81=\"EI0\",VLOOKUP('ORDER FRAMES'!$D$81,DEURDRANGER!$C$12:$H$12,5,FALSE))))","v":false},{"$f":"IF(OR('ORDER FRAMES'!$B$82=\"X40\",'ORDER FRAMES'!$B$82=\"X45\",'ORDER FRAMES'!$E$82=\"C\"),VLOOKUP('ORDER FRAMES'!$B$82,DEURDRANGER!$C$5:$H$10,5,FALSE),IF('ORDER FRAMES'!$D$82=\"EI-\",VLOOKUP('ORDER FRAMES'!$D$82,DEURDRANGER!$C$4:$H$4,5,FALSE),IF('ORDER FRAMES'!$D$82=\"EI0\",VLOOKUP('ORDER FRAMES'!$D$82,DEURDRANGER!$C$12:$H$12,5,FALSE))))","v":false},{"$f":"IF(OR('ORDER FRAMES'!$B$83=\"X40\",'ORDER FRAMES'!$B$83=\"X45\",'ORDER FRAMES'!$E$83=\"C\"),VLOOKUP('ORDER FRAMES'!$B$83,DEURDRANGER!$C$5:$H$10,5,FALSE),IF('ORDER FRAMES'!$D$83=\"EI-\",VLOOKUP('ORDER FRAMES'!$D$83,DEURDRANGER!$C$4:$H$4,5,FALSE),IF('ORDER FRAMES'!$D$83=\"EI0\",VLOOKUP('ORDER FRAMES'!$D$83,DEURDRANGER!$C$12:$H$12,5,FALSE))))","v":false},{"$f":"IF(OR('ORDER FRAMES'!$B$84=\"X40\",'ORDER FRAMES'!$B$84=\"X45\",'ORDER FRAMES'!$E$84=\"C\"),VLOOKUP('ORDER FRAMES'!$B$84,DEURDRANGER!$C$5:$H$10,5,FALSE),IF('ORDER FRAMES'!$D$84=\"EI-\",VLOOKUP('ORDER FRAMES'!$D$84,DEURDRANGER!$C$4:$H$4,5,FALSE),IF('ORDER FRAMES'!$D$84=\"EI0\",VLOOKUP('ORDER FRAMES'!$D$84,DEURDRANGER!$C$12:$H$12,5,FALSE))))","v":false},{"$f":"IF(OR('ORDER FRAMES'!$B$85=\"X40\",'ORDER FRAMES'!$B$85=\"X45\",'ORDER FRAMES'!$E$85=\"C\"),VLOOKUP('ORDER FRAMES'!$B$85,DEURDRANGER!$C$5:$H$10,5,FALSE),IF('ORDER FRAMES'!$D$85=\"EI-\",VLOOKUP('ORDER FRAMES'!$D$85,DEURDRANGER!$C$4:$H$4,5,FALSE),IF('ORDER FRAMES'!$D$85=\"EI0\",VLOOKUP('ORDER FRAMES'!$D$85,DEURDRANGER!$C$12:$H$12,5,FALSE))))","v":false},{"$f":"IF(OR('ORDER FRAMES'!$B$86=\"X40\",'ORDER FRAMES'!$B$86=\"X45\",'ORDER FRAMES'!$E$86=\"C\"),VLOOKUP('ORDER FRAMES'!$B$86,DEURDRANGER!$C$5:$H$10,5,FALSE),IF('ORDER FRAMES'!$D$86=\"EI-\",VLOOKUP('ORDER FRAMES'!$D$86,DEURDRANGER!$C$4:$H$4,5,FALSE),IF('ORDER FRAMES'!$D$86=\"EI0\",VLOOKUP('ORDER FRAMES'!$D$86,DEURDRANGER!$C$12:$H$12,5,FALSE))))","v":false},{"$f":"IF(OR('ORDER FRAMES'!$B$87=\"X40\",'ORDER FRAMES'!$B$87=\"X45\",'ORDER FRAMES'!$E$87=\"C\"),VLOOKUP('ORDER FRAMES'!$B$87,DEURDRANGER!$C$5:$H$10,5,FALSE),IF('ORDER FRAMES'!$D$87=\"EI-\",VLOOKUP('ORDER FRAMES'!$D$87,DEURDRANGER!$C$4:$H$4,5,FALSE),IF('ORDER FRAMES'!$D$87=\"EI0\",VLOOKUP('ORDER FRAMES'!$D$87,DEURDRANGER!$C$12:$H$12,5,FALSE))))","v":false},{"$f":"IF(OR('ORDER FRAMES'!$B$88=\"X40\",'ORDER FRAMES'!$B$88=\"X45\",'ORDER FRAMES'!$E$88=\"C\"),VLOOKUP('ORDER FRAMES'!$B$88,DEURDRANGER!$C$5:$H$10,5,FALSE),IF('ORDER FRAMES'!$D$88=\"EI-\",VLOOKUP('ORDER FRAMES'!$D$88,DEURDRANGER!$C$4:$H$4,5,FALSE),IF('ORDER FRAMES'!$D$88=\"EI0\",VLOOKUP('ORDER FRAMES'!$D$88,DEURDRANGER!$C$12:$H$12,5,FALSE))))","v":false},{"$f":"IF(OR('ORDER FRAMES'!$B$89=\"X40\",'ORDER FRAMES'!$B$89=\"X45\",'ORDER FRAMES'!$E$89=\"C\"),VLOOKUP('ORDER FRAMES'!$B$89,DEURDRANGER!$C$5:$H$10,5,FALSE),IF('ORDER FRAMES'!$D$89=\"EI-\",VLOOKUP('ORDER FRAMES'!$D$89,DEURDRANGER!$C$4:$H$4,5,FALSE),IF('ORDER FRAMES'!$D$89=\"EI0\",VLOOKUP('ORDER FRAMES'!$D$89,DEURDRANGER!$C$12:$H$12,5,FALSE))))","v":false},{"$f":"IF(OR('ORDER FRAMES'!$B$90=\"X40\",'ORDER FRAMES'!$B$90=\"X45\",'ORDER FRAMES'!$E$90=\"C\"),VLOOKUP('ORDER FRAMES'!$B$90,DEURDRANGER!$C$5:$H$10,5,FALSE),IF('ORDER FRAMES'!$D$90=\"EI-\",VLOOKUP('ORDER FRAMES'!$D$90,DEURDRANGER!$C$4:$H$4,5,FALSE),IF('ORDER FRAMES'!$D$90=\"EI0\",VLOOKUP('ORDER FRAMES'!$D$90,DEURDRANGER!$C$12:$H$12,5,FALSE))))","v":false},{"$f":"IF(OR('ORDER FRAMES'!$B$91=\"X40\",'ORDER FRAMES'!$B$91=\"X45\",'ORDER FRAMES'!$E$91=\"C\"),VLOOKUP('ORDER FRAMES'!$B$91,DEURDRANGER!$C$5:$H$10,5,FALSE),IF('ORDER FRAMES'!$D$91=\"EI-\",VLOOKUP('ORDER FRAMES'!$D$91,DEURDRANGER!$C$4:$H$4,5,FALSE),IF('ORDER FRAMES'!$D$91=\"EI0\",VLOOKUP('ORDER FRAMES'!$D$91,DEURDRANGER!$C$12:$H$12,5,FALSE))))","v":false},{"$f":"IF(OR('ORDER FRAMES'!$B$92=\"X40\",'ORDER FRAMES'!$B$92=\"X45\",'ORDER FRAMES'!$E$92=\"C\"),VLOOKUP('ORDER FRAMES'!$B$92,DEURDRANGER!$C$5:$H$10,5,FALSE),IF('ORDER FRAMES'!$D$92=\"EI-\",VLOOKUP('ORDER FRAMES'!$D$92,DEURDRANGER!$C$4:$H$4,5,FALSE),IF('ORDER FRAMES'!$D$92=\"EI0\",VLOOKUP('ORDER FRAMES'!$D$92,DEURDRANGER!$C$12:$H$12,5,FALSE))))","v":false},{"$f":"IF(OR('ORDER FRAMES'!$B$93=\"X40\",'ORDER FRAMES'!$B$93=\"X45\",'ORDER FRAMES'!$E$93=\"C\"),VLOOKUP('ORDER FRAMES'!$B$93,DEURDRANGER!$C$5:$H$10,5,FALSE),IF('ORDER FRAMES'!$D$93=\"EI-\",VLOOKUP('ORDER FRAMES'!$D$93,DEURDRANGER!$C$4:$H$4,5,FALSE),IF('ORDER FRAMES'!$D$93=\"EI0\",VLOOKUP('ORDER FRAMES'!$D$93,DEURDRANGER!$C$12:$H$12,5,FALSE))))","v":false},{"$f":"IF(OR('ORDER FRAMES'!$B$94=\"X40\",'ORDER FRAMES'!$B$94=\"X45\",'ORDER FRAMES'!$E$94=\"C\"),VLOOKUP('ORDER FRAMES'!$B$94,DEURDRANGER!$C$5:$H$10,5,FALSE),IF('ORDER FRAMES'!$D$94=\"EI-\",VLOOKUP('ORDER FRAMES'!$D$94,DEURDRANGER!$C$4:$H$4,5,FALSE),IF('ORDER FRAMES'!$D$94=\"EI0\",VLOOKUP('ORDER FRAMES'!$D$94,DEURDRANGER!$C$12:$H$12,5,FALSE))))","v":false},{"$f":"IF(OR('ORDER FRAMES'!$B$95=\"X40\",'ORDER FRAMES'!$B$95=\"X45\",'ORDER FRAMES'!$E$95=\"C\"),VLOOKUP('ORDER FRAMES'!$B$95,DEURDRANGER!$C$5:$H$10,5,FALSE),IF('ORDER FRAMES'!$D$95=\"EI-\",VLOOKUP('ORDER FRAMES'!$D$95,DEURDRANGER!$C$4:$H$4,5,FALSE),IF('ORDER FRAMES'!$D$95=\"EI0\",VLOOKUP('ORDER FRAMES'!$D$95,DEURDRANGER!$C$12:$H$12,5,FALSE))))","v":false},{"$f":"IF(OR('ORDER FRAMES'!$B$96=\"X40\",'ORDER FRAMES'!$B$96=\"X45\",'ORDER FRAMES'!$E$96=\"C\"),VLOOKUP('ORDER FRAMES'!$B$96,DEURDRANGER!$C$5:$H$10,5,FALSE),IF('ORDER FRAMES'!$D$96=\"EI-\",VLOOKUP('ORDER FRAMES'!$D$96,DEURDRANGER!$C$4:$H$4,5,FALSE),IF('ORDER FRAMES'!$D$96=\"EI0\",VLOOKUP('ORDER FRAMES'!$D$96,DEURDRANGER!$C$12:$H$12,5,FALSE))))","v":false},{"$f":"IF(OR('ORDER FRAMES'!$B$97=\"X40\",'ORDER FRAMES'!$B$97=\"X45\",'ORDER FRAMES'!$E$97=\"C\"),VLOOKUP('ORDER FRAMES'!$B$97,DEURDRANGER!$C$5:$H$10,5,FALSE),IF('ORDER FRAMES'!$D$97=\"EI-\",VLOOKUP('ORDER FRAMES'!$D$97,DEURDRANGER!$C$4:$H$4,5,FALSE),IF('ORDER FRAMES'!$D$97=\"EI0\",VLOOKUP('ORDER FRAMES'!$D$97,DEURDRANGER!$C$12:$H$12,5,FALSE))))","v":false},{"$f":"IF(OR('ORDER FRAMES'!$B$98=\"X40\",'ORDER FRAMES'!$B$98=\"X45\",'ORDER FRAMES'!$E$98=\"C\"),VLOOKUP('ORDER FRAMES'!$B$98,DEURDRANGER!$C$5:$H$10,5,FALSE),IF('ORDER FRAMES'!$D$98=\"EI-\",VLOOKUP('ORDER FRAMES'!$D$98,DEURDRANGER!$C$4:$H$4,5,FALSE),IF('ORDER FRAMES'!$D$98=\"EI0\",VLOOKUP('ORDER FRAMES'!$D$98,DEURDRANGER!$C$12:$H$12,5,FALSE))))","v":false},{"$f":"IF(OR('ORDER FRAMES'!$B$99=\"X40\",'ORDER FRAMES'!$B$99=\"X45\",'ORDER FRAMES'!$E$99=\"C\"),VLOOKUP('ORDER FRAMES'!$B$99,DEURDRANGER!$C$5:$H$10,5,FALSE),IF('ORDER FRAMES'!$D$99=\"EI-\",VLOOKUP('ORDER FRAMES'!$D$99,DEURDRANGER!$C$4:$H$4,5,FALSE),IF('ORDER FRAMES'!$D$99=\"EI0\",VLOOKUP('ORDER FRAMES'!$D$99,DEURDRANGER!$C$12:$H$12,5,FALSE))))","v":false},{"$f":"IF(OR('ORDER FRAMES'!$B$100=\"X40\",'ORDER FRAMES'!$B$100=\"X45\",'ORDER FRAMES'!$E$100=\"C\"),VLOOKUP('ORDER FRAMES'!$B$100,DEURDRANGER!$C$5:$H$10,5,FALSE),IF('ORDER FRAMES'!$D$100=\"EI-\",VLOOKUP('ORDER FRAMES'!$D$100,DEURDRANGER!$C$4:$H$4,5,FALSE),IF('ORDER FRAMES'!$D$100=\"EI0\",VLOOKUP('ORDER FRAMES'!$D$100,DEURDRANGER!$C$12:$H$12,5,FALSE))))","v":false}]
[null,"X1","X1",1,null,null,null,5,null,null,null,null,null,null,null,{"$f":"IF(OR('ORDER FRAMES'!$B$21=\"X40\",'ORDER FRAMES'!$B$21=\"X45\",'ORDER FRAMES'!$E$21=\"C\"),VLOOKUP('ORDER FRAMES'!$B$21,DEURDRANGER!$C$5:$H$10,6,FALSE),IF('ORDER FRAMES'!$D$21=\"EI-\",VLOOKUP('ORDER FRAMES'!$D$21,DEURDRANGER!$C$4:$H$4,6,FALSE),IF('ORDER FRAMES'!$D$21=\"EI0\",VLOOKUP('ORDER FRAMES'!$D$21,DEURDRANGER!$C$12:$H$12,6,FALSE))))","v":0},{"$f":"IF(OR('ORDER FRAMES'!$B$22=\"X40\",'ORDER FRAMES'!$B$22=\"X45\",'ORDER FRAMES'!$E$22=\"C\"),VLOOKUP('ORDER FRAMES'!$B$22,DEURDRANGER!$C$5:$H$10,6,FALSE),IF('ORDER FRAMES'!$D$22=\"EI-\",VLOOKUP('ORDER FRAMES'!$D$22,DEURDRANGER!$C$4:$H$4,6,FALSE),IF('ORDER FRAMES'!$D$22=\"EI0\",VLOOKUP('ORDER FRAMES'!$D$22,DEURDRANGER!$C$12:$H$12,6,FALSE))))","v":5},{"$f":"IF(OR('ORDER FRAMES'!$B$23=\"X40\",'ORDER FRAMES'!$B$23=\"X45\",'ORDER FRAMES'!$E$23=\"C\"),VLOOKUP('ORDER FRAMES'!$B$23,DEURDRANGER!$C$5:$H$10,6,FALSE),IF('ORDER FRAMES'!$D$23=\"EI-\",VLOOKUP('ORDER FRAMES'!$D$23,DEURDRANGER!$C$4:$H$4,6,FALSE),IF('ORDER FRAMES'!$D$23=\"EI0\",VLOOKUP('ORDER FRAMES'!$D$23,DEURDRANGER!$C$12:$H$12,6,FALSE))))","v":false},{"$f":"IF(OR('ORDER FRAMES'!$B$24=\"X40\",'ORDER FRAMES'!$B$24=\"X45\",'ORDER FRAMES'!$E$24=\"C\"),VLOOKUP('ORDER FRAMES'!$B$24,DEURDRANGER!$C$5:$H$10,6,FALSE),IF('ORDER FRAMES'!$D$24=\"EI-\",VLOOKUP('ORDER FRAMES'!$D$24,DEURDRANGER!$C$4:$H$4,6,FALSE),IF('ORDER FRAMES'!$D$24=\"EI0\",VLOOKUP('ORDER FRAMES'!$D$24,DEURDRANGER!$C$12:$H$12,6,FALSE))))","v":false},{"$f":"IF(OR('ORDER FRAMES'!$B$25=\"X40\",'ORDER FRAMES'!$B$25=\"X45\",'ORDER FRAMES'!$B$25=\"C\"),VLOOKUP('ORDER FRAMES'!$B$25,DEURDRANGER!$C$5:$H$10,6,FALSE),IF('ORDER FRAMES'!$D$25=\"EI-\",VLOOKUP('ORDER FRAMES'!$D$25,DEURDRANGER!$C$4:$H$4,6,FALSE),IF('ORDER FRAMES'!$D$25=\"EI0\",VLOOKUP('ORDER FRAMES'!$D$25,DEURDRANGER!$C$12:$H$12,6,FALSE))))","v":false},{"$f":"IF(OR('ORDER FRAMES'!$B$26=\"X40\",'ORDER FRAMES'!$B$26=\"X45\",'ORDER FRAMES'!$E$26=\"C\"),VLOOKUP('ORDER FRAMES'!$B$26,DEURDRANGER!$C$5:$H$10,6,FALSE),IF('ORDER FRAMES'!$D$26=\"EI-\",VLOOKUP('ORDER FRAMES'!$D$26,DEURDRANGER!$C$4:$H$4,6,FALSE),IF('ORDER FRAMES'!$D$26=\"EI0\",VLOOKUP('ORDER FRAMES'!$D$26,DEURDRANGER!$C$12:$H$12,6,FALSE))))","v":false},{"$f":"IF(OR('ORDER FRAMES'!$B$27=\"X40\",'ORDER FRAMES'!$B$27=\"X45\",'ORDER FRAMES'!$E$27=\"C\"),VLOOKUP('ORDER FRAMES'!$B$27,DEURDRANGER!$C$5:$H$10,6,FALSE),IF('ORDER FRAMES'!$D$27=\"EI-\",VLOOKUP('ORDER FRAMES'!$D$27,DEURDRANGER!$C$4:$H$4,6,FALSE),IF('ORDER FRAMES'!$D$27=\"EI0\",VLOOKUP('ORDER FRAMES'!$D$27,DEURDRANGER!$C$12:$H$12,6,FALSE))))","v":false},{"$f":"IF(OR('ORDER FRAMES'!$B$28=\"X40\",'ORDER FRAMES'!$B$28=\"X45\",'ORDER FRAMES'!$E$28=\"C\"),VLOOKUP('ORDER FRAMES'!$B$28,DEURDRANGER!$C$5:$H$10,6,FALSE),IF('ORDER FRAMES'!$D$28=\"EI-\",VLOOKUP('ORDER FRAMES'!$D$28,DEURDRANGER!$C$4:$H$4,6,FALSE),IF('ORDER FRAMES'!$D$28=\"EI0\",VLOOKUP('ORDER FRAMES'!$D$28,DEURDRANGER!$C$12:$H$12,6,FALSE))))","v":false},{"$f":"IF(OR('ORDER FRAMES'!$B$29=\"X40\",'ORDER FRAMES'!$B$29=\"X45\",'ORDER FRAMES'!$E$29=\"C\"),VLOOKUP('ORDER FRAMES'!$B$29,DEURDRANGER!$C$5:$H$10,6,FALSE),IF('ORDER FRAMES'!$D$29=\"EI-\",VLOOKUP('ORDER FRAMES'!$D$29,DEURDRANGER!$C$4:$H$4,6,FALSE),IF('ORDER FRAMES'!$D$29=\"EI0\",VLOOKUP('ORDER FRAMES'!$D$29,DEURDRANGER!$C$12:$H$12,6,FALSE))))","v":false},{"$f":"IF(OR('ORDER FRAMES'!$B$30=\"X40\",'ORDER FRAMES'!$B$30=\"X45\",'ORDER FRAMES'!$E$30=\"C\"),VLOOKUP('ORDER FRAMES'!$B$30,DEURDRANGER!$C$5:$H$10,6,FALSE),IF('ORDER FRAMES'!$D$30=\"EI-\",VLOOKUP('ORDER FRAMES'!$D$30,DEURDRANGER!$C$4:$H$4,6,FALSE),IF('ORDER FRAMES'!$D$30=\"EI0\",VLOOKUP('ORDER FRAMES'!$D$30,DEURDRANGER!$C$12:$H$12,6,FALSE))))","v":false},{"$f":"IF(OR('ORDER FRAMES'!$B$31=\"X40\",'ORDER FRAMES'!$B$31=\"X45\",'ORDER FRAMES'!$E$31=\"C\"),VLOOKUP('ORDER FRAMES'!$B$31,DEURDRANGER!$C$5:$H$10,6,FALSE),IF('ORDER FRAMES'!$D$31=\"EI-\",VLOOKUP('ORDER FRAMES'!$D$31,DEURDRANGER!$C$4:$H$4,6,FALSE),IF('ORDER FRAMES'!$D$31=\"EI0\",VLOOKUP('ORDER FRAMES'!$D$31,DEURDRANGER!$C$12:$H$12,6,FALSE))))","v":false},{"$f":"IF(OR('ORDER FRAMES'!$B$32=\"X40\",'ORDER FRAMES'!$B$32=\"X45\",'ORDER FRAMES'!$E$32=\"C\"),VLOOKUP('ORDER FRAMES'!$B$32,DEURDRANGER!$C$5:$H$10,6,FALSE),IF('ORDER FRAMES'!$D$32=\"EI-\",VLOOKUP('ORDER FRAMES'!$D$32,DEURDRANGER!$C$4:$H$4,6,FALSE),IF('ORDER FRAMES'!$D$32=\"EI0\",VLOOKUP('ORDER FRAMES'!$D$32,DEURDRANGER!$C$12:$H$12,6,FALSE))))","v":false},{"$f":"IF(OR('ORDER FRAMES'!$B$33=\"X40\",'ORDER FRAMES'!$B$33=\"X45\",'ORDER FRAMES'!$E$33=\"C\"),VLOOKUP('ORDER FRAMES'!$B$33,DEURDRANGER!$C$5:$H$10,6,FALSE),IF('ORDER FRAMES'!$D$33=\"EI-\",VLOOKUP('ORDER FRAMES'!$D$33,DEURDRANGER!$C$4:$H$4,6,FALSE),IF('ORDER FRAMES'!$D$33=\"EI0\",VLOOKUP('ORDER FRAMES'!$D$33,DEURDRANGER!$C$12:$H$12,6,FALSE))))","v":false},{"$f":"IF(OR('ORDER FRAMES'!$B$34=\"X40\",'ORDER FRAMES'!$B$34=\"X45\",'ORDER FRAMES'!$E$34=\"C\"),VLOOKUP('ORDER FRAMES'!$B$34,DEURDRANGER!$C$5:$H$10,6,FALSE),IF('ORDER FRAMES'!$D$34=\"EI-\",VLOOKUP('ORDER FRAMES'!$D$34,DEURDRANGER!$C$4:$H$4,6,FALSE),IF('ORDER FRAMES'!$D$34=\"EI0\",VLOOKUP('ORDER FRAMES'!$D$34,DEURDRANGER!$C$12:$H$12,6,FALSE))))","v":false},{"$f":"IF(OR('ORDER FRAMES'!$B$35=\"X40\",'ORDER FRAMES'!$B$35=\"X45\",'ORDER FRAMES'!$E$35=\"C\"),VLOOKUP('ORDER FRAMES'!$B$35,DEURDRANGER!$C$5:$H$10,6,FALSE),IF('ORDER FRAMES'!$D$35=\"EI-\",VLOOKUP('ORDER FRAMES'!$D$35,DEURDRANGER!$C$4:$H$4,6,FALSE),IF('ORDER FRAMES'!$D$35=\"EI0\",VLOOKUP('ORDER FRAMES'!$D$35,DEURDRANGER!$C$12:$H$12,6,FALSE))))","v":false},{"$f":"IF(OR('ORDER FRAMES'!$B$36=\"X40\",'ORDER FRAMES'!$B$36=\"X45\",'ORDER FRAMES'!$E$36=\"C\"),VLOOKUP('ORDER FRAMES'!$B$36,DEURDRANGER!$C$5:$H$10,6,FALSE),IF('ORDER FRAMES'!$D$36=\"EI-\",VLOOKUP('ORDER FRAMES'!$D$36,DEURDRANGER!$C$4:$H$4,6,FALSE),IF('ORDER FRAMES'!$D$36=\"EI0\",VLOOKUP('ORDER FRAMES'!$D$36,DEURDRANGER!$C$12:$H$12,6,FALSE))))","v":false},{"$f":"IF(OR('ORDER FRAMES'!$B$37=\"X40\",'ORDER FRAMES'!$B$37=\"X45\",'ORDER FRAMES'!$E$37=\"C\"),VLOOKUP('ORDER FRAMES'!$B$37,DEURDRANGER!$C$5:$H$10,6,FALSE),IF('ORDER FRAMES'!$D$37=\"EI-\",VLOOKUP('ORDER FRAMES'!$D$37,DEURDRANGER!$C$4:$H$4,6,FALSE),IF('ORDER FRAMES'!$D$37=\"EI0\",VLOOKUP('ORDER FRAMES'!$D$37,DEURDRANGER!$C$12:$H$12,6,FALSE))))","v":false},{"$f":"IF(OR('ORDER FRAMES'!$B$38=\"X40\",'ORDER FRAMES'!$B$38=\"X45\",'ORDER FRAMES'!$E$38=\"C\"),VLOOKUP('ORDER FRAMES'!$B$38,DEURDRANGER!$C$5:$H$10,6,FALSE),IF('ORDER FRAMES'!$D$38=\"EI-\",VLOOKUP('ORDER FRAMES'!$D$38,DEURDRANGER!$C$4:$H$4,6,FALSE),IF('ORDER FRAMES'!$D$38=\"EI0\",VLOOKUP('ORDER FRAMES'!$D$38,DEURDRANGER!$C$12:$H$12,6,FALSE))))","v":false},{"$f":"IF(OR('ORDER FRAMES'!$B$39=\"X40\",'ORDER FRAMES'!$B$39=\"X45\",'ORDER FRAMES'!$E$39=\"C\"),VLOOKUP('ORDER FRAMES'!$B$39,DEURDRANGER!$C$5:$H$10,6,FALSE),IF('ORDER FRAMES'!$D$39=\"EI-\",VLOOKUP('ORDER FRAMES'!$D$39,DEURDRANGER!$C$4:$H$4,6,FALSE),IF('ORDER FRAMES'!$D$39=\"EI0\",VLOOKUP('ORDER FRAMES'!$D$39,DEURDRANGER!$C$12:$H$12,6,FALSE))))","v":false},{"$f":"IF(OR('ORDER FRAMES'!$B$40=\"X40\",'ORDER FRAMES'!$B$40=\"X45\",'ORDER FRAMES'!$E$40=\"C\"),VLOOKUP('ORDER FRAMES'!$B$40,DEURDRANGER!$C$5:$H$10,6,FALSE),IF('ORDER FRAMES'!$D$40=\"EI-\",VLOOKUP('ORDER FRAMES'!$D$40,DEURDRANGER!$C$4:$H$4,6,FALSE),IF('ORDER FRAMES'!$D$40=\"EI0\",VLOOKUP('ORDER FRAMES'!$D$40,DEURDRANGER!$C$12:$H$12,6,FALSE))))","v":false},{"$f":"IF(OR('ORDER FRAMES'!$B$41=\"X40\",'ORDER FRAMES'!$B$41=\"X45\",'ORDER FRAMES'!$E$41=\"C\"),VLOOKUP('ORDER FRAMES'!$B$41,DEURDRANGER!$C$5:$H$10,6,FALSE),IF('ORDER FRAMES'!$D$41=\"EI-\",VLOOKUP('ORDER FRAMES'!$D$41,DEURDRANGER!$C$4:$H$4,6,FALSE),IF('ORDER FRAMES'!$D$41=\"EI0\",VLOOKUP('ORDER FRAMES'!$D$41,DEURDRANGER!$C$12:$H$12,6,FALSE))))","v":false},{"$f":"IF(OR('ORDER FRAMES'!$B$42=\"X40\",'ORDER FRAMES'!$B$42=\"X45\",'ORDER FRAMES'!$E$42=\"C\"),VLOOKUP('ORDER FRAMES'!$B$42,DEURDRANGER!$C$5:$H$10,6,FALSE),IF('ORDER FRAMES'!$D$42=\"EI-\",VLOOKUP('ORDER FRAMES'!$D$42,DEURDRANGER!$C$4:$H$4,6,FALSE),IF('ORDER FRAMES'!$D$42=\"EI0\",VLOOKUP('ORDER FRAMES'!$D$42,DEURDRANGER!$C$12:$H$12,6,FALSE))))","v":false},{"$f":"IF(OR('ORDER FRAMES'!$B$43=\"X40\",'ORDER FRAMES'!$B$43=\"X45\",'ORDER FRAMES'!$E$43=\"C\"),VLOOKUP('ORDER FRAMES'!$B$43,DEURDRANGER!$C$5:$H$10,6,FALSE),IF('ORDER FRAMES'!$D$43=\"EI-\",VLOOKUP('ORDER FRAMES'!$D$43,DEURDRANGER!$C$4:$H$4,6,FALSE),IF('ORDER FRAMES'!$D$43=\"EI0\",VLOOKUP('ORDER FRAMES'!$D$43,DEURDRANGER!$C$12:$H$12,6,FALSE))))","v":false},{"$f":"IF(OR('ORDER FRAMES'!$B$44=\"X40\",'ORDER FRAMES'!$B$44=\"X45\",'ORDER FRAMES'!$E$44=\"C\"),VLOOKUP('ORDER FRAMES'!$B$44,DEURDRANGER!$C$5:$H$10,6,FALSE),IF('ORDER FRAMES'!$D$44=\"EI-\",VLOOKUP('ORDER FRAMES'!$D$44,DEURDRANGER!$C$4:$H$4,6,FALSE),IF('ORDER FRAMES'!$D$44=\"EI0\",VLOOKUP('ORDER FRAMES'!$D$44,DEURDRANGER!$C$12:$H$12,6,FALSE))))","v":false},{"$f":"IF(OR('ORDER FRAMES'!$B$45=\"X40\",'ORDER FRAMES'!$B$45=\"X45\",'ORDER FRAMES'!$E$45=\"C\"),VLOOKUP('ORDER FRAMES'!$B$45,DEURDRANGER!$C$5:$H$10,6,FALSE),IF('ORDER FRAMES'!$D$45=\"EI-\",VLOOKUP('ORDER FRAMES'!$D$45,DEURDRANGER!$C$4:$H$4,6,FALSE),IF('ORDER FRAMES'!$D$45=\"EI0\",VLOOKUP('ORDER FRAMES'!$D$45,DEURDRANGER!$C$12:$H$12,6,FALSE))))","v":false},{"$f":"IF(OR('ORDER FRAMES'!$B$46=\"X40\",'ORDER FRAMES'!$B$46=\"X45\",'ORDER FRAMES'!$E$46=\"C\"),VLOOKUP('ORDER FRAMES'!$B$46,DEURDRANGER!$C$5:$H$10,6,FALSE),IF('ORDER FRAMES'!$D$46=\"EI-\",VLOOKUP('ORDER FRAMES'!$D$46,DEURDRANGER!$C$4:$H$4,6,FALSE),IF('ORDER FRAMES'!$D$46=\"EI0\",VLOOKUP('ORDER FRAMES'!$D$46,DEURDRANGER!$C$12:$H$12,6,FALSE))))","v":false},{"$f":"IF(OR('ORDER FRAMES'!$B$47=\"X40\",'ORDER FRAMES'!$B$47=\"X45\",'ORDER FRAMES'!$E$47=\"C\"),VLOOKUP('ORDER FRAMES'!$B$47,DEURDRANGER!$C$5:$H$10,6,FALSE),IF('ORDER FRAMES'!$D$47=\"EI-\",VLOOKUP('ORDER FRAMES'!$D$47,DEURDRANGER!$C$4:$H$4,6,FALSE),IF('ORDER FRAMES'!$D$47=\"EI0\",VLOOKUP('ORDER FRAMES'!$D$47,DEURDRANGER!$C$12:$H$12,6,FALSE))))","v":false},{"$f":"IF(OR('ORDER FRAMES'!$B$48=\"X40\",'ORDER FRAMES'!$B$48=\"X45\",'ORDER FRAMES'!$E$48=\"C\"),VLOOKUP('ORDER FRAMES'!$B$48,DEURDRANGER!$C$5:$H$10,6,FALSE),IF('ORDER FRAMES'!$D$48=\"EI-\",VLOOKUP('ORDER FRAMES'!$D$48,DEURDRANGER!$C$4:$H$4,6,FALSE),IF('ORDER FRAMES'!$D$48=\"EI0\",VLOOKUP('ORDER FRAMES'!$D$48,DEURDRANGER!$C$12:$H$12,6,FALSE))))","v":false},{"$f":"IF(OR('ORDER FRAMES'!$B$49=\"X40\",'ORDER FRAMES'!$B$49=\"X45\",'ORDER FRAMES'!$E$49=\"C\"),VLOOKUP('ORDER FRAMES'!$B$49,DEURDRANGER!$C$5:$H$10,6,FALSE),IF('ORDER FRAMES'!$D$49=\"EI-\",VLOOKUP('ORDER FRAMES'!$D$49,DEURDRANGER!$C$4:$H$4,6,FALSE),IF('ORDER FRAMES'!$D$49=\"EI0\",VLOOKUP('ORDER FRAMES'!$D$49,DEURDRANGER!$C$12:$H$12,6,FALSE))))","v":false},{"$f":"IF(OR('ORDER FRAMES'!$B$50=\"X40\",'ORDER FRAMES'!$B$50=\"X45\",'ORDER FRAMES'!$E$50=\"C\"),VLOOKUP('ORDER FRAMES'!$B$50,DEURDRANGER!$C$5:$H$10,6,FALSE),IF('ORDER FRAMES'!$D$50=\"EI-\",VLOOKUP('ORDER FRAMES'!$D$50,DEURDRANGER!$C$4:$H$4,6,FALSE),IF('ORDER FRAMES'!$D$50=\"EI0\",VLOOKUP('ORDER FRAMES'!$D$50,DEURDRANGER!$C$12:$H$12,6,FALSE))))","v":false},{"$f":"IF(OR('ORDER FRAMES'!$B$51=\"X40\",'ORDER FRAMES'!$B$51=\"X45\",'ORDER FRAMES'!$E$51=\"C\"),VLOOKUP('ORDER FRAMES'!$B$51,DEURDRANGER!$C$5:$H$10,6,FALSE),IF('ORDER FRAMES'!$D$51=\"EI-\",VLOOKUP('ORDER FRAMES'!$D$51,DEURDRANGER!$C$4:$H$4,6,FALSE),IF('ORDER FRAMES'!$D$51=\"EI0\",VLOOKUP('ORDER FRAMES'!$D$51,DEURDRANGER!$C$12:$H$12,6,FALSE))))","v":false},{"$f":"IF(OR('ORDER FRAMES'!$B$52=\"X40\",'ORDER FRAMES'!$B$52=\"X45\",'ORDER FRAMES'!$E$52=\"C\"),VLOOKUP('ORDER FRAMES'!$B$52,DEURDRANGER!$C$5:$H$10,6,FALSE),IF('ORDER FRAMES'!$D$52=\"EI-\",VLOOKUP('ORDER FRAMES'!$D$52,DEURDRANGER!$C$4:$H$4,6,FALSE),IF('ORDER FRAMES'!$D$52=\"EI0\",VLOOKUP('ORDER FRAMES'!$D$52,DEURDRANGER!$C$12:$H$12,6,FALSE))))","v":false},{"$f":"IF(OR('ORDER FRAMES'!$B$53=\"X40\",'ORDER FRAMES'!$B$53=\"X45\",'ORDER FRAMES'!$E$53=\"C\"),VLOOKUP('ORDER FRAMES'!$B$53,DEURDRANGER!$C$5:$H$10,6,FALSE),IF('ORDER FRAMES'!$D$53=\"EI-\",VLOOKUP('ORDER FRAMES'!$D$53,DEURDRANGER!$C$4:$H$4,6,FALSE),IF('ORDER FRAMES'!$D$53=\"EI0\",VLOOKUP('ORDER FRAMES'!$D$53,DEURDRANGER!$C$12:$H$12,6,FALSE))))","v":false},{"$f":"IF(OR('ORDER FRAMES'!$B$54=\"X40\",'ORDER FRAMES'!$B$54=\"X45\",'ORDER FRAMES'!$E$54=\"C\"),VLOOKUP('ORDER FRAMES'!$B$54,DEURDRANGER!$C$5:$H$10,6,FALSE),IF('ORDER FRAMES'!$D$54=\"EI-\",VLOOKUP('ORDER FRAMES'!$D$54,DEURDRANGER!$C$4:$H$4,6,FALSE),IF('ORDER FRAMES'!$D$54=\"EI0\",VLOOKUP('ORDER FRAMES'!$D$54,DEURDRANGER!$C$12:$H$12,6,FALSE))))","v":false},{"$f":"IF(OR('ORDER FRAMES'!$B$55=\"X40\",'ORDER FRAMES'!$B$55=\"X45\",'ORDER FRAMES'!$E$55=\"C\"),VLOOKUP('ORDER FRAMES'!$B$55,DEURDRANGER!$C$5:$H$10,6,FALSE),IF('ORDER FRAMES'!$D$55=\"EI-\",VLOOKUP('ORDER FRAMES'!$D$55,DEURDRANGER!$C$4:$H$4,6,FALSE),IF('ORDER FRAMES'!$D$55=\"EI0\",VLOOKUP('ORDER FRAMES'!$D$55,DEURDRANGER!$C$12:$H$12,6,FALSE))))","v":false},{"$f":"IF(OR('ORDER FRAMES'!$B$56=\"X40\",'ORDER FRAMES'!$B$56=\"X45\",'ORDER FRAMES'!$E$56=\"C\"),VLOOKUP('ORDER FRAMES'!$B$56,DEURDRANGER!$C$5:$H$10,6,FALSE),IF('ORDER FRAMES'!$D$56=\"EI-\",VLOOKUP('ORDER FRAMES'!$D$56,DEURDRANGER!$C$4:$H$4,6,FALSE),IF('ORDER FRAMES'!$D$56=\"EI0\",VLOOKUP('ORDER FRAMES'!$D$56,DEURDRANGER!$C$12:$H$12,6,FALSE))))","v":false},{"$f":"IF(OR('ORDER FRAMES'!$B$57=\"X40\",'ORDER FRAMES'!$B$57=\"X45\",'ORDER FRAMES'!$E$57=\"C\"),VLOOKUP('ORDER FRAMES'!$B$57,DEURDRANGER!$C$5:$H$10,6,FALSE),IF('ORDER FRAMES'!$D$57=\"EI-\",VLOOKUP('ORDER FRAMES'!$D$57,DEURDRANGER!$C$4:$H$4,6,FALSE),IF('ORDER FRAMES'!$D$57=\"EI0\",VLOOKUP('ORDER FRAMES'!$D$57,DEURDRANGER!$C$12:$H$12,6,FALSE))))","v":false},{"$f":"IF(OR('ORDER FRAMES'!$B$58=\"X40\",'ORDER FRAMES'!$B$58=\"X45\",'ORDER FRAMES'!$E$58=\"C\"),VLOOKUP('ORDER FRAMES'!$B$58,DEURDRANGER!$C$5:$H$10,6,FALSE),IF('ORDER FRAMES'!$D$58=\"EI-\",VLOOKUP('ORDER FRAMES'!$D$58,DEURDRANGER!$C$4:$H$4,6,FALSE),IF('ORDER FRAMES'!$D$58=\"EI0\",VLOOKUP('ORDER FRAMES'!$D$58,DEURDRANGER!$C$12:$H$12,6,FALSE))))","v":false},{"$f":"IF(OR('ORDER FRAMES'!$B$59=\"X40\",'ORDER FRAMES'!$B$59=\"X45\",'ORDER FRAMES'!$E$59=\"C\"),VLOOKUP('ORDER FRAMES'!$B$59,DEURDRANGER!$C$5:$H$10,6,FALSE),IF('ORDER FRAMES'!$D$59=\"EI-\",VLOOKUP('ORDER FRAMES'!$D$59,DEURDRANGER!$C$4:$H$4,6,FALSE),IF('ORDER FRAMES'!$D$59=\"EI0\",VLOOKUP('ORDER FRAMES'!$D$59,DEURDRANGER!$C$12:$H$12,6,FALSE))))","v":false},{"$f":"IF(OR('ORDER FRAMES'!$B$60=\"X40\",'ORDER FRAMES'!$B$60=\"X45\",'ORDER FRAMES'!$E$60=\"C\"),VLOOKUP('ORDER FRAMES'!$B$60,DEURDRANGER!$C$5:$H$10,6,FALSE),IF('ORDER FRAMES'!$D$60=\"EI-\",VLOOKUP('ORDER FRAMES'!$D$60,DEURDRANGER!$C$4:$H$4,6,FALSE),IF('ORDER FRAMES'!$D$60=\"EI0\",VLOOKUP('ORDER FRAMES'!$D$60,DEURDRANGER!$C$12:$H$12,6,FALSE))))","v":false},{"$f":"IF(OR('ORDER FRAMES'!$B$61=\"X40\",'ORDER FRAMES'!$B$61=\"X45\",'ORDER FRAMES'!$E$61=\"C\"),VLOOKUP('ORDER FRAMES'!$B$61,DEURDRANGER!$C$5:$H$10,6,FALSE),IF('ORDER FRAMES'!$D$61=\"EI-\",VLOOKUP('ORDER FRAMES'!$D$61,DEURDRANGER!$C$4:$H$4,6,FALSE),IF('ORDER FRAMES'!$D$61=\"EI0\",VLOOKUP('ORDER FRAMES'!$D$61,DEURDRANGER!$C$12:$H$12,6,FALSE))))","v":false},{"$f":"IF(OR('ORDER FRAMES'!$B$62=\"X40\",'ORDER FRAMES'!$B$62=\"X45\",'ORDER FRAMES'!$E$62=\"C\"),VLOOKUP('ORDER FRAMES'!$B$62,DEURDRANGER!$C$5:$H$10,6,FALSE),IF('ORDER FRAMES'!$D$62=\"EI-\",VLOOKUP('ORDER FRAMES'!$D$62,DEURDRANGER!$C$4:$H$4,6,FALSE),IF('ORDER FRAMES'!$D$62=\"EI0\",VLOOKUP('ORDER FRAMES'!$D$62,DEURDRANGER!$C$12:$H$12,6,FALSE))))","v":false},{"$f":"IF(OR('ORDER FRAMES'!$B$50=\"X40\",'ORDER FRAMES'!$B$50=\"X45\",'ORDER FRAMES'!$E$63=\"C\"),VLOOKUP('ORDER FRAMES'!$B$50,DEURDRANGER!$C$5:$H$10,6,FALSE),IF('ORDER FRAMES'!$D$50=\"EI-\",VLOOKUP('ORDER FRAMES'!$D$50,DEURDRANGER!$C$4:$H$4,6,FALSE),IF('ORDER FRAMES'!$D$50=\"EI0\",VLOOKUP('ORDER FRAMES'!$D$50,DEURDRANGER!$C$12:$H$12,6,FALSE))))","v":false},{"$f":"IF(OR('ORDER FRAMES'!$B$64=\"X40\",'ORDER FRAMES'!$B$64=\"X45\",'ORDER FRAMES'!$E$64=\"C\"),VLOOKUP('ORDER FRAMES'!$B$64,DEURDRANGER!$C$5:$H$10,6,FALSE),IF('ORDER FRAMES'!$D$64=\"EI-\",VLOOKUP('ORDER FRAMES'!$D$64,DEURDRANGER!$C$4:$H$4,6,FALSE),IF('ORDER FRAMES'!$D$64=\"EI0\",VLOOKUP('ORDER FRAMES'!$D$64,DEURDRANGER!$C$12:$H$12,6,FALSE))))","v":false},{"$f":"IF(OR('ORDER FRAMES'!$B$65=\"X40\",'ORDER FRAMES'!$B$65=\"X45\",'ORDER FRAMES'!$E$65=\"C\"),VLOOKUP('ORDER FRAMES'!$B$65,DEURDRANGER!$C$5:$H$10,6,FALSE),IF('ORDER FRAMES'!$D$65=\"EI-\",VLOOKUP('ORDER FRAMES'!$D$65,DEURDRANGER!$C$4:$H$4,6,FALSE),IF('ORDER FRAMES'!$D$65=\"EI0\",VLOOKUP('ORDER FRAMES'!$D$65,DEURDRANGER!$C$12:$H$12,6,FALSE))))","v":false},{"$f":"IF(OR('ORDER FRAMES'!$B$66=\"X40\",'ORDER FRAMES'!$B$66=\"X45\",'ORDER FRAMES'!$E$66=\"C\"),VLOOKUP('ORDER FRAMES'!$B$66,DEURDRANGER!$C$5:$H$10,6,FALSE),IF('ORDER FRAMES'!$D$66=\"EI-\",VLOOKUP('ORDER FRAMES'!$D$66,DEURDRANGER!$C$4:$H$4,6,FALSE),IF('ORDER FRAMES'!$D$66=\"EI0\",VLOOKUP('ORDER FRAMES'!$D$66,DEURDRANGER!$C$12:$H$12,6,FALSE))))","v":false},{"$f":"IF(OR('ORDER FRAMES'!$B$67=\"X40\",'ORDER FRAMES'!$B$67=\"X45\",'ORDER FRAMES'!$E$67=\"C\"),VLOOKUP('ORDER FRAMES'!$B$67,DEURDRANGER!$C$5:$H$10,6,FALSE),IF('ORDER FRAMES'!$D$67=\"EI-\",VLOOKUP('ORDER FRAMES'!$D$67,DEURDRANGER!$C$4:$H$4,6,FALSE),IF('ORDER FRAMES'!$D$67=\"EI0\",VLOOKUP('ORDER FRAMES'!$D$67,DEURDRANGER!$C$12:$H$12,6,FALSE))))","v":false},{"$f":"IF(OR('ORDER FRAMES'!$B$68=\"X40\",'ORDER FRAMES'!$B$68=\"X45\",'ORDER FRAMES'!$E$68=\"C\"),VLOOKUP('ORDER FRAMES'!$B$68,DEURDRANGER!$C$5:$H$10,6,FALSE),IF('ORDER FRAMES'!$D$68=\"EI-\",VLOOKUP('ORDER FRAMES'!$D$68,DEURDRANGER!$C$4:$H$4,6,FALSE),IF('ORDER FRAMES'!$D$68=\"EI0\",VLOOKUP('ORDER FRAMES'!$D$68,DEURDRANGER!$C$12:$H$12,6,FALSE))))","v":false},{"$f":"IF(OR('ORDER FRAMES'!$B$69=\"X40\",'ORDER FRAMES'!$B$69=\"X45\",'ORDER FRAMES'!$E$69=\"C\"),VLOOKUP('ORDER FRAMES'!$B$69,DEURDRANGER!$C$5:$H$10,6,FALSE),IF('ORDER FRAMES'!$D$69=\"EI-\",VLOOKUP('ORDER FRAMES'!$D$69,DEURDRANGER!$C$4:$H$4,6,FALSE),IF('ORDER FRAMES'!$D$69=\"EI0\",VLOOKUP('ORDER FRAMES'!$D$69,DEURDRANGER!$C$12:$H$12,6,FALSE))))","v":false},{"$f":"IF(OR('ORDER FRAMES'!$B$70=\"X40\",'ORDER FRAMES'!$B$70=\"X45\",'ORDER FRAMES'!$E$70=\"C\"),VLOOKUP('ORDER FRAMES'!$B$70,DEURDRANGER!$C$5:$H$10,6,FALSE),IF('ORDER FRAMES'!$D$70=\"EI-\",VLOOKUP('ORDER FRAMES'!$D$70,DEURDRANGER!$C$4:$H$4,6,FALSE),IF('ORDER FRAMES'!$D$70=\"EI0\",VLOOKUP('ORDER FRAMES'!$D$70,DEURDRANGER!$C$12:$H$12,6,FALSE))))","v":false},{"$f":"IF(OR('ORDER FRAMES'!$B$71=\"X40\",'ORDER FRAMES'!$B$71=\"X45\",'ORDER FRAMES'!$E$71=\"C\"),VLOOKUP('ORDER FRAMES'!$B$71,DEURDRANGER!$C$5:$H$10,6,FALSE),IF('ORDER FRAMES'!$D$71=\"EI-\",VLOOKUP('ORDER FRAMES'!$D$71,DEURDRANGER!$C$4:$H$4,6,FALSE),IF('ORDER FRAMES'!$D$71=\"EI0\",VLOOKUP('ORDER FRAMES'!$D$71,DEURDRANGER!$C$12:$H$12,6,FALSE))))","v":false},{"$f":"IF(OR('ORDER FRAMES'!$B$72=\"X40\",'ORDER FRAMES'!$B$72=\"X45\",'ORDER FRAMES'!$E$72=\"C\"),VLOOKUP('ORDER FRAMES'!$B$72,DEURDRANGER!$C$5:$H$10,6,FALSE),IF('ORDER FRAMES'!$D$72=\"EI-\",VLOOKUP('ORDER FRAMES'!$D$72,DEURDRANGER!$C$4:$H$4,6,FALSE),IF('ORDER FRAMES'!$D$72=\"EI0\",VLOOKUP('ORDER FRAMES'!$D$72,DEURDRANGER!$C$12:$H$12,6,FALSE))))","v":false},{"$f":"IF(OR('ORDER FRAMES'!$B$73=\"X40\",'ORDER FRAMES'!$B$73=\"X45\",'ORDER FRAMES'!$E$73=\"C\"),VLOOKUP('ORDER FRAMES'!$B$73,DEURDRANGER!$C$5:$H$10,6,FALSE),IF('ORDER FRAMES'!$D$73=\"EI-\",VLOOKUP('ORDER FRAMES'!$D$73,DEURDRANGER!$C$4:$H$4,6,FALSE),IF('ORDER FRAMES'!$D$73=\"EI0\",VLOOKUP('ORDER FRAMES'!$D$73,DEURDRANGER!$C$12:$H$12,6,FALSE))))","v":false},{"$f":"IF(OR('ORDER FRAMES'!$B$74=\"X40\",'ORDER FRAMES'!$B$74=\"X45\",'ORDER FRAMES'!$E$74=\"C\"),VLOOKUP('ORDER FRAMES'!$B$74,DEURDRANGER!$C$5:$H$10,6,FALSE),IF('ORDER FRAMES'!$D$74=\"EI-\",VLOOKUP('ORDER FRAMES'!$D$74,DEURDRANGER!$C$4:$H$4,6,FALSE),IF('ORDER FRAMES'!$D$74=\"EI0\",VLOOKUP('ORDER FRAMES'!$D$74,DEURDRANGER!$C$12:$H$12,6,FALSE))))","v":false},{"$f":"IF(OR('ORDER FRAMES'!$B$75=\"X40\",'ORDER FRAMES'!$B$75=\"X45\",'ORDER FRAMES'!$E$75=\"C\"),VLOOKUP('ORDER FRAMES'!$B$75,DEURDRANGER!$C$5:$H$10,6,FALSE),IF('ORDER FRAMES'!$D$75=\"EI-\",VLOOKUP('ORDER FRAMES'!$D$75,DEURDRANGER!$C$4:$H$4,6,FALSE),IF('ORDER FRAMES'!$D$75=\"EI0\",VLOOKUP('ORDER FRAMES'!$D$75,DEURDRANGER!$C$12:$H$12,6,FALSE))))","v":false},{"$f":"IF(OR('ORDER FRAMES'!$B$76=\"X40\",'ORDER FRAMES'!$B$76=\"X45\",'ORDER FRAMES'!$E$76=\"C\"),VLOOKUP('ORDER FRAMES'!$B$76,DEURDRANGER!$C$5:$H$10,6,FALSE),IF('ORDER FRAMES'!$D$76=\"EI-\",VLOOKUP('ORDER FRAMES'!$D$76,DEURDRANGER!$C$4:$H$4,6,FALSE),IF('ORDER FRAMES'!$D$76=\"EI0\",VLOOKUP('ORDER FRAMES'!$D$76,DEURDRANGER!$C$12:$H$12,6,FALSE))))","v":false},{"$f":"IF(OR('ORDER FRAMES'!$B$77=\"X40\",'ORDER FRAMES'!$B$77=\"X45\",'ORDER FRAMES'!$E$77=\"C\"),VLOOKUP('ORDER FRAMES'!$B$77,DEURDRANGER!$C$5:$H$10,6,FALSE),IF('ORDER FRAMES'!$D$77=\"EI-\",VLOOKUP('ORDER FRAMES'!$D$77,DEURDRANGER!$C$4:$H$4,6,FALSE),IF('ORDER FRAMES'!$D$77=\"EI0\",VLOOKUP('ORDER FRAMES'!$D$77,DEURDRANGER!$C$12:$H$12,6,FALSE))))","v":false},{"$f":"IF(OR('ORDER FRAMES'!$B$78=\"X40\",'ORDER FRAMES'!$B$78=\"X45\",'ORDER FRAMES'!$E$78=\"C\"),VLOOKUP('ORDER FRAMES'!$B$78,DEURDRANGER!$C$5:$H$10,6,FALSE),IF('ORDER FRAMES'!$D$78=\"EI-\",VLOOKUP('ORDER FRAMES'!$D$78,DEURDRANGER!$C$4:$H$4,6,FALSE),IF('ORDER FRAMES'!$D$78=\"EI0\",VLOOKUP('ORDER FRAMES'!$D$78,DEURDRANGER!$C$12:$H$12,6,FALSE))))","v":false},{"$f":"IF(OR('ORDER FRAMES'!$B$79=\"X40\",'ORDER FRAMES'!$B$79=\"X45\",'ORDER FRAMES'!$E$79=\"C\"),VLOOKUP('ORDER FRAMES'!$B$79,DEURDRANGER!$C$5:$H$10,6,FALSE),IF('ORDER FRAMES'!$D$79=\"EI-\",VLOOKUP('ORDER FRAMES'!$D$79,DEURDRANGER!$C$4:$H$4,6,FALSE),IF('ORDER FRAMES'!$D$79=\"EI0\",VLOOKUP('ORDER FRAMES'!$D$79,DEURDRANGER!$C$12:$H$12,6,FALSE))))","v":false},{"$f":"IF(OR('ORDER FRAMES'!$B$80=\"X40\",'ORDER FRAMES'!$B$80=\"X45\",'ORDER FRAMES'!$E$80=\"C\"),VLOOKUP('ORDER FRAMES'!$B$80,DEURDRANGER!$C$5:$H$10,6,FALSE),IF('ORDER FRAMES'!$D$80=\"EI-\",VLOOKUP('ORDER FRAMES'!$D$80,DEURDRANGER!$C$4:$H$4,6,FALSE),IF('ORDER FRAMES'!$D$80=\"EI0\",VLOOKUP('ORDER FRAMES'!$D$80,DEURDRANGER!$C$12:$H$12,6,FALSE))))","v":false},{"$f":"IF(OR('ORDER FRAMES'!$B$81=\"X40\",'ORDER FRAMES'!$B$81=\"X45\",'ORDER FRAMES'!$E$81=\"C\"),VLOOKUP('ORDER FRAMES'!$B$81,DEURDRANGER!$C$5:$H$10,6,FALSE),IF('ORDER FRAMES'!$D$81=\"EI-\",VLOOKUP('ORDER FRAMES'!$D$81,DEURDRANGER!$C$4:$H$4,6,FALSE),IF('ORDER FRAMES'!$D$81=\"EI0\",VLOOKUP('ORDER FRAMES'!$D$81,DEURDRANGER!$C$12:$H$12,6,FALSE))))","v":false},{"$f":"IF(OR('ORDER FRAMES'!$B$82=\"X40\",'ORDER FRAMES'!$B$82=\"X45\",'ORDER FRAMES'!$E$82=\"C\"),VLOOKUP('ORDER FRAMES'!$B$82,DEURDRANGER!$C$5:$H$10,6,FALSE),IF('ORDER FRAMES'!$D$82=\"EI-\",VLOOKUP('ORDER FRAMES'!$D$82,DEURDRANGER!$C$4:$H$4,6,FALSE),IF('ORDER FRAMES'!$D$82=\"EI0\",VLOOKUP('ORDER FRAMES'!$D$82,DEURDRANGER!$C$12:$H$12,6,FALSE))))","v":false},{"$f":"IF(OR('ORDER FRAMES'!$B$83=\"X40\",'ORDER FRAMES'!$B$83=\"X45\",'ORDER FRAMES'!$E$83=\"C\"),VLOOKUP('ORDER FRAMES'!$B$83,DEURDRANGER!$C$5:$H$10,6,FALSE),IF('ORDER FRAMES'!$D$83=\"EI-\",VLOOKUP('ORDER FRAMES'!$D$83,DEURDRANGER!$C$4:$H$4,6,FALSE),IF('ORDER FRAMES'!$D$83=\"EI0\",VLOOKUP('ORDER FRAMES'!$D$83,DEURDRANGER!$C$12:$H$12,6,FALSE))))","v":false},{"$f":"IF(OR('ORDER FRAMES'!$B$84=\"X40\",'ORDER FRAMES'!$B$84=\"X45\",'ORDER FRAMES'!$E$84=\"C\"),VLOOKUP('ORDER FRAMES'!$B$84,DEURDRANGER!$C$5:$H$10,6,FALSE),IF('ORDER FRAMES'!$D$84=\"EI-\",VLOOKUP('ORDER FRAMES'!$D$84,DEURDRANGER!$C$4:$H$4,6,FALSE),IF('ORDER FRAMES'!$D$84=\"EI0\",VLOOKUP('ORDER FRAMES'!$D$84,DEURDRANGER!$C$12:$H$12,6,FALSE))))","v":false},{"$f":"IF(OR('ORDER FRAMES'!$B$85=\"X40\",'ORDER FRAMES'!$B$85=\"X45\",'ORDER FRAMES'!$E$85=\"C\"),VLOOKUP('ORDER FRAMES'!$B$85,DEURDRANGER!$C$5:$H$10,6,FALSE),IF('ORDER FRAMES'!$D$85=\"EI-\",VLOOKUP('ORDER FRAMES'!$D$85,DEURDRANGER!$C$4:$H$4,6,FALSE),IF('ORDER FRAMES'!$D$85=\"EI0\",VLOOKUP('ORDER FRAMES'!$D$85,DEURDRANGER!$C$12:$H$12,6,FALSE))))","v":false},{"$f":"IF(OR('ORDER FRAMES'!$B$86=\"X40\",'ORDER FRAMES'!$B$86=\"X45\",'ORDER FRAMES'!$E$86=\"C\"),VLOOKUP('ORDER FRAMES'!$B$86,DEURDRANGER!$C$5:$H$10,6,FALSE),IF('ORDER FRAMES'!$D$86=\"EI-\",VLOOKUP('ORDER FRAMES'!$D$86,DEURDRANGER!$C$4:$H$4,6,FALSE),IF('ORDER FRAMES'!$D$86=\"EI0\",VLOOKUP('ORDER FRAMES'!$D$86,DEURDRANGER!$C$12:$H$12,6,FALSE))))","v":false},{"$f":"IF(OR('ORDER FRAMES'!$B$87=\"X40\",'ORDER FRAMES'!$B$87=\"X45\",'ORDER FRAMES'!$E$87=\"C\"),VLOOKUP('ORDER FRAMES'!$B$87,DEURDRANGER!$C$5:$H$10,6,FALSE),IF('ORDER FRAMES'!$D$87=\"EI-\",VLOOKUP('ORDER FRAMES'!$D$87,DEURDRANGER!$C$4:$H$4,6,FALSE),IF('ORDER FRAMES'!$D$87=\"EI0\",VLOOKUP('ORDER FRAMES'!$D$87,DEURDRANGER!$C$12:$H$12,6,FALSE))))","v":false},{"$f":"IF(OR('ORDER FRAMES'!$B$88=\"X40\",'ORDER FRAMES'!$B$88=\"X45\",'ORDER FRAMES'!$E$88=\"C\"),VLOOKUP('ORDER FRAMES'!$B$88,DEURDRANGER!$C$5:$H$10,6,FALSE),IF('ORDER FRAMES'!$D$88=\"EI-\",VLOOKUP('ORDER FRAMES'!$D$88,DEURDRANGER!$C$4:$H$4,6,FALSE),IF('ORDER FRAMES'!$D$88=\"EI0\",VLOOKUP('ORDER FRAMES'!$D$88,DEURDRANGER!$C$12:$H$12,6,FALSE))))","v":false},{"$f":"IF(OR('ORDER FRAMES'!$B$89=\"X40\",'ORDER FRAMES'!$B$89=\"X45\",'ORDER FRAMES'!$E$89=\"C\"),VLOOKUP('ORDER FRAMES'!$B$89,DEURDRANGER!$C$5:$H$10,6,FALSE),IF('ORDER FRAMES'!$D$89=\"EI-\",VLOOKUP('ORDER FRAMES'!$D$89,DEURDRANGER!$C$4:$H$4,6,FALSE),IF('ORDER FRAMES'!$D$89=\"EI0\",VLOOKUP('ORDER FRAMES'!$D$89,DEURDRANGER!$C$12:$H$12,6,FALSE))))","v":false},{"$f":"IF(OR('ORDER FRAMES'!$B$90=\"X40\",'ORDER FRAMES'!$B$90=\"X45\",'ORDER FRAMES'!$E$90=\"C\"),VLOOKUP('ORDER FRAMES'!$B$90,DEURDRANGER!$C$5:$H$10,6,FALSE),IF('ORDER FRAMES'!$D$90=\"EI-\",VLOOKUP('ORDER FRAMES'!$D$90,DEURDRANGER!$C$4:$H$4,6,FALSE),IF('ORDER FRAMES'!$D$90=\"EI0\",VLOOKUP('ORDER FRAMES'!$D$90,DEURDRANGER!$C$12:$H$12,6,FALSE))))","v":false},{"$f":"IF(OR('ORDER FRAMES'!$B$91=\"X40\",'ORDER FRAMES'!$B$91=\"X45\",'ORDER FRAMES'!$E$91=\"C\"),VLOOKUP('ORDER FRAMES'!$B$91,DEURDRANGER!$C$5:$H$10,6,FALSE),IF('ORDER FRAMES'!$D$91=\"EI-\",VLOOKUP('ORDER FRAMES'!$D$91,DEURDRANGER!$C$4:$H$4,6,FALSE),IF('ORDER FRAMES'!$D$91=\"EI0\",VLOOKUP('ORDER FRAMES'!$D$91,DEURDRANGER!$C$12:$H$12,6,FALSE))))","v":false},{"$f":"IF(OR('ORDER FRAMES'!$B$92=\"X40\",'ORDER FRAMES'!$B$92=\"X45\",'ORDER FRAMES'!$E$92=\"C\"),VLOOKUP('ORDER FRAMES'!$B$92,DEURDRANGER!$C$5:$H$10,6,FALSE),IF('ORDER FRAMES'!$D$92=\"EI-\",VLOOKUP('ORDER FRAMES'!$D$92,DEURDRANGER!$C$4:$H$4,6,FALSE),IF('ORDER FRAMES'!$D$92=\"EI0\",VLOOKUP('ORDER FRAMES'!$D$92,DEURDRANGER!$C$12:$H$12,6,FALSE))))","v":false},{"$f":"IF(OR('ORDER FRAMES'!$B$93=\"X40\",'ORDER FRAMES'!$B$93=\"X45\",'ORDER FRAMES'!$E$93=\"C\"),VLOOKUP('ORDER FRAMES'!$B$93,DEURDRANGER!$C$5:$H$10,6,FALSE),IF('ORDER FRAMES'!$D$93=\"EI-\",VLOOKUP('ORDER FRAMES'!$D$93,DEURDRANGER!$C$4:$H$4,6,FALSE),IF('ORDER FRAMES'!$D$93=\"EI0\",VLOOKUP('ORDER FRAMES'!$D$93,DEURDRANGER!$C$12:$H$12,6,FALSE))))","v":false},{"$f":"IF(OR('ORDER FRAMES'!$B$94=\"X40\",'ORDER FRAMES'!$B$94=\"X45\",'ORDER FRAMES'!$E$94=\"C\"),VLOOKUP('ORDER FRAMES'!$B$94,DEURDRANGER!$C$5:$H$10,6,FALSE),IF('ORDER FRAMES'!$D$94=\"EI-\",VLOOKUP('ORDER FRAMES'!$D$94,DEURDRANGER!$C$4:$H$4,6,FALSE),IF('ORDER FRAMES'!$D$94=\"EI0\",VLOOKUP('ORDER FRAMES'!$D$94,DEURDRANGER!$C$12:$H$12,6,FALSE))))","v":false},{"$f":"IF(OR('ORDER FRAMES'!$B$95=\"X40\",'ORDER FRAMES'!$B$95=\"X45\",'ORDER FRAMES'!$E$95=\"C\"),VLOOKUP('ORDER FRAMES'!$B$95,DEURDRANGER!$C$5:$H$10,6,FALSE),IF('ORDER FRAMES'!$D$95=\"EI-\",VLOOKUP('ORDER FRAMES'!$D$95,DEURDRANGER!$C$4:$H$4,6,FALSE),IF('ORDER FRAMES'!$D$95=\"EI0\",VLOOKUP('ORDER FRAMES'!$D$95,DEURDRANGER!$C$12:$H$12,6,FALSE))))","v":false},{"$f":"IF(OR('ORDER FRAMES'!$B$96=\"X40\",'ORDER FRAMES'!$B$96=\"X45\",'ORDER FRAMES'!$E$96=\"C\"),VLOOKUP('ORDER FRAMES'!$B$96,DEURDRANGER!$C$5:$H$10,6,FALSE),IF('ORDER FRAMES'!$D$96=\"EI-\",VLOOKUP('ORDER FRAMES'!$D$96,DEURDRANGER!$C$4:$H$4,6,FALSE),IF('ORDER FRAMES'!$D$96=\"EI0\",VLOOKUP('ORDER FRAMES'!$D$96,DEURDRANGER!$C$12:$H$12,6,FALSE))))","v":false},{"$f":"IF(OR('ORDER FRAMES'!$B$97=\"X40\",'ORDER FRAMES'!$B$97=\"X45\",'ORDER FRAMES'!$E$97=\"C\"),VLOOKUP('ORDER FRAMES'!$B$97,DEURDRANGER!$C$5:$H$10,6,FALSE),IF('ORDER FRAMES'!$D$97=\"EI-\",VLOOKUP('ORDER FRAMES'!$D$97,DEURDRANGER!$C$4:$H$4,6,FALSE),IF('ORDER FRAMES'!$D$97=\"EI0\",VLOOKUP('ORDER FRAMES'!$D$97,DEURDRANGER!$C$12:$H$12,6,FALSE))))","v":false},{"$f":"IF(OR('ORDER FRAMES'!$B$98=\"X40\",'ORDER FRAMES'!$B$98=\"X45\",'ORDER FRAMES'!$E$98=\"C\"),VLOOKUP('ORDER FRAMES'!$B$98,DEURDRANGER!$C$5:$H$10,6,FALSE),IF('ORDER FRAMES'!$D$98=\"EI-\",VLOOKUP('ORDER FRAMES'!$D$98,DEURDRANGER!$C$4:$H$4,6,FALSE),IF('ORDER FRAMES'!$D$98=\"EI0\",VLOOKUP('ORDER FRAMES'!$D$98,DEURDRANGER!$C$12:$H$12,6,FALSE))))","v":false},{"$f":"IF(OR('ORDER FRAMES'!$B$99=\"X40\",'ORDER FRAMES'!$B$99=\"X45\",'ORDER FRAMES'!$E$99=\"C\"),VLOOKUP('ORDER FRAMES'!$B$99,DEURDRANGER!$C$5:$H$10,6,FALSE),IF('ORDER FRAMES'!$D$99=\"EI-\",VLOOKUP('ORDER FRAMES'!$D$99,DEURDRANGER!$C$4:$H$4,6,FALSE),IF('ORDER FRAMES'!$D$99=\"EI0\",VLOOKUP('ORDER FRAMES'!$D$99,DEURDRANGER!$C$12:$H$12,6,FALSE))))","v":false},{"$f":"IF(OR('ORDER FRAMES'!$B$100=\"X40\",'ORDER FRAMES'!$B$100=\"X45\",'ORDER FRAMES'!$E$100=\"C\"),VLOOKUP('ORDER FRAMES'!$B$100,DEURDRANGER!$C$5:$H$10,6,FALSE),IF('ORDER FRAMES'!$D$100=\"EI-\",VLOOKUP('ORDER FRAMES'!$D$100,DEURDRANGER!$C$4:$H$4,6,FALSE),IF('ORDER FRAMES'!$D$100=\"EI0\",VLOOKUP('ORDER FRAMES'!$D$100,DEURDRANGER!$C$12:$H$12,6,FALSE))))","v":false}]
[null,"X240","X240",1,null,null,null,5]
[null,"X245","X245",1,null,null,null,5]
[null,"X250","X250",1,null,null,null,5]
[]
[null,"Gewoon ","EI0",1,2,3,4,5]

{"sheet":"Formules","index":7,"n_rows":252,"n_cols":32,"rows_kept":252,"cut":false,"hidden":true,"merged":[]}
[null,"NL",null,null,null,null,"NEDERLANDS",null,null,"FRANS",null,null,"ENGELS",null,null,"DUITS",null,null,"ITALIAANS"]
[null,"EU LINKS",null,null,null,null,null,null,null,"EU GAUCHE",null,null,"EU LEFT",null,null,"EU Links",null,null,"EU Sinestra"]
[null,"EU RECHTS",null,null,null,null,null,null,null,"EU DROITE",null,null,"EU RIGHT",null,null,"EU Rechts",null,null,"EU Destra"]
[null,"DUBBEL",null,null,null,null,null,null,null,"DOUBLE",null,null,"DOUBLE",null,null,"Doppelt",null,null,"Doppia"]
[null,null,null,null,null,"deuropener"]
[null,"X1","V","L","White",1,{"$f":"IF('[1]Order Form'!$B21=\"X250\",\"\",\"A240\")","v":"A240"},{"$f":"IF('[1]Order Form'!$B21=\"X250\",\"\",\"A241\")","v":"A241"},{"$f":"IF('[1]Order Form'!$B21=\"X250\",\"\",\"A242\")","v":"A242"},{"$f":"IF('[1]Order Form'!B21=\"X40\",\"\",\"TE 340 3D\")","v":"TE 340 3D"},{"$f":"IF('[1]Order Form'!$B21=\"X250\",\"\",\"X4030\")","v":"X4030"},{"$f":"IF(OR('[1]Order Form'!B21=\"X40\",'[1]Order Form'!B21=\"X45\"),\"\",\"A300\")","v":"A300"},{"$f":"IF('[1]Order Form'!B21=\"X250\",\"TE540\",\"\")","v":""}]
[null,"X240","T","R","Black",2,{"$f":"IF('[1]Order Form'!$B22=\"X250\",\"\",\"A240\")","v":"A240"},{"$f":"IF('[1]Order Form'!$B22=\"X250\",\"\",\"A241\")","v":"A241"},{"$f":"IF('[1]Order Form'!$B22=\"X250\",\"\",\"A242\")","v":"A242"},{"$f":"IF('[1]Order Form'!B22=\"X40\",\"\",\"TE 340 3D\")","v":"TE 340 3D"},{"$f":"IF('[1]Order Form'!$B22=\"X250\",\"\",\"X4030\")","v":"X4030"},{"$f":"IF(OR('[1]Order Form'!B22=\"X40\",'[1]Order Form'!B22=\"X45\"),\"\",\"A300\")","v":"A300"},{"$f":"IF('[1]Order Form'!B22=\"X250\",\"TE540\",\"\")","v":""}]
[null,"X245","W","DL",null,3,{"$f":"IF('[1]Order Form'!$B23=\"X250\",\"\",\"A240\")","v":"A240"},{"$f":"IF('[1]Order Form'!$B23=\"X250\",\"\",\"A241\")","v":"A241"},{"$f":"IF('[1]Order Form'!$B23=\"X250\",\"\",\"A242\")","v":"A242"},{"$f":"IF('[1]Order Form'!B23=\"X40\",\"\",\"TE 340 3D\")","v":"TE 340 3D"},{"$f":"IF('[1]Order Form'!$B23=\"X250\",\"\",\"X4030\")","v":"X4030"},{"$f":"IF(OR('[1]Order Form'!B23=\"X40\",'[1]Order Form'!B23=\"X45\"),\"\",\"A300\")","v":"A300"},{"$f":"IF('[1]Order Form'!B23=\"X250\",\"TE540\",\"\")","v":""}]
[null,"X250","C","DR",null,4,{"$f":"IF('[1]Order Form'!$B24=\"X250\",\"\",\"A240\")","v":"A240"},{"$f":"IF('[1]Order Form'!$B24=\"X250\",\"\",\"A241\")","v":"A241"},{"$f":"IF('[1]Order Form'!$B24=\"X250\",\"\",\"A242\")","v":"A242"},{"$f":"IF('[1]Order Form'!B24=\"X40\",\"\",\"TE 340 3D\")","v":"TE 340 3D"},{"$f":"IF('[1]Order Form'!$B24=\"X250\",\"\",\"X4030\")","v":"X4030"},{"$f":"IF(OR('[1]Order Form'!B24=\"X40\",'[1]Order Form'!B24=\"X45\"),\"\",\"A300\")","v":"A300"},{"$f":"IF('[1]Order Form'!B24=\"X250\",\"TE540\",\"\")","v":""}]
[null,"X40",null,null,null,5,{"$f":"IF('[1]Order Form'!$B25=\"X250\",\"\",\"A240\")","v":"A240"},{"$f":"IF('[1]Order Form'!$B25=\"X250\",\"\",\"A241\")","v":"A241"},{"$f":"IF('[1]Order Form'!$B25=\"X250\",\"\",\"A242\")","v":"A242"},{"$f":"IF('[1]Order Form'!B25=\"X40\",\"\",\"TE 340 3D\")","v":"TE 340 3D"},{"$f":"IF('[1]Order Form'!$B25=\"X250\",\"\",\"X4030\")","v":"X4030"},{"$f":"IF(OR('[1]Order Form'!B25=\"X40\",'[1]Order Form'!B25=\"X45\"),\"\",\"A300\")","v":"A300"},{"$f":"IF('[1]Order Form'!B25=\"X250\",\"TE540\",\"\")","v":""}]
[null,"X45",null,null,null,null,{"$f":"IF('[1]Order Form'!$B26=\"X250\",\"\",\"A240\")","v":"A240"},{"$f":"IF('[1]Order Form'!$B26=\"X250\",\"\",\"A241\")","v":"A241"},{"$f":"IF('[1]Order Form'!$B26=\"X250\",\"\",\"A242\")","v":"A242"},{"$f":"IF('[1]Order Form'!B26=\"X40\",\"\",\"TE 340 3D\")","v":"TE 340 3D"},{"$f":"IF('[1]Order Form'!$B26=\"X250\",\"\",\"X4030\")","v":"X4030"},{"$f":"IF(OR('[1]Order Form'!B26=\"X40\",'[1]Order Form'!B26=\"X45\"),\"\",\"A300\")","v":"A300"},{"$f":"IF('[1]Order Form'!B26=\"X250\",\"TE540\",\"\")","v":""}]
[null,null,null,null,null,null,{"$f":"IF('[1]Order Form'!$B27=\"X250\",\"\",\"A240\")","v":"A240"},{"$f":"IF('[1]Order Form'!$B27=\"X250\",\"\",\"A241\")","v":"A241"},{"$f":"IF('[1]Order Form'!$B27=\"X250\",\"\",\"A242\")","v":"A242"},{"$f":"IF('[1]Order Form'!B27=\"X40\",\"\",\"TE 340 3D\")","v":"TE 340 3D"},{"$f":"IF('[1]Order Form'!$B27=\"X250\",\"\",\"X4030\")","v":"X4030"},{"$f":"IF(OR('[1]Order Form'!B27=\"X40\",'[1]Order Form'!B27=\"X45\"),\"\",\"A300\")","v":"A300"},{"$f":"IF('[1]Order Form'!B27=\"X250\",\"TE540\",\"\")","v":""}]
[null,null,null,null,null,null,{"$f":"IF('[1]Order Form'!$B28=\"X250\",\"\",\"A240\")","v":"A240"},{"$f":"IF('[1]Order Form'!$B28=\"X250\",\"\",\"A241\")","v":"A241"},{"$f":"IF('[1]Order Form'!$B28=\"X250\",\"\",\"A242\")","v":"A242"},{"$f":"IF('[1]Order Form'!B28=\"X40\",\"\",\"TE 340 3D\")","v":"TE 340 3D"},{"$f":"IF('[1]Order Form'!$B28=\"X250\",\"\",\"X4030\")","v":"X4030"},{"$f":"IF(OR('[1]Order Form'!B28=\"X40\",'[1]Order Form'!B28=\"X45\"),\"\",\"A300\")","v":"A300"},{"$f":"IF('[1]Order Form'!B28=\"X250\",\"TE540\",\"\")","v":""}]
[null,null,null,null,null,null,{"$f":"IF('[1]Order Form'!$B29=\"X250\",\"\",\"A240\")","v":"A240"},{"$f":"IF('[1]Order Form'!$B29=\"X250\",\"\",\"A241\")","v":"A241"},{"$f":"IF('[1]Order Form'!$B29=\"X250\",\"\",\"A242\")","v":"A242"},{"$f":"IF('[1]Order Form'!B29=\"X40\",\"\",\"TE 340 3D\")","v":"TE 340 3D"},{"$f":"IF('[1]Order Form'!$B29=\"X250\",\"\",\"X4030\")","v":"X4030"},{"$f":"IF(OR('[1]Order Form'!B29=\"X40\",'[1]Order Form'!B29=\"X45\"),\"\",\"A300\")","v":"A300"},{"$f":"IF('[1]Order Form'!B29=\"X250\",\"TE540\",\"\")","v":""}]
[null,null,null,null,2,null,{"$f":"IF('[1]Order Form'!$B30=\"X250\",\"\",\"A240\")","v":"A240"},{"$f":"IF('[1]Order Form'!$B30=\"X250\",\"\",\"A241\")","v":"A241"},{"$f":"IF('[1]Order Form'!$B30=\"X250\",\"\",\"A242\")","v":"A242"},{"$f":"IF('[1]Order Form'!B30=\"X40\",\"\",\"TE 340 3D\")","v":"TE 340 3D"},{"$f":"IF('[1]Order Form'!$B30=\"X250\",\"\",\"X4030\")","v":"X4030"},{"$f":"IF(OR('[1]Order Form'!B30=\"X40\",'[1]Order Form'!B30=\"X45\"),\"\",\"A300\")","v":"A300"},{"$f":"IF('[1]Order Form'!B30=\"X250\",\"TE540\",\"\")","v":""}]
[null,"X4030",null,null,3,null,{"$f":"IF('[1]Order Form'!$B31=\"X250\",\"\",\"A240\")","v":"A240"},{"$f":"IF('[1]Order Form'!$B31=\"X250\",\"\",\"A241\")","v":"A241"},{"$f":"IF('[1]Order Form'!$B31=\"X250\",\"\",\"A242\")","v":"A242"},{"$f":"IF('[1]Order Form'!B31=\"X40\",\"\",\"TE 340 3D\")","v":"TE 340 3D"},{"$f":"IF('[1]Order Form'!$B31=\"X250\",\"\",\"X4030\")","v":"X4030"},{"$f":"IF(OR('[1]Order Form'!B31=\"X40\",'[1]Order Form'!B31=\"X45\"),\"\",\"A300\")","v":"A300"},{"$f":"IF('[1]Order Form'!B31=\"X250\",\"TE540\",\"\")","v":""}]
[null,"TE 340 3D",null,null,4,null,{"$f":"IF('[1]Order Form'!$B32=\"X250\",\"\",\"A240\")","v":"A240"},{"$f":"IF('[1]Order Form'!$B32=\"X250\",\"\",\"A241\")","v":"A241"},{"$f":"IF('[1]Order Form'!$B32=\"X250\",\"\",\"A242\")","v":"A242"},{"$f":"IF('[1]Order Form'!B32=\"X40\",\"\",\"TE 340 3D\")","v":"TE 340 3D"},{"$f":"IF('[1]Order Form'!$B32=\"X250\",\"\",\"X4030\")","v":"X4030"},{"$f":"IF(OR('[1]Order Form'!B32=\"X40\",'[1]Order Form'!B32=\"X45\"),\"\",\"A300\")","v":"A300"},{"$f":"IF('[1]Order Form'!B32=\"X250\",\"TE540\",\"\")","v":""}]
[null,"IN240 F1",null,null,5,null,{"$f":"IF('[1]Order Form'!$B33=\"X250\",\"\",\"A240\")","v":"A240"},{"$f":"IF('[1]Order Form'!$B33=\"X250\",\"\",\"A241\")","v":"A241"},{"$f":"IF('[1]Order Form'!$B33=\"X250\",\"\",\"A242\")","v":"A242"},{"$f":"IF('[1]Order Form'!B33=\"X40\",\"\",\"TE 340 3D\")","v":"TE 340 3D"},{"$f":"IF('[1]Order Form'!$B33=\"X250\",\"\",\"X4030\")","v":"X4030"},{"$f":"IF(OR('[1]Order Form'!B33=\"X40\",'[1]Order Form'!B33=\"X45\"),\"\",\"A300\")","v":"A300"},{"$f":"IF('[1]Order Form'!B33=\"X250\",\"TE540\",\"\")","v":""}]
[null,"IN240 W",null,null,6,null,{"$f":"IF('[1]Order Form'!$B34=\"X250\",\"\",\"A240\")","v":"A240"},{"$f":"IF('[1]Order Form'!$B34=\"X250\",\"\",\"A241\")","v":"A241"},{"$f":"IF('[1]Order Form'!$B34=\"X250\",\"\",\"A242\")","v":"A242"},{"$f":"IF('[1]Order Form'!B34=\"X40\",\"\",\"TE 340 3D\")","v":"TE 340 3D"},{"$f":"IF('[1]Order Form'!$B34=\"X250\",\"\",\"X4030\")","v":"X4030"},{"$f":"IF(OR('[1]Order Form'!B34=\"X40\",'[1]Order Form'!B34=\"X45\"),\"\",\"A300\")","v":"A300"},{"$f":"IF('[1]Order Form'!B34=\"X250\",\"TE540\",\"\")","v":""}]
[null,"IN300",null,null,null,null,{"$f":"IF('[1]Order Form'!$B35=\"X250\",\"\",\"A240\")","v":"A240"},{"$f":"IF('[1]Order Form'!$B35=\"X250\",\"\",\"A241\")","v":"A241"},{"$f":"IF('[1]Order Form'!$B35=\"X250\",\"\",\"A242\")","v":"A242"},{"$f":"IF('[1]Order Form'!B35=\"X40\",\"\",\"TE 340 3D\")","v":"TE 340 3D"},{"$f":"IF('[1]Order Form'!$B35=\"X250\",\"\",\"X4030\")","v":"X4030"},{"$f":"IF(OR('[1]Order Form'!B35=\"X40\",'[1]Order Form'!B35=\"X45\"),\"\",\"A300\")","v":"A300"},{"$f":"IF('[1]Order Form'!B35=\"X250\",\"TE540\",\"\")","v":""}]
[null,null,null,null,null,null,{"$f":"IF('[1]Order Form'!$B36=\"X250\",\"\",\"A240\")","v":"A240"},{"$f":"IF('[1]Order Form'!$B36=\"X250\",\"\",\"A241\")","v":"A241"},{"$f":"IF('[1]Order Form'!$B36=\"X250\",\"\",\"A242\")","v":"A242"},{"$f":"IF('[1]Order Form'!B36=\"X40\",\"\",\"TE 340 3D\")","v":"TE 340 3D"},{"$f":"IF('[1]Order Form'!$B36=\"X250\",\"\",\"X4030\")","v":"X4030"},{"$f":"IF(OR('[1]Order Form'!B36=\"X40\",'[1]Order Form'!B36=\"X45\"),\"\",\"A300\")","v":"A300"},{"$f":"IF('[1]Order Form'!B36=\"X250\",\"TE540\",\"\")","v":""}]
[null,"WHITE",null,null,"A24.0",null,{"$f":"IF('[1]Order Form'!$B37=\"X250\",\"\",\"A240\")","v":"A240"},{"$f":"IF('[1]Order Form'!$B37=\"X250\",\"\",\"A241\")","v":"A241"},{"$f":"IF('[1]Order Form'!$B37=\"X250\",\"\",\"A242\")","v":"A242"},{"$f":"IF('[1]Order Form'!B37=\"X40\",\"\",\"TE 340 3D\")","v":"TE 340 3D"},{"$f":"IF('[1]Order Form'!$B37=\"X250\",\"\",\"X4030\")","v":"X4030"},{"$f":"IF(OR('[1]Order Form'!B37=\"X40\",'[1]Order Form'!B37=\"X45\"),\"\",\"A300\")","v":"A300"},{"$f":"IF('[1]Order Form'!B37=\"X250\",\"TE540\",\"\")","v":""}]
[null,"B",null,null,"A24.1",null,{"$f":"IF('[1]Order Form'!$B38=\"X250\",\"\",\"A240\")","v":"A240"},{"$f":"IF('[1]Order Form'!$B38=\"X250\",\"\",\"A241\")","v":"A241"},{"$f":"IF('[1]Order Form'!$B38=\"X250\",\"\",\"A242\")","v":"A242"},{"$f":"IF('[1]Order Form'!B38=\"X40\",\"\",\"TE 340 3D\")","v":"TE 340 3D"},{"$f":"IF('[1]Order Form'!$B38=\"X250\",\"\",\"X4030\")","v":"X4030"},{"$f":"IF(OR('[1]Order Form'!B38=\"X40\",'[1]Order Form'!B38=\"X45\"),\"\",\"A300\")","v":"A300"},{"$f":"IF('[1]Order Form'!B38=\"X250\",\"TE540\",\"\")","v":""}]
[null,null,null,null,"A24.2",null,{"$f":"IF('[1]Order Form'!$B39=\"X250\",\"\",\"A240\")","v":"A240"},{"$f":"IF('[1]Order Form'!$B39=\"X250\",\"\",\"A241\")","v":"A241"},{"$f":"IF('[1]Order Form'!$B39=\"X250\",\"\",\"A242\")","v":"A242"},{"$f":"IF('[1]Order Form'!B39=\"X40\",\"\",\"TE 340 3D\")","v":"TE 340 3D"},{"$f":"IF('[1]Order Form'!$B39=\"X250\",\"\",\"X4030\")","v":"X4030"},{"$f":"IF(OR('[1]Order Form'!B39=\"X40\",'[1]Order Form'!B39=\"X45\"),\"\",\"A300\")","v":"A300"},{"$f":"IF('[1]Order Form'!B39=\"X250\",\"TE540\",\"\")","v":""}]
[null,null,null,null,"X4030",null,{"$f":"IF('[1]Order Form'!$B40=\"X250\",\"\",\"A240\")","v":"A240"},{"$f":"IF('[1]Order Form'!$B40=\"X250\",\"\",\"A241\")","v":"A241"},{"$f":"IF('[1]Order Form'!$B40=\"X250\",\"\",\"A242\")","v":"A242"},{"$f":"IF('[1]Order Form'!B40=\"X40\",\"\",\"TE 340 3D\")","v":"TE 340 3D"},{"$f":"IF('[1]Order Form'!$B40=\"X250\",\"\",\"X4030\")","v":"X4030"},{"$f":"IF(OR('[1]Order Form'!B40=\"X40\",'[1]Order Form'!B40=\"X45\"),\"\",\"A300\")","v":"A300"},{"$f":"IF('[1]Order Form'!B40=\"X250\",\"TE540\",\"\")","v":""}]
[null,null,null,null,"TE340.0",null,{"$f":"IF('[1]Order Form'!$B41=\"X250\",\"\",\"A240\")","v":"A240"},{"$f":"IF('[1]Order Form'!$B41=\"X250\",\"\",\"A241\")","v":"A241"},{"$f":"IF('[1]Order Form'!$B41=\"X250\",\"\",\"A242\")","v":"A242"},{"$f":"IF('[1]Order Form'!B41=\"X40\",\"\",\"TE 340 3D\")","v":"TE 340 3D"},{"$f":"IF('[1]Order Form'!$B41=\"X250\",\"\",\"X4030\")","v":"X4030"},{"$f":"IF(OR('[1]Order Form'!B41=\"X40\",'[1]Order Form'!B41=\"X45\"),\"\",\"A300\")","v":"A300"},{"$f":"IF('[1]Order Form'!B41=\"X250\",\"TE540\",\"\")","v":""}]
[null,"EI-",null,null,"TE340.1",null,{"$f":"IF('[1]Order Form'!$B42=\"X250\",\"\",\"A240\")","v":"A240"},{"$f":"IF('[1]Order Form'!$B42=\"X250\",\"\",\"A241\")","v":"A241"},{"$f":"IF('[1]Order Form'!$B42=\"X250\",\"\",\"A242\")","v":"A242"},{"$f":"IF('[1]Order Form'!B42=\"X40\",\"\",\"TE 340 3D\")","v":"TE 340 3D"},{"$f":"IF('[1]Order Form'!$B42=\"X250\",\"\",\"X4030\")","v":"X4030"},{"$f":"IF(OR('[1]Order Form'!B42=\"X40\",'[1]Order Form'!B42=\"X45\"),\"\",\"A300\")","v":"A300"},{"$f":"IF('[1]Order Form'!B42=\"X250\",\"TE540\",\"\")","v":""}]
[null,"/",null,null,"TE340.2",null,{"$f":"IF('[1]Order Form'!$B43=\"X250\",\"\",\"A240\")","v":"A240"},{"$f":"IF('[1]Order Form'!$B43=\"X250\",\"\",\"A241\")","v":"A241"},{"$f":"IF('[1]Order Form'!$B43=\"X250\",\"\",\"A242\")","v":"A242"},{"$f":"IF('[1]Order Form'!B43=\"X40\",\"\",\"TE 340 3D\")","v":"TE 340 3D"},{"$f":"IF('[1]Order Form'!$B43=\"X250\",\"\",\"X4030\")","v":"X4030"},{"$f":"IF(OR('[1]Order Form'!B43=\"X40\",'[1]Order Form'!B43=\"X45\"),\"\",\"A300\")","v":"A300"},{"$f":"IF('[1]Order Form'!B43=\"X250\",\"TE540\",\"\")","v":""}]
[null,null,null,null,"A30.0",null,{"$f":"IF('[1]Order Form'!$B44=\"X250\",\"\",\"A240\")","v":"A240"},{"$f":"IF('[1]Order Form'!$B44=\"X250\",\"\",\"A241\")","v":"A241"},{"$f":"IF('[1]Order Form'!$B44=\"X250\",\"\",\"A242\")","v":"A242"},{"$f":"IF('[1]Order Form'!B44=\"X40\",\"\",\"TE 340 3D\")","v":"TE 340 3D"},{"$f":"IF('[1]Order Form'!$B44=\"X250\",\"\",\"X4030\")","v":"X4030"},{"$f":"IF(OR('[1]Order Form'!B44=\"X40\",'[1]Order Form'!B44=\"X45\"),\"\",\"A300\")","v":"A300"},{"$f":"IF('[1]Order Form'!B44=\"X250\",\"TE540\",\"\")","v":""}]
[null,null,null,null,null,null,{"$f":"IF('[1]Order Form'!$B45=\"X250\",\"\",\"A240\")","v":"A240"},{"$f":"IF('[1]Order Form'!$B45=\"X250\",\"\",\"A241\")","v":"A241"},{"$f":"IF('[1]Order Form'!$B45=\"X250\",\"\",\"A242\")","v":"A242"},{"$f":"IF('[1]Order Form'!B45=\"X40\",\"\",\"TE 340 3D\")","v":"TE 340 3D"},{"$f":"IF('[1]Order Form'!$B45=\"X250\",\"\",\"X4030\")","v":"X4030"},{"$f":"IF(OR('[1]Order Form'!B45=\"X40\",'[1]Order Form'!B45=\"X45\"),\"\",\"A300\")","v":"A300"},{"$f":"IF('[1]Order Form'!B45=\"X250\",\"TE540\",\"\")","v":""}]
[null,"DU",null,null,"EI 0",null,{"$f":"IF('[1]Order Form'!$B46=\"X250\",\"\",\"A240\")","v":"A240"},{"$f":"IF('[1]Order Form'!$B46=\"X250\",\"\",\"A241\")","v":"A241"},{"$f":"IF('[1]Order Form'!$B46=\"X250\",\"\",\"A242\")","v":"A242"},{"$f":"IF('[1]Order Form'!B46=\"X40\",\"\",\"TE 340 3D\")","v":"TE 340 3D"},{"$f":"IF('[1]Order Form'!$B46=\"X250\",\"\",\"X4030\")","v":"X4030"},{"$f":"IF(OR('[1]Order Form'!B46=\"X40\",'[1]Order Form'!B46=\"X45\"),\"\",\"A300\")","v":"A300"},{"$f":"IF('[1]Order Form'!B46=\"X250\",\"TE540\",\"\")","v":""}]
[null,"TR",null,null,"EI 1 30"]
[null,null,null,null,"EI 1 45",null,"V",{"$f":"IF(OR('[1]Order Form'!B21=\"X40\",'[1]Order Form'!B21=\"X45\"),\"T\",\"\")","v":""},{"$f":"IF(OR('[1]Order Form'!B21=\"X40\",'[1]Order Form'!B21=\"X45\",'[1]Order Form'!C21=\"DL\",'[1]Order Form'!C21=\"DR\"),\"\",\"C\")","v":"C"},"W"]
[null,null,null,null,"EI 2 60",null,"V",{"$f":"IF(OR('[1]Order Form'!B22=\"X40\",'[1]Order Form'!B22=\"X45\"),\"T\",\"\")","v":""},{"$f":"IF(OR('[1]Order Form'!B22=\"X40\",'[1]Order Form'!B22=\"X45\",'[1]Order Form'!C22=\"DL\",'[1]Order Form'!C22=\"DR\"),\"\",\"C\")","v":"C"},"W",null,null,null,1]
[null,null,null,null,null,null,"V",{"$f":"IF(OR('[1]Order Form'!B23=\"X40\",'[1]Order Form'!B23=\"X45\"),\"T\",\"\")","v":""},{"$f":"IF(OR('[1]Order Form'!B23=\"X40\",'[1]Order Form'!B23=\"X45\",'[1]Order Form'!C23=\"DL\",'[1]Order Form'!C23=\"DR\"),\"\",\"C\")","v":"C"},"W",null,null,null,2]
[null,null,null,null,null,null,"V",{"$f":"IF(OR('[1]Order Form'!B24=\"X40\",'[1]Order Form'!B24=\"X45\"),\"T\",\"\")","v":""},{"$f":"IF(OR('[1]Order Form'!B24=\"X40\",'[1]Order Form'!B24=\"X45\",'[1]Order Form'!C24=\"DL\",'[1]Order Form'!C24=\"DR\"),\"\",\"C\")","v":"C"},"W",null,null,null,3]
[null,null,1,null,null,null,"V",{"$f":"IF(OR('[1]Order Form'!B25=\"X40\",'[1]Order Form'!B25=\"X45\"),\"T\",\"\")","v":""},{"$f":"IF(OR('[1]Order Form'!B25=\"X40\",'[1]Order Form'!B25=\"X45\",'[1]Order Form'!C25=\"DL\",'[1]Order Form'!C25=\"DR\"),\"\",\"C\")","v":"C"},"W",null,null,null,4]
[null,null,2,null,null,"Niet geboord","V",{"$f":"IF(OR('[1]Order Form'!B26=\"X40\",'[1]Order Form'!B26=\"X45\"),\"T\",\"\")","v":""},{"$f":"IF(OR('[1]Order Form'!B26=\"X40\",'[1]Order Form'!B26=\"X45\",'[1]Order Form'!C26=\"DL\",'[1]Order Form'!C26=\"DR\"),\"\",\"C\")","v":"C"},"W",null,null,null,5]
[null,null,3,null,null,"Geboord rond dia 20","V",{"$f":"IF(OR('[1]Order Form'!B27=\"X40\",'[1]Order Form'!B27=\"X45\"),\"T\",\"\")","v":""},{"$f":"IF(OR('[1]Order Form'!B27=\"X40\",'[1]Order Form'!B27=\"X45\",'[1]Order Form'!C27=\"DL\",'[1]Order Form'!C27=\"DR\"),\"\",\"C\")","v":"C"},"W"]
[null,null,4,null,null,"Geboord rond dia 20 met patentgaten","V",{"$f":"IF(OR('[1]Order Form'!B28=\"X40\",'[1]Order Form'!B28=\"X45\"),\"T\",\"\")","v":""},{"$f":"IF(OR('[1]Order Form'!B28=\"X40\",'[1]Order Form'!B28=\"X45\",'[1]Order Form'!C28=\"DL\",'[1]Order Form'!C28=\"DR\"),\"\",\"C\")","v":"C"},"W"]
[null,null,5,null,null,"Geboord ovaal","V",{"$f":"IF(OR('[1]Order Form'!B29=\"X40\",'[1]Order Form'!B29=\"X45\"),\"T\",\"\")","v":""},{"$f":"IF(OR('[1]Order Form'!B29=\"X40\",'[1]Order Form'!B29=\"X45\",'[1]Order Form'!C29=\"DL\",'[1]Order Form'!C29=\"DR\"),\"\",\"C\")","v":"C"},"W"]
[null,null,6,null,"Nee","Geboord ovaal met patentagaten","V",{"$f":"IF(OR('[1]Order Form'!B30=\"X40\",'[1]Order Form'!B30=\"X45\"),\"T\",\"\")","v":""},{"$f":"IF(OR('[1]Order Form'!B30=\"X40\",'[1]Order Form'!B30=\"X45\",'[1]Order Form'!C30=\"DL\",'[1]Order Form'!C30=\"DR\"),\"\",\"C\")","v":"C"},"W"]
[null,null,7,null,"BB",null,"V",{"$f":"IF(OR('[1]Order Form'!B31=\"X40\",'[1]Order Form'!B31=\"X45\"),\"T\",\"\")","v":""},{"$f":"IF(OR('[1]Order Form'!B31=\"X40\",'[1]Order Form'!B31=\"X45\",'[1]Order Form'!C31=\"DL\",'[1]Order Form'!C31=\"DR\"),\"\",\"C\")","v":"C"},"W"]
[null,null,8,null,"BB met patentgaten",null,"V",{"$f":"IF(OR('[1]Order Form'!B32=\"X40\",'[1]Order Form'!B32=\"X45\"),\"T\",\"\")","v":""},{"$f":"IF(OR('[1]Order Form'!B32=\"X40\",'[1]Order Form'!B32=\"X45\",'[1]Order Form'!C32=\"DL\",'[1]Order Form'!C32=\"DR\"),\"\",\"C\")","v":"C"},"W"]
[null,null,9,null,"WC",null,"V",{"$f":"IF(OR('[1]Order Form'!B33=\"X40\",'[1]Order Form'!B33=\"X45\"),\"T\",\"\")","v":""},{"$f":"IF(OR('[1]Order Form'!B33=\"X40\",'[1]Order Form'!B33=\"X45\",'[1]Order Form'!C33=\"DL\",'[1]Order Form'!C33=\"DR\"),\"\",\"C\")","v":"C"},"W"]
[null,null,10,null,"WC met patentgaten",null,"V",{"$f":"IF(OR('[1]Order Form'!B34=\"X40\",'[1]Order Form'!B34=\"X45\"),\"T\",\"\")","v":""},{"$f":"IF(OR('[1]Order Form'!B34=\"X40\",'[1]Order Form'!B34=\"X45\",'[1]Order Form'!C34=\"DL\",'[1]Order Form'!C34=\"DR\"),\"\",\"C\")","v":"C"},"W"]
[null,null,11,null,"WC NH Locco",null,"V",{"$f":"IF(OR('[1]Order Form'!B35=\"X40\",'[1]Order Form'!B35=\"X45\"),\"T\",\"\")","v":""},{"$f":"IF(OR('[1]Order Form'!B35=\"X40\",'[1]Order Form'!B35=\"X45\",'[1]Order Form'!C35=\"DL\",'[1]Order Form'!C35=\"DR\"),\"\",\"C\")","v":"C"},"W"]
[null,null,12,null,"WC NH Cartel","spion ","V",{"$f":"IF(OR('[1]Order Form'!B36=\"X40\",'[1]Order Form'!B36=\"X45\"),\"T\",\"\")","v":""},{"$f":"IF(OR('[1]Order Form'!B36=\"X40\",'[1]Order Form'!B36=\"X45\",'[1]Order Form'!C36=\"DL\",'[1]Order Form'!C36=\"DR\"),\"\",\"C\")","v":"C"},"W"]
[null,null,13,null,"PZ","G525","V",{"$f":"IF(OR('[1]Order Form'!B37=\"X40\",'[1]Order Form'!B37=\"X45\"),\"T\",\"\")","v":""},{"$f":"IF(OR('[1]Order Form'!B37=\"X40\",'[1]Order Form'!B37=\"X45\",'[1]Order Form'!C37=\"DL\",'[1]Order Form'!C37=\"DR\"),\"\",\"C\")","v":"C"},"W"]
[null,null,14,null,"PZ met patentgaten","G526","V",{"$f":"IF(OR('[1]Order Form'!B38=\"X40\",'[1]Order Form'!B38=\"X45\"),\"T\",\"\")","v":""},{"$f":"IF(OR('[1]Order Form'!B38=\"X40\",'[1]Order Form'!B38=\"X45\",'[1]Order Form'!C38=\"DL\",'[1]Order Form'!C38=\"DR\"),\"\",\"C\")","v":"C"},"W"]
[null,null,15,null,null,"G527","V",{"$f":"IF(OR('[1]Order Form'!B39=\"X40\",'[1]Order Form'!B39=\"X45\"),\"T\",\"\")","v":""},{"$f":"IF(OR('[1]Order Form'!B39=\"X40\",'[1]Order Form'!B39=\"X45\",'[1]Order Form'!C39=\"DL\",'[1]Order Form'!C39=\"DR\"),\"\",\"C\")","v":"C"},"W"]
[null,null,16,null,null,"NHNS105","V",{"$f":"IF(OR('[1]Order Form'!B40=\"X40\",'[1]Order Form'!B40=\"X45\"),\"T\",\"\")","v":""},{"$f":"IF(OR('[1]Order Form'!B40=\"X40\",'[1]Order Form'!B40=\"X45\",'[1]Order Form'!C40=\"DL\",'[1]Order Form'!C40=\"DR\"),\"\",\"C\")","v":"C"},"W"]
[null,null,17,null,null,"NHNS200","V",{"$f":"IF(OR('[1]Order Form'!B41=\"X40\",'[1]Order Form'!B41=\"X45\"),\"T\",\"\")","v":""},{"$f":"IF(OR('[1]Order Form'!B41=\"X40\",'[1]Order Form'!B41=\"X45\",'[1]Order Form'!C41=\"DL\",'[1]Order Form'!C41=\"DR\"),\"\",\"C\")","v":"C"},"W"]
[null,null,18,null,null,"NHNS205","V",{"$f":"IF(OR('[1]Order Form'!B42=\"X40\",'[1]Order Form'!B42=\"X45\"),\"T\",\"\")","v":""},{"$f":"IF(OR('[1]Order Form'!B42=\"X40\",'[1]Order Form'!B42=\"X45\",'[1]Order Form'!C42=\"DL\",'[1]Order Form'!C42=\"DR\"),\"\",\"C\")","v":"C"},"W"]
[null,null,19,null,null,"NHNS210","V",{"$f":"IF(OR('[1]Order Form'!B43=\"X40\",'[1]Order Form'!B43=\"X45\"),\"T\",\"\")","v":""},{"$f":"IF(OR('[1]Order Form'!B43=\"X40\",'[1]Order Form'!B43=\"X45\",'[1]Order Form'!C43=\"DL\",'[1]Order Form'!C43=\"DR\"),\"\",\"C\")","v":"C"},"W"]
[null,null,20,null,null,"NHNS250","V",{"$f":"IF(OR('[1]Order Form'!B44=\"X40\",'[1]Order Form'!B44=\"X45\"),\"T\",\"\")","v":""},{"$f":"IF(OR('[1]Order Form'!B44=\"X40\",'[1]Order Form'!B44=\"X45\",'[1]Order Form'!C44=\"DL\",'[1]Order Form'!C44=\"DR\"),\"\",\"C\")","v":"C"},"W"]
[null,null,21,null,null,null,"V",{"$f":"IF(OR('[1]Order Form'!B45=\"X40\",'[1]Order Form'!B45=\"X45\"),\"T\",\"\")","v":""},{"$f":"IF(OR('[1]Order Form'!B45=\"X40\",'[1]Order Form'!B45=\"X45\",'[1]Order Form'!C45=\"DL\",'[1]Order Form'!C45=\"DR\"),\"\",\"C\")","v":"C"},"W"]
[null,null,22,null,null,null,"V",{"$f":"IF(OR('[1]Order Form'!B46=\"X40\",'[1]Order Form'!B46=\"X45\"),\"T\",\"\")","v":""},{"$f":"IF(OR('[1]Order Form'!B46=\"X40\",'[1]Order Form'!B46=\"X45\",'[1]Order Form'!C46=\"DL\",'[1]Order Form'!C46=\"DR\"),\"\",\"C\")","v":"C"},"W"]
[null,null,23]
[null,null,null,null,"Nee"]
[null,null,null,null,"Lak",null,"00BB","00PZ","00WC","0K1","0K2","0K3","0K4","0NH","0NHW","0NHZ","0NZB","0NZG","0NZW","2NZB","2NZG","2NZW","NIXX","XXXX","E0BB","E0PZ","E0WC","EK1","EK2","EK3","EK4","SECL"]
[null,null,"ja ",null,"HPL",1,"00BB","00PZ","00WC","0K1","0K2","0K3","0K4","0NH","0NHW","0NHZ","0NZB","0NZG","0NZW","2NZB","2NZG","2NZW","NIXX","XXXX",{"$f":"IF('[1]Order Form'!$B21=\"X40\",\"\",\"E0BB\")","v":"E0BB"},{"$f":"IF('[1]Order Form'!$B21=\"X40\",\"\",\"E0PZ\")","v":"E0PZ"},{"$f":"IF('[1]Order Form'!$B21=\"X40\",\"\",\"E0WC\")","v":"E0WC"},{"$f":"IF('[1]Order Form'!$B21=\"X40\",\"\",\"EK1\")","v":"EK1"},{"$f":"IF('[1]Order Form'!$B21=\"X40\",\"\",\"EK2\")","v":"EK2"},{"$f":"IF('[1]Order Form'!$B21=\"X40\",\"\",\"EK3\")","v":"EK3"},{"$f":"IF('[1]Order Form'!$B21=\"X40\",\"\",\"EK4\")","v":"EK4"},{"$f":"IF('[1]Order Form'!$B21=\"X40\",\"\",\"SECL\")","v":"SECL"}]
[null,null,"nee",null,"Fineer",2,"00BB","00PZ","00WC","0K1","0K2","0K3","0K4","0NH","0NHW","0NHZ","0NZB","0NZG","0NZW","2NZB","2NZG","2NZW","NIXX","XXXX",{"$f":"IF('[1]Order Form'!$B22=\"X40\",\"\",\"E0BB\")","v":"E0BB"},{"$f":"IF('[1]Order Form'!$B22=\"X40\",\"\",\"E0PZ\")","v":"E0PZ"},{"$f":"IF('[1]Order Form'!$B22=\"X40\",\"\",\"E0WC\")","v":"E0WC"},{"$f":"IF('[1]Order Form'!$B22=\"X40\",\"\",\"EK1\")","v":"EK1"},{"$f":"IF('[1]Order Form'!$B22=\"X40\",\"\",\"EK2\")","v":"EK2"},{"$f":"IF('[1]Order Form'!$B22=\"X40\",\"\",\"EK3\")","v":"EK3"},{"$f":"IF('[1]Order Form'!$B22=\"X40\",\"\",\"EK4\")","v":"EK4"},{"$f":"IF('[1]Order Form'!$B22=\"X40\",\"\",\"SECL\")","v":"SECL"}]
[null,null,null,null,null,3,"00BB","00PZ","00WC","0K1","0K2","0K3","0K4","0NH","0NHW","0NHZ","0NZB","0NZG","0NZW","2NZB","2NZG","2NZW","NIXX","XXXX",{"$f":"IF('[1]Order Form'!$B23=\"X40\",\"\",\"E0BB\")","v":"E0BB"},{"$f":"IF('[1]Order Form'!$B23=\"X40\",\"\",\"E0PZ\")","v":"E0PZ"},{"$f":"IF('[1]Order Form'!$B23=\"X40\",\"\",\"E0WC\")","v":"E0WC"},{"$f":"IF('[1]Order Form'!$B23=\"X40\",\"\",\"EK1\")","v":"EK1"},{"$f":"IF('[1]Order Form'!$B23=\"X40\",\"\",\"EK2\")","v":"EK2"},{"$f":"IF('[1]Order Form'!$B23=\"X40\",\"\",\"EK3\")","v":"EK3"},{"$f":"IF('[1]Order Form'!$B23=\"X40\",\"\",\"EK4\")","v":"EK4"},{"$f":"IF('[1]Order Form'!$B23=\"X40\",\"\",\"SECL\")","v":"SECL"}]
[null,null,null,null,null,4,"00BB","00PZ","00WC","0K1","0K2","0K3","0K4","0NH","0NHW","0NHZ","0NZB","0NZG","0NZW","2NZB","2NZG","2NZW","NIXX","XXXX",{"$f":"IF('[1]Order Form'!$B24=\"X40\",\"\",\"E0BB\")","v":"E0BB"},{"$f":"IF('[1]Order Form'!$B24=\"X40\",\"\",\"E0PZ\")","v":"E0PZ"},{"$f":"IF('[1]Order Form'!$B24=\"X40\",\"\",\"E0WC\")","v":"E0WC"},{"$f":"IF('[1]Order Form'!$B24=\"X40\",\"\",\"EK1\")","v":"EK1"},{"$f":"IF('[1]Order Form'!$B24=\"X40\",\"\",\"EK2\")","v":"EK2"},{"$f":"IF('[1]Order Form'!$B24=\"X40\",\"\",\"EK3\")","v":"EK3"},{"$f":"IF('[1]Order Form'!$B24=\"X40\",\"\",\"EK4\")","v":"EK4"},{"$f":"IF('[1]Order Form'!$B24=\"X40\",\"\",\"SECL\")","v":"SECL"}]
[null,null,null,null,null,5,"00BB","00PZ","00WC","0K1","0K2","0K3","0K4","0NH","0NHW","0NHZ","0NZB","0NZG","0NZW","2NZB","2NZG","2NZW","NIXX","XXXX",{"$f":"IF('[1]Order Form'!$B25=\"X40\",\"\",\"E0BB\")","v":"E0BB"},{"$f":"IF('[1]Order Form'!$B25=\"X40\",\"\",\"E0PZ\")","v":"E0PZ"},{"$f":"IF('[1]Order Form'!$B25=\"X40\",\"\",\"E0WC\")","v":"E0WC"},{"$f":"IF('[1]Order Form'!$B25=\"X40\",\"\",\"EK1\")","v":"EK1"},{"$f":"IF('[1]Order Form'!$B25=\"X40\",\"\",\"EK2\")","v":"EK2"},{"$f":"IF('[1]Order Form'!$B25=\"X40\",\"\",\"EK3\")","v":"EK3"},{"$f":"IF('[1]Order Form'!$B25=\"X40\",\"\",\"EK4\")","v":"EK4"},{"$f":"IF('[1]Order Form'!$B25=\"X40\",\"\",\"SECL\")","v":"SECL"}]
[null,null,"Ja",null,null,6,"00BB","00PZ","00WC","0K1","0K2","0K3","0K4","0NH","0NHW","0NHZ","0NZB","0NZG","0NZW","2NZB","2NZG","2NZW","NIXX","XXXX",{"$f":"IF('[1]Order Form'!$B26=\"X40\",\"\",\"E0BB\")","v":"E0BB"},{"$f":"IF('[1]Order Form'!$B26=\"X40\",\"\",\"E0PZ\")","v":"E0PZ"},{"$f":"IF('[1]Order Form'!$B26=\"X40\",\"\",\"E0WC\")","v":"E0WC"},{"$f":"IF('[1]Order Form'!$B26=\"X40\",\"\",\"EK1\")","v":"EK1"},{"$f":"IF('[1]Order Form'!$B26=\"X40\",\"\",\"EK2\")","v":"EK2"},{"$f":"IF('[1]Order Form'!$B26=\"X40\",\"\",\"EK3\")","v":"EK3"},{"$f":"IF('[1]Order Form'!$B26=\"X40\",\"\",\"EK4\")","v":"EK4"},{"$f":"IF('[1]Order Form'!$B26=\"X40\",\"\",\"SECL\")","v":"SECL"}]
[null,null,"Nee",null,null,7,"00BB","00PZ","00WC","0K1","0K2","0K3","0K4","0NH","0NHW","0NHZ","0NZB","0NZG","0NZW","2NZB","2NZG","2NZW","NIXX","XXXX",{"$f":"IF('[1]Order Form'!$B27=\"X40\",\"\",\"E0BB\")","v":"E0BB"},{"$f":"IF('[1]Order Form'!$B27=\"X40\",\"\",\"E0PZ\")","v":"E0PZ"},{"$f":"IF('[1]Order Form'!$B27=\"X40\",\"\",\"E0WC\")","v":"E0WC"},{"$f":"IF('[1]Order Form'!$B27=\"X40\",\"\",\"EK1\")","v":"EK1"},{"$f":"IF('[1]Order Form'!$B27=\"X40\",\"\",\"EK2\")","v":"EK2"},{"$f":"IF('[1]Order Form'!$B27=\"X40\",\"\",\"EK3\")","v":"EK3"},{"$f":"IF('[1]Order Form'!$B27=\"X40\",\"\",\"EK4\")","v":"EK4"},{"$f":"IF('[1]Order Form'!$B27=\"X40\",\"\",\"SECL\")","v":"SECL"}]
[null,null,null,null,null,8,"00BB","00PZ","00WC","0K1","0K2","0K3","0K4","0NH","0NHW","0NHZ","0NZB","0NZG","0NZW","2NZB","2NZG","2NZW","NIXX","XXXX",{"$f":"IF('[1]Order Form'!$B28=\"X40\",\"\",\"E0BB\")","v":"E0BB"},{"$f":"IF('[1]Order Form'!$B28=\"X40\",\"\",\"E0PZ\")","v":"E0PZ"},{"$f":"IF('[1]Order Form'!$B28=\"X40\",\"\",\"E0WC\")","v":"E0WC"},{"$f":"IF('[1]Order Form'!$B28=\"X40\",\"\",\"EK1\")","v":"EK1"},{"$f":"IF('[1]Order Form'!$B28=\"X40\",\"\",\"EK2\")","v":"EK2"},{"$f":"IF('[1]Order Form'!$B28=\"X40\",\"\",\"EK3\")","v":"EK3"},{"$f":"IF('[1]Order Form'!$B28=\"X40\",\"\",\"EK4\")","v":"EK4"},{"$f":"IF('[1]Order Form'!$B28=\"X40\",\"\",\"SECL\")","v":"SECL"}]
[null,null,null,null,null,9,"00BB","00PZ","00WC","0K1","0K2","0K3","0K4","0NH","0NHW","0NHZ","0NZB","0NZG","0NZW","2NZB","2NZG","2NZW","NIXX","XXXX",{"$f":"IF('[1]Order Form'!$B29=\"X40\",\"\",\"E0BB\")","v":"E0BB"},{"$f":"IF('[1]Order Form'!$B29=\"X40\",\"\",\"E0PZ\")","v":"E0PZ"},{"$f":"IF('[1]Order Form'!$B29=\"X40\",\"\",\"E0WC\")","v":"E0WC"},{"$f":"IF('[1]Order Form'!$B29=\"X40\",\"\",\"EK1\")","v":"EK1"},{"$f":"IF('[1]Order Form'!$B29=\"X40\",\"\",\"EK2\")","v":"EK2"},{"$f":"IF('[1]Order Form'!$B29=\"X40\",\"\",\"EK3\")","v":"EK3"},{"$f":"IF('[1]Order Form'!$B29=\"X40\",\"\",\"EK4\")","v":"EK4"},{"$f":"IF('[1]Order Form'!$B29=\"X40\",\"\",\"SECL\")","v":"SECL"}]
[null,null,null,null,null,10,"00BB","00PZ","00WC","0K1","0K2","0K3","0K4","0NH","0NHW","0NHZ","0NZB","0NZG","0NZW","2NZB","2NZG","2NZW","NIXX","XXXX",{"$f":"IF('[1]Order Form'!$B30=\"X40\",\"\",\"E0BB\")","v":"E0BB"},{"$f":"IF('[1]Order Form'!$B30=\"X40\",\"\",\"E0PZ\")","v":"E0PZ"},{"$f":"IF('[1]Order Form'!$B30=\"X40\",\"\",\"E0WC\")","v":"E0WC"},{"$f":"IF('[1]Order Form'!$B30=\"X40\",\"\",\"EK1\")","v":"EK1"},{"$f":"IF('[1]Order Form'!$B30=\"X40\",\"\",\"EK2\")","v":"EK2"},{"$f":"IF('[1]Order Form'!$B30=\"X40\",\"\",\"EK3\")","v":"EK3"},{"$f":"IF('[1]Order Form'!$B30=\"X40\",\"\",\"EK4\")","v":"EK4"},{"$f":"IF('[1]Order Form'!$B30=\"X40\",\"\",\"SECL\")","v":"SECL"}]
[null,null,null,null,null,11,"00BB","00PZ","00WC","0K1","0K2","0K3","0K4","0NH","0NHW","0NHZ","0NZB","0NZG","0NZW","2NZB","2NZG","2NZW","NIXX","XXXX",{"$f":"IF('[1]Order Form'!$B31=\"X40\",\"\",\"E0BB\")","v":"E0BB"},{"$f":"IF('[1]Order Form'!$B31=\"X40\",\"\",\"E0PZ\")","v":"E0PZ"},{"$f":"IF('[1]Order Form'!$B31=\"X40\",\"\",\"E0WC\")","v":"E0WC"},{"$f":"IF('[1]Order Form'!$B31=\"X40\",\"\",\"EK1\")","v":"EK1"},{"$f":"IF('[1]Order Form'!$B31=\"X40\",\"\",\"EK2\")","v":"EK2"},{"$f":"IF('[1]Order Form'!$B31=\"X40\",\"\",\"EK3\")","v":"EK3"},{"$f":"IF('[1]Order Form'!$B31=\"X40\",\"\",\"EK4\")","v":"EK4"},{"$f":"IF('[1]Order Form'!$B31=\"X40\",\"\",\"SECL\")","v":"SECL"}]
[null,null,null,null,null,12,"00BB","00PZ","00WC","0K1","0K2","0K3","0K4","0NH","0NHW","0NHZ","0NZB","0NZG","0NZW","2NZB","2NZG","2NZW","NIXX","XXXX",{"$f":"IF('[1]Order Form'!$B32=\"X40\",\"\",\"E0BB\")","v":"E0BB"},{"$f":"IF('[1]Order Form'!$B32=\"X40\",\"\",\"E0PZ\")","v":"E0PZ"},{"$f":"IF('[1]Order Form'!$B32=\"X40\",\"\",\"E0WC\")","v":"E0WC"},{"$f":"IF('[1]Order Form'!$B32=\"X40\",\"\",\"EK1\")","v":"EK1"},{"$f":"IF('[1]Order Form'!$B32=\"X40\",\"\",\"EK2\")","v":"EK2"},{"$f":"IF('[1]Order Form'!$B32=\"X40\",\"\",\"EK3\")","v":"EK3"},{"$f":"IF('[1]Order Form'!$B32=\"X40\",\"\",\"EK4\")","v":"EK4"},{"$f":"IF('[1]Order Form'!$B32=\"X40\",\"\",\"SECL\")","v":"SECL"}]
[null,null,null,null,null,13,"00BB","00PZ","00WC","0K1","0K2","0K3","0K4","0NH","0NHW","0NHZ","0NZB","0NZG","0NZW","2NZB","2NZG","2NZW","NIXX","XXXX",{"$f":"IF('[1]Order Form'!$B33=\"X40\",\"\",\"E0BB\")","v":"E0BB"},{"$f":"IF('[1]Order Form'!$B33=\"X40\",\"\",\"E0PZ\")","v":"E0PZ"},{"$f":"IF('[1]Order Form'!$B33=\"X40\",\"\",\"E0WC\")","v":"E0WC"},{"$f":"IF('[1]Order Form'!$B33=\"X40\",\"\",\"EK1\")","v":"EK1"},{"$f":"IF('[1]Order Form'!$B33=\"X40\",\"\",\"EK2\")","v":"EK2"},{"$f":"IF('[1]Order Form'!$B33=\"X40\",\"\",\"EK3\")","v":"EK3"},{"$f":"IF('[1]Order Form'!$B33=\"X40\",\"\",\"EK4\")","v":"EK4"},{"$f":"IF('[1]Order Form'!$B33=\"X40\",\"\",\"SECL\")","v":"SECL"}]
[null,null,null,null,null,14,"00BB","00PZ","00WC","0K1","0K2","0K3","0K4","0NH","0NHW","0NHZ","0NZB","0NZG","0NZW","2NZB","2NZG","2NZW","NIXX","XXXX",{"$f":"IF('[1]Order Form'!$B34=\"X40\",\"\",\"E0BB\")","v":"E0BB"},{"$f":"IF('[1]Order Form'!$B34=\"X40\",\"\",\"E0PZ\")","v":"E0PZ"},{"$f":"IF('[1]Order Form'!$B34=\"X40\",\"\",\"E0WC\")","v":"E0WC"},{"$f":"IF('[1]Order Form'!$B34=\"X40\",\"\",\"EK1\")","v":"EK1"},{"$f":"IF('[1]Order Form'!$B34=\"X40\",\"\",\"EK2\")","v":"EK2"},{"$f":"IF('[1]Order Form'!$B34=\"X40\",\"\",\"EK3\")","v":"EK3"},{"$f":"IF('[1]Order Form'!$B34=\"X40\",\"\",\"EK4\")","v":"EK4"},{"$f":"IF('[1]Order Form'!$B34=\"X40\",\"\",\"SECL\")","v":"SECL"}]
[null,null,null,null,null,15,"00BB","00PZ","00WC","0K1","0K2","0K3","0K4","0NH","0NHW","0NHZ","0NZB","0NZG","0NZW","2NZB","2NZG","2NZW","NIXX","XXXX",{"$f":"IF('[1]Order Form'!$B35=\"X40\",\"\",\"E0BB\")","v":"E0BB"},{"$f":"IF('[1]Order Form'!$B35=\"X40\",\"\",\"E0PZ\")","v":"E0PZ"},{"$f":"IF('[1]Order Form'!$B35=\"X40\",\"\",\"E0WC\")","v":"E0WC"},{"$f":"IF('[1]Order Form'!$B35=\"X40\",\"\",\"EK1\")","v":"EK1"},{"$f":"IF('[1]Order Form'!$B35=\"X40\",\"\",\"EK2\")","v":"EK2"},{"$f":"IF('[1]Order Form'!$B35=\"X40\",\"\",\"EK3\")","v":"EK3"},{"$f":"IF('[1]Order Form'!$B35=\"X40\",\"\",\"EK4\")","v":"EK4"},{"$f":"IF('[1]Order Form'!$B35=\"X40\",\"\",\"SECL\")","v":"SECL"}]
[null,null,null,null,null,16,"00BB","00PZ","00WC","0K1","0K2","0K3","0K4","0NH","0NHW","0NHZ","0NZB","0NZG","0NZW","2NZB","2NZG","2NZW","NIXX","XXXX",{"$f":"IF('[1]Order Form'!$B36=\"X40\",\"\",\"E0BB\")","v":"E0BB"},{"$f":"IF('[1]Order Form'!$B36=\"X40\",\"\",\"E0PZ\")","v":"E0PZ"},{"$f":"IF('[1]Order Form'!$B36=\"X40\",\"\",\"E0WC\")","v":"E0WC"},{"$f":"IF('[1]Order Form'!$B36=\"X40\",\"\",\"EK1\")","v":"EK1"},{"$f":"IF('[1]Order Form'!$B36=\"X40\",\"\",\"EK2\")","v":"EK2"},{"$f":"IF('[1]Order Form'!$B36=\"X40\",\"\",\"EK3\")","v":"EK3"},{"$f":"IF('[1]Order Form'!$B36=\"X40\",\"\",\"EK4\")","v":"EK4"},{"$f":"IF('[1]Order Form'!$B36=\"X40\",\"\",\"SECL\")","v":"SECL"}]
[null,null,null,null,null,17,"00BB","00PZ","00WC","0K1","0K2","0K3","0K4","0NH","0NHW","0NHZ","0NZB","0NZG","0NZW","2NZB","2NZG","2NZW","NIXX","XXXX",{"$f":"IF('[1]Order Form'!$B37=\"X40\",\"\",\"E0BB\")","v":"E0BB"},{"$f":"IF('[1]Order Form'!$B37=\"X40\",\"\",\"E0PZ\")","v":"E0PZ"},{"$f":"IF('[1]Order Form'!$B37=\"X40\",\"\",\"E0WC\")","v":"E0WC"},{"$f":"IF('[1]Order Form'!$B37=\"X40\",\"\",\"EK1\")","v":"EK1"},{"$f":"IF('[1]Order Form'!$B37=\"X40\",\"\",\"EK2\")","v":"EK2"},{"$f":"IF('[1]Order Form'!$B37=\"X40\",\"\",\"EK3\")","v":"EK3"},{"$f":"IF('[1]Order Form'!$B37=\"X40\",\"\",\"EK4\")","v":"EK4"},{"$f":"IF('[1]Order Form'!$B37=\"X40\",\"\",\"SECL\")","v":"SECL"}]
[null,null,null,null,null,18,"00BB","00PZ","00WC","0K1","0K2","0K3","0K4","0NH","0NHW","0NHZ","0NZB","0NZG","0NZW","2NZB","2NZG","2NZW","NIXX","XXXX",{"$f":"IF('[1]Order Form'!$B38=\"X40\",\"\",\"E0BB\")","v":"E0BB"},{"$f":"IF('[1]Order Form'!$B38=\"X40\",\"\",\"E0PZ\")","v":"E0PZ"},{"$f":"IF('[1]Order Form'!$B38=\"X40\",\"\",\"E0WC\")","v":"E0WC"},{"$f":"IF('[1]Order Form'!$B38=\"X40\",\"\",\"EK1\")","v":"EK1"},{"$f":"IF('[1]Order Form'!$B38=\"X40\",\"\",\"EK2\")","v":"EK2"},{"$f":"IF('[1]Order Form'!$B38=\"X40\",\"\",\"EK3\")","v":"EK3"},{"$f":"IF('[1]Order Form'!$B38=\"X40\",\"\",\"EK4\")","v":"EK4"},{"$f":"IF('[1]Order Form'!$B38=\"X40\",\"\",\"SECL\")","v":"SECL"}]
[null,null,null,null,null,19,"00BB","00PZ","00WC","0K1","0K2","0K3","0K4","0NH","0NHW","0NHZ","0NZB","0NZG","0NZW","2NZB","2NZG","2NZW","NIXX","XXXX",{"$f":"IF('[1]Order Form'!$B39=\"X40\",\"\",\"E0BB\")","v":"E0BB"},{"$f":"IF('[1]Order Form'!$B39=\"X40\",\"\",\"E0PZ\")","v":"E0PZ"},{"$f":"IF('[1]Order Form'!$B39=\"X40\",\"\",\"E0WC\")","v":"E0WC"},{"$f":"IF('[1]Order Form'!$B39=\"X40\",\"\",\"EK1\")","v":"EK1"},{"$f":"IF('[1]Order Form'!$B39=\"X40\",\"\",\"EK2\")","v":"EK2"},{"$f":"IF('[1]Order Form'!$B39=\"X40\",\"\",\"EK3\")","v":"EK3"},{"$f":"IF('[1]Order Form'!$B39=\"X40\",\"\",\"EK4\")","v":"EK4"},{"$f":"IF('[1]Order Form'!$B39=\"X40\",\"\",\"SECL\")","v":"SECL"}]
[null,null,null,null,null,20,"00BB","00PZ","00WC","0K1","0K2","0K3","0K4","0NH","0NHW","0NHZ","0NZB","0NZG","0NZW","2NZB","2NZG","2NZW","NIXX","XXXX",{"$f":"IF('[1]Order Form'!$B40=\"X40\",\"\",\"E0BB\")","v":"E0BB"},{"$f":"IF('[1]Order Form'!$B40=\"X40\",\"\",\"E0PZ\")","v":"E0PZ"},{"$f":"IF('[1]Order Form'!$B40=\"X40\",\"\",\"E0WC\")","v":"E0WC"},{"$f":"IF('[1]Order Form'!$B40=\"X40\",\"\",\"EK1\")","v":"EK1"},{"$f":"IF('[1]Order Form'!$B40=\"X40\",\"\",\"EK2\")","v":"EK2"},{"$f":"IF('[1]Order Form'!$B40=\"X40\",\"\",\"EK3\")","v":"EK3"},{"$f":"IF('[1]Order Form'!$B40=\"X40\",\"\",\"EK4\")","v":"EK4"},{"$f":"IF('[1]Order Form'!$B40=\"X40\",\"\",\"SECL\")","v":"SECL"}]
[null,null,null,null,null,21,"00BB","00PZ","00WC","0K1","0K2","0K3","0K4","0NH","0NHW","0NHZ","0NZB","0NZG","0NZW","2NZB","2NZG","2NZW","NIXX","XXXX",{"$f":"IF('[1]Order Form'!$B41=\"X40\",\"\",\"E0BB\")","v":"E0BB"},{"$f":"IF('[1]Order Form'!$B41=\"X40\",\"\",\"E0PZ\")","v":"E0PZ"},{"$f":"IF('[1]Order Form'!$B41=\"X40\",\"\",\"E0WC\")","v":"E0WC"},{"$f":"IF('[1]Order Form'!$B41=\"X40\",\"\",\"EK1\")","v":"EK1"},{"$f":"IF('[1]Order Form'!$B41=\"X40\",\"\",\"EK2\")","v":"EK2"},{"$f":"IF('[1]Order Form'!$B41=\"X40\",\"\",\"EK3\")","v":"EK3"},{"$f":"IF('[1]Order Form'!$B41=\"X40\",\"\",\"EK4\")","v":"EK4"},{"$f":"IF('[1]Order Form'!$B41=\"X40\",\"\",\"SECL\")","v":"SECL"}]
[null,null,null,null,null,22,"00BB","00PZ","00WC","0K1","0K2","0K3","0K4","0NH","0NHW","0NHZ","0NZB","0NZG","0NZW","2NZB","2NZG","2NZW","NIXX","XXXX",{"$f":"IF('[1]Order Form'!$B42=\"X40\",\"\",\"E0BB\")","v":"E0BB"},{"$f":"IF('[1]Order Form'!$B42=\"X40\",\"\",\"E0PZ\")","v":"E0PZ"},{"$f":"IF('[1]Order Form'!$B42=\"X40\",\"\",\"E0WC\")","v":"E0WC"},{"$f":"IF('[1]Order Form'!$B42=\"X40\",\"\",\"EK1\")","v":"EK1"},{"$f":"IF('[1]Order Form'!$B42=\"X40\",\"\",\"EK2\")","v":"EK2"},{"$f":"IF('[1]Order Form'!$B42=\"X40\",\"\",\"EK3\")","v":"EK3"},{"$f":"IF('[1]Order Form'!$B42=\"X40\",\"\",\"EK4\")","v":"EK4"},{"$f":"IF('[1]Order Form'!$B42=\"X40\",\"\",\"SECL\")","v":"SECL"}]
[null,null,null,null,null,23,"00BB","00PZ","00WC","0K1","0K2","0K3","0K4","0NH","0NHW","0NHZ","0NZB","0NZG","0NZW","2NZB","2NZG","2NZW","NIXX","XXXX",{"$f":"IF('[1]Order Form'!$B43=\"X40\",\"\",\"E0BB\")","v":"E0BB"},{"$f":"IF('[1]Order Form'!$B43=\"X40\",\"\",\"E0PZ\")","v":"E0PZ"},{"$f":"IF('[1]Order Form'!$B43=\"X40\",\"\",\"E0WC\")","v":"E0WC"},{"$f":"IF('[1]Order Form'!$B43=\"X40\",\"\",\"EK1\")","v":"EK1"},{"$f":"IF('[1]Order Form'!$B43=\"X40\",\"\",\"EK2\")","v":"EK2"},{"$f":"IF('[1]Order Form'!$B43=\"X40\",\"\",\"EK3\")","v":"EK3"},{"$f":"IF('[1]Order Form'!$B43=\"X40\",\"\",\"EK4\")","v":"EK4"},{"$f":"IF('[1]Order Form'!$B43=\"X40\",\"\",\"SECL\")","v":"SECL"}]
[null,null,null,null,null,24,"00BB","00PZ","00WC","0K1","0K2","0K3","0K4","0NH","0NHW","0NHZ","0NZB","0NZG","0NZW","2NZB","2NZG","2NZW","NIXX","XXXX",{"$f":"IF('[1]Order Form'!$B44=\"X40\",\"\",\"E0BB\")","v":"E0BB"},{"$f":"IF('[1]Order Form'!$B44=\"X40\",\"\",\"E0PZ\")","v":"E0PZ"},{"$f":"IF('[1]Order Form'!$B44=\"X40\",\"\",\"E0WC\")","v":"E0WC"},{"$f":"IF('[1]Order Form'!$B44=\"X40\",\"\",\"EK1\")","v":"EK1"},{"$f":"IF('[1]Order Form'!$B44=\"X40\",\"\",\"EK2\")","v":"EK2"},{"$f":"IF('[1]Order Form'!$B44=\"X40\",\"\",\"EK3\")","v":"EK3"},{"$f":"IF('[1]Order Form'!$B44=\"X40\",\"\",\"EK4\")","v":"EK4"},{"$f":"IF('[1]Order Form'!$B44=\"X40\",\"\",\"SECL\")","v":"SECL"}]
[null,null,null,null,null,25,"00BB","00PZ","00WC","0K1","0K2","0K3","0K4","0NH","0NHW","0NHZ","0NZB","0NZG","0NZW","2NZB","2NZG","2NZW","NIXX","XXXX",{"$f":"IF('[1]Order Form'!$B45=\"X40\",\"\",\"E0BB\")","v":"E0BB"},{"$f":"IF('[1]Order Form'!$B45=\"X40\",\"\",\"E0PZ\")","v":"E0PZ"},{"$f":"IF('[1]Order Form'!$B45=\"X40\",\"\",\"E0WC\")","v":"E0WC"},{"$f":"IF('[1]Order Form'!$B45=\"X40\",\"\",\"EK1\")","v":"EK1"},{"$f":"IF('[1]Order Form'!$B45=\"X40\",\"\",\"EK2\")","v":"EK2"},{"$f":"IF('[1]Order Form'!$B45=\"X40\",\"\",\"EK3\")","v":"EK3"},{"$f":"IF('[1]Order Form'!$B45=\"X40\",\"\",\"EK4\")","v":"EK4"},{"$f":"IF('[1]Order Form'!$B45=\"X40\",\"\",\"SECL\")","v":"SECL"}]
[null,null,null,null,null,26,"00BB","00PZ","00WC","0K1","0K2","0K3","0K4","0NH","0NHW","0NHZ","0NZB","0NZG","0NZW","2NZB","2NZG","2NZW","NIXX","XXXX",{"$f":"IF('[1]Order Form'!$B46=\"X40\",\"\",\"E0BB\")","v":"E0BB"},{"$f":"IF('[1]Order Form'!$B46=\"X40\",\"\",\"E0PZ\")","v":"E0PZ"},{"$f":"IF('[1]Order Form'!$B46=\"X40\",\"\",\"E0WC\")","v":"E0WC"},{"$f":"IF('[1]Order Form'!$B46=\"X40\",\"\",\"EK1\")","v":"EK1"},{"$f":"IF('[1]Order Form'!$B46=\"X40\",\"\",\"EK2\")","v":"EK2"},{"$f":"IF('[1]Order Form'!$B46=\"X40\",\"\",\"EK3\")","v":"EK3"},{"$f":"IF('[1]Order Form'!$B46=\"X40\",\"\",\"EK4\")","v":"EK4"},{"$f":"IF('[1]Order Form'!$B46=\"X40\",\"\",\"SECL\")","v":"SECL"}]
[]
[]
[null,null,null,null,null,"DEUROPENER"]
[null,null,null,null,null,1,1,{"$f":"IF(OR('[1]Order Form'!$B21=\"X40\",'[1]Order Form'!$B21=\"X45\",'[1]Order Form'!$E21=\"C\"),\"\",\"2\")","v":"2"},{"$f":"IF(OR('[1]Order Form'!$B21=\"X40\",'[1]Order Form'!$B21=\"X45\",'[1]Order Form'!$E21=\"C\"),\"\",\"3\")","v":"3"},{"$f":"IF(OR('[1]Order Form'!$B21=\"X40\",'[1]Order Form'!$B21=\"X45\",'[1]Order Form'!$E21=\"C\"),\"\",\"4\")","v":"4"}]
[null,null,null,null,null,2,1,{"$f":"IF(OR('[1]Order Form'!$B22=\"X40\",'[1]Order Form'!$B22=\"X45\",'[1]Order Form'!$E22=\"C\"),\"\",\"2\")","v":"2"},{"$f":"IF(OR('[1]Order Form'!$B22=\"X40\",'[1]Order Form'!$B22=\"X45\",'[1]Order Form'!$E22=\"C\"),\"\",\"3\")","v":"3"},{"$f":"IF(OR('[1]Order Form'!$B22=\"X40\",'[1]Order Form'!$B22=\"X45\",'[1]Order Form'!$E22=\"C\"),\"\",\"4\")","v":"4"}]
[null,null,null,null,null,3,1,{"$f":"IF(OR('[1]Order Form'!$B23=\"X40\",'[1]Order Form'!$B23=\"X45\",'[1]Order Form'!$E23=\"C\"),\"\",\"2\")","v":"2"},{"$f":"IF(OR('[1]Order Form'!$B23=\"X40\",'[1]Order Form'!$B23=\"X45\",'[1]Order Form'!$E23=\"C\"),\"\",\"3\")","v":"3"},{"$f":"IF(OR('[1]Order Form'!$B23=\"X40\",'[1]Order Form'!$B23=\"X45\",'[1]Order Form'!$E23=\"C\"),\"\",\"4\")","v":"4"}]
[null,null,null,null,null,4,1,{"$f":"IF(OR('[1]Order Form'!$B24=\"X40\",'[1]Order Form'!$B24=\"X45\",'[1]Order Form'!$E24=\"C\"),\"\",\"2\")","v":"2"},{"$f":"IF(OR('[1]Order Form'!$B24=\"X40\",'[1]Order Form'!$B24=\"X45\",'[1]Order Form'!$E24=\"C\"),\"\",\"3\")","v":"3"},{"$f":"IF(OR('[1]Order Form'!$B24=\"X40\",'[1]Order Form'!$B24=\"X45\",'[1]Order Form'!$E24=\"C\"),\"\",\"4\")","v":"4"}]
[null,null,null,null,null,5,1,{"$f":"IF(OR('[1]Order Form'!$B25=\"X40\",'[1]Order Form'!$B25=\"X45\",'[1]Order Form'!$E25=\"C\"),\"\",\"2\")","v":"2"},{"$f":"IF(OR('[1]Order Form'!$B25=\"X40\",'[1]Order Form'!$B25=\"X45\",'[1]Order Form'!$E25=\"C\"),\"\",\"3\")","v":"3"},{"$f":"IF(OR('[1]Order Form'!$B25=\"X40\",'[1]Order Form'!$B25=\"X45\",'[1]Order Form'!$E25=\"C\"),\"\",\"4\")","v":"4"}]
[null,null,null,null,null,6,1,{"$f":"IF(OR('[1]Order Form'!$B26=\"X40\",'[1]Order Form'!$B26=\"X45\",'[1]Order Form'!$E26=\"C\"),\"\",\"2\")","v":"2"},{"$f":"IF(OR('[1]Order Form'!$B26=\"X40\",'[1]Order Form'!$B26=\"X45\",'[1]Order Form'!$E26=\"C\"),\"\",\"3\")","v":"3"},{"$f":"IF(OR('[1]Order Form'!$B26=\"X40\",'[1]Order Form'!$B26=\"X45\",'[1]Order Form'!$E26=\"C\"),\"\",\"4\")","v":"4"}]
[null,null,null,null,null,7,1,{"$f":"IF(OR('[1]Order Form'!$B27=\"X40\",'[1]Order Form'!$B27=\"X45\",'[1]Order Form'!$E27=\"C\"),\"\",\"2\")","v":"2"},{"$f":"IF(OR('[1]Order Form'!$B27=\"X40\",'[1]Order Form'!$B27=\"X45\",'[1]Order Form'!$E27=\"C\"),\"\",\"3\")","v":"3"},{"$f":"IF(OR('[1]Order Form'!$B27=\"X40\",'[1]Order Form'!$B27=\"X45\",'[1]Order Form'!$E27=\"C\"),\"\",\"4\")","v":"4"}]
[null,null,null,null,null,8,1,{"$f":"IF(OR('[1]Order Form'!$B28=\"X40\",'[1]Order Form'!$B28=\"X45\",'[1]Order Form'!$E28=\"C\"),\"\",\"2\")","v":"2"},{"$f":"IF(OR('[1]Order Form'!$B28=\"X40\",'[1]Order Form'!$B28=\"X45\",'[1]Order Form'!$E28=\"C\"),\"\",\"3\")","v":"3"},{"$f":"IF(OR('[1]Order Form'!$B28=\"X40\",'[1]Order Form'!$B28=\"X45\",'[1]Order Form'!$E28=\"C\"),\"\",\"4\")","v":"4"}]
[null,null,null,null,null,9,1,{"$f":"IF(OR('[1]Order Form'!$B29=\"X40\",'[1]Order Form'!$B29=\"X45\",'[1]Order Form'!$E29=\"C\"),\"\",\"2\")","v":"2"},{"$f":"IF(OR('[1]Order Form'!$B29=\"X40\",'[1]Order Form'!$B29=\"X45\",'[1]Order Form'!$E29=\"C\"),\"\",\"3\")","v":"3"},{"$f":"IF(OR('[1]Order Form'!$B29=\"X40\",'[1]Order Form'!$B29=\"X45\",'[1]Order Form'!$E29=\"C\"),\"\",\"4\")","v":"4"}]
[null,null,null,null,null,10,1,{"$f":"IF(OR('[1]Order Form'!$B30=\"X40\",'[1]Order Form'!$B30=\"X45\",'[1]Order Form'!$E30=\"C\"),\"\",\"2\")","v":"2"},{"$f":"IF(OR('[1]Order Form'!$B30=\"X40\",'[1]Order Form'!$B30=\"X45\",'[1]Order Form'!$E30=\"C\"),\"\",\"3\")","v":"3"},{"$f":"IF(OR('[1]Order Form'!$B30=\"X40\",'[1]Order Form'!$B30=\"X45\",'[1]Order Form'!$E30=\"C\"),\"\",\"4\")","v":"4"}]
[null,null,null,null,null,11,1,{"$f":"IF(OR('[1]Order Form'!$B31=\"X40\",'[1]Order Form'!$B31=\"X45\",'[1]Order Form'!$E31=\"C\"),\"\",\"2\")","v":"2"},{"$f":"IF(OR('[1]Order Form'!$B31=\"X40\",'[1]Order Form'!$B31=\"X45\",'[1]Order Form'!$E31=\"C\"),\"\",\"3\")","v":"3"},{"$f":"IF(OR('[1]Order Form'!$B31=\"X40\",'[1]Order Form'!$B31=\"X45\",'[1]Order Form'!$E31=\"C\"),\"\",\"4\")","v":"4"}]
[null,null,null,null,null,12,1,{"$f":"IF(OR('[1]Order Form'!$B32=\"X40\",'[1]Order Form'!$B32=\"X45\",'[1]Order Form'!$E32=\"C\"),\"\",\"2\")","v":"2"},{"$f":"IF(OR('[1]Order Form'!$B32=\"X40\",'[1]Order Form'!$B32=\"X45\",'[1]Order Form'!$E32=\"C\"),\"\",\"3\")","v":"3"},{"$f":"IF(OR('[1]Order Form'!$B32=\"X40\",'[1]Order Form'!$B32=\"X45\",'[1]Order Form'!$E32=\"C\"),\"\",\"4\")","v":"4"}]
[null,null,null,null,null,13,1,{"$f":"IF(OR('[1]Order Form'!$B33=\"X40\",'[1]Order Form'!$B33=\"X45\",'[1]Order Form'!$E33=\"C\"),\"\",\"2\")","v":"2"},{"$f":"IF(OR('[1]Order Form'!$B33=\"X40\",'[1]Order Form'!$B33=\"X45\",'[1]Order Form'!$E33=\"C\"),\"\",\"3\")","v":"3"},{"$f":"IF(OR('[1]Order Form'!$B33=\"X40\",'[1]Order Form'!$B33=\"X45\",'[1]Order Form'!$E33=\"C\"),\"\",\"4\")","v":"4"}]
[null,null,null,null,null,14,1,{"$f":"IF(OR('[1]Order Form'!$B34=\"X40\",'[1]Order Form'!$B34=\"X45\",'[1]Order Form'!$E34=\"C\"),\"\",\"2\")","v":"2"},{"$f":"IF(OR('[1]Order Form'!$B34=\"X40\",'[1]Order Form'!$B34=\"X45\",'[1]Order Form'!$E34=\"C\"),\"\",\"3\")","v":"3"},{"$f":"IF(OR('[1]Order Form'!$B34=\"X40\",'[1]Order Form'!$B34=\"X45\",'[1]Order Form'!$E34=\"C\"),\"\",\"4\")","v":"4"}]
[null,null,null,null,null,15,1,{"$f":"IF(OR('[1]Order Form'!$B35=\"X40\",'[1]Order Form'!$B35=\"X45\",'[1]Order Form'!$E35=\"C\"),\"\",\"2\")","v":"2"},{"$f":"IF(OR('[1]Order Form'!$B35=\"X40\",'[1]Order Form'!$B35=\"X45\",'[1]Order Form'!$E35=\"C\"),\"\",\"3\")","v":"3"},{"$f":"IF(OR('[1]Order Form'!$B35=\"X40\",'[1]Order Form'!$B35=\"X45\",'[1]Order Form'!$E35=\"C\"),\"\",\"4\")","v":"4"}]
[null,null,null,null,null,16,1,{"$f":"IF(OR('[1]Order Form'!$B36=\"X40\",'[1]Order Form'!$B36=\"X45\",'[1]Order Form'!$E36=\"C\"),\"\",\"2\")","v":"2"},{"$f":"IF(OR('[1]Order Form'!$B36=\"X40\",'[1]Order Form'!$B36=\"X45\",'[1]Order Form'!$E36=\"C\"),\"\",\"3\")","v":"3"},{"$f":"IF(OR('[1]Order Form'!$B36=\"X40\",'[1]Order Form'!$B36=\"X45\",'[1]Order Form'!$E36=\"C\"),\"\",\"4\")","v":"4"}]
[null,null,null,null,null,17,1,{"$f":"IF(OR('[1]Order Form'!$B37=\"X40\",'[1]Order Form'!$B37=\"X45\",'[1]Order Form'!$E37=\"C\"),\"\",\"2\")","v":"2"},{"$f":"IF(OR('[1]Order Form'!$B37=\"X40\",'[1]Order Form'!$B37=\"X45\",'[1]Order Form'!$E37=\"C\"),\"\",\"3\")","v":"3"},{"$f":"IF(OR('[1]Order Form'!$B37=\"X40\",'[1]Order Form'!$B37=\"X45\",'[1]Order Form'!$E37=\"C\"),\"\",\"4\")","v":"4"}]
[null,null,null,null,null,18,1,{"$f":"IF(OR('[1]Order Form'!$B38=\"X40\",'[1]Order Form'!$B38=\"X45\",'[1]Order Form'!$E38=\"C\"),\"\",\"2\")","v":"2"},{"$f":"IF(OR('[1]Order Form'!$B38=\"X40\",'[1]Order Form'!$B38=\"X45\",'[1]Order Form'!$E38=\"C\"),\"\",\"3\")","v":"3"},{"$f":"IF(OR('[1]Order Form'!$B38=\"X40\",'[1]Order Form'!$B38=\"X45\",'[1]Order Form'!$E38=\"C\"),\"\",\"4\")","v":"4"}]
[null,null,null,null,null,19,1,{"$f":"IF(OR('[1]Order Form'!$B39=\"X40\",'[1]Order Form'!$B39=\"X45\",'[1]Order Form'!$E39=\"C\"),\"\",\"2\")","v":"2"},{"$f":"IF(OR('[1]Order Form'!$B39=\"X40\",'[1]Order Form'!$B39=\"X45\",'[1]Order Form'!$E39=\"C\"),\"\",\"3\")","v":"3"},{"$f":"IF(OR('[1]Order Form'!$B39=\"X40\",'[1]Order Form'!$B39=\"X45\",'[1]Order Form'!$E39=\"C\"),\"\",\"4\")","v":"4"}]
[null,null,null,null,null,20,1,{"$f":"IF(OR('[1]Order Form'!$B40=\"X40\",'[1]Order Form'!$B40=\"X45\",'[1]Order Form'!$E40=\"C\"),\"\",\"2\")","v":"2"},{"$f":"IF(OR('[1]Order Form'!$B40=\"X40\",'[1]Order Form'!$B40=\"X45\",'[1]Order Form'!$E40=\"C\"),\"\",\"3\")","v":"3"},{"$f":"IF(OR('[1]Order Form'!$B40=\"X40\",'[1]Order Form'!$B40=\"X45\",'[1]Order Form'!$E40=\"C\"),\"\",\"4\")","v":"4"}]
[null,null,null,null,null,21,1,{"$f":"IF(OR('[1]Order Form'!$B41=\"X40\",'[1]Order Form'!$B41=\"X45\",'[1]Order Form'!$E41=\"C\"),\"\",\"2\")","v":"2"},{"$f":"IF(OR('[1]Order Form'!$B41=\"X40\",'[1]Order Form'!$B41=\"X45\",'[1]Order Form'!$E41=\"C\"),\"\",\"3\")","v":"3"},{"$f":"IF(OR('[1]Order Form'!$B41=\"X40\",'[1]Order Form'!$B41=\"X45\",'[1]Order Form'!$E41=\"C\"),\"\",\"4\")","v":"4"}]
[null,null,null,null,null,22,1,{"$f":"IF(OR('[1]Order Form'!$B42=\"X40\",'[1]Order Form'!$B42=\"X45\",'[1]Order Form'!$E42=\"C\"),\"\",\"2\")","v":"2"},{"$f":"IF(OR('[1]Order Form'!$B42=\"X40\",'[1]Order Form'!$B42=\"X45\",'[1]Order Form'!$E42=\"C\"),\"\",\"3\")","v":"3"},{"$f":"IF(OR('[1]Order Form'!$B42=\"X40\",'[1]Order Form'!$B42=\"X45\",'[1]Order Form'!$E42=\"C\"),\"\",\"4\")","v":"4"}]
[null,null,null,null,null,23,1,{"$f":"IF(OR('[1]Order Form'!$B43=\"X40\",'[1]Order Form'!$B43=\"X45\",'[1]Order Form'!$E43=\"C\"),\"\",\"2\")","v":"2"},{"$f":"IF(OR('[1]Order Form'!$B43=\"X40\",'[1]Order Form'!$B43=\"X45\",'[1]Order Form'!$E43=\"C\"),\"\",\"3\")","v":"3"},{"$f":"IF(OR('[1]Order Form'!$B43=\"X40\",'[1]Order Form'!$B43=\"X45\",'[1]Order Form'!$E43=\"C\"),\"\",\"4\")","v":"4"}]
[null,null,null,null,null,24,1,{"$f":"IF(OR('[1]Order Form'!$B44=\"X40\",'[1]Order Form'!$B44=\"X45\",'[1]Order Form'!$E44=\"C\"),\"\",\"2\")","v":"2"},{"$f":"IF(OR('[1]Order Form'!$B44=\"X40\",'[1]Order Form'!$B44=\"X45\",'[1]Order Form'!$E44=\"C\"),\"\",\"3\")","v":"3"},{"$f":"IF(OR('[1]Order Form'!$B44=\"X40\",'[1]Order Form'!$B44=\"X45\",'[1]Order Form'!$E44=\"C\"),\"\",\"4\")","v":"4"}]
[null,null,null,null,null,25,1,{"$f":"IF(OR('[1]Order Form'!$B45=\"X40\",'[1]Order Form'!$B45=\"X45\",'[1]Order Form'!$E45=\"C\"),\"\",\"2\")","v":"2"},{"$f":"IF(OR('[1]Order Form'!$B45=\"X40\",'[1]Order Form'!$B45=\"X45\",'[1]Order Form'!$E45=\"C\"),\"\",\"3\")","v":"3"},{"$f":"IF(OR('[1]Order Form'!$B45=\"X40\",'[1]Order Form'!$B45=\"X45\",'[1]Order Form'!$E45=\"C\"),\"\",\"4\")","v":"4"}]
[null,null,null,null,null,26,1,{"$f":"IF(OR('[1]Order Form'!$B46=\"X40\",'[1]Order Form'!$B46=\"X45\",'[1]Order Form'!$E46=\"C\"),\"\",\"2\")","v":"2"},{"$f":"IF(OR('[1]Order Form'!$B46=\"X40\",'[1]Order Form'!$B46=\"X45\",'[1]Order Form'!$E46=\"C\"),\"\",\"3\")","v":"3"},{"$f":"IF(OR('[1]Order Form'!$B46=\"X40\",'[1]Order Form'!$B46=\"X45\",'[1]Order Form'!$E46=\"C\"),\"\",\"4\")","v":"4"}]
[]
[]
[null,null,null,null,null,"DRAAIRICHTING"]
[null,null,null,null,null,1,"EU L","EU R",{"$f":"IF('[1]Order Form'!$B21=\"X240-EI\",\"\",\"DR\")","v":"DR"},{"$f":"IF('[1]Order Form'!$B21=\"X240-EI\",\"\",\"DL\")","v":"DL"}]
[null,null,null,null,null,2,"EU L","EU R",{"$f":"IF('[1]Order Form'!$B22=\"X240-EI\",\"\",\"DR\")","v":"DR"},{"$f":"IF('[1]Order Form'!$B22=\"X240-EI\",\"\",\"DL\")","v":"DL"}]
[null,null,null,null,null,3,"EU L","EU R",{"$f":"IF('[1]Order Form'!$B23=\"X240-EI\",\"\",\"DR\")","v":"DR"},{"$f":"IF('[1]Order Form'!$B23=\"X240-EI\",\"\",\"DL\")","v":"DL"}]
[null,null,null,null,null,4,"EU L","EU R",{"$f":"IF('[1]Order Form'!$B24=\"X240-EI\",\"\",\"DR\")","v":"DR"},{"$f":"IF('[1]Order Form'!$B24=\"X240-EI\",\"\",\"DL\")","v":"DL"}]
[null,null,null,null,null,5,"EU L","EU R",{"$f":"IF('[1]Order Form'!$B25=\"X240-EI\",\"\",\"DR\")","v":"DR"},{"$f":"IF('[1]Order Form'!$B25=\"X240-EI\",\"\",\"DL\")","v":"DL"}]
[null,null,null,null,null,6,"EU L","EU R",{"$f":"IF('[1]Order Form'!$B26=\"X240-EI\",\"\",\"DR\")","v":"DR"},{"$f":"IF('[1]Order Form'!$B26=\"X240-EI\",\"\",\"DL\")","v":"DL"}]
[null,null,null,null,null,7,"EU L","EU R",{"$f":"IF('[1]Order Form'!$B27=\"X240-EI\",\"\",\"DR\")","v":"DR"},{"$f":"IF('[1]Order Form'!$B27=\"X240-EI\",\"\",\"DL\")","v":"DL"}]
[null,null,null,null,null,8,"EU L","EU R",{"$f":"IF('[1]Order Form'!$B28=\"X240-EI\",\"\",\"DR\")","v":"DR"},{"$f":"IF('[1]Order Form'!$B28=\"X240-EI\",\"\",\"DL\")","v":"DL"}]
[null,null,null,null,null,9,"EU L","EU R",{"$f":"IF('[1]Order Form'!$B29=\"X240-EI\",\"\",\"DR\")","v":"DR"},{"$f":"IF('[1]Order Form'!$B29=\"X240-EI\",\"\",\"DL\")","v":"DL"}]
[null,null,null,null,null,10,"EU L","EU R",{"$f":"IF('[1]Order Form'!$B30=\"X240-EI\",\"\",\"DR\")","v":"DR"},{"$f":"IF('[1]Order Form'!$B30=\"X240-EI\",\"\",\"DL\")","v":"DL"}]
[null,null,null,null,null,11,"EU L","EU R",{"$f":"IF('[1]Order Form'!$B31=\"X240-EI\",\"\",\"DR\")","v":"DR"},{"$f":"IF('[1]Order Form'!$B31=\"X240-EI\",\"\",\"DL\")","v":"DL"}]
[null,null,null,null,null,12,"EU L","EU R",{"$f":"IF('[1]Order Form'!$B32=\"X240-EI\",\"\",\"DR\")","v":"DR"},{"$f":"IF('[1]Order Form'!$B32=\"X240-EI\",\"\",\"DL\")","v":"DL"}]
[null,null,null,null,null,13,"EU L","EU R",{"$f":"IF('[1]Order Form'!$B33=\"X240-EI\",\"\",\"DR\")","v":"DR"},{"$f":"IF('[1]Order Form'!$B33=\"X240-EI\",\"\",\"DL\")","v":"DL"}]
[null,null,null,null,null,14,"EU L","EU R",{"$f":"IF('[1]Order Form'!$B34=\"X240-EI\",\"\",\"DR\")","v":"DR"},{"$f":"IF('[1]Order Form'!$B34=\"X240-EI\",\"\",\"DL\")","v":"DL"}]
[null,null,null,null,null,15,"EU L","EU R",{"$f":"IF('[1]Order Form'!$B35=\"X240-EI\",\"\",\"DR\")","v":"DR"},{"$f":"IF('[1]Order Form'!$B35=\"X240-EI\",\"\",\"DL\")","v":"DL"}]
[null,null,null,null,null,16,"EU L","EU R",{"$f":"IF('[1]Order Form'!$B36=\"X240-EI\",\"\",\"DR\")","v":"DR"},{"$f":"IF('[1]Order Form'!$B36=\"X240-EI\",\"\",\"DL\")","v":"DL"}]
[null,null,null,null,null,17,"EU L","EU R",{"$f":"IF('[1]Order Form'!$B37=\"X240-EI\",\"\",\"DR\")","v":"DR"},{"$f":"IF('[1]Order Form'!$B37=\"X240-EI\",\"\",\"DL\")","v":"DL"}]
[null,null,null,null,null,18,"EU L","EU R",{"$f":"IF('[1]Order Form'!$B38=\"X240-EI\",\"\",\"DR\")","v":"DR"},{"$f":"IF('[1]Order Form'!$B38=\"X240-EI\",\"\",\"DL\")","v":"DL"}]
[null,null,null,null,null,19,"EU L","EU R",{"$f":"IF('[1]Order Form'!$B39=\"X240-EI\",\"\",\"DR\")","v":"DR"},{"$f":"IF('[1]Order Form'!$B39=\"X240-EI\",\"\",\"DL\")","v":"DL"}]
[null,null,null,null,null,20,"EU L","EU R",{"$f":"IF('[1]Order Form'!$B40=\"X240-EI\",\"\",\"DR\")","v":"DR"},{"$f":"IF('[1]Order Form'!$B40=\"X240-EI\",\"\",\"DL\")","v":"DL"}]
[null,null,null,null,null,21,"EU L","EU R",{"$f":"IF('[1]Order Form'!$B41=\"X240-EI\",\"\",\"DR\")","v":"DR"},{"$f":"IF('[1]Order Form'!$B41=\"X240-EI\",\"\",\"DL\")","v":"DL"}]
[null,null,null,null,null,22,"EU L","EU R",{"$f":"IF('[1]Order Form'!$B42=\"X240-EI\",\"\",\"DR\")","v":"DR"},{"$f":"IF('[1]Order Form'!$B42=\"X240-EI\",\"\",\"DL\")","v":"DL"}]
[null,null,null,null,null,23,"EU L","EU R",{"$f":"IF('[1]Order Form'!$B43=\"X240-EI\",\"\",\"DR\")","v":"DR"},{"$f":"IF('[1]Order Form'!$B43=\"X240-EI\",\"\",\"DL\")","v":"DL"}]
[null,null,null,null,null,24,"EU L","EU R",{"$f":"IF('[1]Order Form'!$B44=\"X240-EI\",\"\",\"DR\")","v":"DR"},{"$f":"IF('[1]Order Form'!$B44=\"X240-EI\",\"\",\"DL\")","v":"DL"}]
[null,null,null,null,null,25,"EU L","EU R",{"$f":"IF('[1]Order Form'!$B45=\"X240-EI\",\"\",\"DR\")","v":"DR"},{"$f":"IF('[1]Order Form'!$B45=\"X240-EI\",\"\",\"DL\")","v":"DL"}]
[null,null,null,null,null,26,"EU L","EU R",{"$f":"IF('[1]Order Form'!$B46=\"X240-EI\",\"\",\"DR\")","v":"DR"},{"$f":"IF('[1]Order Form'!$B46=\"X240-EI\",\"\",\"DL\")","v":"DL"}]
[]
[]
[null,null,null,null,null,1,"White",{"$f":"IF(OR('[1]Order Form'!$B21=\"X240\",'[1]Order Form'!$B21=\"X245\"),\"Black\",\"\")","v":""}]
[null,null,null,null,null,2,"White",{"$f":"IF(OR('[1]Order Form'!$B22=\"X240\",'[1]Order Form'!$B22=\"X245\"),\"Black\",\"\")","v":""}]
[null,null,null,null,null,3,"White",{"$f":"IF(OR('[1]Order Form'!$B23=\"X240\",'[1]Order Form'!$B23=\"X245\"),\"Black\",\"\")","v":""}]
[null,null,null,null,null,4,"White",{"$f":"IF(OR('[1]Order Form'!$B24=\"X240\",'[1]Order Form'!$B24=\"X245\"),\"Black\",\"\")","v":""}]
[null,null,null,null,null,5,"White",{"$f":"IF(OR('[1]Order Form'!$B25=\"X240\",'[1]Order Form'!$B25=\"X245\"),\"Black\",\"\")","v":""}]
[null,null,null,null,null,6,"White",{"$f":"IF(OR('[1]Order Form'!$B26=\"X240\",'[1]Order Form'!$B26=\"X245\"),\"Black\",\"\")","v":""}]
[null,null,null,null,null,7,"White",{"$f":"IF(OR('[1]Order Form'!$B27=\"X240\",'[1]Order Form'!$B27=\"X245\"),\"Black\",\"\")","v":""}]
[null,null,null,null,null,8,"White",{"$f":"IF(OR('[1]Order Form'!$B28=\"X240\",'[1]Order Form'!$B28=\"X245\"),\"Black\",\"\")","v":""}]
[null,"00BB",null,null,null,9,"White",{"$f":"IF(OR('[1]Order Form'!$B29=\"X240\",'[1]Order Form'!$B29=\"X245\"),\"Black\",\"\")","v":""}]
[null,"00PZ",null,null,null,10,"White",{"$f":"IF(OR('[1]Order Form'!$B30=\"X240\",'[1]Order Form'!$B30=\"X245\"),\"Black\",\"\")","v":""}]
[null,"00WC",null,null,null,11,"White",{"$f":"IF(OR('[1]Order Form'!$B31=\"X240\",'[1]Order Form'!$B31=\"X245\"),\"Black\",\"\")","v":""}]
[null,"?",null,null,null,12,"White",{"$f":"IF(OR('[1]Order Form'!$B32=\"X240\",'[1]Order Form'!$B32=\"X245\"),\"Black\",\"\")","v":""}]
[null,"R15W.55BB",null,null,null,13,"White",{"$f":"IF(OR('[1]Order Form'!$B33=\"X240\",'[1]Order Form'!$B33=\"X245\"),\"Black\",\"\")","v":""}]
[null,"R15I.55BB",null,null,null,14,"White",{"$f":"IF(OR('[1]Order Form'!$B34=\"X240\",'[1]Order Form'!$B34=\"X245\"),\"Black\",\"\")","v":""}]
[null,"R15B.55BB",null,null,null,15,"White",{"$f":"IF(OR('[1]Order Form'!$B35=\"X240\",'[1]Order Form'!$B35=\"X245\"),\"Black\",\"\")","v":""}]
[null,"R17W.55WC",null,null,null,16,"White",{"$f":"IF(OR('[1]Order Form'!$B36=\"X240\",'[1]Order Form'!$B36=\"X245\"),\"Black\",\"\")","v":""}]
[null,"R17I.55WC",null,null,null,17,"White",{"$f":"IF(OR('[1]Order Form'!$B37=\"X240\",'[1]Order Form'!$B37=\"X245\"),\"Black\",\"\")","v":""}]
[null,"R17B.55WC",null,null,null,18,"White",{"$f":"IF(OR('[1]Order Form'!$B38=\"X240\",'[1]Order Form'!$B38=\"X245\"),\"Black\",\"\")","v":""}]
[null,"R19W.55PZ",null,null,null,19,"White",{"$f":"IF(OR('[1]Order Form'!$B39=\"X240\",'[1]Order Form'!$B39=\"X245\"),\"Black\",\"\")","v":""}]
[null,"R19I.55PZ",null,null,null,20,"White",{"$f":"IF(OR('[1]Order Form'!$B40=\"X240\",'[1]Order Form'!$B40=\"X245\"),\"Black\",\"\")","v":""}]
[null,"R19B.55PZ",null,null,null,21,"White",{"$f":"IF(OR('[1]Order Form'!$B41=\"X240\",'[1]Order Form'!$B41=\"X245\"),\"Black\",\"\")","v":""}]
[null,"R35W.55BB",null,null,null,22,"White",{"$f":"IF(OR('[1]Order Form'!$B42=\"X240\",'[1]Order Form'!$B42=\"X245\"),\"Black\",\"\")","v":""}]
[null,"R35I.55BB",null,null,null,23,"White",{"$f":"IF(OR('[1]Order Form'!$B43=\"X240\",'[1]Order Form'!$B43=\"X245\"),\"Black\",\"\")","v":""}]
[null,"R35B.55BB",null,null,null,24,"White",{"$f":"IF(OR('[1]Order Form'!$B44=\"X240\",'[1]Order Form'!$B44=\"X245\"),\"Black\",\"\")","v":""}]
[null,"R37W.55WC",null,null,null,25,"White",{"$f":"IF(OR('[1]Order Form'!$B45=\"X240\",'[1]Order Form'!$B45=\"X245\"),\"Black\",\"\")","v":""}]
[null,"R37I.55WC",null,null,null,26,"White",{"$f":"IF(OR('[1]Order Form'!$B46=\"X240\",'[1]Order Form'!$B46=\"X245\"),\"Black\",\"\")","v":""}]
[null,"R37B.55WC"]
[null,"R59W.55PZ"]
[null,"R59I.55PZ"]
[null,"R59B.55PZ"]
[null,"0K1","XA-D70XINBB.CS"," D70 BB "," D70 BB "," D70 BB "," D70 BB "]
[null,"0K2","XA-D78XINPZ.CS","D78 PZ ","D78 PZ ","D78 PZ ","D78 PZ "]
[null,"0K3","XA-D73XINWC.CS","D73 WC  ","D73 WC  ","D73 WC  ","D73 WC  "]
[null,"0K4","XA-KFV116F","KFV 116 F ","KFV 116 F ","KFV 116 F ","KFV 116 F "]
[null,"0NH","XA-KFV116WC","KFV 116 WC ","KFV 116 WC ","KFV 116 WC ","KFV 116 WC "]
[null,"0NHW","XA-KFV116PZ","KFV 116 PZ ","KFV 116 PZ ","KFV 116 PZ ","KFV 116 PZ "]
[null,"0NHZ","XA-KFV116BB","KFV 116 BB","KFV 116 BB","KFV 116 BB","KFV 116 BB"]
[null,"0NZB","XA-937","NOHA WC","NOHA WC","NOHA WC","NOHA WC"]
[null,"0NZG","XA-938","NOHA 938","NOHA 938","NOHA 938","NOHA 938"]
[null,"0NZW","XA-998NH.CS","NH sluitplaat","NH Gâche","NH Counterstrike","NH Schließblech"]
[null,"2NZB","XA-NZ.B","NZ  zwart","NZ noir","NZ black","NZ schwarz"]
[null,"2NZG","XA-NZ.G","NZ grijs","NZ gris","NZ grey","NZ grau"]
[null,"2NZW","XA-NZ.W","NZ wit","NZ blanc ","NZ white ","NZ weiß"]
[null,"NIXX","XA-NZ.B","2xNZ  zwart","2xNZ noir","2xNZ black","2xNZ schwarz"]
[null,"SECL 1","XA-NZ.G","2xNZ grijs","2xNZ gris","2xNZ grey","2xNZ grau"]
[null,"SECL 2","XA-NZ.W","2xNZ wit","2xNZ blanc ","2xNZ white ","2xNZ weiß"]
[null,"SECL 3",null,"GEEN SLOTFREZING","SANS FRAISAGE DE GACHE","NO LOCK MILLING","OHNE SCHLIEßBLECHFRÄSUNG"]
[null,"SECL 4","XA-SEC-LOCK","SEC LOCK ","SEC LOCK ","SEC LOCK ","SEC LOCK "]
[null,"XXXX"]
[null,"EX1-BB"]
[null,"EX1-WC"]
[null,"EX1-PZ",null,"SPECIAL","SPECIAL","SPECIAL","SPECIAL"]
[null,"EX1-0K1"]
[null,"EX1-0K2"]
[null,"EX1-0K3"]
[null,"EX1-0K4"]
[null,"EX2-BB"]
[null,"EX2-WC"]
[null,"EX2-PZ"]
[null,"EX2-0K1"]
[null,"EX2-0K2"]
[null,"EX2-0K3"]
[null,"EX2-0K4"]
[null,"EX3-BB"]
[null,"EX3-WC"]
[null,"EX3-PZ"]
[null,"EX3-0K1"]
[null,"EX3-0K2"]
[null,"EX3-0K3"]
[null,"EX3-0K4"]
[null,"EX4-BB"]
[null,"EX4-WC"]
[null,"EX4-PZ"]
[null,"EX4-0K1"]
[null,"EX4-0K2"]
[null,"EX4-0K3"]
[null,"EX4-0K4"]
[null,"ED1-BB"]
[null,"ED1-WC"]
[null,"ED1-PZ"]
[null,"ED1-0K1"]
[null,"ED1-0K2"]
[null,"ED1-0K3"]
[null,"ED1-0K4"]
[null,"ED2-BB"]
[null,"ED2-WC"]
[null,"ED2-PZ"]
[null,"ED2-0K1"]
[null,"ED2-0K2"]
[null,"ED2-0K3"]
[null,"ED2-0K4"]
[null,"ED3-BB"]
[null,"ED3-WC"]
[null,"ED3-PZ"]
[null,"ED3-0K1"]
[null,"ED3-0K2"]
[null,"ED3-0K3"]
[null,"ED3-0K4"]
[null,"ED4-BB"]
[null,"ED4-WC"]
[null,"ED4-PZ"]
[null,"ED4-0K1"]
[null,"ED4-0K2"]
[null,"ED4-0K3"]
[null,"ED4-0K4"]